{"text_format":"1","workbook":"xlsx","n_sheets":7,"sheets":["Disclaimer","Parameter->PN","PN->Parameter","Film Data","IR Data","Size Data","Utility"],"not_rendered":{"charts":0,"images":71,"macros":1,"external_links":1,"defined_names":24,"comments":1,"pivot_tables":1},"unopened":[],"bounds":{"document_bytes":16777216,"sheet_cells":100000,"rows_first":2000,"rows_last":500,"rows_between":2000,"halvings":0,"cell_chars":16384,"cell_head_chars":4096},"cells_cut":0,"cells_raw":0,"read":"whole","date_system":"1900"}

{"sheet":"Disclaimer","index":0,"n_rows":0,"n_cols":0,"rows_kept":0,"cut":false,"hidden":false,"merged":[]}

{"sheet":"Parameter->PN","index":1,"n_rows":7201,"n_cols":67,"rows_kept":1125,"cut":true,"hidden":false,"merged":[[0,58,1,59]],"bounds":{"rows_first":500,"rows_last":125,"rows_between":500,"halvings":2}}
[null,"Panasonic Standard Film Capacitor Quick Search",null,null,null,null,null,null,null,null,null,null,null,null,null,null,null,null,null,null,null,null,null,null,null,null,null,null,null,null,null,null,null,null,null,null,null,null,null,null,null,null,null,null,null,null,null,null,null,null,null,null,null,null,null,null,null,null,null,null,null,null,null,null,null,null,{"$f":"COUNTA(BC:BC)-1","v":7196}]
[null,"Please select parameters below to find the capacitors to match your requirements."]
[null,"Filters",null,null,null,"Last data update - 6.Feb.2026",null,null,null,null,null,null,null,null,null,null,null,null,null,null,null,null,null,null,null,null,null,null,null,null,null,null,null,null,null,null,null,null,"Output"]
[null,null,null,null,null,null,null,null,null,null,null,null,null,null,null,null,null,null,null,null,null,null,null,null,null,null,null,null,null,null,null,null,null,null,null,null,null,null,null,"V",null,"C",null,"I","R","L","W (T)","H","P1"]
[null,null,null,null,null,null,null,null,null,null,null,null,null,null,null,null,null,null,null,null,null,null,null,null,null,null,null,null,null,null,null,null,null,null,null,null,null,null,"Type","Rated \nVoltage (V)","Voltage type","Capacitance\n(uF)","C Tol.\n(%)","Permissible Current (Arms)","ESR (mΩ)","Body length / dia\n(mm)","Body width\n(mm)","Height\n(mm)","Lead Space P1\n(mm)","Category Temperature Range \n(°C)","MOQ\n(pcs)","Dielectric Material","Automotive grade","Series","PartNumber","Remark","L x W (mm)",null,"URL"]
[null,null,null,null,null,null,null,null,null,null,null,null,null,null,null,null,null,null,null,null,null,null,null,null,null,null,null,null,null,null,null,null,null,null,null,null,null,null,"box",1300,"DC",25,"±10",17,8.5,57.5,35,56,52.5,"-25 to 70",50,"PP","No","EZPE","EZPE1D256MTA","-","57.5 x 35",{"$f":"IF(BC6=\"\",\"\",INDEX('Size Data'!H:H,MATCH('Parameter->PN'!BE6,'Size Data'!D:D,0)))","v":{"$error":"#VALUE!"}},{"$f":"IF(BC6=\"\",\"\",HYPERLINK(INDEX('Film Data'!T:T,MATCH('Parameter->PN'!BC6,'Film Data'!G:G,0))))","v":"https://industrial.panasonic.com/ww/products/pt/automotive-film-cap/models/EZPE1D256MTA"}]
[null,null,null,null,null,null,null,null,null,null,null,null,null,null,null,null,null,null,null,null,null,null,null,null,null,null,null,null,null,null,null,null,null,null,null,null,null,null,null,null,null,20,"±10",14,11.1,57.5,30,51,52.5,"-25 to 70",50,"PP","No","EZPE","EZPE1D206MTA","-","57.5 x 30",{"$f":"IF(BC7=\"\",\"\",INDEX('Size Data'!H:H,MATCH('Parameter->PN'!BE7,'Size Data'!D:D,0)))","v":{"$error":"#VALUE!"}},{"$f":"IF(BC7=\"\",\"\",HYPERLINK(INDEX('Film Data'!T:T,MATCH('Parameter->PN'!BC7,'Film Data'!G:G,0))))","v":"https://industrial.panasonic.com/ww/products/pt/automotive-film-cap/models/EZPE1D206MTA"}]
[null,null,null,null,null,null,null,null,null,null,null,null,null,null,null,null,null,null,null,null,null,null,null,null,null,null,null,null,null,null,null,null,null,null,null,null,null,null,null,null,null,15,"±10",10,14.5,57.5,30,51,52.5,"-25 to 70",50,"PP","No","EZPE","EZPE1D156MTA","-","57.5 x 30",{"$f":"IF(BC8=\"\",\"\",INDEX('Size Data'!H:H,MATCH('Parameter->PN'!BE8,'Size Data'!D:D,0)))","v":{"$error":"#VALUE!"}},{"$f":"IF(BC8=\"\",\"\",HYPERLINK(INDEX('Film Data'!T:T,MATCH('Parameter->PN'!BC8,'Film Data'!G:G,0))))","v":"https://industrial.panasonic.com/ww/products/pt/automotive-film-cap/models/EZPE1D156MTA"}]
[null,null,null,null,null,null,null,null,null,null,null,null,null,null,null,null,null,null,null,null,null,null,null,null,null,null,null,null,null,null,null,null,null,null,null,null,null,null,null,null,null,10,"±10",12,10,41.5,30,51,37.5,"-25 to 70",100,"PP","No","EZPE","EZPE1D106MTA","-","41.5 x 30",{"$f":"IF(BC9=\"\",\"\",INDEX('Size Data'!H:H,MATCH('Parameter->PN'!BE9,'Size Data'!D:D,0)))","v":{"$error":"#VALUE!"}},{"$f":"IF(BC9=\"\",\"\",HYPERLINK(INDEX('Film Data'!T:T,MATCH('Parameter->PN'!BC9,'Film Data'!G:G,0))))","v":"https://industrial.panasonic.com/ww/products/pt/automotive-film-cap/models/EZPE1D106MTA"}]
[null,null,null,null,null,null,null,null,null,null,null,null,null,null,null,null,null,null,null,null,null,null,null,null,null,null,null,null,null,null,null,null,null,null,null,null,null,null,null,1100,"DC",40,"±10",17.2,7.8,57.5,35,56,52.5,"-40 to 105 (85)",50,"PP","Yes","EZPV","EZPV1B406MTS","-","57.5 x 35",{"$f":"IF(BC10=\"\",\"\",INDEX('Size Data'!H:H,MATCH('Parameter->PN'!BE10,'Size Data'!D:D,0)))","v":{"$error":"#VALUE!"}},{"$f":"IF(BC10=\"\",\"\",HYPERLINK(INDEX('Film Data'!T:T,MATCH('Parameter->PN'!BC10,'Film Data'!G:G,0))))","v":"https://industrial.panasonic.com/ww/products/pt/automotive-film-cap/models/EZPV1B406MTS"}]
[null,null,null,null,null,null,null,null,null,null,null,null,null,null,null,null,null,null,null,null,null,null,null,null,null,null,null,null,null,null,null,null,null,null,null,null,null,null,null,null,null,null,null,null,null,null,null,null,null,null,null,null,"No","EZPV","EZPV1B406MTC","-","57.5 x 35",{"$f":"IF(BC11=\"\",\"\",INDEX('Size Data'!H:H,MATCH('Parameter->PN'!BE11,'Size Data'!D:D,0)))","v":{"$error":"#VALUE!"}},{"$f":"IF(BC11=\"\",\"\",HYPERLINK(INDEX('Film Data'!T:T,MATCH('Parameter->PN'!BC11,'Film Data'!G:G,0))))","v":"https://industrial.panasonic.com/ww/products/pt/automotive-film-cap/models/EZPV1B406MTC"}]
[null,null,null,null,null,null,null,null,null,null,null,null,null,null,null,null,null,null,null,null,null,null,null,null,null,null,null,null,null,null,null,null,null,null,null,null,null,null,null,null,null,null,null,11,6.5,57.5,35,56,52.5,"-25 to 70",50,"PP","No","EZPE","EZPE1B406MTA","-","57.5 x 35",{"$f":"IF(BC12=\"\",\"\",INDEX('Size Data'!H:H,MATCH('Parameter->PN'!BE12,'Size Data'!D:D,0)))","v":{"$error":"#VALUE!"}},{"$f":"IF(BC12=\"\",\"\",HYPERLINK(INDEX('Film Data'!T:T,MATCH('Parameter->PN'!BC12,'Film Data'!G:G,0))))","v":"https://industrial.panasonic.com/ww/products/pt/automotive-film-cap/models/EZPE1B406MTA"}]
[null,null,null,null,null,null,null,null,null,null,null,null,null,null,null,null,null,null,null,null,null,null,null,null,null,null,null,null,null,null,null,null,null,null,null,null,null,null,null,null,null,35,"±10",10,7.2,57.5,35,56,52.5,"-25 to 70",50,"PP","No","EZPE","EZPE1B356MTA","-","57.5 x 35",{"$f":"IF(BC13=\"\",\"\",INDEX('Size Data'!H:H,MATCH('Parameter->PN'!BE13,'Size Data'!D:D,0)))","v":{"$error":"#VALUE!"}},{"$f":"IF(BC13=\"\",\"\",HYPERLINK(INDEX('Film Data'!T:T,MATCH('Parameter->PN'!BC13,'Film Data'!G:G,0))))","v":"https://industrial.panasonic.com/ww/products/pt/automotive-film-cap/models/EZPE1B356MTA"}]
[null,null,null,null,null,null,null,null,null,null,null,null,null,null,null,null,null,null,null,null,null,null,null,null,null,null,null,null,null,null,null,null,null,null,null,null,null,null,null,null,null,null,null,16.100000000000001,9.1999999999999993,57.5,35,56,52.5,"-40 to 105 (85)",50,"PP","Yes","EZPV","EZPV1B356MTS","-","57.5 x 35",{"$f":"IF(BC14=\"\",\"\",INDEX('Size Data'!H:H,MATCH('Parameter->PN'!BE14,'Size Data'!D:D,0)))","v":{"$error":"#VALUE!"}},{"$f":"IF(BC14=\"\",\"\",HYPERLINK(INDEX('Film Data'!T:T,MATCH('Parameter->PN'!BC14,'Film Data'!G:G,0))))","v":"https://industrial.panasonic.com/ww/products/pt/automotive-film-cap/models/EZPV1B356MTS"}]
[null,null,null,null,null,null,null,null,null,null,null,null,null,null,null,null,null,null,null,null,null,null,null,null,null,null,null,null,null,null,null,null,null,null,null,null,null,null,null,null,null,null,null,null,null,null,null,null,null,null,null,null,"No","EZPV","EZPV1B356MTC","-","57.5 x 35",{"$f":"IF(BC15=\"\",\"\",INDEX('Size Data'!H:H,MATCH('Parameter->PN'!BE15,'Size Data'!D:D,0)))","v":{"$error":"#VALUE!"}},{"$f":"IF(BC15=\"\",\"\",HYPERLINK(INDEX('Film Data'!T:T,MATCH('Parameter->PN'!BC15,'Film Data'!G:G,0))))","v":"https://industrial.panasonic.com/ww/products/pt/automotive-film-cap/models/EZPV1B356MTC"}]
[null,null,null,null,null,null,null,null,null,null,null,null,null,null,null,null,null,null,null,null,null,null,null,null,null,null,null,null,null,null,null,null,null,null,null,null,null,null,null,null,null,30,"±10",14.9,9.9,57.5,35,50,52.5,"-40 to 105 (85)",50,"PP","Yes","EZPV","EZPV1B306MTS","-","57.5 x 35",{"$f":"IF(BC16=\"\",\"\",INDEX('Size Data'!H:H,MATCH('Parameter->PN'!BE16,'Size Data'!D:D,0)))","v":{"$error":"#VALUE!"}},{"$f":"IF(BC16=\"\",\"\",HYPERLINK(INDEX('Film Data'!T:T,MATCH('Parameter->PN'!BC16,'Film Data'!G:G,0))))","v":"https://industrial.panasonic.com/ww/products/pt/automotive-film-cap/models/EZPV1B306MTS"}]
[null,null,null,null,null,null,null,null,null,null,null,null,null,null,null,null,null,null,null,null,null,null,null,null,null,null,null,null,null,null,null,null,null,null,null,null,null,null,null,null,null,null,null,null,null,null,null,null,null,null,null,null,"No","EZPV","EZPV1B306MTC","-","57.5 x 35",{"$f":"IF(BC17=\"\",\"\",INDEX('Size Data'!H:H,MATCH('Parameter->PN'!BE17,'Size Data'!D:D,0)))","v":{"$error":"#VALUE!"}},{"$f":"IF(BC17=\"\",\"\",HYPERLINK(INDEX('Film Data'!T:T,MATCH('Parameter->PN'!BC17,'Film Data'!G:G,0))))","v":"https://industrial.panasonic.com/ww/products/pt/automotive-film-cap/models/EZPV1B306MTC"}]
[null,null,null,null,null,null,null,null,null,null,null,null,null,null,null,null,null,null,null,null,null,null,null,null,null,null,null,null,null,null,null,null,null,null,null,null,null,null,null,null,null,null,null,23.4,5.7,41,43,58,37.5,"-40 to 105 (85)",100,"PP","Yes","EZPV","EZPV1B306MTT","-","41 x 43",{"$f":"IF(BC18=\"\",\"\",INDEX('Size Data'!H:H,MATCH('Parameter->PN'!BE18,'Size Data'!D:D,0)))","v":{"$error":"#VALUE!"}},{"$f":"IF(BC18=\"\",\"\",HYPERLINK(INDEX('Film Data'!T:T,MATCH('Parameter->PN'!BC18,'Film Data'!G:G,0))))","v":"https://industrial.panasonic.com/ww/products/pt/automotive-film-cap/models/EZPV1B306MTT"}]
[null,null,null,null,null,null,null,null,null,null,null,null,null,null,null,null,null,null,null,null,null,null,null,null,null,null,null,null,null,null,null,null,null,null,null,null,null,null,null,null,null,null,null,null,null,null,null,null,null,null,null,null,"No","EZPV","EZPV1B306MTB","-","41 x 43",{"$f":"IF(BC19=\"\",\"\",INDEX('Size Data'!H:H,MATCH('Parameter->PN'!BE19,'Size Data'!D:D,0)))","v":{"$error":"#VALUE!"}},{"$f":"IF(BC19=\"\",\"\",HYPERLINK(INDEX('Film Data'!T:T,MATCH('Parameter->PN'!BC19,'Film Data'!G:G,0))))","v":"https://industrial.panasonic.com/ww/products/pt/automotive-film-cap/models/EZPV1B306MTB"}]
[null,null,null,null,null,null,null,null,null,null,null,null,null,null,null,null,null,null,null,null,null,null,null,null,null,null,null,null,null,null,null,null,null,null,null,null,null,null,null,null,null,null,null,9,8.5,57.5,30,51,52.5,"-25 to 70",50,"PP","No","EZPE","EZPE1B306MTA","-","57.5 x 30",{"$f":"IF(BC20=\"\",\"\",INDEX('Size Data'!H:H,MATCH('Parameter->PN'!BE20,'Size Data'!D:D,0)))","v":{"$error":"#VALUE!"}},{"$f":"IF(BC20=\"\",\"\",HYPERLINK(INDEX('Film Data'!T:T,MATCH('Parameter->PN'!BC20,'Film Data'!G:G,0))))","v":"https://industrial.panasonic.com/ww/products/pt/automotive-film-cap/models/EZPE1B306MTA"}]
[null,null,null,null,null,null,null,null,null,null,null,null,null,null,null,null,null,null,null,null,null,null,null,null,null,null,null,null,null,null,null,null,null,null,null,null,null,null,null,null,null,25,"±10",8,10.7,57.5,30,51,52.5,"-25 to 70",50,"PP","No","EZPE","EZPE1B256MTA","-","57.5 x 30",{"$f":"IF(BC21=\"\",\"\",INDEX('Size Data'!H:H,MATCH('Parameter->PN'!BE21,'Size Data'!D:D,0)))","v":{"$error":"#VALUE!"}},{"$f":"IF(BC21=\"\",\"\",HYPERLINK(INDEX('Film Data'!T:T,MATCH('Parameter->PN'!BC21,'Film Data'!G:G,0))))","v":"https://industrial.panasonic.com/ww/products/pt/automotive-film-cap/models/EZPE1B256MTA"}]
[null,null,null,null,null,null,null,null,null,null,null,null,null,null,null,null,null,null,null,null,null,null,null,null,null,null,null,null,null,null,null,null,null,null,null,null,null,null,null,null,null,null,null,13.6,9.1,57.5,35.5,45.5,52.5,"-40 to 105 (85)",50,"PP","Yes","EZPV","EZPV1B256MTS","-","57.5 x 35.5",{"$f":"IF(BC22=\"\",\"\",INDEX('Size Data'!H:H,MATCH('Parameter->PN'!BE22,'Size Data'!D:D,0)))","v":{"$error":"#VALUE!"}},{"$f":"IF(BC22=\"\",\"\",HYPERLINK(INDEX('Film Data'!T:T,MATCH('Parameter->PN'!BC22,'Film Data'!G:G,0))))","v":"https://industrial.panasonic.com/ww/products/pt/automotive-film-cap/models/EZPV1B256MTS"}]
[null,null,null,null,null,null,null,null,null,null,null,null,null,null,null,null,null,null,null,null,null,null,null,null,null,null,null,null,null,null,null,null,null,null,null,null,null,null,null,null,null,null,null,null,null,null,null,null,null,null,null,null,"No","EZPV","EZPV1B256MTC","-","57.5 x 35.5",{"$f":"IF(BC23=\"\",\"\",INDEX('Size Data'!H:H,MATCH('Parameter->PN'!BE23,'Size Data'!D:D,0)))","v":{"$error":"#VALUE!"}},{"$f":"IF(BC23=\"\",\"\",HYPERLINK(INDEX('Film Data'!T:T,MATCH('Parameter->PN'!BC23,'Film Data'!G:G,0))))","v":"https://industrial.panasonic.com/ww/products/pt/automotive-film-cap/models/EZPV1B256MTC"}]
[null,null,null,null,null,null,null,null,null,null,null,null,null,null,null,null,null,null,null,null,null,null,null,null,null,null,null,null,null,null,null,null,null,null,null,null,null,null,null,null,null,null,null,20.9,5.9,42,38,52.5,37.5,"-40 to 105 (85)",100,"PP","Yes","EZPV","EZPV1B256MTT","-","42 x 38",{"$f":"IF(BC24=\"\",\"\",INDEX('Size Data'!H:H,MATCH('Parameter->PN'!BE24,'Size Data'!D:D,0)))","v":{"$error":"#VALUE!"}},{"$f":"IF(BC24=\"\",\"\",HYPERLINK(INDEX('Film Data'!T:T,MATCH('Parameter->PN'!BC24,'Film Data'!G:G,0))))","v":"https://industrial.panasonic.com/ww/products/pt/automotive-film-cap/models/EZPV1B256MTT"}]
[null,null,null,null,null,null,null,null,null,null,null,null,null,null,null,null,null,null,null,null,null,null,null,null,null,null,null,null,null,null,null,null,null,null,null,null,null,null,null,null,null,null,null,null,null,null,null,null,null,null,null,null,"No","EZPV","EZPV1B256MTB","-","42 x 38",{"$f":"IF(BC25=\"\",\"\",INDEX('Size Data'!H:H,MATCH('Parameter->PN'!BE25,'Size Data'!D:D,0)))","v":{"$error":"#VALUE!"}},{"$f":"IF(BC25=\"\",\"\",HYPERLINK(INDEX('Film Data'!T:T,MATCH('Parameter->PN'!BC25,'Film Data'!G:G,0))))","v":"https://industrial.panasonic.com/ww/products/pt/automotive-film-cap/models/EZPV1B256MTB"}]
[null,null,null,null,null,null,null,null,null,null,null,null,null,null,null,null,null,null,null,null,null,null,null,null,null,null,null,null,null,null,null,null,null,null,null,null,null,null,null,null,null,20,"±10",10,6.3,41.5,30,51,37.5,"-25 to 70",100,"PP","No","EZPE","EZPE1B206MTA","-","41.5 x 30",{"$f":"IF(BC26=\"\",\"\",INDEX('Size Data'!H:H,MATCH('Parameter->PN'!BE26,'Size Data'!D:D,0)))","v":{"$error":"#VALUE!"}},{"$f":"IF(BC26=\"\",\"\",HYPERLINK(INDEX('Film Data'!T:T,MATCH('Parameter->PN'!BC26,'Film Data'!G:G,0))))","v":"https://industrial.panasonic.com/ww/products/pt/automotive-film-cap/models/EZPE1B206MTA"}]
[null,null,null,null,null,null,null,null,null,null,null,null,null,null,null,null,null,null,null,null,null,null,null,null,null,null,null,null,null,null,null,null,null,null,null,null,null,null,null,null,null,null,null,12.2,11.2,57.5,35.5,45.5,52.5,"-40 to 105 (85)",50,"PP","Yes","EZPV","EZPV1B206MTS","-","57.5 x 35.5",{"$f":"IF(BC27=\"\",\"\",INDEX('Size Data'!H:H,MATCH('Parameter->PN'!BE27,'Size Data'!D:D,0)))","v":{"$error":"#VALUE!"}},{"$f":"IF(BC27=\"\",\"\",HYPERLINK(INDEX('Film Data'!T:T,MATCH('Parameter->PN'!BC27,'Film Data'!G:G,0))))","v":"https://industrial.panasonic.com/ww/products/pt/automotive-film-cap/models/EZPV1B206MTS"}]
[null,null,null,null,null,null,null,null,null,null,null,null,null,null,null,null,null,null,null,null,null,null,null,null,null,null,null,null,null,null,null,null,null,null,null,null,null,null,null,null,null,null,null,null,null,null,null,null,null,null,null,null,"No","EZPV","EZPV1B206MTC","-","57.5 x 35.5",{"$f":"IF(BC28=\"\",\"\",INDEX('Size Data'!H:H,MATCH('Parameter->PN'!BE28,'Size Data'!D:D,0)))","v":{"$error":"#VALUE!"}},{"$f":"IF(BC28=\"\",\"\",HYPERLINK(INDEX('Film Data'!T:T,MATCH('Parameter->PN'!BC28,'Film Data'!G:G,0))))","v":"https://industrial.panasonic.com/ww/products/pt/automotive-film-cap/models/EZPV1B206MTC"}]
[null,null,null,null,null,null,null,null,null,null,null,null,null,null,null,null,null,null,null,null,null,null,null,null,null,null,null,null,null,null,null,null,null,null,null,null,null,null,null,null,null,null,null,18.100000000000001,7.2,41.5,30,56,37.5,"-40 to 105 (85)",100,"PP","Yes","EZPV","EZPV1B206MTT","-","41.5 x 30",{"$f":"IF(BC29=\"\",\"\",INDEX('Size Data'!H:H,MATCH('Parameter->PN'!BE29,'Size Data'!D:D,0)))","v":{"$error":"#VALUE!"}},{"$f":"IF(BC29=\"\",\"\",HYPERLINK(INDEX('Film Data'!T:T,MATCH('Parameter->PN'!BC29,'Film Data'!G:G,0))))","v":"https://industrial.panasonic.com/ww/products/pt/automotive-film-cap/models/EZPV1B206MTT"}]
[null,null,null,null,null,null,null,null,null,null,null,null,null,null,null,null,null,null,null,null,null,null,null,null,null,null,null,null,null,null,null,null,null,null,null,null,null,null,null,null,null,null,null,null,null,null,null,null,null,null,null,null,"No","EZPV","EZPV1B206MTB","-","41.5 x 30",{"$f":"IF(BC30=\"\",\"\",INDEX('Size Data'!H:H,MATCH('Parameter->PN'!BE30,'Size Data'!D:D,0)))","v":{"$error":"#VALUE!"}},{"$f":"IF(BC30=\"\",\"\",HYPERLINK(INDEX('Film Data'!T:T,MATCH('Parameter->PN'!BC30,'Film Data'!G:G,0))))","v":"https://industrial.panasonic.com/ww/products/pt/automotive-film-cap/models/EZPV1B206MTB"}]
[null,null,null,null,null,null,null,null,null,null,null,null,null,null,null,null,null,null,null,null,null,null,null,null,null,null,null,null,null,null,null,null,null,null,null,null,null,null,null,null,null,18,"±10",16.899999999999999,8.5,41,30,50.5,37.5,"-40 to 105 (85)",100,"PP","Yes","EZPV","EZPV1B186MTT","-","41 x 30",{"$f":"IF(BC31=\"\",\"\",INDEX('Size Data'!H:H,MATCH('Parameter->PN'!BE31,'Size Data'!D:D,0)))","v":{"$error":"#VALUE!"}},{"$f":"IF(BC31=\"\",\"\",HYPERLINK(INDEX('Film Data'!T:T,MATCH('Parameter->PN'!BC31,'Film Data'!G:G,0))))","v":"https://industrial.panasonic.com/ww/products/pt/automotive-film-cap/models/EZPV1B186MTT"}]
[null,null,null,null,null,null,null,null,null,null,null,null,null,null,null,null,null,null,null,null,null,null,null,null,null,null,null,null,null,null,null,null,null,null,null,null,null,null,null,null,null,null,null,null,null,null,null,null,null,null,null,null,"No","EZPV","EZPV1B186MTB","-","41 x 30",{"$f":"IF(BC32=\"\",\"\",INDEX('Size Data'!H:H,MATCH('Parameter->PN'!BE32,'Size Data'!D:D,0)))","v":{"$error":"#VALUE!"}},{"$f":"IF(BC32=\"\",\"\",HYPERLINK(INDEX('Film Data'!T:T,MATCH('Parameter->PN'!BC32,'Film Data'!G:G,0))))","v":"https://industrial.panasonic.com/ww/products/pt/automotive-film-cap/models/EZPV1B186MTB"}]
[null,null,null,null,null,null,null,null,null,null,null,null,null,null,null,null,null,null,null,null,null,null,null,null,null,null,null,null,null,null,null,null,null,null,null,null,null,null,null,null,null,15,"±10",8.5,8.1999999999999993,41.5,30,51,37.5,"-25 to 70",100,"PP","No","EZPE","EZPE1B156MTA","-","41.5 x 30",{"$f":"IF(BC33=\"\",\"\",INDEX('Size Data'!H:H,MATCH('Parameter->PN'!BE33,'Size Data'!D:D,0)))","v":{"$error":"#VALUE!"}},{"$f":"IF(BC33=\"\",\"\",HYPERLINK(INDEX('Film Data'!T:T,MATCH('Parameter->PN'!BC33,'Film Data'!G:G,0))))","v":"https://industrial.panasonic.com/ww/products/pt/automotive-film-cap/models/EZPE1B156MTA"}]
[null,null,null,null,null,null,null,null,null,null,null,null,null,null,null,null,null,null,null,null,null,null,null,null,null,null,null,null,null,null,null,null,null,null,null,null,null,null,null,null,null,null,null,10.6,13.7,57,25,40,52.5,"-40 to 105 (85)",150,"PP","Yes","EZPV","EZPV1B156MTS","-","57 x 25",{"$f":"IF(BC34=\"\",\"\",INDEX('Size Data'!H:H,MATCH('Parameter->PN'!BE34,'Size Data'!D:D,0)))","v":{"$error":"#VALUE!"}},{"$f":"IF(BC34=\"\",\"\",HYPERLINK(INDEX('Film Data'!T:T,MATCH('Parameter->PN'!BC34,'Film Data'!G:G,0))))","v":"https://industrial.panasonic.com/ww/products/pt/automotive-film-cap/models/EZPV1B156MTS"}]
[null,null,null,null,null,null,null,null,null,null,null,null,null,null,null,null,null,null,null,null,null,null,null,null,null,null,null,null,null,null,null,null,null,null,null,null,null,null,null,null,null,null,null,null,null,null,null,null,null,null,null,null,"No","EZPV","EZPV1B156MTC","-","57 x 25",{"$f":"IF(BC35=\"\",\"\",INDEX('Size Data'!H:H,MATCH('Parameter->PN'!BE35,'Size Data'!D:D,0)))","v":{"$error":"#VALUE!"}},{"$f":"IF(BC35=\"\",\"\",HYPERLINK(INDEX('Film Data'!T:T,MATCH('Parameter->PN'!BC35,'Film Data'!G:G,0))))","v":"https://industrial.panasonic.com/ww/products/pt/automotive-film-cap/models/EZPV1B156MTC"}]
[null,null,null,null,null,null,null,null,null,null,null,null,null,null,null,null,null,null,null,null,null,null,null,null,null,null,null,null,null,null,null,null,null,null,null,null,null,null,null,null,null,null,null,15,10.4,41,30,50.5,37.5,"-40 to 105 (85)",100,"PP","Yes","EZPV","EZPV1B156MTT","-","41 x 30",{"$f":"IF(BC36=\"\",\"\",INDEX('Size Data'!H:H,MATCH('Parameter->PN'!BE36,'Size Data'!D:D,0)))","v":{"$error":"#VALUE!"}},{"$f":"IF(BC36=\"\",\"\",HYPERLINK(INDEX('Film Data'!T:T,MATCH('Parameter->PN'!BC36,'Film Data'!G:G,0))))","v":"https://industrial.panasonic.com/ww/products/pt/automotive-film-cap/models/EZPV1B156MTT"}]
[null,null,null,null,null,null,null,null,null,null,null,null,null,null,null,null,null,null,null,null,null,null,null,null,null,null,null,null,null,null,null,null,null,null,null,null,null,null,null,null,null,null,null,null,null,null,null,null,null,null,null,null,"No","EZPV","EZPV1B156MTB","-","41 x 30",{"$f":"IF(BC37=\"\",\"\",INDEX('Size Data'!H:H,MATCH('Parameter->PN'!BE37,'Size Data'!D:D,0)))","v":{"$error":"#VALUE!"}},{"$f":"IF(BC37=\"\",\"\",HYPERLINK(INDEX('Film Data'!T:T,MATCH('Parameter->PN'!BC37,'Film Data'!G:G,0))))","v":"https://industrial.panasonic.com/ww/products/pt/automotive-film-cap/models/EZPV1B156MTB"}]
[null,null,null,null,null,null,null,null,null,null,null,null,null,null,null,null,null,null,null,null,null,null,null,null,null,null,null,null,null,null,null,null,null,null,null,null,null,null,null,null,null,12,"±10",12.8,10.4,41,26,40.5,37.5,"-40 to 105 (85)",150,"PP","Yes","EZPV","EZPV1B126MTT","-","41 x 26",{"$f":"IF(BC38=\"\",\"\",INDEX('Size Data'!H:H,MATCH('Parameter->PN'!BE38,'Size Data'!D:D,0)))","v":{"$error":"#VALUE!"}},{"$f":"IF(BC38=\"\",\"\",HYPERLINK(INDEX('Film Data'!T:T,MATCH('Parameter->PN'!BC38,'Film Data'!G:G,0))))","v":"https://industrial.panasonic.com/ww/products/pt/automotive-film-cap/models/EZPV1B126MTT"}]
[null,null,null,null,null,null,null,null,null,null,null,null,null,null,null,null,null,null,null,null,null,null,null,null,null,null,null,null,null,null,null,null,null,null,null,null,null,null,null,null,null,null,null,null,null,null,null,null,null,null,null,null,"No","EZPV","EZPV1B126MTB","-","41 x 26",{"$f":"IF(BC39=\"\",\"\",INDEX('Size Data'!H:H,MATCH('Parameter->PN'!BE39,'Size Data'!D:D,0)))","v":{"$error":"#VALUE!"}},{"$f":"IF(BC39=\"\",\"\",HYPERLINK(INDEX('Film Data'!T:T,MATCH('Parameter->PN'!BC39,'Film Data'!G:G,0))))","v":"https://industrial.panasonic.com/ww/products/pt/automotive-film-cap/models/EZPV1B126MTB"}]
[null,null,null,null,null,null,null,null,null,null,null,null,null,null,null,null,null,null,null,null,null,null,null,null,null,null,null,null,null,null,null,null,null,null,null,null,null,null,null,null,null,10,"±10",11.2,12.7,41.5,23.5,43.5,37.5,"-40 to 105 (85)",100,"PP","Yes","EZPV","EZPV1B106MTT","-","41.5 x 23.5",{"$f":"IF(BC40=\"\",\"\",INDEX('Size Data'!H:H,MATCH('Parameter->PN'!BE40,'Size Data'!D:D,0)))","v":{"$error":"#VALUE!"}},{"$f":"IF(BC40=\"\",\"\",HYPERLINK(INDEX('Film Data'!T:T,MATCH('Parameter->PN'!BC40,'Film Data'!G:G,0))))","v":"https://industrial.panasonic.com/ww/products/pt/automotive-film-cap/models/EZPV1B106MTT"}]
[null,null,null,null,null,null,null,null,null,null,null,null,null,null,null,null,null,null,null,null,null,null,null,null,null,null,null,null,null,null,null,null,null,null,null,null,null,null,null,null,null,null,null,null,null,null,null,null,null,null,null,null,"No","EZPV","EZPV1B106MTB","-","41.5 x 23.5",{"$f":"IF(BC41=\"\",\"\",INDEX('Size Data'!H:H,MATCH('Parameter->PN'!BE41,'Size Data'!D:D,0)))","v":{"$error":"#VALUE!"}},{"$f":"IF(BC41=\"\",\"\",HYPERLINK(INDEX('Film Data'!T:T,MATCH('Parameter->PN'!BC41,'Film Data'!G:G,0))))","v":"https://industrial.panasonic.com/ww/products/pt/automotive-film-cap/models/EZPV1B106MTB"}]
[null,null,null,null,null,null,null,null,null,null,null,null,null,null,null,null,null,null,null,null,null,null,null,null,null,null,null,null,null,null,null,null,null,null,null,null,null,null,null,null,null,null,null,7,12.3,41.5,20,42,37.5,"-25 to 70",150,"PP","No","EZPE","EZPE1B106MTA","-","41.5 x 20",{"$f":"IF(BC42=\"\",\"\",INDEX('Size Data'!H:H,MATCH('Parameter->PN'!BE42,'Size Data'!D:D,0)))","v":{"$error":"#VALUE!"}},{"$f":"IF(BC42=\"\",\"\",HYPERLINK(INDEX('Film Data'!T:T,MATCH('Parameter->PN'!BC42,'Film Data'!G:G,0))))","v":"https://industrial.panasonic.com/ww/products/pt/automotive-film-cap/models/EZPE1B106MTA"}]
[null,null,null,null,null,null,null,null,null,null,null,null,null,null,null,null,null,null,null,null,null,null,null,null,null,null,null,null,null,null,null,null,null,null,null,null,null,null,null,null,null,9,"±10",10.4,12.4,41,22,36,37.5,"-40 to 105 (85)",150,"PP","Yes","EZPV","EZPV1B905MTT","-","41 x 22",{"$f":"IF(BC43=\"\",\"\",INDEX('Size Data'!H:H,MATCH('Parameter->PN'!BE43,'Size Data'!D:D,0)))","v":{"$error":"#VALUE!"}},{"$f":"IF(BC43=\"\",\"\",HYPERLINK(INDEX('Film Data'!T:T,MATCH('Parameter->PN'!BC43,'Film Data'!G:G,0))))","v":"https://industrial.panasonic.com/ww/products/pt/automotive-film-cap/models/EZPV1B905MTT"}]
[null,null,null,null,null,null,null,null,null,null,null,null,null,null,null,null,null,null,null,null,null,null,null,null,null,null,null,null,null,null,null,null,null,null,null,null,null,null,null,null,null,null,null,null,null,null,null,null,null,null,null,null,"No","EZPV","EZPV1B905MTB","-","41 x 22",{"$f":"IF(BC44=\"\",\"\",INDEX('Size Data'!H:H,MATCH('Parameter->PN'!BE44,'Size Data'!D:D,0)))","v":{"$error":"#VALUE!"}},{"$f":"IF(BC44=\"\",\"\",HYPERLINK(INDEX('Film Data'!T:T,MATCH('Parameter->PN'!BC44,'Film Data'!G:G,0))))","v":"https://industrial.panasonic.com/ww/products/pt/automotive-film-cap/models/EZPV1B905MTB"}]
[null,null,null,null,null,null,null,null,null,null,null,null,null,null,null,null,null,null,null,null,null,null,null,null,null,null,null,null,null,null,null,null,null,null,null,null,null,null,null,null,null,8,"±10",9.5,13.7,41,22,36,37.5,"-40 to 105 (85)",150,"PP","Yes","EZPV","EZPV1B805MTT","-","41 x 22",{"$f":"IF(BC45=\"\",\"\",INDEX('Size Data'!H:H,MATCH('Parameter->PN'!BE45,'Size Data'!D:D,0)))","v":{"$error":"#VALUE!"}},{"$f":"IF(BC45=\"\",\"\",HYPERLINK(INDEX('Film Data'!T:T,MATCH('Parameter->PN'!BC45,'Film Data'!G:G,0))))","v":"https://industrial.panasonic.com/ww/products/pt/automotive-film-cap/models/EZPV1B805MTT"}]
[null,null,null,null,null,null,null,null,null,null,null,null,null,null,null,null,null,null,null,null,null,null,null,null,null,null,null,null,null,null,null,null,null,null,null,null,null,null,null,null,null,null,null,null,null,null,null,null,null,null,null,null,"No","EZPV","EZPV1B805MTB","-","41 x 22",{"$f":"IF(BC46=\"\",\"\",INDEX('Size Data'!H:H,MATCH('Parameter->PN'!BE46,'Size Data'!D:D,0)))","v":{"$error":"#VALUE!"}},{"$f":"IF(BC46=\"\",\"\",HYPERLINK(INDEX('Film Data'!T:T,MATCH('Parameter->PN'!BC46,'Film Data'!G:G,0))))","v":"https://industrial.panasonic.com/ww/products/pt/automotive-film-cap/models/EZPV1B805MTB"}]
[null,null,null,null,null,null,null,null,null,null,null,null,null,null,null,null,null,null,null,null,null,null,null,null,null,null,null,null,null,null,null,null,null,null,null,null,null,null,null,null,null,7,"±10",8.5,15.5,41,22,36,37.5,"-40 to 105 (85)",150,"PP","Yes","EZPV","EZPV1B705MTT","-","41 x 22",{"$f":"IF(BC47=\"\",\"\",INDEX('Size Data'!H:H,MATCH('Parameter->PN'!BE47,'Size Data'!D:D,0)))","v":{"$error":"#VALUE!"}},{"$f":"IF(BC47=\"\",\"\",HYPERLINK(INDEX('Film Data'!T:T,MATCH('Parameter->PN'!BC47,'Film Data'!G:G,0))))","v":"https://industrial.panasonic.com/ww/products/pt/automotive-film-cap/models/EZPV1B705MTT"}]
[null,null,null,null,null,null,null,null,null,null,null,null,null,null,null,null,null,null,null,null,null,null,null,null,null,null,null,null,null,null,null,null,null,null,null,null,null,null,null,null,null,null,null,null,null,null,null,null,null,null,null,null,"No","EZPV","EZPV1B705MTB","-","41 x 22",{"$f":"IF(BC48=\"\",\"\",INDEX('Size Data'!H:H,MATCH('Parameter->PN'!BE48,'Size Data'!D:D,0)))","v":{"$error":"#VALUE!"}},{"$f":"IF(BC48=\"\",\"\",HYPERLINK(INDEX('Film Data'!T:T,MATCH('Parameter->PN'!BC48,'Film Data'!G:G,0))))","v":"https://industrial.panasonic.com/ww/products/pt/automotive-film-cap/models/EZPV1B705MTB"}]
[null,null,null,null,null,null,null,null,null,null,null,null,null,null,null,null,null,null,null,null,null,null,null,null,null,null,null,null,null,null,null,null,null,null,null,null,null,null,null,null,null,6,"±10",7.3,17.5,41,17,34.5,37.5,"-40 to 105 (85)",300,"PP","Yes","EZPV","EZPV1B605LTT","-","41 x 17",{"$f":"IF(BC49=\"\",\"\",INDEX('Size Data'!H:H,MATCH('Parameter->PN'!BE49,'Size Data'!D:D,0)))","v":{"$error":"#VALUE!"}},{"$f":"IF(BC49=\"\",\"\",HYPERLINK(INDEX('Film Data'!T:T,MATCH('Parameter->PN'!BC49,'Film Data'!G:G,0))))","v":"https://industrial.panasonic.com/ww/products/pt/automotive-film-cap/models/EZPV1B605LTT"}]
[null,null,null,null,null,null,null,null,null,null,null,null,null,null,null,null,null,null,null,null,null,null,null,null,null,null,null,null,null,null,null,null,null,null,null,null,null,null,null,null,null,null,null,null,null,null,null,null,null,null,null,null,"No","EZPV","EZPV1B605LTB","-","41 x 17",{"$f":"IF(BC50=\"\",\"\",INDEX('Size Data'!H:H,MATCH('Parameter->PN'!BE50,'Size Data'!D:D,0)))","v":{"$error":"#VALUE!"}},{"$f":"IF(BC50=\"\",\"\",HYPERLINK(INDEX('Film Data'!T:T,MATCH('Parameter->PN'!BC50,'Film Data'!G:G,0))))","v":"https://industrial.panasonic.com/ww/products/pt/automotive-film-cap/models/EZPV1B605LTB"}]
[null,null,null,null,null,null,null,null,null,null,null,null,null,null,null,null,null,null,null,null,null,null,null,null,null,null,null,null,null,null,null,null,null,null,null,null,null,null,null,null,null,5,"±10",6.5,20.399999999999999,41,17,34.5,37.5,"-40 to 105 (85)",300,"PP","Yes","EZPV","EZPV1B505LTT","-","41 x 17"]
[null,null,null,null,null,null,null,null,null,null,null,null,null,null,null,null,null,null,null,null,null,null,null,null,null,null,null,null,null,null,null,null,null,null,null,null,null,null,null,null,null,null,null,null,null,null,null,null,null,null,null,null,"No","EZPV","EZPV1B505LTB","-","41 x 17"]
[null,null,null,null,null,null,null,null,null,null,null,null,null,null,null,null,null,null,null,null,null,null,null,null,null,null,null,null,null,null,null,null,null,null,null,null,null,null,null,null,null,null,"± 5",8.6,7.7,31.5,18.5,35,27.5,"-40 to 110",100,"PP","Yes","ECWFG","ECWFG1B505J","-","31.5 x 18.5"]
[null,null,null,null,null,null,null,null,null,null,null,null,null,null,null,null,null,null,null,null,null,null,null,null,null,null,null,null,null,null,null,null,null,null,null,null,null,null,null,null,null,null,null,null,null,null,null,null,null,null,null,null,null,null,"ECWFG1B505JA","-","31.5 x 18.5"]
[null,null,null,null,null,null,null,null,null,null,null,null,null,null,null,null,null,null,null,null,null,null,null,null,null,null,null,null,null,null,null,null,null,null,null,null,null,null,null,null,null,null,null,null,null,null,null,null,null,null,null,null,null,"ECWFJ","ECWFJ1B505J","15nH","31.5 x 18.5"]
[null,null,null,null,null,null,null,null,null,null,null,null,null,null,null,null,null,null,null,null,null,null,null,null,null,null,null,null,null,null,null,null,null,null,null,null,null,null,null,null,null,null,null,null,null,null,null,null,null,null,null,null,null,null,"ECWFJ1B505JA","15nH","31.5 x 18.5"]
[null,null,null,null,null,null,null,null,null,null,null,null,null,null,null,null,null,null,null,null,null,null,null,null,null,null,null,null,null,null,null,null,null,null,null,null,null,null,null,null,null,4.7,"±10",6.2,21.7,41,17,34.5,37.5,"-40 to 105 (85)",300,"PP","Yes","EZPV","EZPV1B475LTT","-","41 x 17"]
[null,null,null,null,null,null,null,null,null,null,null,null,null,null,null,null,null,null,null,null,null,null,null,null,null,null,null,null,null,null,null,null,null,null,null,null,null,null,null,null,null,null,null,null,null,null,null,null,null,null,null,null,"No","EZPV","EZPV1B475LTB","-","41 x 17"]
[null,null,null,null,null,null,null,null,null,null,null,null,null,null,null,null,null,null,null,null,null,null,null,null,null,null,null,null,null,null,null,null,null,null,null,null,null,null,null,null,null,null,"± 5",8.3000000000000007,8.1999999999999993,31.5,18.5,35,27.5,"-40 to 110",100,"PP","Yes","ECWFG","ECWFG1B475J","-","31.5 x 18.5"]
[null,null,null,null,null,null,null,null,null,null,null,null,null,null,null,null,null,null,null,null,null,null,null,null,null,null,null,null,null,null,null,null,null,null,null,null,null,null,null,null,null,null,null,null,null,null,null,null,null,null,null,null,null,null,"ECWFG1B475JA","-","31.5 x 18.5"]
[null,null,null,null,null,null,null,null,null,null,null,null,null,null,null,null,null,null,null,null,null,null,null,null,null,null,null,null,null,null,null,null,null,null,null,null,null,null,null,null,null,null,null,null,null,null,null,null,null,null,null,null,null,"ECWFJ","ECWFJ1B475J","18nH","31.5 x 18.5"]
[null,null,null,null,null,null,null,null,null,null,null,null,null,null,null,null,null,null,null,null,null,null,null,null,null,null,null,null,null,null,null,null,null,null,null,null,null,null,null,null,null,null,null,null,null,null,null,null,null,null,null,null,null,null,"ECWFJ1B475JA","18nH","31.5 x 18.5"]
[null,null,null,null,null,null,null,null,null,null,null,null,null,null,null,null,null,null,null,null,null,null,null,null,null,null,null,null,null,null,null,null,null,null,null,null,null,null,null,null,null,4,"±10",5.5,23.5,41,15,29,37.5,"-40 to 105 (85)",300,"PP","Yes","EZPV","EZPV1B405LTT","-","41 x 15"]
[null,null,null,null,null,null,null,null,null,null,null,null,null,null,null,null,null,null,null,null,null,null,null,null,null,null,null,null,null,null,null,null,null,null,null,null,null,null,null,null,null,null,null,null,null,null,null,null,null,null,null,null,"No","EZPV","EZPV1B405LTB","-","41 x 15"]
[null,null,null,null,null,null,null,null,null,null,null,null,null,null,null,null,null,null,null,null,null,null,null,null,null,null,null,null,null,null,null,null,null,null,null,null,null,null,null,null,null,null,"± 5",7.5,9.6,31.5,17.5,32.5,27.5,"-40 to 110",100,"PP","Yes","ECWFG","ECWFG1B405J","-","31.5 x 17.5"]
[null,null,null,null,null,null,null,null,null,null,null,null,null,null,null,null,null,null,null,null,null,null,null,null,null,null,null,null,null,null,null,null,null,null,null,null,null,null,null,null,null,null,null,null,null,null,null,null,null,null,null,null,null,null,"ECWFG1B405JA","-","31.5 x 17.5"]
[null,null,null,null,null,null,null,null,null,null,null,null,null,null,null,null,null,null,null,null,null,null,null,null,null,null,null,null,null,null,null,null,null,null,null,null,null,null,null,null,null,null,null,null,null,null,null,null,null,null,null,null,null,"ECWFJ","ECWFJ1B405J","19nH","31.5 x 17.5"]
[null,null,null,null,null,null,null,null,null,null,null,null,null,null,null,null,null,null,null,null,null,null,null,null,null,null,null,null,null,null,null,null,null,null,null,null,null,null,null,null,null,null,null,null,null,null,null,null,null,null,null,null,null,null,"ECWFJ1B405JA","19nH","31.5 x 17.5"]
[null,null,null,null,null,null,null,null,null,null,null,null,null,null,null,null,null,null,null,null,null,null,null,null,null,null,null,null,null,null,null,null,null,null,null,null,null,null,null,null,null,3.3,"± 5",6.7,11.5,31.5,16,29.5,27.5,"-40 to 110",100,"PP","Yes","ECWFG","ECWFG1B335JA","-","31.5 x 16"]
[null,null,null,null,null,null,null,null,null,null,null,null,null,null,null,null,null,null,null,null,null,null,null,null,null,null,null,null,null,null,null,null,null,null,null,null,null,null,null,null,null,null,null,null,null,null,null,null,null,null,null,null,null,"ECWFJ","ECWFJ1B335JA","17nH","31.5 x 16"]
[null,null,null,null,null,null,null,null,null,null,null,null,null,null,null,null,null,null,null,null,null,null,null,null,null,null,null,null,null,null,null,null,null,null,null,null,null,null,null,null,null,null,null,null,null,null,null,null,null,null,150,"PP","Yes","ECWFG","ECWFG1B335J","-","31.5 x 16"]
[null,null,null,null,null,null,null,null,null,null,null,null,null,null,null,null,null,null,null,null,null,null,null,null,null,null,null,null,null,null,null,null,null,null,null,null,null,null,null,null,null,null,null,null,null,null,null,null,null,null,null,null,null,"ECWFJ","ECWFJ1B335J","17nH","31.5 x 16"]
[null,null,null,null,null,null,null,null,null,null,null,null,null,null,null,null,null,null,null,null,null,null,null,null,null,null,null,null,null,null,null,null,null,null,null,null,null,null,null,null,null,3,"±10",4.4000000000000004,30.8,41,15,29,37.5,"-40 to 105 (85)",300,"PP","Yes","EZPV","EZPV1B305LTT","-","41 x 15"]
[null,null,null,null,null,null,null,null,null,null,null,null,null,null,null,null,null,null,null,null,null,null,null,null,null,null,null,null,null,null,null,null,null,null,null,null,null,null,null,null,null,null,null,null,null,null,null,null,null,null,null,null,"No","EZPV","EZPV1B305LTB","-","41 x 15"]
[null,null,null,null,null,null,null,null,null,null,null,null,null,null,null,null,null,null,null,null,null,null,null,null,null,null,null,null,null,null,null,null,null,null,null,null,null,null,null,null,null,null,"± 5",6.3,12.7,31.5,16,29.5,27.5,"-40 to 110",100,"PP","Yes","ECWFG","ECWFG1B305JA","-","31.5 x 16"]
[null,null,null,null,null,null,null,null,null,null,null,null,null,null,null,null,null,null,null,null,null,null,null,null,null,null,null,null,null,null,null,null,null,null,null,null,null,null,null,null,null,null,null,null,null,null,null,null,null,null,null,null,null,"ECWFJ","ECWFJ1B305JA","19nH","31.5 x 16"]
[null,null,null,null,null,null,null,null,null,null,null,null,null,null,null,null,null,null,null,null,null,null,null,null,null,null,null,null,null,null,null,null,null,null,null,null,null,null,null,null,null,null,null,null,null,null,null,null,null,null,150,"PP","Yes","ECWFG","ECWFG1B305J","-","31.5 x 16"]
[null,null,null,null,null,null,null,null,null,null,null,null,null,null,null,null,null,null,null,null,null,null,null,null,null,null,null,null,null,null,null,null,null,null,null,null,null,null,null,null,null,null,null,null,null,null,null,null,null,null,null,null,null,"ECWFJ","ECWFJ1B305J","19nH","31.5 x 16"]
[null,null,null,null,null,null,null,null,null,null,null,null,null,null,null,null,null,null,null,null,null,null,null,null,null,null,null,null,null,null,null,null,null,null,null,null,null,null,null,null,null,2.2000000000000002,"± 5",5.0999999999999996,17.100000000000001,31.5,13.5,28.5,27.5,"-40 to 110",150,"PP","Yes","ECWFG","ECWFG1B225J","-","31.5 x 13.5"]
[null,null,null,null,null,null,null,null,null,null,null,null,null,null,null,null,null,null,null,null,null,null,null,null,null,null,null,null,null,null,null,null,null,null,null,null,null,null,null,null,null,null,null,null,null,null,null,null,null,null,null,null,null,null,"ECWFG1B225JA","-","31.5 x 13.5"]
[null,null,null,null,null,null,null,null,null,null,null,null,null,null,null,null,null,null,null,null,null,null,null,null,null,null,null,null,null,null,null,null,null,null,null,null,null,null,null,null,null,null,null,null,null,null,null,null,null,null,null,null,null,"ECWFJ","ECWFJ1B225J","19nH","31.5 x 13.5"]
[null,null,null,null,null,null,null,null,null,null,null,null,null,null,null,null,null,null,null,null,null,null,null,null,null,null,null,null,null,null,null,null,null,null,null,null,null,null,null,null,null,null,null,null,null,null,null,null,null,null,null,null,null,null,"ECWFJ1B225JA","19nH","31.5 x 13.5"]
[null,null,null,null,null,null,null,null,null,null,null,null,null,null,null,null,null,null,null,null,null,null,null,null,null,null,null,null,null,null,null,null,null,null,null,null,null,null,null,null,null,2,"± 5",4.8,18.7,31.5,12,24.5,27.5,"-40 to 110",200,"PP","Yes","ECWFG","ECWFG1B205J","-","31.5 x 12"]
[null,null,null,null,null,null,null,null,null,null,null,null,null,null,null,null,null,null,null,null,null,null,null,null,null,null,null,null,null,null,null,null,null,null,null,null,null,null,null,null,null,null,null,null,null,null,null,null,null,null,null,null,null,"ECWFJ","ECWFJ1B205J","13nH","31.5 x 12"]
[null,null,null,null,null,null,null,null,null,null,null,null,null,null,null,null,null,null,null,null,null,null,null,null,null,null,null,null,null,null,null,null,null,null,null,null,null,null,null,null,null,null,null,null,null,null,null,null,null,null,250,"PP","Yes","ECWFG","ECWFG1B205JA","-","31.5 x 12"]
[null,null,null,null,null,null,null,null,null,null,null,null,null,null,null,null,null,null,null,null,null,null,null,null,null,null,null,null,null,null,null,null,null,null,null,null,null,null,null,null,null,null,null,null,null,null,null,null,null,null,null,null,null,"ECWFJ","ECWFJ1B205JA","13nH","31.5 x 12"]
[null,null,null,null,null,null,null,null,null,null,null,null,null,null,null,null,null,null,null,null,null,null,null,null,null,null,null,null,null,null,null,null,null,null,null,null,null,null,null,null,null,1.5,"± 5",4.0999999999999996,24.1,31.5,12,24.5,27.5,"-40 to 110",200,"PP","Yes","ECWFG","ECWFG1B155J","-","31.5 x 12"]
[null,null,null,null,null,null,null,null,null,null,null,null,null,null,null,null,null,null,null,null,null,null,null,null,null,null,null,null,null,null,null,null,null,null,null,null,null,null,null,null,null,null,null,null,null,null,null,null,null,null,null,null,null,"ECWFJ","ECWFJ1B155J","18nH","31.5 x 12"]
[null,null,null,null,null,null,null,null,null,null,null,null,null,null,null,null,null,null,null,null,null,null,null,null,null,null,null,null,null,null,null,null,null,null,null,null,null,null,null,null,null,null,null,null,null,null,null,null,null,null,250,"PP","Yes","ECWFG","ECWFG1B155JA","-","31.5 x 12"]
[null,null,null,null,null,null,null,null,null,null,null,null,null,null,null,null,null,null,null,null,null,null,null,null,null,null,null,null,null,null,null,null,null,null,null,null,null,null,null,null,null,null,null,null,null,null,null,null,null,null,null,null,null,"ECWFJ","ECWFJ1B155JA","18nH","31.5 x 12"]
[null,null,null,null,null,null,null,null,null,null,null,null,null,null,null,null,null,null,null,null,null,null,null,null,null,null,null,null,null,null,null,null,null,null,null,null,null,null,null,null,null,1,"± 5",3.3,36.5,31.5,10.5,21,27.5,"-40 to 110",300,"PP","Yes","ECWFG","ECWFG1B105J","-","31.5 x 10.5"]
[null,null,null,null,null,null,null,null,null,null,null,null,null,null,null,null,null,null,null,null,null,null,null,null,null,null,null,null,null,null,null,null,null,null,null,null,null,null,null,null,null,null,null,null,null,null,null,null,null,null,null,null,null,null,"ECWFG1B105JA","-","31.5 x 10.5"]
[null,null,null,null,null,null,null,null,null,null,null,null,null,null,null,null,null,null,null,null,null,null,null,null,null,null,null,null,null,null,null,null,null,null,null,null,null,null,null,null,null,null,null,null,null,null,null,null,null,null,null,null,null,"ECWFJ","ECWFJ1B105J","17nH","31.5 x 10.5"]
[null,null,null,null,null,null,null,null,null,null,null,null,null,null,null,null,null,null,null,null,null,null,null,null,null,null,null,null,null,null,null,null,null,null,null,null,null,null,null,null,null,null,null,null,null,null,null,null,null,null,null,null,null,null,"ECWFJ1B105JA","17nH","31.5 x 10.5"]
[null,null,null,null,null,null,null,null,null,null,null,null,null,null,null,null,null,null,null,null,null,null,null,null,null,null,null,null,null,null,null,null,null,null,null,null,null,null,null,1000,"DC",40,"±10",17.2,7.8,57.5,35,56,52.5,"-40 to 105 (85)",50,"PP","Yes","EZPV","EZPV1A406MTS","-","57.5 x 35"]
[null,null,null,null,null,null,null,null,null,null,null,null,null,null,null,null,null,null,null,null,null,null,null,null,null,null,null,null,null,null,null,null,null,null,null,null,null,null,null,null,null,null,null,null,null,null,null,null,null,null,null,null,"No","EZPV","EZPV1A406MTC","-","57.5 x 35"]
[null,null,null,null,null,null,null,null,null,null,null,null,null,null,null,null,null,null,null,null,null,null,null,null,null,null,null,null,null,null,null,null,null,null,null,null,null,null,null,null,null,35,"±10",16.100000000000001,9.1999999999999993,57.5,35,56,52.5,"-40 to 105 (85)",50,"PP","Yes","EZPV","EZPV1A356MTS","-","57.5 x 35"]
[null,null,null,null,null,null,null,null,null,null,null,null,null,null,null,null,null,null,null,null,null,null,null,null,null,null,null,null,null,null,null,null,null,null,null,null,null,null,null,null,null,null,null,null,null,null,null,null,null,null,null,null,"No","EZPV","EZPV1A356MTC","-","57.5 x 35"]
[null,null,null,null,null,null,null,null,null,null,null,null,null,null,null,null,null,null,null,null,null,null,null,null,null,null,null,null,null,null,null,null,null,null,null,null,null,null,null,null,null,30,"±10",14.9,9.9,57.5,35,50,52.5,"-40 to 105 (85)",50,"PP","Yes","EZPV","EZPV1A306MTS","-","57.5 x 35"]
[null,null,null,null,null,null,null,null,null,null,null,null,null,null,null,null,null,null,null,null,null,null,null,null,null,null,null,null,null,null,null,null,null,null,null,null,null,null,null,null,null,null,null,null,null,null,null,null,null,null,null,null,"No","EZPV","EZPV1A306MTC","-","57.5 x 35"]
[null,null,null,null,null,null,null,null,null,null,null,null,null,null,null,null,null,null,null,null,null,null,null,null,null,null,null,null,null,null,null,null,null,null,null,null,null,null,null,null,null,null,null,23.4,5.7,41,43,58,37.5,"-40 to 105 (85)",100,"PP","Yes","EZPV","EZPV1A306MTT","-","41 x 43"]
[null,null,null,null,null,null,null,null,null,null,null,null,null,null,null,null,null,null,null,null,null,null,null,null,null,null,null,null,null,null,null,null,null,null,null,null,null,null,null,null,null,null,null,null,null,null,null,null,null,null,null,null,"No","EZPV","EZPV1A306MTB","-","41 x 43"]
[null,null,null,null,null,null,null,null,null,null,null,null,null,null,null,null,null,null,null,null,null,null,null,null,null,null,null,null,null,null,null,null,null,null,null,null,null,null,null,null,null,25,"±10",13.6,9.1,57.5,35.5,45.5,52.5,"-40 to 105 (85)",50,"PP","Yes","EZPV","EZPV1A256MTS","-","57.5 x 35.5"]
[null,null,null,null,null,null,null,null,null,null,null,null,null,null,null,null,null,null,null,null,null,null,null,null,null,null,null,null,null,null,null,null,null,null,null,null,null,null,null,null,null,null,null,null,null,null,null,null,null,null,null,null,"No","EZPV","EZPV1A256MTC","-","57.5 x 35.5"]
[null,null,null,null,null,null,null,null,null,null,null,null,null,null,null,null,null,null,null,null,null,null,null,null,null,null,null,null,null,null,null,null,null,null,null,null,null,null,null,null,null,null,null,20.9,5.9,42,38,52.5,37.5,"-40 to 105 (85)",100,"PP","Yes","EZPV","EZPV1A256MTT","-","42 x 38"]
[null,null,null,null,null,null,null,null,null,null,null,null,null,null,null,null,null,null,null,null,null,null,null,null,null,null,null,null,null,null,null,null,null,null,null,null,null,null,null,null,null,null,null,null,null,null,null,null,null,null,null,null,"No","EZPV","EZPV1A256MTB","-","42 x 38"]
[null,null,null,null,null,null,null,null,null,null,null,null,null,null,null,null,null,null,null,null,null,null,null,null,null,null,null,null,null,null,null,null,null,null,null,null,null,null,null,null,null,20,"±10",12.2,11.2,57.5,35.5,45.5,52.5,"-40 to 105 (85)",50,"PP","Yes","EZPV","EZPV1A206MTS","-","57.5 x 35.5"]
[null,null,null,null,null,null,null,null,null,null,null,null,null,null,null,null,null,null,null,null,null,null,null,null,null,null,null,null,null,null,null,null,null,null,null,null,null,null,null,null,null,null,null,null,null,null,null,null,null,null,null,null,"No","EZPV","EZPV1A206MTC","-","57.5 x 35.5"]
[null,null,null,null,null,null,null,null,null,null,null,null,null,null,null,null,null,null,null,null,null,null,null,null,null,null,null,null,null,null,null,null,null,null,null,null,null,null,null,null,null,null,null,18.100000000000001,7.2,41.5,30,56,37.5,"-40 to 105 (85)",100,"PP","Yes","EZPV","EZPV1A206MTT","-","41.5 x 30"]
[null,null,null,null,null,null,null,null,null,null,null,null,null,null,null,null,null,null,null,null,null,null,null,null,null,null,null,null,null,null,null,null,null,null,null,null,null,null,null,null,null,null,null,null,null,null,null,null,null,null,null,null,"No","EZPV","EZPV1A206MTB","-","41.5 x 30"]
[null,null,null,null,null,null,null,null,null,null,null,null,null,null,null,null,null,null,null,null,null,null,null,null,null,null,null,null,null,null,null,null,null,null,null,null,null,null,null,null,null,18,"±10",16.899999999999999,8.5,41,30,50.5,37.5,"-40 to 105 (85)",100,"PP","Yes","EZPV","EZPV1A186MTT","-","41 x 30"]
[null,null,null,null,null,null,null,null,null,null,null,null,null,null,null,null,null,null,null,null,null,null,null,null,null,null,null,null,null,null,null,null,null,null,null,null,null,null,null,null,null,null,null,null,null,null,null,null,null,null,null,null,"No","EZPV","EZPV1A186MTB","-","41 x 30"]
[null,null,null,null,null,null,null,null,null,null,null,null,null,null,null,null,null,null,null,null,null,null,null,null,null,null,null,null,null,null,null,null,null,null,null,null,null,null,null,null,null,15,"±10",10.6,13.7,57,25,40,52.5,"-40 to 105 (85)",150,"PP","Yes","EZPV","EZPV1A156MTS","-","57 x 25"]
[null,null,null,null,null,null,null,null,null,null,null,null,null,null,null,null,null,null,null,null,null,null,null,null,null,null,null,null,null,null,null,null,null,null,null,null,null,null,null,null,null,null,null,null,null,null,null,null,null,null,null,null,"No","EZPV","EZPV1A156MTC","-","57 x 25"]
[null,null,null,null,null,null,null,null,null,null,null,null,null,null,null,null,null,null,null,null,null,null,null,null,null,null,null,null,null,null,null,null,null,null,null,null,null,null,null,null,null,null,null,15,10.4,41,30,50.5,37.5,"-40 to 105 (85)",100,"PP","Yes","EZPV","EZPV1A156MTT","-","41 x 30"]
[null,null,null,null,null,null,null,null,null,null,null,null,null,null,null,null,null,null,null,null,null,null,null,null,null,null,null,null,null,null,null,null,null,null,null,null,null,null,null,null,null,null,null,null,null,null,null,null,null,null,null,null,"No","EZPV","EZPV1A156MTB","-","41 x 30"]
[null,null,null,null,null,null,null,null,null,null,null,null,null,null,null,null,null,null,null,null,null,null,null,null,null,null,null,null,null,null,null,null,null,null,null,null,null,null,null,null,null,12,"±10",12.8,10.4,41,26,40.5,37.5,"-40 to 105 (85)",150,"PP","Yes","EZPV","EZPV1A126MTT","-","41 x 26"]
[null,null,null,null,null,null,null,null,null,null,null,null,null,null,null,null,null,null,null,null,null,null,null,null,null,null,null,null,null,null,null,null,null,null,null,null,null,null,null,null,null,null,null,null,null,null,null,null,null,null,null,null,"No","EZPV","EZPV1A126MTB","-","41 x 26"]
[null,null,null,null,null,null,null,null,null,null,null,null,null,null,null,null,null,null,null,null,null,null,null,null,null,null,null,null,null,null,null,null,null,null,null,null,null,null,null,null,null,10,"±10",11.2,12.7,41.5,23.5,43.5,37.5,"-40 to 105 (85)",100,"PP","Yes","EZPV","EZPV1A106MTT","-","41.5 x 23.5"]
[null,null,null,null,null,null,null,null,null,null,null,null,null,null,null,null,null,null,null,null,null,null,null,null,null,null,null,null,null,null,null,null,null,null,null,null,null,null,null,null,null,null,null,null,null,null,null,null,null,null,null,null,"No","EZPV","EZPV1A106MTB","-","41.5 x 23.5"]
[null,null,null,null,null,null,null,null,null,null,null,null,null,null,null,null,null,null,null,null,null,null,null,null,null,null,null,null,null,null,null,null,null,null,null,null,null,null,null,null,null,9,"±10",10.4,12.4,41,22,36,37.5,"-40 to 105 (85)",150,"PP","Yes","EZPV","EZPV1A905MTT","-","41 x 22"]
[null,null,null,null,null,null,null,null,null,null,null,null,null,null,null,null,null,null,null,null,null,null,null,null,null,null,null,null,null,null,null,null,null,null,null,null,null,null,null,null,null,null,null,null,null,null,null,null,null,null,null,null,"No","EZPV","EZPV1A905MTB","-","41 x 22"]
[null,null,null,null,null,null,null,null,null,null,null,null,null,null,null,null,null,null,null,null,null,null,null,null,null,null,null,null,null,null,null,null,null,null,null,null,null,null,null,null,null,8,"±10",9.5,13.7,41,22,36,37.5,"-40 to 105 (85)",150,"PP","Yes","EZPV","EZPV1A805MTT","-","41 x 22"]
[null,null,null,null,null,null,null,null,null,null,null,null,null,null,null,null,null,null,null,null,null,null,null,null,null,null,null,null,null,null,null,null,null,null,null,null,null,null,null,null,null,null,null,null,null,null,null,null,null,null,null,null,"No","EZPV","EZPV1A805MTB","-","41 x 22"]
[null,null,null,null,null,null,null,null,null,null,null,null,null,null,null,null,null,null,null,null,null,null,null,null,null,null,null,null,null,null,null,null,null,null,null,null,null,null,null,null,null,7,"±10",8.5,15.5,41,22,36,37.5,"-40 to 105 (85)",150,"PP","Yes","EZPV","EZPV1A705MTT","-","41 x 22"]
[null,null,null,null,null,null,null,null,null,null,null,null,null,null,null,null,null,null,null,null,null,null,null,null,null,null,null,null,null,null,null,null,null,null,null,null,null,null,null,null,null,null,null,null,null,null,null,null,null,null,null,null,"No","EZPV","EZPV1A705MTB","-","41 x 22"]
[null,null,null,null,null,null,null,null,null,null,null,null,null,null,null,null,null,null,null,null,null,null,null,null,null,null,null,null,null,null,null,null,null,null,null,null,null,null,null,null,null,6,"±10",7.3,17.5,41,17,34.5,37.5,"-40 to 105 (85)",300,"PP","Yes","EZPV","EZPV1A605LTT","-","41 x 17"]
[null,null,null,null,null,null,null,null,null,null,null,null,null,null,null,null,null,null,null,null,null,null,null,null,null,null,null,null,null,null,null,null,null,null,null,null,null,null,null,null,null,null,null,null,null,null,null,null,null,null,null,null,"No","EZPV","EZPV1A605LTB","-","41 x 17"]
[null,null,null,null,null,null,null,null,null,null,null,null,null,null,null,null,null,null,null,null,null,null,null,null,null,null,null,null,null,null,null,null,null,null,null,null,null,null,null,null,null,null,"± 5",6.8,6.1,"31.5","17.5","32.5","27.5","-40 to 105 (85)","100","PP","Yes","ECWFJ","ECWFJ3A605J","18nH","31.5 x 17.5"]
[null,null,null,null,null,null,null,null,null,null,null,null,null,null,null,null,null,null,null,null,null,null,null,null,null,null,null,null,null,null,null,null,null,null,null,null,null,null,null,null,null,null,null,null,null,null,null,null,null,null,null,null,null,null,"ECWFJ3A605JA","18nH","31.5 x 17.5"]
[null,null,null,null,null,null,null,null,null,null,null,null,null,null,null,null,null,null,null,null,null,null,null,null,null,null,null,null,null,null,null,null,null,null,null,null,null,null,null,null,null,5,"±10",6.5,20.399999999999999,41,17,34.5,37.5,"-40 to 105 (85)",300,"PP","Yes","EZPV","EZPV1A505LTT","-","41 x 17"]
[null,null,null,null,null,null,null,null,null,null,null,null,null,null,null,null,null,null,null,null,null,null,null,null,null,null,null,null,null,null,null,null,null,null,null,null,null,null,null,null,null,null,null,null,null,null,null,null,null,null,null,null,"No","EZPV","EZPV1A505LTB","-","41 x 17"]
[null,null,null,null,null,null,null,null,null,null,null,null,null,null,null,null,null,null,null,null,null,null,null,null,null,null,null,null,null,null,null,null,null,null,null,null,null,null,null,null,null,null,"± 5",6.1,"TBD","31","19","30","27.5","-40 to 105 (85)","100","PP","Yes","ECWFJ","ECWFJ3A505J","TBDnH","31 x 19"]
[null,null,null,null,null,null,null,null,null,null,null,null,null,null,null,null,null,null,null,null,null,null,null,null,null,null,null,null,null,null,null,null,null,null,null,null,null,null,null,null,null,null,null,null,null,null,null,null,null,null,null,null,null,null,"ECWFJ3A505JA","TBDnH","31 x 19"]
[null,null,null,null,null,null,null,null,null,null,null,null,null,null,null,null,null,null,null,null,null,null,null,null,null,null,null,null,null,null,null,null,null,null,null,null,null,null,null,null,null,4.7,"±10",6.2,21.7,41,17,34.5,37.5,"-40 to 105 (85)",300,"PP","Yes","EZPV","EZPV1A475LTT","-","41 x 17"]
[null,null,null,null,null,null,null,null,null,null,null,null,null,null,null,null,null,null,null,null,null,null,null,null,null,null,null,null,null,null,null,null,null,null,null,null,null,null,null,null,null,null,null,null,null,null,null,null,null,null,null,null,"No","EZPV","EZPV1A475LTB","-","41 x 17"]
[null,null,null,null,null,null,null,null,null,null,null,null,null,null,null,null,null,null,null,null,null,null,null,null,null,null,null,null,null,null,null,null,null,null,null,null,null,null,null,null,null,null,"± 5",5.9,10.1,"31","19","30","27.5","-40 to 105 (85)","100","PP","Yes","ECWFJ","ECWFJ3A475J","27.5nH","31 x 19"]
[null,null,null,null,null,null,null,null,null,null,null,null,null,null,null,null,null,null,null,null,null,null,null,null,null,null,null,null,null,null,null,null,null,null,null,null,null,null,null,null,null,null,null,null,null,null,null,null,null,null,null,null,null,null,"ECWFJ3A475JA","27.5nH","31 x 19"]
[null,null,null,null,null,null,null,null,null,null,null,null,null,null,null,null,null,null,null,null,null,null,null,null,null,null,null,null,null,null,null,null,null,null,null,null,null,null,null,null,null,4,"±10",5.5,23.5,41,15,29,37.5,"-40 to 105 (85)",300,"PP","Yes","EZPV","EZPV1A405LTT","-","41 x 15"]
[null,null,null,null,null,null,null,null,null,null,null,null,null,null,null,null,null,null,null,null,null,null,null,null,null,null,null,null,null,null,null,null,null,null,null,null,null,null,null,null,null,null,null,null,null,null,null,null,null,null,null,null,"No","EZPV","EZPV1A405LTB","-","41 x 15"]
[null,null,null,null,null,null,null,null,null,null,null,null,null,null,null,null,null,null,null,null,null,null,null,null,null,null,null,null,null,null,null,null,null,null,null,null,null,null,null,null,null,null,"± 5",5.4,8.6,"31.5","16","29.5","27.5","-40 to 105 (85)","150","PP","Yes","ECWFJ","ECWFJ3A405J","23.3nH","31.5 x 16"]
[null,null,null,null,null,null,null,null,null,null,null,null,null,null,null,null,null,null,null,null,null,null,null,null,null,null,null,null,null,null,null,null,null,null,null,null,null,null,null,null,null,null,null,null,null,null,null,null,null,null,"100","PP","Yes","ECWFJ","ECWFJ3A405JA","23.3nH","31.5 x 16"]
[null,null,null,null,null,null,null,null,null,null,null,null,null,null,null,null,null,null,null,null,null,null,null,null,null,null,null,null,null,null,null,null,null,null,null,null,null,null,null,null,null,3.3,"± 5",4.8,11.9,"31","15.5","25.5","27.5","-40 to 105 (85)","200","PP","Yes","ECWFJ","ECWFJ3A335JA","21.3nH","31 x 15.5"]
[null,null,null,null,null,null,null,null,null,null,null,null,null,null,null,null,null,null,null,null,null,null,null,null,null,null,null,null,null,null,null,null,null,null,null,null,null,null,null,null,null,null,null,null,null,null,null,null,null,null,"150","PP","Yes","ECWFJ","ECWFJ3A335J","21.3nH","31 x 15.5"]
[null,null,null,null,null,null,null,null,null,null,null,null,null,null,null,null,null,null,null,null,null,null,null,null,null,null,null,null,null,null,null,null,null,null,null,null,null,null,null,null,null,3,"±10",4.4000000000000004,30.8,41,15,29,37.5,"-40 to 105 (85)",300,"PP","Yes","EZPV","EZPV1A305LTT","-","41 x 15"]
[null,null,null,null,null,null,null,null,null,null,null,null,null,null,null,null,null,null,null,null,null,null,null,null,null,null,null,null,null,null,null,null,null,null,null,null,null,null,null,null,null,null,null,null,null,null,null,null,null,null,null,null,"No","EZPV","EZPV1A305LTB","-","41 x 15"]
[null,null,null,null,null,null,null,null,null,null,null,null,null,null,null,null,null,null,null,null,null,null,null,null,null,null,null,null,null,null,null,null,null,null,null,null,null,null,null,null,null,null,"± 5",4.5999999999999996,10.3,"31","14","24","27.5","-40 to 105 (85)","200","PP","Yes","ECWFJ","ECWFJ3A305JA","28.1nH","31 x 14"]
[null,null,null,null,null,null,null,null,null,null,null,null,null,null,null,null,null,null,null,null,null,null,null,null,null,null,null,null,null,null,null,null,null,null,null,null,null,null,null,null,null,null,null,null,null,null,null,null,null,null,"150","PP","Yes","ECWFJ","ECWFJ3A305J","28.1nH","31 x 14"]
[null,null,null,null,null,null,null,null,null,null,null,null,null,null,null,null,null,null,null,null,null,null,null,null,null,null,null,null,null,null,null,null,null,null,null,null,null,null,null,null,null,2.2000000000000002,"± 5",3.8,"TBD","31","13","23","27.5","-40 to 105 (85)","200","PP","Yes","ECWFJ","ECWFJ3A225J","TBDnH","31 x 13"]
[null,null,null,null,null,null,null,null,null,null,null,null,null,null,null,null,null,null,null,null,null,null,null,null,null,null,null,null,null,null,null,null,null,null,null,null,null,null,null,null,null,null,null,null,null,null,null,null,null,null,"250","PP","Yes","ECWFJ","ECWFJ3A225JA","TBDnH","31 x 13"]
[null,null,null,null,null,null,null,null,null,null,null,null,null,null,null,null,null,null,null,null,null,null,null,null,null,null,null,null,null,null,null,null,null,null,null,null,null,null,null,null,null,2,"± 5",3.6,"TBD","31","13","23","27.5","-40 to 105 (85)","200","PP","Yes","ECWFJ","ECWFJ3A205J","TBDnH","31 x 13"]
[null,null,null,null,null,null,null,null,null,null,null,null,null,null,null,null,null,null,null,null,null,null,null,null,null,null,null,null,null,null,null,null,null,null,null,null,null,null,null,null,null,null,null,null,null,null,null,null,null,null,"250","PP","Yes","ECWFJ","ECWFJ3A205JA","TBDnH","31 x 13"]
[null,null,null,null,null,null,null,null,null,null,null,null,null,null,null,null,null,null,null,null,null,null,null,null,null,null,null,null,null,null,null,null,null,null,null,null,null,null,null,null,null,1.5,"± 5",3,"TBD","31","11","21","27.5","-40 to 105 (85)","300","PP","Yes","ECWFJ","ECWFJ3A155J","TBDnH","31 x 11"]
[null,null,null,null,null,null,null,null,null,null,null,null,null,null,null,null,null,null,null,null,null,null,null,null,null,null,null,null,null,null,null,null,null,null,null,null,null,null,null,null,null,null,null,null,null,null,null,null,null,null,null,null,null,null,"ECWFJ3A155JA","TBDnH","31 x 11"]
[null,null,null,null,null,null,null,null,null,null,null,null,null,null,null,null,null,null,null,null,null,null,null,null,null,null,null,null,null,null,null,null,null,null,null,null,null,null,null,null,null,1,"± 5",2.2999999999999998,33.200000000000003,"31",9,"19","27.5","-40 to 105 (85)","350","PP","Yes","ECWFJ","ECWFJ3A105J","19.5nH","31 x 9"]
[null,null,null,null,null,null,null,null,null,null,null,null,null,null,null,null,null,null,null,null,null,null,null,null,null,null,null,null,null,null,null,null,null,null,null,null,null,null,null,null,null,null,null,null,null,null,null,null,null,null,null,null,null,null,"ECWFJ3A105JA","19.5nH","31 x 9"]
[null,null,null,null,null,null,null,null,null,null,null,null,null,null,null,null,null,null,null,null,null,null,null,null,null,null,null,null,null,null,null,null,null,null,null,null,null,null,null,800,"DC",65,"±10",29.3,6.2,57.5,35,64.5,52.5,"-40 to 105 (85)",50,"PP","Yes","EZPV","EZPV80656MTS","-","57.5 x 35"]
[null,null,null,null,null,null,null,null,null,null,null,null,null,null,null,null,null,null,null,null,null,null,null,null,null,null,null,null,null,null,null,null,null,null,null,null,null,null,null,null,null,null,null,null,null,null,null,null,null,null,null,null,"No","EZPV","EZPV80656MTC","-","57.5 x 35"]
[null,null,null,null,null,null,null,null,null,null,null,null,null,null,null,null,null,null,null,null,null,null,null,null,null,null,null,null,null,null,null,null,null,null,null,null,null,null,null,null,null,60,"±10",27.8,6.2,57.5,35,56,52.5,"-40 to 105 (85)",50,"PP","Yes","EZPV","EZPV80606MTS","-","57.5 x 35"]
[null,null,null,null,null,null,null,null,null,null,null,null,null,null,null,null,null,null,null,null,null,null,null,null,null,null,null,null,null,null,null,null,null,null,null,null,null,null,null,null,null,null,null,null,null,null,null,null,null,null,null,null,"No","EZPV","EZPV80606MTC","-","57.5 x 35"]
[null,null,null,null,null,null,null,null,null,null,null,null,null,null,null,null,null,null,null,null,null,null,null,null,null,null,null,null,null,null,null,null,null,null,null,null,null,null,null,null,null,null,null,17,5.6,57.5,35,56,52.5,"-25 to 70",50,"PP","No","EZPE","EZPE80606MTA","-","57.5 x 35"]
[null,null,null,null,null,null,null,null,null,null,null,null,null,null,null,null,null,null,null,null,null,null,null,null,null,null,null,null,null,null,null,null,null,null,null,null,null,null,null,null,null,55,"±10",26.2,6.3,57.5,35,50,52.5,"-40 to 105 (85)",50,"PP","Yes","EZPV","EZPV80556MTS","-","57.5 x 35"]
[null,null,null,null,null,null,null,null,null,null,null,null,null,null,null,null,null,null,null,null,null,null,null,null,null,null,null,null,null,null,null,null,null,null,null,null,null,null,null,null,null,null,null,null,null,null,null,null,null,null,null,null,"No","EZPV","EZPV80556MTC","-","57.5 x 35"]
[null,null,null,null,null,null,null,null,null,null,null,null,null,null,null,null,null,null,null,null,null,null,null,null,null,null,null,null,null,null,null,null,null,null,null,null,null,null,null,null,null,null,null,16,5.9,57.5,35,56,52.5,"-25 to 70",50,"PP","No","EZPE","EZPE80556MTA","-","57.5 x 35"]
[null,null,null,null,null,null,null,null,null,null,null,null,null,null,null,null,null,null,null,null,null,null,null,null,null,null,null,null,null,null,null,null,null,null,null,null,null,null,null,null,null,50,"±10",15,6.3,57.5,35,56,52.5,"-25 to 70",50,"PP","No","EZPE","EZPE80506MTA","-","57.5 x 35"]
[null,null,null,null,null,null,null,null,null,null,null,null,null,null,null,null,null,null,null,null,null,null,null,null,null,null,null,null,null,null,null,null,null,null,null,null,null,null,null,null,null,null,null,24.5,6.8,57.5,30,51,52.5,"-40 to 105 (85)",50,"PP","Yes","EZPV","EZPV80506MTS","-","57.5 x 30"]
[null,null,null,null,null,null,null,null,null,null,null,null,null,null,null,null,null,null,null,null,null,null,null,null,null,null,null,null,null,null,null,null,null,null,null,null,null,null,null,null,null,null,null,null,null,null,null,null,null,null,null,null,"No","EZPV","EZPV80506MTC","-","57.5 x 30"]
[null,null,null,null,null,null,null,null,null,null,null,null,null,null,null,null,null,null,null,null,null,null,null,null,null,null,null,null,null,null,null,null,null,null,null,null,null,null,null,null,null,null,null,28.2,4.8,41,43,58,37.5,"-40 to 105 (85)",100,"PP","Yes","EZPV","EZPV80506MTT","-","41 x 43"]
[null,null,null,null,null,null,null,null,null,null,null,null,null,null,null,null,null,null,null,null,null,null,null,null,null,null,null,null,null,null,null,null,null,null,null,null,null,null,null,null,null,null,null,null,null,null,null,null,null,null,null,null,"No","EZPV","EZPV80506MTB","-","41 x 43"]
[null,null,null,null,null,null,null,null,null,null,null,null,null,null,null,null,null,null,null,null,null,null,null,null,null,null,null,null,null,null,null,null,null,null,null,null,null,null,null,null,null,45,"±10",22.8,7.9,57.5,30,51,52.5,"-40 to 105 (85)",50,"PP","Yes","EZPV","EZPV80456MTS","-","57.5 x 30"]
[null,null,null,null,null,null,null,null,null,null,null,null,null,null,null,null,null,null,null,null,null,null,null,null,null,null,null,null,null,null,null,null,null,null,null,null,null,null,null,null,null,null,null,null,null,null,null,null,null,null,null,null,"No","EZPV","EZPV80456MTC","-","57.5 x 30"]
[null,null,null,null,null,null,null,null,null,null,null,null,null,null,null,null,null,null,null,null,null,null,null,null,null,null,null,null,null,null,null,null,null,null,null,null,null,null,null,null,null,null,null,26.4,4.5,42,38,57,37.5,"-40 to 105 (85)",100,"PP","Yes","EZPV","EZPV80456MTT","-","42 x 38"]
[null,null,null,null,null,null,null,null,null,null,null,null,null,null,null,null,null,null,null,null,null,null,null,null,null,null,null,null,null,null,null,null,null,null,null,null,null,null,null,null,null,null,null,null,null,null,null,null,null,null,null,null,"No","EZPV","EZPV80456MTB","-","42 x 38"]
[null,null,null,null,null,null,null,null,null,null,null,null,null,null,null,null,null,null,null,null,null,null,null,null,null,null,null,null,null,null,null,null,null,null,null,null,null,null,null,null,null,null,null,14,7,57.5,30,51,52.5,"-25 to 70",50,"PP","No","EZPE","EZPE80456MTA","-","57.5 x 30"]
[null,null,null,null,null,null,null,null,null,null,null,null,null,null,null,null,null,null,null,null,null,null,null,null,null,null,null,null,null,null,null,null,null,null,null,null,null,null,null,null,null,40,"±10",13,8.3000000000000007,57.5,30,51,52.5,"-25 to 70",50,"PP","No","EZPE","EZPE80406MTA","-","57.5 x 30"]
[null,null,null,null,null,null,null,null,null,null,null,null,null,null,null,null,null,null,null,null,null,null,null,null,null,null,null,null,null,null,null,null,null,null,null,null,null,null,null,null,null,null,null,20.9,9.1,57.5,30,51,52.5,"-40 to 105 (85)",50,"PP","Yes","EZPV","EZPV80406MTS","-","57.5 x 30"]
[null,null,null,null,null,null,null,null,null,null,null,null,null,null,null,null,null,null,null,null,null,null,null,null,null,null,null,null,null,null,null,null,null,null,null,null,null,null,null,null,null,null,null,null,null,null,null,null,null,null,null,null,"No","EZPV","EZPV80406MTC","-","57.5 x 30"]
[null,null,null,null,null,null,null,null,null,null,null,null,null,null,null,null,null,null,null,null,null,null,null,null,null,null,null,null,null,null,null,null,null,null,null,null,null,null,null,null,null,null,null,24.6,5.0999999999999996,42,38,52.5,37.5,"-40 to 105 (85)",100,"PP","Yes","EZPV","EZPV80406MTT","-","42 x 38"]
[null,null,null,null,null,null,null,null,null,null,null,null,null,null,null,null,null,null,null,null,null,null,null,null,null,null,null,null,null,null,null,null,null,null,null,null,null,null,null,null,null,null,null,null,null,null,null,null,null,null,null,null,"No","EZPV","EZPV80406MTB","-","42 x 38"]
[null,null,null,null,null,null,null,null,null,null,null,null,null,null,null,null,null,null,null,null,null,null,null,null,null,null,null,null,null,null,null,null,null,null,null,null,null,null,null,null,null,35,"±10",18.899999999999999,10.199999999999999,57.5,30,51,52.5,"-40 to 105 (85)",50,"PP","Yes","EZPV","EZPV80356MTS","-","57.5 x 30"]
[null,null,null,null,null,null,null,null,null,null,null,null,null,null,null,null,null,null,null,null,null,null,null,null,null,null,null,null,null,null,null,null,null,null,null,null,null,null,null,null,null,null,null,null,null,null,null,null,null,null,null,null,"No","EZPV","EZPV80356MTC","-","57.5 x 30"]
[null,null,null,null,null,null,null,null,null,null,null,null,null,null,null,null,null,null,null,null,null,null,null,null,null,null,null,null,null,null,null,null,null,null,null,null,null,null,null,null,null,null,null,22.7,5.5,41.5,30,56,37.5,"-40 to 105 (85)",100,"PP","Yes","EZPV","EZPV80356MTT","-","41.5 x 30"]
[null,null,null,null,null,null,null,null,null,null,null,null,null,null,null,null,null,null,null,null,null,null,null,null,null,null,null,null,null,null,null,null,null,null,null,null,null,null,null,null,null,null,null,null,null,null,null,null,null,null,null,null,"No","EZPV","EZPV80356MTB","-","41.5 x 30"]
[null,null,null,null,null,null,null,null,null,null,null,null,null,null,null,null,null,null,null,null,null,null,null,null,null,null,null,null,null,null,null,null,null,null,null,null,null,null,null,null,null,null,null,12,9.6999999999999993,57.5,30,51,52.5,"-25 to 70",50,"PP","No","EZPE","EZPE80356MTA","-","57.5 x 30"]
[null,null,null,null,null,null,null,null,null,null,null,null,null,null,null,null,null,null,null,null,null,null,null,null,null,null,null,null,null,null,null,null,null,null,null,null,null,null,null,null,null,30,"±10",15,5.3,41.5,30,51,37.5,"-25 to 70",100,"PP","No","EZPE","EZPE80306MTA","-","41.5 x 30"]
[null,null,null,null,null,null,null,null,null,null,null,null,null,null,null,null,null,null,null,null,null,null,null,null,null,null,null,null,null,null,null,null,null,null,null,null,null,null,null,null,null,null,null,16.8,11.6,57.5,30,51,52.5,"-40 to 105 (85)",50,"PP","Yes","EZPV","EZPV80306MTS","-","57.5 x 30"]
[null,null,null,null,null,null,null,null,null,null,null,null,null,null,null,null,null,null,null,null,null,null,null,null,null,null,null,null,null,null,null,null,null,null,null,null,null,null,null,null,null,null,null,null,null,null,null,null,null,null,null,null,"No","EZPV","EZPV80306MTC","-","57.5 x 30"]
[null,null,null,null,null,null,null,null,null,null,null,null,null,null,null,null,null,null,null,null,null,null,null,null,null,null,null,null,null,null,null,null,null,null,null,null,null,null,null,null,null,null,null,20.6,7.1,41,30,50.5,37.5,"-40 to 105 (85)",100,"PP","Yes","EZPV","EZPV80306MTT","-","41 x 30"]
[null,null,null,null,null,null,null,null,null,null,null,null,null,null,null,null,null,null,null,null,null,null,null,null,null,null,null,null,null,null,null,null,null,null,null,null,null,null,null,null,null,null,null,null,null,null,null,null,null,null,null,null,"No","EZPV","EZPV80306MTB","-","41 x 30"]
[null,null,null,null,null,null,null,null,null,null,null,null,null,null,null,null,null,null,null,null,null,null,null,null,null,null,null,null,null,null,null,null,null,null,null,null,null,null,null,null,null,25,"±10",13,6.8,41.5,30,51,37.5,"-25 to 70",100,"PP","No","EZPE","EZPE80256MTA","-","41.5 x 30"]
[null,null,null,null,null,null,null,null,null,null,null,null,null,null,null,null,null,null,null,null,null,null,null,null,null,null,null,null,null,null,null,null,null,null,null,null,null,null,null,null,null,null,null,14.4,11.6,57,25,40,52.5,"-40 to 105 (85)",150,"PP","Yes","EZPV","EZPV80256MTS","-","57 x 25"]
[null,null,null,null,null,null,null,null,null,null,null,null,null,null,null,null,null,null,null,null,null,null,null,null,null,null,null,null,null,null,null,null,null,null,null,null,null,null,null,null,null,null,null,null,null,null,null,null,null,null,null,null,"No","EZPV","EZPV80256MTC","-","57 x 25"]
[null,null,null,null,null,null,null,null,null,null,null,null,null,null,null,null,null,null,null,null,null,null,null,null,null,null,null,null,null,null,null,null,null,null,null,null,null,null,null,null,null,null,null,18.3,8.6999999999999993,41,30,50.5,37.5,"-40 to 105 (85)",100,"PP","Yes","EZPV","EZPV80256MTT","-","41 x 30"]
[null,null,null,null,null,null,null,null,null,null,null,null,null,null,null,null,null,null,null,null,null,null,null,null,null,null,null,null,null,null,null,null,null,null,null,null,null,null,null,null,null,null,null,null,null,null,null,null,null,null,null,null,"No","EZPV","EZPV80256MTB","-","41 x 30"]
[null,null,null,null,null,null,null,null,null,null,null,null,null,null,null,null,null,null,null,null,null,null,null,null,null,null,null,null,null,null,null,null,null,null,null,null,null,null,null,null,null,20,"±10",15.8,8.6999999999999993,41,26,40.5,37.5,"-40 to 105 (85)",150,"PP","Yes","EZPV","EZPV80206MTT","-","41 x 26"]
[null,null,null,null,null,null,null,null,null,null,null,null,null,null,null,null,null,null,null,null,null,null,null,null,null,null,null,null,null,null,null,null,null,null,null,null,null,null,null,null,null,null,null,null,null,null,null,null,null,null,null,null,"No","EZPV","EZPV80206MTB","-","41 x 26"]
[null,null,null,null,null,null,null,null,null,null,null,null,null,null,null,null,null,null,null,null,null,null,null,null,null,null,null,null,null,null,null,null,null,null,null,null,null,null,null,null,null,null,null,11,7.7,41.5,30,51,37.5,"-25 to 70",100,"PP","No","EZPE","EZPE80206MTA","-","41.5 x 30"]
[null,null,null,null,null,null,null,null,null,null,null,null,null,null,null,null,null,null,null,null,null,null,null,null,null,null,null,null,null,null,null,null,null,null,null,null,null,null,null,null,null,18,"±10",17.3,7.8,31,22,53.5,27.5,"-40 to 105 (85)",150,"PP","Yes","EZPV","EZPV80186LTU","-","31 x 22"]
[null,null,null,null,null,null,null,null,null,null,null,null,null,null,null,null,null,null,null,null,null,null,null,null,null,null,null,null,null,null,null,null,null,null,null,null,null,null,null,null,null,null,null,null,null,null,null,null,null,null,null,null,null,null,"EZPV80186MTU","-","31 x 22"]
[null,null,null,null,null,null,null,null,null,null,null,null,null,null,null,null,null,null,null,null,null,null,null,null,null,null,null,null,null,null,null,null,null,null,null,null,null,null,null,null,null,null,null,null,null,null,null,null,null,null,null,null,"No","EZPV","EZPV80186LTA","-","31 x 22"]
[null,null,null,null,null,null,null,null,null,null,null,null,null,null,null,null,null,null,null,null,null,null,null,null,null,null,null,null,null,null,null,null,null,null,null,null,null,null,null,null,null,null,null,null,null,null,null,null,null,null,null,null,null,null,"EZPV80186MTA","-","31 x 22"]
[null,null,null,null,null,null,null,null,null,null,null,null,null,null,null,null,null,null,null,null,null,null,null,null,null,null,null,null,null,null,null,null,null,null,null,null,null,null,null,null,null,15,"±10",13,10.199999999999999,41,22,36,37.5,"-40 to 105 (85)",150,"PP","Yes","EZPV","EZPV80156MTT","-","41 x 22"]
[null,null,null,null,null,null,null,null,null,null,null,null,null,null,null,null,null,null,null,null,null,null,null,null,null,null,null,null,null,null,null,null,null,null,null,null,null,null,null,null,null,null,null,null,null,null,null,null,null,null,null,null,"No","EZPV","EZPV80156MTB","-","41 x 22"]
[null,null,null,null,null,null,null,null,null,null,null,null,null,null,null,null,null,null,null,null,null,null,null,null,null,null,null,null,null,null,null,null,null,null,null,null,null,null,null,null,null,null,null,9,10.5,41.5,20,42,37.5,"-25 to 70",150,"PP","No","EZPE","EZPE80156MTA","-","41.5 x 20"]
[null,null,null,null,null,null,null,null,null,null,null,null,null,null,null,null,null,null,null,null,null,null,null,null,null,null,null,null,null,null,null,null,null,null,null,null,null,null,null,null,null,14,"±10",15.3,8.6999999999999993,31,26,41,27.5,"-40 to 105 (85)",150,"PP","Yes","EZPV","EZPV80146LTU","-","31 x 26"]
[null,null,null,null,null,null,null,null,null,null,null,null,null,null,null,null,null,null,null,null,null,null,null,null,null,null,null,null,null,null,null,null,null,null,null,null,null,null,null,null,null,null,null,null,null,null,null,null,null,null,null,null,null,null,"EZPV80146MTU","-","31 x 26"]
[null,null,null,null,null,null,null,null,null,null,null,null,null,null,null,null,null,null,null,null,null,null,null,null,null,null,null,null,null,null,null,null,null,null,null,null,null,null,null,null,null,null,null,null,null,null,null,null,null,null,null,null,"No","EZPV","EZPV80146LTA","-","31 x 26"]
[null,null,null,null,null,null,null,null,null,null,null,null,null,null,null,null,null,null,null,null,null,null,null,null,null,null,null,null,null,null,null,null,null,null,null,null,null,null,null,null,null,null,null,null,null,null,null,null,null,null,null,null,null,null,"EZPV80146MTA","-","31 x 26"]
[null,null,null,null,null,null,null,null,null,null,null,null,null,null,null,null,null,null,null,null,null,null,null,null,null,null,null,null,null,null,null,null,null,null,null,null,null,null,null,null,null,13,"±10",14.7,9.1999999999999993,31,26,41,27.5,"-40 to 105 (85)",150,"PP","Yes","EZPV","EZPV80136LTU","-","31 x 26"]
[null,null,null,null,null,null,null,null,null,null,null,null,null,null,null,null,null,null,null,null,null,null,null,null,null,null,null,null,null,null,null,null,null,null,null,null,null,null,null,null,null,null,null,null,null,null,null,null,null,null,null,null,null,null,"EZPV80136MTU","-","31 x 26"]
[null,null,null,null,null,null,null,null,null,null,null,null,null,null,null,null,null,null,null,null,null,null,null,null,null,null,null,null,null,null,null,null,null,null,null,null,null,null,null,null,null,null,null,null,null,null,null,null,null,null,null,null,"No","EZPV","EZPV80136LTA","-","31 x 26"]
[null,null,null,null,null,null,null,null,null,null,null,null,null,null,null,null,null,null,null,null,null,null,null,null,null,null,null,null,null,null,null,null,null,null,null,null,null,null,null,null,null,null,null,null,null,null,null,null,null,null,null,null,null,null,"EZPV80136MTA","-","31 x 26"]
[null,null,null,null,null,null,null,null,null,null,null,null,null,null,null,null,null,null,null,null,null,null,null,null,null,null,null,null,null,null,null,null,null,null,null,null,null,null,null,null,null,12,"±10",10.7,12.5,41,22,36,37.5,"-40 to 105 (85)",150,"PP","Yes","EZPV","EZPV80126LTT","-","41 x 22"]
[null,null,null,null,null,null,null,null,null,null,null,null,null,null,null,null,null,null,null,null,null,null,null,null,null,null,null,null,null,null,null,null,null,null,null,null,null,null,null,null,null,null,null,null,null,null,null,null,null,null,null,null,"No","EZPV","EZPV80126LTB","-","41 x 22"]
[null,null,null,null,null,null,null,null,null,null,null,null,null,null,null,null,null,null,null,null,null,null,null,null,null,null,null,null,null,null,null,null,null,null,null,null,null,null,null,null,null,null,null,14.2,9.9,31,20.5,41.5,27.5,"-40 to 105 (85)",200,"PP","Yes","EZPV","EZPV80126LTU","-","31 x 20.5"]
[null,null,null,null,null,null,null,null,null,null,null,null,null,null,null,null,null,null,null,null,null,null,null,null,null,null,null,null,null,null,null,null,null,null,null,null,null,null,null,null,null,null,null,null,null,null,null,null,null,null,null,null,null,null,"EZPV80126MTU","-","31 x 20.5"]
[null,null,null,null,null,null,null,null,null,null,null,null,null,null,null,null,null,null,null,null,null,null,null,null,null,null,null,null,null,null,null,null,null,null,null,null,null,null,null,null,null,null,null,null,null,null,null,null,null,null,null,null,"No","EZPV","EZPV80126LTA","-","31 x 20.5"]
[null,null,null,null,null,null,null,null,null,null,null,null,null,null,null,null,null,null,null,null,null,null,null,null,null,null,null,null,null,null,null,null,null,null,null,null,null,null,null,null,null,null,null,null,null,null,null,null,null,null,null,null,null,null,"EZPV80126MTA","-","31 x 20.5"]
[null,null,null,null,null,null,null,null,null,null,null,null,null,null,null,null,null,null,null,null,null,null,null,null,null,null,null,null,null,null,null,null,null,null,null,null,null,null,null,null,null,11,"±10",13.6,10.6,31,20.5,41.5,27.5,"-40 to 105 (85)",200,"PP","Yes","EZPV","EZPV80116LTU","-","31 x 20.5"]
[null,null,null,null,null,null,null,null,null,null,null,null,null,null,null,null,null,null,null,null,null,null,null,null,null,null,null,null,null,null,null,null,null,null,null,null,null,null,null,null,null,null,null,null,null,null,null,null,null,null,null,null,null,null,"EZPV80116MTU","-","31 x 20.5"]
[null,null,null,null,null,null,null,null,null,null,null,null,null,null,null,null,null,null,null,null,null,null,null,null,null,null,null,null,null,null,null,null,null,null,null,null,null,null,null,null,null,null,null,null,null,null,null,null,null,null,null,null,"No","EZPV","EZPV80116LTA","-","31 x 20.5"]
[null,null,null,null,null,null,null,null,null,null,null,null,null,null,null,null,null,null,null,null,null,null,null,null,null,null,null,null,null,null,null,null,null,null,null,null,null,null,null,null,null,null,null,null,null,null,null,null,null,null,null,null,null,null,"EZPV80116MTA","-","31 x 20.5"]
[null,null,null,null,null,null,null,null,null,null,null,null,null,null,null,null,null,null,null,null,null,null,null,null,null,null,null,null,null,null,null,null,null,null,null,null,null,null,null,null,null,10,"±10",9.5,13.9,41,17,34.5,37.5,"-40 to 105 (85)",300,"PP","Yes","EZPV","EZPV80106LTT","-","41 x 17"]
[null,null,null,null,null,null,null,null,null,null,null,null,null,null,null,null,null,null,null,null,null,null,null,null,null,null,null,null,null,null,null,null,null,null,null,null,null,null,null,null,null,null,null,null,null,null,null,null,null,null,null,null,"No","EZPV","EZPV80106LTB","-","41 x 17"]
[null,null,null,null,null,null,null,null,null,null,null,null,null,null,null,null,null,null,null,null,null,null,null,null,null,null,null,null,null,null,null,null,null,null,null,null,null,null,null,null,null,null,null,12.9,11.5,31,20.5,41.5,27.5,"-40 to 105 (85)",200,"PP","Yes","EZPV","EZPV80106LTU","-","31 x 20.5"]
[null,null,null,null,null,null,null,null,null,null,null,null,null,null,null,null,null,null,null,null,null,null,null,null,null,null,null,null,null,null,null,null,null,null,null,null,null,null,null,null,null,null,null,null,null,null,null,null,null,null,null,null,null,null,"EZPV80106MTU","-","31 x 20.5"]
[null,null,null,null,null,null,null,null,null,null,null,null,null,null,null,null,null,null,null,null,null,null,null,null,null,null,null,null,null,null,null,null,null,null,null,null,null,null,null,null,null,null,null,null,null,null,null,null,null,null,null,null,"No","EZPV","EZPV80106LTA","-","31 x 20.5"]
[null,null,null,null,null,null,null,null,null,null,null,null,null,null,null,null,null,null,null,null,null,null,null,null,null,null,null,null,null,null,null,null,null,null,null,null,null,null,null,null,null,null,null,null,null,null,null,null,null,null,null,null,null,null,"EZPV80106MTA","-","31 x 20.5"]
[null,null,null,null,null,null,null,null,null,null,null,null,null,null,null,null,null,null,null,null,null,null,null,null,null,null,null,null,null,null,null,null,null,null,null,null,null,null,null,null,null,null,null,7,15.8,41.5,20,42,37.5,"-25 to 70",150,"PP","No","EZPE","EZPE80106LTA","-","41.5 x 20"]
[null,null,null,null,null,null,null,null,null,null,null,null,null,null,null,null,null,null,null,null,null,null,null,null,null,null,null,null,null,null,null,null,null,null,null,null,null,null,null,null,null,9,"±10",8.9,15.6,41,17,34.5,37.5,"-40 to 105 (85)",300,"PP","Yes","EZPV","EZPV80905LTT","-","41 x 17"]
[null,null,null,null,null,null,null,null,null,null,null,null,null,null,null,null,null,null,null,null,null,null,null,null,null,null,null,null,null,null,null,null,null,null,null,null,null,null,null,null,null,null,null,null,null,null,null,null,null,null,null,null,"No","EZPV","EZPV80905LTB","-","41 x 17"]
[null,null,null,null,null,null,null,null,null,null,null,null,null,null,null,null,null,null,null,null,null,null,null,null,null,null,null,null,null,null,null,null,null,null,null,null,null,null,null,null,null,null,null,12.3,12.6,31,20.5,41.5,27.5,"-40 to 105 (85)",200,"PP","Yes","EZPV","EZPV80905LTU","-","31 x 20.5"]
[null,null,null,null,null,null,null,null,null,null,null,null,null,null,null,null,null,null,null,null,null,null,null,null,null,null,null,null,null,null,null,null,null,null,null,null,null,null,null,null,null,null,null,null,null,null,null,null,null,null,null,null,null,null,"EZPV80905MTU","-","31 x 20.5"]
[null,null,null,null,null,null,null,null,null,null,null,null,null,null,null,null,null,null,null,null,null,null,null,null,null,null,null,null,null,null,null,null,null,null,null,null,null,null,null,null,null,null,null,null,null,null,null,null,null,null,null,null,"No","EZPV","EZPV80905LTA","-","31 x 20.5"]
[null,null,null,null,null,null,null,null,null,null,null,null,null,null,null,null,null,null,null,null,null,null,null,null,null,null,null,null,null,null,null,null,null,null,null,null,null,null,null,null,null,null,null,null,null,null,null,null,null,null,null,null,null,null,"EZPV80905MTA","-","31 x 20.5"]
[null,null,null,null,null,null,null,null,null,null,null,null,null,null,null,null,null,null,null,null,null,null,null,null,null,null,null,null,null,null,null,null,null,null,null,null,null,null,null,null,null,8,"±10",8.1999999999999993,17.100000000000001,41,17,34.5,37.5,"-40 to 105 (85)",300,"PP","Yes","EZPV","EZPV80805LTT","-","41 x 17"]
[null,null,null,null,null,null,null,null,null,null,null,null,null,null,null,null,null,null,null,null,null,null,null,null,null,null,null,null,null,null,null,null,null,null,null,null,null,null,null,null,null,null,null,null,null,null,null,null,null,null,null,null,"No","EZPV","EZPV80805LTB","-","41 x 17"]
[null,null,null,null,null,null,null,null,null,null,null,null,null,null,null,null,null,null,null,null,null,null,null,null,null,null,null,null,null,null,null,null,null,null,null,null,null,null,null,null,null,null,"± 5",9.1,5,31.5,17.5,32.5,27.5,"-40 to 110",100,"PP","Yes","ECWFG","ECWFG80805JA","-","31.5 x 17.5"]
[null,null,null,null,null,null,null,null,null,null,null,null,null,null,null,null,null,null,null,null,null,null,null,null,null,null,null,null,null,null,null,null,null,null,null,null,null,null,null,null,null,null,null,null,null,null,null,null,null,null,null,null,null,"ECWFJ","ECWFJ80805JA","11nH","31.5 x 17.5"]
[null,null,null,null,null,null,null,null,null,null,null,null,null,null,null,null,null,null,null,null,null,null,null,null,null,null,null,null,null,null,null,null,null,null,null,null,null,null,null,null,null,null,null,null,null,null,null,null,null,null,150,"PP","Yes","ECWFG","ECWFG80805J","-","31.5 x 17.5"]
[null,null,null,null,null,null,null,null,null,null,null,null,null,null,null,null,null,null,null,null,null,null,null,null,null,null,null,null,null,null,null,null,null,null,null,null,null,null,null,null,null,null,null,null,null,null,null,null,null,null,null,null,null,"ECWFJ","ECWFJ80805J","11nH","31.5 x 17.5"]
[null,null,null,null,null,null,null,null,null,null,null,null,null,null,null,null,null,null,null,null,null,null,null,null,null,null,null,null,null,null,null,null,null,null,null,null,null,null,null,null,null,7.5,"± 5",8.8000000000000007,5.3,31.5,17.5,32.5,27.5,"-40 to 110",100,"PP","Yes","ECWFG","ECWFG80755JA","-","31.5 x 17.5"]
[null,null,null,null,null,null,null,null,null,null,null,null,null,null,null,null,null,null,null,null,null,null,null,null,null,null,null,null,null,null,null,null,null,null,null,null,null,null,null,null,null,null,null,null,null,null,null,null,null,null,null,null,null,"ECWFJ","ECWFJ80755JA","13nH","31.5 x 17.5"]
[null,null,null,null,null,null,null,null,null,null,null,null,null,null,null,null,null,null,null,null,null,null,null,null,null,null,null,null,null,null,null,null,null,null,null,null,null,null,null,null,null,null,null,null,null,null,null,null,null,null,150,"PP","Yes","ECWFG","ECWFG80755J","-","31.5 x 17.5"]
[null,null,null,null,null,null,null,null,null,null,null,null,null,null,null,null,null,null,null,null,null,null,null,null,null,null,null,null,null,null,null,null,null,null,null,null,null,null,null,null,null,null,null,null,null,null,null,null,null,null,null,null,null,"ECWFJ","ECWFJ80755J","13nH","31.5 x 17.5"]
[null,null,null,null,null,null,null,null,null,null,null,null,null,null,null,null,null,null,null,null,null,null,null,null,null,null,null,null,null,null,null,null,null,null,null,null,null,null,null,null,null,7,"± 5",8.5,5.7,31.5,17.5,32.5,27.5,"-40 to 110",100,"PP","Yes","ECWFG","ECWFG80705JA","-","31.5 x 17.5"]
[null,null,null,null,null,null,null,null,null,null,null,null,null,null,null,null,null,null,null,null,null,null,null,null,null,null,null,null,null,null,null,null,null,null,null,null,null,null,null,null,null,null,null,null,null,null,null,null,null,null,null,null,null,"ECWFJ","ECWFJ80705JA","14nH","31.5 x 17.5"]
[null,null,null,null,null,null,null,null,null,null,null,null,null,null,null,null,null,null,null,null,null,null,null,null,null,null,null,null,null,null,null,null,null,null,null,null,null,null,null,null,null,null,null,null,null,null,null,null,null,null,150,"PP","Yes","ECWFG","ECWFG80705J","-","31.5 x 17.5"]
[null,null,null,null,null,null,null,null,null,null,null,null,null,null,null,null,null,null,null,null,null,null,null,null,null,null,null,null,null,null,null,null,null,null,null,null,null,null,null,null,null,null,null,null,null,null,null,null,null,null,null,null,null,"ECWFJ","ECWFJ80705J","14nH","31.5 x 17.5"]
[null,null,null,null,null,null,null,null,null,null,null,null,null,null,null,null,null,null,null,null,null,null,null,null,null,null,null,null,null,null,null,null,null,null,null,null,null,null,null,null,null,6.8,"± 5",8.3000000000000007,5.8,31.5,17.5,32.5,27.5,"-40 to 110",100,"PP","Yes","ECWFG","ECWFG80685JA","-","31.5 x 17.5"]
[null,null,null,null,null,null,null,null,null,null,null,null,null,null,null,null,null,null,null,null,null,null,null,null,null,null,null,null,null,null,null,null,null,null,null,null,null,null,null,null,null,null,null,null,null,null,null,null,null,null,null,null,null,"ECWFJ","ECWFJ80685JA","14nH","31.5 x 17.5"]
[null,null,null,null,null,null,null,null,null,null,null,null,null,null,null,null,null,null,null,null,null,null,null,null,null,null,null,null,null,null,null,null,null,null,null,null,null,null,null,null,null,null,null,null,null,null,null,null,null,null,150,"PP","Yes","ECWFG","ECWFG80685J","-","31.5 x 17.5"]
[null,null,null,null,null,null,null,null,null,null,null,null,null,null,null,null,null,null,null,null,null,null,null,null,null,null,null,null,null,null,null,null,null,null,null,null,null,null,null,null,null,null,null,null,null,null,null,null,null,null,null,null,null,"ECWFJ","ECWFJ80685J","14nH","31.5 x 17.5"]
[null,null,null,null,null,null,null,null,null,null,null,null,null,null,null,null,null,null,null,null,null,null,null,null,null,null,null,null,null,null,null,null,null,null,null,null,null,null,null,null,null,6,"± 5",7.8,6.5,31.5,16,29.5,27.5,"-40 to 110",100,"PP","Yes","ECWFG","ECWFG80605JA","-","31.5 x 16"]
[null,null,null,null,null,null,null,null,null,null,null,null,null,null,null,null,null,null,null,null,null,null,null,null,null,null,null,null,null,null,null,null,null,null,null,null,null,null,null,null,null,null,null,null,null,null,null,null,null,null,null,null,null,"ECWFJ","ECWFJ80605JA","15nH","31.5 x 16"]
[null,null,null,null,null,null,null,null,null,null,null,null,null,null,null,null,null,null,null,null,null,null,null,null,null,null,null,null,null,null,null,null,null,null,null,null,null,null,null,null,null,null,null,null,null,null,null,null,null,null,150,"PP","Yes","ECWFG","ECWFG80605J","-","31.5 x 16"]
[null,null,null,null,null,null,null,null,null,null,null,null,null,null,null,null,null,null,null,null,null,null,null,null,null,null,null,null,null,null,null,null,null,null,null,null,null,null,null,null,null,null,null,null,null,null,null,null,null,null,null,null,null,"ECWFJ","ECWFJ80605J","15nH","31.5 x 16"]
[null,null,null,null,null,null,null,null,null,null,null,null,null,null,null,null,null,null,null,null,null,null,null,null,null,null,null,null,null,null,null,null,null,null,null,null,null,null,null,null,null,5.6,"± 5",7.5,7,31.5,16,29.5,27.5,"-40 to 110",100,"PP","Yes","ECWFG","ECWFG80565JA","-","31.5 x 16"]
[null,null,null,null,null,null,null,null,null,null,null,null,null,null,null,null,null,null,null,null,null,null,null,null,null,null,null,null,null,null,null,null,null,null,null,null,null,null,null,null,null,null,null,null,null,null,null,null,null,null,null,null,null,"ECWFJ","ECWFJ80565JA","15nH","31.5 x 16"]
[null,null,null,null,null,null,null,null,null,null,null,null,null,null,null,null,null,null,null,null,null,null,null,null,null,null,null,null,null,null,null,null,null,null,null,null,null,null,null,null,null,null,null,null,null,null,null,null,null,null,150,"PP","Yes","ECWFG","ECWFG80565J","-","31.5 x 16"]
[null,null,null,null,null,null,null,null,null,null,null,null,null,null,null,null,null,null,null,null,null,null,null,null,null,null,null,null,null,null,null,null,null,null,null,null,null,null,null,null,null,null,null,null,null,null,null,null,null,null,null,null,null,"ECWFJ","ECWFJ80565J","15nH","31.5 x 16"]
[null,null,null,null,null,null,null,null,null,null,null,null,null,null,null,null,null,null,null,null,null,null,null,null,null,null,null,null,null,null,null,null,null,null,null,null,null,null,null,null,null,5,"± 5",7.1,7.7,31.5,16,29.5,27.5,"-40 to 110",100,"PP","Yes","ECWFG","ECWFG80505JA","-","31.5 x 16"]
[null,null,null,null,null,null,null,null,null,null,null,null,null,null,null,null,null,null,null,null,null,null,null,null,null,null,null,null,null,null,null,null,null,null,null,null,null,null,null,null,null,null,null,null,null,null,null,null,null,null,null,null,null,"ECWFJ","ECWFJ80505JA","18nH","31.5 x 16"]
[null,null,null,null,null,null,null,null,null,null,null,null,null,null,null,null,null,null,null,null,null,null,null,null,null,null,null,null,null,null,null,null,null,null,null,null,null,null,null,null,null,null,null,null,null,null,null,null,null,null,150,"PP","Yes","ECWFG","ECWFG80505J","-","31.5 x 16"]
[null,null,null,null,null,null,null,null,null,null,null,null,null,null,null,null,null,null,null,null,null,null,null,null,null,null,null,null,null,null,null,null,null,null,null,null,null,null,null,null,null,null,null,null,null,null,null,null,null,null,null,null,null,"ECWFJ","ECWFJ80505J","18nH","31.5 x 16"]
[null,null,null,null,null,null,null,null,null,null,null,null,null,null,null,null,null,null,null,null,null,null,null,null,null,null,null,null,null,null,null,null,null,null,null,null,null,null,null,null,null,4.7,"± 5",6.8,8.1999999999999993,31.5,13.5,28.5,27.5,"-40 to 110",150,"PP","Yes","ECWFG","ECWFG80475JA","-","31.5 x 13.5"]
[null,null,null,null,null,null,null,null,null,null,null,null,null,null,null,null,null,null,null,null,null,null,null,null,null,null,null,null,null,null,null,null,null,null,null,null,null,null,null,null,null,null,null,null,null,null,null,null,null,null,null,null,null,null,"ECWFG80475J","-","31.5 x 13.5"]
[null,null,null,null,null,null,null,null,null,null,null,null,null,null,null,null,null,null,null,null,null,null,null,null,null,null,null,null,null,null,null,null,null,null,null,null,null,null,null,null,null,null,null,null,null,null,null,null,null,null,null,null,null,"ECWFJ","ECWFJ80475J","14nH","31.5 x 13.5"]
[null,null,null,null,null,null,null,null,null,null,null,null,null,null,null,null,null,null,null,null,null,null,null,null,null,null,null,null,null,null,null,null,null,null,null,null,null,null,null,null,null,null,null,null,null,null,null,null,null,null,null,null,null,null,"ECWFJ80475JA","14nH","31.5 x 13.5"]
[null,null,null,null,null,null,null,null,null,null,null,null,null,null,null,null,null,null,null,null,null,null,null,null,null,null,null,null,null,null,null,null,null,null,null,null,null,null,null,null,null,4,"± 5",6.2,9.5,31.5,13.5,28.5,27.5,"-40 to 110",150,"PP","Yes","ECWFG","ECWFG80405J","-","31.5 x 13.5"]
[null,null,null,null,null,null,null,null,null,null,null,null,null,null,null,null,null,null,null,null,null,null,null,null,null,null,null,null,null,null,null,null,null,null,null,null,null,null,null,null,null,null,null,null,null,null,null,null,null,null,null,null,null,null,"ECWFG80405JA","-","31.5 x 13.5"]
[null,null,null,null,null,null,null,null,null,null,null,null,null,null,null,null,null,null,null,null,null,null,null,null,null,null,null,null,null,null,null,null,null,null,null,null,null,null,null,null,null,null,null,null,null,null,null,null,null,null,null,null,null,"ECWFJ","ECWFJ80405J","20nH","31.5 x 13.5"]
[null,null,null,null,null,null,null,null,null,null,null,null,null,null,null,null,null,null,null,null,null,null,null,null,null,null,null,null,null,null,null,null,null,null,null,null,null,null,null,null,null,null,null,null,null,null,null,null,null,null,null,null,null,null,"ECWFJ80405JA","20nH","31.5 x 13.5"]
[null,null,null,null,null,null,null,null,null,null,null,null,null,null,null,null,null,null,null,null,null,null,null,null,null,null,null,null,null,null,null,null,null,null,null,null,null,null,null,null,null,3.9,"± 5",6.2,9.6999999999999993,31.5,13.5,28.5,27.5,"-40 to 110",150,"PP","Yes","ECWFG","ECWFG80395JA","-","31.5 x 13.5"]
[null,null,null,null,null,null,null,null,null,null,null,null,null,null,null,null,null,null,null,null,null,null,null,null,null,null,null,null,null,null,null,null,null,null,null,null,null,null,null,null,null,null,null,null,null,null,null,null,null,null,null,null,null,null,"ECWFG80395J","-","31.5 x 13.5"]
[null,null,null,null,null,null,null,null,null,null,null,null,null,null,null,null,null,null,null,null,null,null,null,null,null,null,null,null,null,null,null,null,null,null,null,null,null,null,null,null,null,null,null,null,null,null,null,null,null,null,null,null,null,"ECWFJ","ECWFJ80395J","20nH","31.5 x 13.5"]
[null,null,null,null,null,null,null,null,null,null,null,null,null,null,null,null,null,null,null,null,null,null,null,null,null,null,null,null,null,null,null,null,null,null,null,null,null,null,null,null,null,null,null,null,null,null,null,null,null,null,null,null,null,null,"ECWFJ80395JA","20nH","31.5 x 13.5"]
[null,null,null,null,null,null,null,null,null,null,null,null,null,null,null,null,null,null,null,null,null,null,null,null,null,null,null,null,null,null,null,null,null,null,null,null,null,null,null,null,null,3.5,"± 5",5.8,10.7,31.5,13.5,28.5,27.5,"-40 to 110",150,"PP","Yes","ECWFG","ECWFG80355J","-","31.5 x 13.5"]
[null,null,null,null,null,null,null,null,null,null,null,null,null,null,null,null,null,null,null,null,null,null,null,null,null,null,null,null,null,null,null,null,null,null,null,null,null,null,null,null,null,null,null,null,null,null,null,null,null,null,null,null,null,null,"ECWFG80355JA","-","31.5 x 13.5"]
[null,null,null,null,null,null,null,null,null,null,null,null,null,null,null,null,null,null,null,null,null,null,null,null,null,null,null,null,null,null,null,null,null,null,null,null,null,null,null,null,null,null,null,null,null,null,null,null,null,null,null,null,null,"ECWFJ","ECWFJ80355J","21nH","31.5 x 13.5"]
[null,null,null,null,null,null,null,null,null,null,null,null,null,null,null,null,null,null,null,null,null,null,null,null,null,null,null,null,null,null,null,null,null,null,null,null,null,null,null,null,null,null,null,null,null,null,null,null,null,null,null,null,null,null,"ECWFJ80355JA","21nH","31.5 x 13.5"]
[null,null,null,null,null,null,null,null,null,null,null,null,null,null,null,null,null,null,null,null,null,null,null,null,null,null,null,null,null,null,null,null,null,null,null,null,null,null,null,null,null,3.3,"± 5",5.6,11.3,31.5,12,24.5,27.5,"-40 to 110",200,"PP","Yes","ECWFG","ECWFG80335J","-","31.5 x 12"]
[null,null,null,null,null,null,null,null,null,null,null,null,null,null,null,null,null,null,null,null,null,null,null,null,null,null,null,null,null,null,null,null,null,null,null,null,null,null,null,null,null,null,null,null,null,null,null,null,null,null,null,null,null,"ECWFJ","ECWFJ80335J","14nH","31.5 x 12"]
[null,null,null,null,null,null,null,null,null,null,null,null,null,null,null,null,null,null,null,null,null,null,null,null,null,null,null,null,null,null,null,null,null,null,null,null,null,null,null,null,null,null,null,null,null,null,null,null,null,null,250,"PP","Yes","ECWFG","ECWFG80335JA","-","31.5 x 12"]
[null,null,null,null,null,null,null,null,null,null,null,null,null,null,null,null,null,null,null,null,null,null,null,null,null,null,null,null,null,null,null,null,null,null,null,null,null,null,null,null,null,null,null,null,null,null,null,null,null,null,null,null,null,"ECWFJ","ECWFJ80335JA","14nH","31.5 x 12"]
[null,null,null,null,null,null,null,null,null,null,null,null,null,null,null,null,null,null,null,null,null,null,null,null,null,null,null,null,null,null,null,null,null,null,null,null,null,null,null,null,null,3,"± 5",5.3,12.4,31.5,12,24.5,27.5,"-40 to 110",200,"PP","Yes","ECWFG","ECWFG80305J","-","31.5 x 12"]
[null,null,null,null,null,null,null,null,null,null,null,null,null,null,null,null,null,null,null,null,null,null,null,null,null,null,null,null,null,null,null,null,null,null,null,null,null,null,null,null,null,null,null,null,null,null,null,null,null,null,null,null,null,"ECWFJ","ECWFJ80305J","15nH","31.5 x 12"]
[null,null,null,null,null,null,null,null,null,null,null,null,null,null,null,null,null,null,null,null,null,null,null,null,null,null,null,null,null,null,null,null,null,null,null,null,null,null,null,null,null,null,null,null,null,null,null,null,null,null,250,"PP","Yes","ECWFG","ECWFG80305JA","-","31.5 x 12"]
[null,null,null,null,null,null,null,null,null,null,null,null,null,null,null,null,null,null,null,null,null,null,null,null,null,null,null,null,null,null,null,null,null,null,null,null,null,null,null,null,null,null,null,null,null,null,null,null,null,null,null,null,null,"ECWFJ","ECWFJ80305JA","15nH","31.5 x 12"]
[null,null,null,null,null,null,null,null,null,null,null,null,null,null,null,null,null,null,null,null,null,null,null,null,null,null,null,null,null,null,null,null,null,null,null,null,null,null,null,null,null,2.7,"± 5",5,13.6,31.5,12,24.5,27.5,"-40 to 110",200,"PP","Yes","ECWFG","ECWFG80275J","-","31.5 x 12"]
[null,null,null,null,null,null,null,null,null,null,null,null,null,null,null,null,null,null,null,null,null,null,null,null,null,null,null,null,null,null,null,null,null,null,null,null,null,null,null,null,null,null,null,null,null,null,null,null,null,null,null,null,null,"ECWFJ","ECWFJ80275J","19nH","31.5 x 12"]
[null,null,null,null,null,null,null,null,null,null,null,null,null,null,null,null,null,null,null,null,null,null,null,null,null,null,null,null,null,null,null,null,null,null,null,null,null,null,null,null,null,null,null,null,null,null,null,null,null,null,250,"PP","Yes","ECWFG","ECWFG80275JA","-","31.5 x 12"]
[null,null,null,null,null,null,null,null,null,null,null,null,null,null,null,null,null,null,null,null,null,null,null,null,null,null,null,null,null,null,null,null,null,null,null,null,null,null,null,null,null,null,null,null,null,null,null,null,null,null,null,null,null,"ECWFJ","ECWFJ80275JA","19nH","31.5 x 12"]
[null,null,null,null,null,null,null,null,null,null,null,null,null,null,null,null,null,null,null,null,null,null,null,null,null,null,null,null,null,null,null,null,null,null,null,null,null,null,null,null,null,2.2000000000000002,"± 5",4.5,16.5,31.5,10.5,21,27.5,"-40 to 110",300,"PP","Yes","ECWFG","ECWFG80225J","-","31.5 x 10.5"]
[null,null,null,null,null,null,null,null,null,null,null,null,null,null,null,null,null,null,null,null,null,null,null,null,null,null,null,null,null,null,null,null,null,null,null,null,null,null,null,null,null,null,null,null,null,null,null,null,null,null,null,null,null,null,"ECWFG80225JA","-","31.5 x 10.5"]
[null,null,null,null,null,null,null,null,null,null,null,null,null,null,null,null,null,null,null,null,null,null,null,null,null,null,null,null,null,null,null,null,null,null,null,null,null,null,null,null,null,null,null,null,null,null,null,null,null,null,null,null,null,"ECWFJ","ECWFJ80225J","16nH","31.5 x 10.5"]
[null,null,null,null,null,null,null,null,null,null,null,null,null,null,null,null,null,null,null,null,null,null,null,null,null,null,null,null,null,null,null,null,null,null,null,null,null,null,null,null,null,null,null,null,null,null,null,null,null,null,null,null,null,null,"ECWFJ80225JA","16nH","31.5 x 10.5"]
[null,null,null,null,null,null,null,null,null,null,null,null,null,null,null,null,null,null,null,null,null,null,null,null,null,null,null,null,null,null,null,null,null,null,null,null,null,null,null,null,null,2,"± 5",4.2,18,31.5,10.5,21,27.5,"-40 to 110",300,"PP","Yes","ECWFG","ECWFG80205J","-","31.5 x 10.5"]
[null,null,null,null,null,null,null,null,null,null,null,null,null,null,null,null,null,null,null,null,null,null,null,null,null,null,null,null,null,null,null,null,null,null,null,null,null,null,null,null,null,null,null,null,null,null,null,null,null,null,null,null,null,null,"ECWFG80205JA","-","31.5 x 10.5"]
[null,null,null,null,null,null,null,null,null,null,null,null,null,null,null,null,null,null,null,null,null,null,null,null,null,null,null,null,null,null,null,null,null,null,null,null,null,null,null,null,null,null,null,null,null,null,null,null,null,null,null,null,null,"ECWFJ","ECWFJ80205J","16nH","31.5 x 10.5"]
[null,null,null,null,null,null,null,null,null,null,null,null,null,null,null,null,null,null,null,null,null,null,null,null,null,null,null,null,null,null,null,null,null,null,null,null,null,null,null,null,null,null,null,null,null,null,null,null,null,null,null,null,null,null,"ECWFJ80205JA","16nH","31.5 x 10.5"]
[null,null,null,null,null,null,null,null,null,null,null,null,null,null,null,null,null,null,null,null,null,null,null,null,null,null,null,null,null,null,null,null,null,null,null,null,null,null,null,700,"DC",65,"±10",29.3,6.2,57.5,35,64.5,52.5,"-40 to 105 (85)",50,"PP","Yes","EZPV","EZPV70656MTS","-","57.5 x 35"]
[null,null,null,null,null,null,null,null,null,null,null,null,null,null,null,null,null,null,null,null,null,null,null,null,null,null,null,null,null,null,null,null,null,null,null,null,null,null,null,null,null,null,null,null,null,null,null,null,null,null,null,null,"No","EZPV","EZPV70656MTC","-","57.5 x 35"]
[null,null,null,null,null,null,null,null,null,null,null,null,null,null,null,null,null,null,null,null,null,null,null,null,null,null,null,null,null,null,null,null,null,null,null,null,null,null,null,null,null,60,"±10",27.8,6.2,57.5,35,56,52.5,"-40 to 105 (85)",50,"PP","Yes","EZPV","EZPV70606MTS","-","57.5 x 35"]
[null,null,null,null,null,null,null,null,null,null,null,null,null,null,null,null,null,null,null,null,null,null,null,null,null,null,null,null,null,null,null,null,null,null,null,null,null,null,null,null,null,null,null,null,null,null,null,null,null,null,null,null,"No","EZPV","EZPV70606MTC","-","57.5 x 35"]
[null,null,null,null,null,null,null,null,null,null,null,null,null,null,null,null,null,null,null,null,null,null,null,null,null,null,null,null,null,null,null,null,null,null,null,null,null,null,null,null,null,55,"±10",26.2,6.3,57.5,35,50,52.5,"-40 to 105 (85)",50,"PP","Yes","EZPV","EZPV70556MTS","-","57.5 x 35"]
[null,null,null,null,null,null,null,null,null,null,null,null,null,null,null,null,null,null,null,null,null,null,null,null,null,null,null,null,null,null,null,null,null,null,null,null,null,null,null,null,null,null,null,null,null,null,null,null,null,null,null,null,"No","EZPV","EZPV70556MTC","-","57.5 x 35"]
[null,null,null,null,null,null,null,null,null,null,null,null,null,null,null,null,null,null,null,null,null,null,null,null,null,null,null,null,null,null,null,null,null,null,null,null,null,null,null,null,null,50,"±10",24.5,6.8,57.5,30,51,52.5,"-40 to 105 (85)",50,"PP","Yes","EZPV","EZPV70506MTS","-","57.5 x 30"]
[null,null,null,null,null,null,null,null,null,null,null,null,null,null,null,null,null,null,null,null,null,null,null,null,null,null,null,null,null,null,null,null,null,null,null,null,null,null,null,null,null,null,null,null,null,null,null,null,null,null,null,null,"No","EZPV","EZPV70506MTC","-","57.5 x 30"]
[null,null,null,null,null,null,null,null,null,null,null,null,null,null,null,null,null,null,null,null,null,null,null,null,null,null,null,null,null,null,null,null,null,null,null,null,null,null,null,null,null,null,null,28.2,4.8,41,43,58,37.5,"-40 to 105 (85)",100,"PP","Yes","EZPV","EZPV70506MTT","-","41 x 43"]
[null,null,null,null,null,null,null,null,null,null,null,null,null,null,null,null,null,null,null,null,null,null,null,null,null,null,null,null,null,null,null,null,null,null,null,null,null,null,null,null,null,null,null,null,null,null,null,null,null,null,null,null,"No","EZPV","EZPV70506MTB","-","41 x 43"]
[null,null,null,null,null,null,null,null,null,null,null,null,null,null,null,null,null,null,null,null,null,null,null,null,null,null,null,null,null,null,null,null,null,null,null,null,null,null,null,null,null,45,"±10",22.8,7.9,57.5,30,51,52.5,"-40 to 105 (85)",50,"PP","Yes","EZPV","EZPV70456MTS","-","57.5 x 30"]
[null,null,null,null,null,null,null,null,null,null,null,null,null,null,null,null,null,null,null,null,null,null,null,null,null,null,null,null,null,null,null,null,null,null,null,null,null,null,null,null,null,null,null,null,null,null,null,null,null,null,null,null,"No","EZPV","EZPV70456MTC","-","57.5 x 30"]
[null,null,null,null,null,null,null,null,null,null,null,null,null,null,null,null,null,null,null,null,null,null,null,null,null,null,null,null,null,null,null,null,null,null,null,null,null,null,null,null,null,null,null,26.4,4.5,42,38,57,37.5,"-40 to 105 (85)",100,"PP","Yes","EZPV","EZPV70456MTT","-","42 x 38"]
[null,null,null,null,null,null,null,null,null,null,null,null,null,null,null,null,null,null,null,null,null,null,null,null,null,null,null,null,null,null,null,null,null,null,null,null,null,null,null,null,null,null,null,null,null,null,null,null,null,null,null,null,"No","EZPV","EZPV70456MTB","-","42 x 38"]
[null,null,null,null,null,null,null,null,null,null,null,null,null,null,null,null,null,null,null,null,null,null,null,null,null,null,null,null,null,null,null,null,null,null,null,null,null,null,null,null,null,40,"±10",20.9,9.1,57.5,30,51,52.5,"-40 to 105 (85)",50,"PP","Yes","EZPV","EZPV70406MTS","-","57.5 x 30"]
[null,null,null,null,null,null,null,null,null,null,null,null,null,null,null,null,null,null,null,null,null,null,null,null,null,null,null,null,null,null,null,null,null,null,null,null,null,null,null,null,null,null,null,null,null,null,null,null,null,null,null,null,"No","EZPV","EZPV70406MTC","-","57.5 x 30"]
[null,null,null,null,null,null,null,null,null,null,null,null,null,null,null,null,null,null,null,null,null,null,null,null,null,null,null,null,null,null,null,null,null,null,null,null,null,null,null,null,null,null,null,24.6,5.0999999999999996,42,38,52.5,37.5,"-40 to 105 (85)",100,"PP","Yes","EZPV","EZPV70406MTT","-","42 x 38"]
[null,null,null,null,null,null,null,null,null,null,null,null,null,null,null,null,null,null,null,null,null,null,null,null,null,null,null,null,null,null,null,null,null,null,null,null,null,null,null,null,null,null,null,null,null,null,null,null,null,null,null,null,"No","EZPV","EZPV70406MTB","-","42 x 38"]
[null,null,null,null,null,null,null,null,null,null,null,null,null,null,null,null,null,null,null,null,null,null,null,null,null,null,null,null,null,null,null,null,null,null,null,null,null,null,null,null,null,35,"±10",18.899999999999999,10.199999999999999,57.5,30,51,52.5,"-40 to 105 (85)",50,"PP","Yes","EZPV","EZPV70356MTS","-","57.5 x 30"]
[null,null,null,null,null,null,null,null,null,null,null,null,null,null,null,null,null,null,null,null,null,null,null,null,null,null,null,null,null,null,null,null,null,null,null,null,null,null,null,null,null,null,null,null,null,null,null,null,null,null,null,null,"No","EZPV","EZPV70356MTC","-","57.5 x 30"]
[null,null,null,null,null,null,null,null,null,null,null,null,null,null,null,null,null,null,null,null,null,null,null,null,null,null,null,null,null,null,null,null,null,null,null,null,null,null,null,null,null,null,null,22.7,5.5,41.5,30,56,37.5,"-40 to 105 (85)",100,"PP","Yes","EZPV","EZPV70356MTT","-","41.5 x 30"]
[null,null,null,null,null,null,null,null,null,null,null,null,null,null,null,null,null,null,null,null,null,null,null,null,null,null,null,null,null,null,null,null,null,null,null,null,null,null,null,null,null,null,null,null,null,null,null,null,null,null,null,null,"No","EZPV","EZPV70356MTB","-","41.5 x 30"]
[null,null,null,null,null,null,null,null,null,null,null,null,null,null,null,null,null,null,null,null,null,null,null,null,null,null,null,null,null,null,null,null,null,null,null,null,null,null,null,null,null,30,"±10",16.8,11.6,57.5,30,51,52.5,"-40 to 105 (85)",50,"PP","Yes","EZPV","EZPV70306MTS","-","57.5 x 30"]
[null,null,null,null,null,null,null,null,null,null,null,null,null,null,null,null,null,null,null,null,null,null,null,null,null,null,null,null,null,null,null,null,null,null,null,null,null,null,null,null,null,null,null,null,null,null,null,null,null,null,null,null,"No","EZPV","EZPV70306MTC","-","57.5 x 30"]
[null,null,null,null,null,null,null,null,null,null,null,null,null,null,null,null,null,null,null,null,null,null,null,null,null,null,null,null,null,null,null,null,null,null,null,null,null,null,null,null,null,null,null,20.6,7.1,41,30,50.5,37.5,"-40 to 105 (85)",100,"PP","Yes","EZPV","EZPV70306MTT","-","41 x 30"]
[null,null,null,null,null,null,null,null,null,null,null,null,null,null,null,null,null,null,null,null,null,null,null,null,null,null,null,null,null,null,null,null,null,null,null,null,null,null,null,null,null,null,null,null,null,null,null,null,null,null,null,null,"No","EZPV","EZPV70306MTB","-","41 x 30"]
[null,null,null,null,null,null,null,null,null,null,null,null,null,null,null,null,null,null,null,null,null,null,null,null,null,null,null,null,null,null,null,null,null,null,null,null,null,null,null,null,null,25,"±10",14.4,11.6,57,25,40,52.5,"-40 to 105 (85)",150,"PP","Yes","EZPV","EZPV70256MTS","-","57 x 25"]
[null,null,null,null,null,null,null,null,null,null,null,null,null,null,null,null,null,null,null,null,null,null,null,null,null,null,null,null,null,null,null,null,null,null,null,null,null,null,null,null,null,null,null,null,null,null,null,null,null,null,null,null,"No","EZPV","EZPV70256MTC","-","57 x 25"]
[null,null,null,null,null,null,null,null,null,null,null,null,null,null,null,null,null,null,null,null,null,null,null,null,null,null,null,null,null,null,null,null,null,null,null,null,null,null,null,null,null,null,null,18.3,8.6999999999999993,41,30,50.5,37.5,"-40 to 105 (85)",100,"PP","Yes","EZPV","EZPV70256MTT","-","41 x 30"]
[null,null,null,null,null,null,null,null,null,null,null,null,null,null,null,null,null,null,null,null,null,null,null,null,null,null,null,null,null,null,null,null,null,null,null,null,null,null,null,null,null,null,null,null,null,null,null,null,null,null,null,null,"No","EZPV","EZPV70256MTB","-","41 x 30"]
[null,null,null,null,null,null,null,null,null,null,null,null,null,null,null,null,null,null,null,null,null,null,null,null,null,null,null,null,null,null,null,null,null,null,null,null,null,null,null,null,null,20,"±10",15.8,8.6999999999999993,41,26,40.5,37.5,"-40 to 105 (85)",150,"PP","Yes","EZPV","EZPV70206MTT","-","41 x 26"]
[null,null,null,null,null,null,null,null,null,null,null,null,null,null,null,null,null,null,null,null,null,null,null,null,null,null,null,null,null,null,null,null,null,null,null,null,null,null,null,null,null,null,null,null,null,null,null,null,null,null,null,null,"No","EZPV","EZPV70206MTB","-","41 x 26"]
[null,null,null,null,null,null,null,null,null,null,null,null,null,null,null,null,null,null,null,null,null,null,null,null,null,null,null,null,null,null,null,null,null,null,null,null,null,null,null,null,null,18,"±10",17.3,7.8,31,22,53.5,27.5,"-40 to 105 (85)",150,"PP","Yes","EZPV","EZPV70186MTU","-","31 x 22"]
[null,null,null,null,null,null,null,null,null,null,null,null,null,null,null,null,null,null,null,null,null,null,null,null,null,null,null,null,null,null,null,null,null,null,null,null,null,null,null,null,null,null,null,null,null,null,null,null,null,null,null,null,null,null,"EZPV70186LTU","-","31 x 22"]
[null,null,null,null,null,null,null,null,null,null,null,null,null,null,null,null,null,null,null,null,null,null,null,null,null,null,null,null,null,null,null,null,null,null,null,null,null,null,null,null,null,null,null,null,null,null,null,null,null,null,null,null,"No","EZPV","EZPV70186MTA","-","31 x 22"]
[null,null,null,null,null,null,null,null,null,null,null,null,null,null,null,null,null,null,null,null,null,null,null,null,null,null,null,null,null,null,null,null,null,null,null,null,null,null,null,null,null,null,null,null,null,null,null,null,null,null,null,null,null,null,"EZPV70186LTA","-","31 x 22"]
[null,null,null,null,null,null,null,null,null,null,null,null,null,null,null,null,null,null,null,null,null,null,null,null,null,null,null,null,null,null,null,null,null,null,null,null,null,null,null,null,null,15,"±10",13,10.199999999999999,41,22,36,37.5,"-40 to 105 (85)",150,"PP","Yes","EZPV","EZPV70156MTT","-","41 x 22"]
[null,null,null,null,null,null,null,null,null,null,null,null,null,null,null,null,null,null,null,null,null,null,null,null,null,null,null,null,null,null,null,null,null,null,null,null,null,null,null,null,null,null,null,null,null,null,null,null,null,null,null,null,"No","EZPV","EZPV70156MTB","-","41 x 22"]
[null,null,null,null,null,null,null,null,null,null,null,null,null,null,null,null,null,null,null,null,null,null,null,null,null,null,null,null,null,null,null,null,null,null,null,null,null,null,null,null,null,14,"±10",15.3,8.6999999999999993,31,26,41,27.5,"-40 to 105 (85)",150,"PP","Yes","EZPV","EZPV70146MTU","-","31 x 26"]
[null,null,null,null,null,null,null,null,null,null,null,null,null,null,null,null,null,null,null,null,null,null,null,null,null,null,null,null,null,null,null,null,null,null,null,null,null,null,null,null,null,null,null,null,null,null,null,null,null,null,null,null,null,null,"EZPV70146LTU","-","31 x 26"]
[null,null,null,null,null,null,null,null,null,null,null,null,null,null,null,null,null,null,null,null,null,null,null,null,null,null,null,null,null,null,null,null,null,null,null,null,null,null,null,null,null,null,null,null,null,null,null,null,null,null,null,null,"No","EZPV","EZPV70146MTA","-","31 x 26"]
[null,null,null,null,null,null,null,null,null,null,null,null,null,null,null,null,null,null,null,null,null,null,null,null,null,null,null,null,null,null,null,null,null,null,null,null,null,null,null,null,null,null,null,null,null,null,null,null,null,null,null,null,null,null,"EZPV70146LTA","-","31 x 26"]
[null,null,null,null,null,null,null,null,null,null,null,null,null,null,null,null,null,null,null,null,null,null,null,null,null,null,null,null,null,null,null,null,null,null,null,null,null,null,null,null,null,13,"±10",14.7,9.1999999999999993,31,26,41,27.5,"-40 to 105 (85)",150,"PP","Yes","EZPV","EZPV70136MTU","-","31 x 26"]
[null,null,null,null,null,null,null,null,null,null,null,null,null,null,null,null,null,null,null,null,null,null,null,null,null,null,null,null,null,null,null,null,null,null,null,null,null,null,null,null,null,null,null,null,null,null,null,null,null,null,null,null,null,null,"EZPV70136LTU","-","31 x 26"]
[null,null,null,null,null,null,null,null,null,null,null,null,null,null,null,null,null,null,null,null,null,null,null,null,null,null,null,null,null,null,null,null,null,null,null,null,null,null,null,null,null,null,null,null,null,null,null,null,null,null,null,null,"No","EZPV","EZPV70136MTA","-","31 x 26"]
[null,null,null,null,null,null,null,null,null,null,null,null,null,null,null,null,null,null,null,null,null,null,null,null,null,null,null,null,null,null,null,null,null,null,null,null,null,null,null,null,null,null,null,null,null,null,null,null,null,null,null,null,null,null,"EZPV70136LTA","-","31 x 26"]
[null,null,null,null,null,null,null,null,null,null,null,null,null,null,null,null,null,null,null,null,null,null,null,null,null,null,null,null,null,null,null,null,null,null,null,null,null,null,null,null,null,12,"±10",10.7,12.5,41,22,36,37.5,"-40 to 105 (85)",150,"PP","Yes","EZPV","EZPV70126LTT","-","41 x 22"]
[null,null,null,null,null,null,null,null,null,null,null,null,null,null,null,null,null,null,null,null,null,null,null,null,null,null,null,null,null,null,null,null,null,null,null,null,null,null,null,null,null,null,null,null,null,null,null,null,null,null,null,null,"No","EZPV","EZPV70126LTB","-","41 x 22"]
[null,null,null,null,null,null,null,null,null,null,null,null,null,null,null,null,null,null,null,null,null,null,null,null,null,null,null,null,null,null,null,null,null,null,null,null,null,null,null,null,null,null,null,14.2,9.9,31,20.5,41.5,27.5,"-40 to 105 (85)",200,"PP","Yes","EZPV","EZPV70126MTU","-","31 x 20.5"]
[null,null,null,null,null,null,null,null,null,null,null,null,null,null,null,null,null,null,null,null,null,null,null,null,null,null,null,null,null,null,null,null,null,null,null,null,null,null,null,null,null,null,null,null,null,null,null,null,null,null,null,null,null,null,"EZPV70126LTU","-","31 x 20.5"]
[null,null,null,null,null,null,null,null,null,null,null,null,null,null,null,null,null,null,null,null,null,null,null,null,null,null,null,null,null,null,null,null,null,null,null,null,null,null,null,null,null,null,null,null,null,null,null,null,null,null,null,null,"No","EZPV","EZPV70126MTA","-","31 x 20.5"]
[null,null,null,null,null,null,null,null,null,null,null,null,null,null,null,null,null,null,null,null,null,null,null,null,null,null,null,null,null,null,null,null,null,null,null,null,null,null,null,null,null,null,null,null,null,null,null,null,null,null,null,null,null,null,"EZPV70126LTA","-","31 x 20.5"]
[null,null,null,null,null,null,null,null,null,null,null,null,null,null,null,null,null,null,null,null,null,null,null,null,null,null,null,null,null,null,null,null,null,null,null,null,null,null,null,null,null,11,"±10",13.6,10.6,31,20.5,41.5,27.5,"-40 to 105 (85)",200,"PP","Yes","EZPV","EZPV70116MTU","-","31 x 20.5"]
[null,null,null,null,null,null,null,null,null,null,null,null,null,null,null,null,null,null,null,null,null,null,null,null,null,null,null,null,null,null,null,null,null,null,null,null,null,null,null,null,null,null,null,null,null,null,null,null,null,null,null,null,null,null,"EZPV70116LTU","-","31 x 20.5"]
[null,null,null,null,null,null,null,null,null,null,null,null,null,null,null,null,null,null,null,null,null,null,null,null,null,null,null,null,null,null,null,null,null,null,null,null,null,null,null,null,null,null,null,null,null,null,null,null,null,null,null,null,"No","EZPV","EZPV70116MTA","-","31 x 20.5"]
[null,null,null,null,null,null,null,null,null,null,null,null,null,null,null,null,null,null,null,null,null,null,null,null,null,null,null,null,null,null,null,null,null,null,null,null,null,null,null,null,null,null,null,null,null,null,null,null,null,null,null,null,null,null,"EZPV70116LTA","-","31 x 20.5"]
[null,null,null,null,null,null,null,null,null,null,null,null,null,null,null,null,null,null,null,null,null,null,null,null,null,null,null,null,null,null,null,null,null,null,null,null,null,null,null,null,null,10,"±10",9.5,13.9,41,17,34.5,37.5,"-40 to 105 (85)",300,"PP","Yes","EZPV","EZPV70106LTT","-","41 x 17"]
[null,null,null,null,null,null,null,null,null,null,null,null,null,null,null,null,null,null,null,null,null,null,null,null,null,null,null,null,null,null,null,null,null,null,null,null,null,null,null,null,null,null,null,null,null,null,null,null,null,null,null,null,"No","EZPV","EZPV70106LTB","-","41 x 17"]
[null,null,null,null,null,null,null,null,null,null,null,null,null,null,null,null,null,null,null,null,null,null,null,null,null,null,null,null,null,null,null,null,null,null,null,null,null,null,null,null,null,null,null,12.9,11.5,31,20.5,41.5,27.5,"-40 to 105 (85)",200,"PP","Yes","EZPV","EZPV70106MTU","-","31 x 20.5"]
[null,null,null,null,null,null,null,null,null,null,null,null,null,null,null,null,null,null,null,null,null,null,null,null,null,null,null,null,null,null,null,null,null,null,null,null,null,null,null,null,null,null,null,null,null,null,null,null,null,null,null,null,null,null,"EZPV70106LTU","-","31 x 20.5"]
[null,null,null,null,null,null,null,null,null,null,null,null,null,null,null,null,null,null,null,null,null,null,null,null,null,null,null,null,null,null,null,null,null,null,null,null,null,null,null,null,null,null,null,null,null,null,null,null,null,null,null,null,"No","EZPV","EZPV70106MTA","-","31 x 20.5"]
[null,null,null,null,null,null,null,null,null,null,null,null,null,null,null,null,null,null,null,null,null,null,null,null,null,null,null,null,null,null,null,null,null,null,null,null,null,null,null,null,null,null,null,null,null,null,null,null,null,null,null,null,null,null,"EZPV70106LTA","-","31 x 20.5"]
[null,null,null,null,null,null,null,null,null,null,null,null,null,null,null,null,null,null,null,null,null,null,null,null,null,null,null,null,null,null,null,null,null,null,null,null,null,null,null,null,null,9,"±10",8.9,15.6,41,17,34.5,37.5,"-40 to 105 (85)",300,"PP","Yes","EZPV","EZPV70905LTT","-","41 x 17"]
[null,null,null,null,null,null,null,null,null,null,null,null,null,null,null,null,null,null,null,null,null,null,null,null,null,null,null,null,null,null,null,null,null,null,null,null,null,null,null,null,null,null,null,null,null,null,null,null,null,null,null,null,"No","EZPV","EZPV70905LTB","-","41 x 17"]
[null,null,null,null,null,null,null,null,null,null,null,null,null,null,null,null,null,null,null,null,null,null,null,null,null,null,null,null,null,null,null,null,null,null,null,null,null,null,null,null,null,null,null,12.3,12.6,31,20.5,41.5,27.5,"-40 to 105 (85)",200,"PP","Yes","EZPV","EZPV70905MTU","-","31 x 20.5"]
[null,null,null,null,null,null,null,null,null,null,null,null,null,null,null,null,null,null,null,null,null,null,null,null,null,null,null,null,null,null,null,null,null,null,null,null,null,null,null,null,null,null,null,null,null,null,null,null,null,null,null,null,null,null,"EZPV70905LTU","-","31 x 20.5"]
[null,null,null,null,null,null,null,null,null,null,null,null,null,null,null,null,null,null,null,null,null,null,null,null,null,null,null,null,null,null,null,null,null,null,null,null,null,null,null,null,null,null,null,null,null,null,null,null,null,null,null,null,"No","EZPV","EZPV70905MTA","-","31 x 20.5"]
[null,null,null,null,null,null,null,null,null,null,null,null,null,null,null,null,null,null,null,null,null,null,null,null,null,null,null,null,null,null,null,null,null,null,null,null,null,null,null,null,null,null,null,null,null,null,null,null,null,null,null,null,null,null,"EZPV70905LTA","-","31 x 20.5"]
[null,null,null,null,null,null,null,null,null,null,null,null,null,null,null,null,null,null,null,null,null,null,null,null,null,null,null,null,null,null,null,null,null,null,null,null,null,null,null,null,null,8,"±10",8.1999999999999993,17.100000000000001,41,17,34.5,37.5,"-40 to 105 (85)",300,"PP","Yes","EZPV","EZPV70805LTT","-","41 x 17"]
[null,null,null,null,null,null,null,null,null,null,null,null,null,null,null,null,null,null,null,null,null,null,null,null,null,null,null,null,null,null,null,null,null,null,null,null,null,null,null,null,null,null,null,null,null,null,null,null,null,null,null,null,"No","EZPV","EZPV70805LTB","-","41 x 17"]
[null,null,null,null,null,null,null,null,null,null,null,null,null,null,null,null,null,null,null,null,null,null,null,null,null,null,null,null,null,null,null,null,null,null,null,null,null,null,null,null,null,4.7,"±10",10.1,4.4000000000000004,31.5,17.5,32.5,27.5,"-40 to 110",100,"PP","Yes","ECWFG","ECWFG70475K","-","31.5 x 17.5"]
[null,null,null,null,null,null,null,null,null,null,null,null,null,null,null,null,null,null,null,null,null,null,null,null,null,null,null,null,null,null,null,null,null,null,null,null,null,null,null,null,null,null,null,null,null,null,null,null,null,null,null,null,null,null,"ECWFG70475KA","-","31.5 x 17.5"]
[null,null,null,null,null,null,null,null,null,null,null,null,null,null,null,null,null,null,null,null,null,null,null,null,null,null,null,null,null,null,null,null,null,null,null,null,null,null,null,null,null,null,null,null,null,"31.5","17.5","32.5","27.5","-40 to 110","100","PP","Yes","ECWFJ","ECWFJ70475K","13nH","31.5 x 17.5"]
[null,null,null,null,null,null,null,null,null,null,null,null,null,null,null,null,null,null,null,null,null,null,null,null,null,null,null,null,null,null,null,null,null,null,null,null,null,null,null,null,null,null,null,null,null,null,null,null,null,null,null,null,null,null,"ECWFJ70475KA","13nH","31.5 x 17.5"]
[null,null,null,null,null,null,null,null,null,null,null,null,null,null,null,null,null,null,null,null,null,null,null,null,null,null,null,null,null,null,null,null,null,null,null,null,null,null,null,null,null,null,"± 5",10.1,4.4000000000000004,31.5,17.5,32.5,27.5,"-40 to 110",100,"PP","Yes","ECWFG","ECWFG70475J","-","31.5 x 17.5"]
[null,null,null,null,null,null,null,null,null,null,null,null,null,null,null,null,null,null,null,null,null,null,null,null,null,null,null,null,null,null,null,null,null,null,null,null,null,null,null,null,null,null,null,null,null,null,null,null,null,null,null,null,null,null,"ECWFG70475JA","-","31.5 x 17.5"]
[null,null,null,null,null,null,null,null,null,null,null,null,null,null,null,null,null,null,null,null,null,null,null,null,null,null,null,null,null,null,null,null,null,null,null,null,null,null,null,null,null,null,null,null,null,"31.5","17.5","32.5","27.5","-40 to 110","100","PP","Yes","ECWFJ","ECWFJ70475J","13nH","31.5 x 17.5"]
[null,null,null,null,null,null,null,null,null,null,null,null,null,null,null,null,null,null,null,null,null,null,null,null,null,null,null,null,null,null,null,null,null,null,null,null,null,null,null,null,null,null,null,null,null,null,null,null,null,null,null,null,null,null,"ECWFJ70475JA","13nH","31.5 x 17.5"]
[null,null,null,null,null,null,null,null,null,null,null,null,null,null,null,null,null,null,null,null,null,null,null,null,null,null,null,null,null,null,null,null,null,null,null,null,null,null,null,null,null,4,"±10",9.1999999999999993,6,"31.5","16","29.5","27.5","-40 to 110","100","PP","Yes","ECWFJ","ECWFJ70405K","16nH","31.5 x 16"]
[null,null,null,null,null,null,null,null,null,null,null,null,null,null,null,null,null,null,null,null,null,null,null,null,null,null,null,null,null,null,null,null,null,null,null,null,null,null,null,null,null,null,null,null,null,null,null,null,null,null,null,null,null,null,"ECWFJ70405KA","16nH","31.5 x 16"]
[null,null,null,null,null,null,null,null,null,null,null,null,null,null,null,null,null,null,null,null,null,null,null,null,null,null,null,null,null,null,null,null,null,null,null,null,null,null,null,null,null,null,"± 5",9.1999999999999993,6,"31.5","16","29.5","27.5","-40 to 110","100","PP","Yes","ECWFJ","ECWFJ70405J","16nH","31.5 x 16"]
[null,null,null,null,null,null,null,null,null,null,null,null,null,null,null,null,null,null,null,null,null,null,null,null,null,null,null,null,null,null,null,null,null,null,null,null,null,null,null,null,null,null,null,null,null,null,null,null,null,null,null,null,null,null,"ECWFJ70405JA","16nH","31.5 x 16"]
[null,null,null,null,null,null,null,null,null,null,null,null,null,null,null,null,null,null,null,null,null,null,null,null,null,null,null,null,null,null,null,null,null,null,null,null,null,null,null,null,null,3.9,"±10",9.1,6.3,31.5,17.5,32.5,27.5,"-40 to 110",100,"PP","Yes","ECWFG","ECWFG70395K","-","31.5 x 17.5"]
[null,null,null,null,null,null,null,null,null,null,null,null,null,null,null,null,null,null,null,null,null,null,null,null,null,null,null,null,null,null,null,null,null,null,null,null,null,null,null,null,null,null,null,null,null,null,null,null,null,null,null,null,null,null,"ECWFG70395KA","-","31.5 x 17.5"]
[null,null,null,null,null,null,null,null,null,null,null,null,null,null,null,null,null,null,null,null,null,null,null,null,null,null,null,null,null,null,null,null,null,null,null,null,null,null,null,null,null,null,null,null,null,"31.5","16","29.5","27.5","-40 to 110","100","PP","Yes","ECWFJ","ECWFJ70395K","16nH","31.5 x 16"]
[null,null,null,null,null,null,null,null,null,null,null,null,null,null,null,null,null,null,null,null,null,null,null,null,null,null,null,null,null,null,null,null,null,null,null,null,null,null,null,null,null,null,null,null,null,null,null,null,null,null,null,null,null,null,"ECWFJ70395KA","16nH","31.5 x 16"]
[null,null,null,null,null,null,null,null,null,null,null,null,null,null,null,null,null,null,null,null,null,null,null,null,null,null,null,null,null,null,null,null,null,null,null,null,null,null,null,null,null,null,"± 5",9.1,6.3,31.5,17.5,32.5,27.5,"-40 to 110",100,"PP","Yes","ECWFG","ECWFG70395J","-","31.5 x 17.5"]
[null,null,null,null,null,null,null,null,null,null,null,null,null,null,null,null,null,null,null,null,null,null,null,null,null,null,null,null,null,null,null,null,null,null,null,null,null,null,null,null,null,null,null,null,null,null,null,null,null,null,null,null,null,null,"ECWFG70395JA","-","31.5 x 17.5"]
[null,null,null,null,null,null,null,null,null,null,null,null,null,null,null,null,null,null,null,null,null,null,null,null,null,null,null,null,null,null,null,null,null,null,null,null,null,null,null,null,null,null,null,null,null,"31.5","16","29.5","27.5","-40 to 110","100","PP","Yes","ECWFJ","ECWFJ70395J","16nH","31.5 x 16"]
[null,null,null,null,null,null,null,null,null,null,null,null,null,null,null,null,null,null,null,null,null,null,null,null,null,null,null,null,null,null,null,null,null,null,null,null,null,null,null,null,null,null,null,null,null,null,null,null,null,null,null,null,null,null,"ECWFJ70395JA","16nH","31.5 x 16"]
[null,null,null,null,null,null,null,null,null,null,null,null,null,null,null,null,null,null,null,null,null,null,null,null,null,null,null,null,null,null,null,null,null,null,null,null,null,null,null,null,null,3,"±10",7.8,6.9,31.5,13.5,28.5,27.5,"-40 to 110",150,"PP","Yes","ECWFG","ECWFG70305K","-","31.5 x 13.5"]
[null,null,null,null,null,null,null,null,null,null,null,null,null,null,null,null,null,null,null,null,null,null,null,null,null,null,null,null,null,null,null,null,null,null,null,null,null,null,null,null,null,null,null,null,null,null,null,null,null,null,null,null,null,null,"ECWFG70305KA","-","31.5 x 13.5"]
[null,null,null,null,null,null,null,null,null,null,null,null,null,null,null,null,null,null,null,null,null,null,null,null,null,null,null,null,null,null,null,null,null,null,null,null,null,null,null,null,null,null,null,null,null,"31.5","13.5","28.5","27.5","-40 to 110","150","PP","Yes","ECWFJ","ECWFJ70305K","13nH","31.5 x 13.5"]
[null,null,null,null,null,null,null,null,null,null,null,null,null,null,null,null,null,null,null,null,null,null,null,null,null,null,null,null,null,null,null,null,null,null,null,null,null,null,null,null,null,null,null,null,null,null,null,null,null,null,null,null,null,null,"ECWFJ70305KA","13nH","31.5 x 13.5"]
[null,null,null,null,null,null,null,null,null,null,null,null,null,null,null,null,null,null,null,null,null,null,null,null,null,null,null,null,null,null,null,null,null,null,null,null,null,null,null,null,null,null,"± 5",7.8,6.9,31.5,13.5,28.5,27.5,"-40 to 110",150,"PP","Yes","ECWFG","ECWFG70305J","-","31.5 x 13.5"]
[null,null,null,null,null,null,null,null,null,null,null,null,null,null,null,null,null,null,null,null,null,null,null,null,null,null,null,null,null,null,null,null,null,null,null,null,null,null,null,null,null,null,null,null,null,null,null,null,null,null,null,null,null,null,"ECWFG70305JA","-","31.5 x 13.5"]
[null,null,null,null,null,null,null,null,null,null,null,null,null,null,null,null,null,null,null,null,null,null,null,null,null,null,null,null,null,null,null,null,null,null,null,null,null,null,null,null,null,null,null,null,null,"31.5","13.5","28.5","27.5","-40 to 110","150","PP","Yes","ECWFJ","ECWFJ70305J","13nH","31.5 x 13.5"]
[null,null,null,null,null,null,null,null,null,null,null,null,null,null,null,null,null,null,null,null,null,null,null,null,null,null,null,null,null,null,null,null,null,null,null,null,null,null,null,null,null,null,null,null,null,null,null,null,null,null,null,null,null,null,"ECWFJ70305JA","13nH","31.5 x 13.5"]
[null,null,null,null,null,null,null,null,null,null,null,null,null,null,null,null,null,null,null,null,null,null,null,null,null,null,null,null,null,null,null,null,null,null,null,null,null,null,null,null,null,2.2000000000000002,"±10",6.5,9.5,31.5,12,24.5,27.5,"-40 to 110",200,"PP","Yes","ECWFG","ECWFG70225K","-","31.5 x 12"]
[null,null,null,null,null,null,null,null,null,null,null,null,null,null,null,null,null,null,null,null,null,null,null,null,null,null,null,null,null,null,null,null,null,null,null,null,null,null,null,null,null,null,null,null,null,null,null,null,null,null,250,"PP","Yes","ECWFG","ECWFG70225KA","-","31.5 x 12"]
[null,null,null,null,null,null,null,null,null,null,null,null,null,null,null,null,null,null,null,null,null,null,null,null,null,null,null,null,null,null,null,null,null,null,null,null,null,null,null,null,null,null,null,null,null,"31.5","12","24.5","27.5","-40 to 110","200","PP","Yes","ECWFJ","ECWFJ70225K","13nH","31.5 x 12"]
[null,null,null,null,null,null,null,null,null,null,null,null,null,null,null,null,null,null,null,null,null,null,null,null,null,null,null,null,null,null,null,null,null,null,null,null,null,null,null,null,null,null,null,null,null,null,null,null,null,null,"250","PP","Yes","ECWFJ","ECWFJ70225KA","13nH","31.5 x 12"]
[null,null,null,null,null,null,null,null,null,null,null,null,null,null,null,null,null,null,null,null,null,null,null,null,null,null,null,null,null,null,null,null,null,null,null,null,null,null,null,null,null,null,"± 5",6.5,9.5,31.5,12,24.5,27.5,"-40 to 110",200,"PP","Yes","ECWFG","ECWFG70225J","-","31.5 x 12"]
[null,null,null,null,null,null,null,null,null,null,null,null,null,null,null,null,null,null,null,null,null,null,null,null,null,null,null,null,null,null,null,null,null,null,null,null,null,null,null,null,null,null,null,null,null,null,null,null,null,null,250,"PP","Yes","ECWFG","ECWFG70225JA","-","31.5 x 12"]
[null,null,null,null,null,null,null,null,null,null,null,null,null,null,null,null,null,null,null,null,null,null,null,null,null,null,null,null,null,null,null,null,null,null,null,null,null,null,null,null,null,null,null,null,null,"31.5","12","24.5","27.5","-40 to 110","200","PP","Yes","ECWFJ","ECWFJ70225J","13nH","31.5 x 12"]
[null,null,null,null,null,null,null,null,null,null,null,null,null,null,null,null,null,null,null,null,null,null,null,null,null,null,null,null,null,null,null,null,null,null,null,null,null,null,null,null,null,null,null,null,null,null,null,null,null,null,"250","PP","Yes","ECWFJ","ECWFJ70225JA","13nH","31.5 x 12"]
[null,null,null,null,null,null,null,null,null,null,null,null,null,null,null,null,null,null,null,null,null,null,null,null,null,null,null,null,null,null,null,null,null,null,null,null,null,null,null,null,null,2,"±10",6.2,10.4,31.5,12,24.5,27.5,"-40 to 110",200,"PP","Yes","ECWFG","ECWFG70205K","-","31.5 x 12"]
[null,null,null,null,null,null,null,null,null,null,null,null,null,null,null,null,null,null,null,null,null,null,null,null,null,null,null,null,null,null,null,null,null,null,null,null,null,null,null,null,null,null,null,null,null,null,null,null,null,null,250,"PP","Yes","ECWFG","ECWFG70205KA","-","31.5 x 12"]
[null,null,null,null,null,null,null,null,null,null,null,null,null,null,null,null,null,null,null,null,null,null,null,null,null,null,null,null,null,null,null,null,null,null,null,null,null,null,null,null,null,null,null,null,null,"31.5","12","24.5","27.5","-40 to 110","200","PP","Yes","ECWFJ","ECWFJ70205K","14nH","31.5 x 12"]
[null,null,null,null,null,null,null,null,null,null,null,null,null,null,null,null,null,null,null,null,null,null,null,null,null,null,null,null,null,null,null,null,null,null,null,null,null,null,null,null,null,null,null,null,null,null,null,null,null,null,"250","PP","Yes","ECWFJ","ECWFJ70205KA","14nH","31.5 x 12"]
[null,null,null,null,null,null,null,null,null,null,null,null,null,null,null,null,null,null,null,null,null,null,null,null,null,null,null,null,null,null,null,null,null,null,null,null,null,null,null,null,null,null,"± 5",6.2,10.4,31.5,12,24.5,27.5,"-40 to 110",200,"PP","Yes","ECWFG","ECWFG70205J","-","31.5 x 12"]
[null,null,null,null,null,null,null,null,null,null,null,null,null,null,null,null,null,null,null,null,null,null,null,null,null,null,null,null,null,null,null,null,null,null,null,null,null,null,null,null,null,null,null,null,null,null,null,null,null,null,250,"PP","Yes","ECWFG","ECWFG70205JA","-","31.5 x 12"]
[null,null,null,null,null,null,null,null,null,null,null,null,null,null,null,null,null,null,null,null,null,null,null,null,null,null,null,null,null,null,null,null,null,null,null,null,null,null,null,null,null,null,null,null,null,"31.5","12","24.5","27.5","-40 to 110","200","PP","Yes","ECWFJ","ECWFJ70205J","14nH","31.5 x 12"]
[null,null,null,null,null,null,null,null,null,null,null,null,null,null,null,null,null,null,null,null,null,null,null,null,null,null,null,null,null,null,null,null,null,null,null,null,null,null,null,null,null,null,null,null,null,null,null,null,null,null,"250","PP","Yes","ECWFJ","ECWFJ70205JA","14nH","31.5 x 12"]
[null,null,null,null,null,null,null,null,null,null,null,null,null,null,null,null,null,null,null,null,null,null,null,null,null,null,null,null,null,null,null,null,null,null,null,null,null,null,null,null,null,1.5,"±10",5.2,13.9,31.5,10.5,21,27.5,"-40 to 110",300,"PP","Yes","ECWFG","ECWFG70155K","-","31.5 x 10.5"]
[null,null,null,null,null,null,null,null,null,null,null,null,null,null,null,null,null,null,null,null,null,null,null,null,null,null,null,null,null,null,null,null,null,null,null,null,null,null,null,null,null,null,null,null,null,null,null,null,null,null,null,null,null,null,"ECWFG70155KA","-","31.5 x 10.5"]
[null,null,null,null,null,null,null,null,null,null,null,null,null,null,null,null,null,null,null,null,null,null,null,null,null,null,null,null,null,null,null,null,null,null,null,null,null,null,null,null,null,null,null,null,null,"31.5","10.5","21","27.5","-40 to 110","300","PP","Yes","ECWFJ","ECWFJ70155K","12nH","31.5 x 10.5"]
[null,null,null,null,null,null,null,null,null,null,null,null,null,null,null,null,null,null,null,null,null,null,null,null,null,null,null,null,null,null,null,null,null,null,null,null,null,null,null,null,null,null,null,null,null,null,null,null,null,null,null,null,null,null,"ECWFJ70155KA","12nH","31.5 x 10.5"]
[null,null,null,null,null,null,null,null,null,null,null,null,null,null,null,null,null,null,null,null,null,null,null,null,null,null,null,null,null,null,null,null,null,null,null,null,null,null,null,null,null,null,"± 5",5.2,13.9,31.5,10.5,21,27.5,"-40 to 110",300,"PP","Yes","ECWFG","ECWFG70155J","-","31.5 x 10.5"]
[null,null,null,null,null,null,null,null,null,null,null,null,null,null,null,null,null,null,null,null,null,null,null,null,null,null,null,null,null,null,null,null,null,null,null,null,null,null,null,null,null,null,null,null,null,null,null,null,null,null,null,null,null,null,"ECWFG70155JA","-","31.5 x 10.5"]
[null,null,null,null,null,null,null,null,null,null,null,null,null,null,null,null,null,null,null,null,null,null,null,null,null,null,null,null,null,null,null,null,null,null,null,null,null,null,null,null,null,null,null,null,null,"31.5","10.5","21","27.5","-40 to 110","300","PP","Yes","ECWFJ","ECWFJ70155J","12nH","31.5 x 10.5"]
[null,null,null,null,null,null,null,null,null,null,null,null,null,null,null,null,null,null,null,null,null,null,null,null,null,null,null,null,null,null,null,null,null,null,null,null,null,null,null,null,null,null,null,null,null,null,null,null,null,null,null,null,null,null,"ECWFJ70155JA","12nH","31.5 x 10.5"]
[null,null,null,null,null,null,null,null,null,null,null,null,null,null,null,null,null,null,null,null,null,null,null,null,null,null,null,null,null,null,null,null,null,null,null,null,null,null,null,null,null,1,"±10",4,20.8,31.5,9.5,18,27.5,"-40 to 110",350,"PP","Yes","ECWFG","ECWFG70105KA","-","31.5 x 9.5"]
[null,null,null,null,null,null,null,null,null,null,null,null,null,null,null,null,null,null,null,null,null,null,null,null,null,null,null,null,null,null,null,null,null,null,null,null,null,null,null,null,null,null,null,null,null,null,null,null,null,null,400,"PP","Yes","ECWFG","ECWFG70105K","-","31.5 x 9.5"]
[null,null,null,null,null,null,null,null,null,null,null,null,null,null,null,null,null,null,null,null,null,null,null,null,null,null,null,null,null,null,null,null,null,null,null,null,null,null,null,null,null,null,null,null,null,"31.5","9.5","18","27.5","-40 to 110","400","PP","Yes","ECWFJ","ECWFJ70105K","13nH","31.5 x 9.5"]
[null,null,null,null,null,null,null,null,null,null,null,null,null,null,null,null,null,null,null,null,null,null,null,null,null,null,null,null,null,null,null,null,null,null,null,null,null,null,null,null,null,null,null,null,null,null,null,null,null,null,"350","PP","Yes","ECWFJ","ECWFJ70105KA","13nH","31.5 x 9.5"]
[null,null,null,null,null,null,null,null,null,null,null,null,null,null,null,null,null,null,null,null,null,null,null,null,null,null,null,null,null,null,null,null,null,null,null,null,null,null,null,null,null,null,"± 5",4,20.8,31.5,9.5,18,27.5,"-40 to 110",350,"PP","Yes","ECWFG","ECWFG70105JA","-","31.5 x 9.5"]
[null,null,null,null,null,null,null,null,null,null,null,null,null,null,null,null,null,null,null,null,null,null,null,null,null,null,null,null,null,null,null,null,null,null,null,null,null,null,null,null,null,null,null,null,null,null,null,null,null,null,400,"PP","Yes","ECWFG","ECWFG70105J","-","31.5 x 9.5"]
[null,null,null,null,null,null,null,null,null,null,null,null,null,null,null,null,null,null,null,null,null,null,null,null,null,null,null,null,null,null,null,null,null,null,null,null,null,null,null,null,null,null,null,null,null,"31.5","9.5","18","27.5","-40 to 110","400","PP","Yes","ECWFJ","ECWFJ70105J","13nH","31.5 x 9.5"]
[null,null,null,null,null,null,null,null,null,null,null,null,null,null,null,null,null,null,null,null,null,null,null,null,null,null,null,null,null,null,null,null,null,null,null,null,null,null,null,null,null,null,null,null,null,null,null,null,null,null,"350","PP","Yes","ECWFJ","ECWFJ70105JA","13nH","31.5 x 9.5"]
[null,null,null,null,null,null,null,null,null,null,null,null,null,null,null,null,null,null,null,null,null,null,null,null,null,null,null,null,null,null,null,null,null,null,null,null,null,null,null,630,"DC",10,"±15",3,22,41.5,24.5,19.5,37.5,"-25 to 70",200,"PP","No","EZPE [Low profile]","EZPE63106LTB","-","41.5 x 24.5"]
[null,null,null,null,null,null,null,null,null,null,null,null,null,null,null,null,null,null,null,null,null,null,null,null,null,null,null,null,null,null,null,null,null,null,null,null,null,null,null,null,null,4.7,"±10",10.1,4.4000000000000004,31.5,17.5,32.5,27.5,"-40 to 110",100,"PP","Yes","ECWFG","ECWFG2J475K","-","31.5 x 17.5"]
[null,null,null,null,null,null,null,null,null,null,null,null,null,null,null,null,null,null,null,null,null,null,null,null,null,null,null,null,null,null,null,null,null,null,null,null,null,null,null,null,null,null,null,null,null,null,null,null,null,null,null,null,null,null,"ECWFG2J475KA","-","31.5 x 17.5"]
[null,null,null,null,null,null,null,null,null,null,null,null,null,null,null,null,null,null,null,null,null,null,null,null,null,null,null,null,null,null,null,null,null,null,null,null,null,null,null,null,null,null,null,null,null,"31.5","17.5","32.5","27.5","-40 to 110","100","PP","Yes","ECWFJ","ECWFJ2J475K","14nH","31.5 x 17.5"]
[null,null,null,null,null,null,null,null,null,null,null,null,null,null,null,null,null,null,null,null,null,null,null,null,null,null,null,null,null,null,null,null,null,null,null,null,null,null,null,null,null,null,null,null,null,null,null,null,null,null,null,null,null,null,"ECWFJ2J475KA","14nH","31.5 x 17.5"]
[null,null,null,null,null,null,null,null,null,null,null,null,null,null,null,null,null,null,null,null,null,null,null,null,null,null,null,null,null,null,null,null,null,null,null,null,null,null,null,null,null,null,"± 5",10.1,4.4000000000000004,31.5,17.5,32.5,27.5,"-40 to 110",100,"PP","Yes","ECWFG","ECWFG2J475J","-","31.5 x 17.5"]
[null,null,null,null,null,null,null,null,null,null,null,null,null,null,null,null,null,null,null,null,null,null,null,null,null,null,null,null,null,null,null,null,null,null,null,null,null,null,null,null,null,null,null,null,null,null,null,null,null,null,null,null,null,null,"ECWFG2J475JA","-","31.5 x 17.5"]
[null,null,null,null,null,null,null,null,null,null,null,null,null,null,null,null,null,null,null,null,null,null,null,null,null,null,null,null,null,null,null,null,null,null,null,null,null,null,null,null,null,null,null,null,null,"31.5","17.5","32.5","27.5","-40 to 110","100","PP","Yes","ECWFJ","ECWFJ2J475J","14nH","31.5 x 17.5"]
[null,null,null,null,null,null,null,null,null,null,null,null,null,null,null,null,null,null,null,null,null,null,null,null,null,null,null,null,null,null,null,null,null,null,null,null,null,null,null,null,null,null,null,null,null,null,null,null,null,null,null,null,null,null,"ECWFJ2J475JA","14nH","31.5 x 17.5"]
[null,null,null,null,null,null,null,null,null,null,null,null,null,null,null,null,null,null,null,null,null,null,null,null,null,null,null,null,null,null,null,null,null,null,null,null,null,null,null,null,null,4,"±10",9.1999999999999993,6,"31.5","16","29.5","27.5","-40 to 110","100","PP","Yes","ECWFJ","ECWFJ2J405K","16nH","31.5 x 16"]
[null,null,null,null,null,null,null,null,null,null,null,null,null,null,null,null,null,null,null,null,null,null,null,null,null,null,null,null,null,null,null,null,null,null,null,null,null,null,null,null,null,null,null,null,null,null,null,null,null,null,null,null,null,null,"ECWFJ2J405KA","16nH","31.5 x 16"]
[null,null,null,null,null,null,null,null,null,null,null,null,null,null,null,null,null,null,null,null,null,null,null,null,null,null,null,null,null,null,null,null,null,null,null,null,null,null,null,null,null,null,"± 5",9.1999999999999993,6,"31.5","16","29.5","27.5","-40 to 110","100","PP","Yes","ECWFJ","ECWFJ2J405J","16nH","31.5 x 16"]
[null,null,null,null,null,null,null,null,null,null,null,null,null,null,null,null,null,null,null,null,null,null,null,null,null,null,null,null,null,null,null,null,null,null,null,null,null,null,null,null,null,null,null,null,null,null,null,null,null,null,null,null,null,null,"ECWFJ2J405JA","16nH","31.5 x 16"]
[null,null,null,null,null,null,null,null,null,null,null,null,null,null,null,null,null,null,null,null,null,null,null,null,null,null,null,null,null,null,null,null,null,null,null,null,null,null,null,null,null,3.3,"±10",10.4,2,"27","17.5","26.5","22.5","-40 to 110","150","PP","Yes","ECWFJ","ECWFJ2J335Q1","15nH","27 x 17.5"]
[null,null,null,null,null,null,null,null,null,null,null,null,null,null,null,null,null,null,null,null,null,null,null,null,null,null,null,null,null,null,null,null,null,null,null,null,null,null,null,null,null,null,null,null,null,null,null,null,null,null,null,null,null,null,"ECWFJ2J335QA","15nH","27 x 17.5"]
[null,null,null,null,null,null,null,null,null,null,null,null,null,null,null,null,null,null,null,null,null,null,null,null,null,null,null,null,null,null,null,null,null,null,null,null,null,null,null,null,null,null,"± 5",10.4,2,"27","17.5","26.5","22.5","-40 to 110","150","PP","Yes","ECWFJ","ECWFJ2J335P1","15nH","27 x 17.5"]
[null,null,null,null,null,null,null,null,null,null,null,null,null,null,null,null,null,null,null,null,null,null,null,null,null,null,null,null,null,null,null,null,null,null,null,null,null,null,null,null,null,null,null,null,null,null,null,null,null,null,null,null,null,null,"ECWFJ2J335PA","15nH","27 x 17.5"]
[null,null,null,null,null,null,null,null,null,null,null,null,null,null,null,null,null,null,null,null,null,null,null,null,null,null,null,null,null,null,null,null,null,null,null,null,null,null,null,null,null,3,"±10",9.8000000000000007,4.7,27,17.5,26.5,22.5,"-40 to 110",150,"PP","Yes","ECWFG","ECWFG2J305Q1","-","27 x 17.5"]
[null,null,null,null,null,null,null,null,null,null,null,null,null,null,null,null,null,null,null,null,null,null,null,null,null,null,null,null,null,null,null,null,null,null,null,null,null,null,null,null,null,null,null,null,null,null,null,null,null,null,null,null,null,null,"ECWFG2J305QA","-","27 x 17.5"]
[null,null,null,null,null,null,null,null,null,null,null,null,null,null,null,null,null,null,null,null,null,null,null,null,null,null,null,null,null,null,null,null,null,null,null,null,null,null,null,null,null,null,null,null,null,31.5,13.5,28.5,27.5,"-40 to 110",150,"PP","Yes","ECWFG","ECWFG2J305K","-","31.5 x 13.5"]
[null,null,null,null,null,null,null,null,null,null,null,null,null,null,null,null,null,null,null,null,null,null,null,null,null,null,null,null,null,null,null,null,null,null,null,null,null,null,null,null,null,null,null,null,null,null,null,null,null,null,null,null,null,null,"ECWFG2J305KA","-","31.5 x 13.5"]
[null,null,null,null,null,null,null,null,null,null,null,null,null,null,null,null,null,null,null,null,null,null,null,null,null,null,null,null,null,null,null,null,null,null,null,null,null,null,null,null,null,null,null,null,null,"31.5","13.5","28.5","27.5","-40 to 110","150","PP","Yes","ECWFJ","ECWFJ2J305K","12nH","31.5 x 13.5"]
[null,null,null,null,null,null,null,null,null,null,null,null,null,null,null,null,null,null,null,null,null,null,null,null,null,null,null,null,null,null,null,null,null,null,null,null,null,null,null,null,null,null,null,null,null,null,null,null,null,null,null,null,null,null,"ECWFJ2J305KA","12nH","31.5 x 13.5"]
[null,null,null,null,null,null,null,null,null,null,null,null,null,null,null,null,null,null,null,null,null,null,null,null,null,null,null,null,null,null,null,null,null,null,null,null,null,null,null,null,null,null,null,null,null,"27","17.5","26.5","22.5","-40 to 110","150","PP","Yes","ECWFJ","ECWFJ2J305Q1","12nH","27 x 17.5"]
[null,null,null,null,null,null,null,null,null,null,null,null,null,null,null,null,null,null,null,null,null,null,null,null,null,null,null,null,null,null,null,null,null,null,null,null,null,null,null,null,null,null,null,null,null,null,null,null,null,null,null,null,null,null,"ECWFJ2J305QA","12nH","27 x 17.5"]
[null,null,null,null,null,null,null,null,null,null,null,null,null,null,null,null,null,null,null,null,null,null,null,null,null,null,null,null,null,null,null,null,null,null,null,null,null,null,null,null,null,null,"± 5",9.8000000000000007,4.7,27,17.5,26.5,22.5,"-40 to 110",150,"PP","Yes","ECWFG","ECWFG2J305P1","-","27 x 17.5"]
[null,null,null,null,null,null,null,null,null,null,null,null,null,null,null,null,null,null,null,null,null,null,null,null,null,null,null,null,null,null,null,null,null,null,null,null,null,null,null,null,null,null,null,null,null,null,null,null,null,null,null,null,null,null,"ECWFG2J305PA","-","27 x 17.5"]
[null,null,null,null,null,null,null,null,null,null,null,null,null,null,null,null,null,null,null,null,null,null,null,null,null,null,null,null,null,null,null,null,null,null,null,null,null,null,null,null,null,null,null,null,null,31.5,13.5,28.5,27.5,"-40 to 110",150,"PP","Yes","ECWFG","ECWFG2J305J","-","31.5 x 13.5"]
[null,null,null,null,null,null,null,null,null,null,null,null,null,null,null,null,null,null,null,null,null,null,null,null,null,null,null,null,null,null,null,null,null,null,null,null,null,null,null,null,null,null,null,null,null,null,null,null,null,null,null,null,null,null,"ECWFG2J305JA","-","31.5 x 13.5"]
[null,null,null,null,null,null,null,null,null,null,null,null,null,null,null,null,null,null,null,null,null,null,null,null,null,null,null,null,null,null,null,null,null,null,null,null,null,null,null,null,null,null,null,null,null,"31.5","13.5","28.5","27.5","-40 to 110","150","PP","Yes","ECWFJ","ECWFJ2J305J","12nH","31.5 x 13.5"]
[null,null,null,null,null,null,null,null,null,null,null,null,null,null,null,null,null,null,null,null,null,null,null,null,null,null,null,null,null,null,null,null,null,null,null,null,null,null,null,null,null,null,null,null,null,null,null,null,null,null,null,null,null,null,"ECWFJ2J305JA","12nH","31.5 x 13.5"]
[null,null,null,null,null,null,null,null,null,null,null,null,null,null,null,null,null,null,null,null,null,null,null,null,null,null,null,null,null,null,null,null,null,null,null,null,null,null,null,null,null,null,null,null,null,"27","17.5","26.5","22.5","-40 to 110","150","PP","Yes","ECWFJ","ECWFJ2J305P1","12nH","27 x 17.5"]
[null,null,null,null,null,null,null,null,null,null,null,null,null,null,null,null,null,null,null,null,null,null,null,null,null,null,null,null,null,null,null,null,null,null,null,null,null,null,null,null,null,null,null,null,null,null,null,null,null,null,null,null,null,null,"ECWFJ2J305PA","12nH","27 x 17.5"]
[null,null,null,null,null,null,null,null,null,null,null,null,null,null,null,null,null,null,null,null,null,null,null,null,null,null,null,null,null,null,null,null,null,null,null,null,null,null,null,null,null,2.2000000000000002,"±10",8.1,6.2,27,15.5,24,22.5,"-40 to 110",200,"PP","Yes","ECWFG","ECWFG2J225Q1","-","27 x 15.5"]
[null,null,null,null,null,null,null,null,null,null,null,null,null,null,null,null,null,null,null,null,null,null,null,null,null,null,null,null,null,null,null,null,null,null,null,null,null,null,null,null,null,null,null,null,null,null,null,null,null,null,250,"PP","Yes","ECWFG","ECWFG2J225QA","-","27 x 15.5"]
[null,null,null,null,null,null,null,null,null,null,null,null,null,null,null,null,null,null,null,null,null,null,null,null,null,null,null,null,null,null,null,null,null,null,null,null,null,null,null,null,null,null,null,null,null,31.5,12,24.5,27.5,"-40 to 110",200,"PP","Yes","ECWFG","ECWFG2J225K","-","31.5 x 12"]
[null,null,null,null,null,null,null,null,null,null,null,null,null,null,null,null,null,null,null,null,null,null,null,null,null,null,null,null,null,null,null,null,null,null,null,null,null,null,null,null,null,null,null,null,null,null,null,null,null,null,250,"PP","Yes","ECWFG","ECWFG2J225KA","-","31.5 x 12"]
[null,null,null,null,null,null,null,null,null,null,null,null,null,null,null,null,null,null,null,null,null,null,null,null,null,null,null,null,null,null,null,null,null,null,null,null,null,null,null,null,null,null,null,null,null,"31.5","12","24.5","27.5","-40 to 110","200","PP","Yes","ECWFJ","ECWFJ2J225K","12nH","31.5 x 12"]
[null,null,null,null,null,null,null,null,null,null,null,null,null,null,null,null,null,null,null,null,null,null,null,null,null,null,null,null,null,null,null,null,null,null,null,null,null,null,null,null,null,null,null,null,null,null,null,null,null,null,"250","PP","Yes","ECWFJ","ECWFJ2J225KA","12nH","31.5 x 12"]
[null,null,null,null,null,null,null,null,null,null,null,null,null,null,null,null,null,null,null,null,null,null,null,null,null,null,null,null,null,null,null,null,null,null,null,null,null,null,null,null,null,null,null,null,null,"27","15.5","24","22.5","-40 to 110","200","PP","Yes","ECWFJ","ECWFJ2J225Q1","12nH","27 x 15.5"]
[null,null,null,null,null,null,null,null,null,null,null,null,null,null,null,null,null,null,null,null,null,null,null,null,null,null,null,null,null,null,null,null,null,null,null,null,null,null,null,null,null,null,null,null,null,null,null,null,null,null,"250","PP","Yes","ECWFJ","ECWFJ2J225QA","12nH","27 x 15.5"]
[null,null,null,null,null,null,null,null,null,null,null,null,null,null,null,null,null,null,null,null,null,null,null,null,null,null,null,null,null,null,null,null,null,null,null,null,null,null,null,null,null,null,null,"-","-",26,16,23,22.5,"-40 to 105 (85)",200,"PP","No","ECWFE","ECWFE2J225K","-","26 x 16"]
[null,null,null,null,null,null,null,null,null,null,null,null,null,null,null,null,null,null,null,null,null,null,null,null,null,null,null,null,null,null,null,null,null,null,null,null,null,null,null,null,null,null,null,null,null,null,null,null,null,null,null,null,null,null,"ECWFE2J225KA","-","26 x 16"]
[null,null,null,null,null,null,null,null,null,null,null,null,null,null,null,null,null,null,null,null,null,null,null,null,null,null,null,null,null,null,null,null,null,null,null,null,null,null,null,null,null,null,null,null,null,31,13,23,27.5,"-40 to 105 (85)",200,"PP","No","ECWFE","ECWFE2J225Q5","-","31 x 13"]
[null,null,null,null,null,null,null,null,null,null,null,null,null,null,null,null,null,null,null,null,null,null,null,null,null,null,null,null,null,null,null,null,null,null,null,null,null,null,null,null,null,null,null,null,null,null,null,null,null,null,null,null,null,null,"ECWFE2J225QD","-","31 x 13"]
[null,null,null,null,null,null,null,null,null,null,null,null,null,null,null,null,null,null,null,null,null,null,null,null,null,null,null,null,null,null,null,null,null,null,null,null,null,null,null,null,null,null,"± 5",8.1,6.2,27,15.5,24,22.5,"-40 to 110",200,"PP","Yes","ECWFG","ECWFG2J225P1","-","27 x 15.5"]
[null,null,null,null,null,null,null,null,null,null,null,null,null,null,null,null,null,null,null,null,null,null,null,null,null,null,null,null,null,null,null,null,null,null,null,null,null,null,null,null,null,null,null,null,null,null,null,null,null,null,250,"PP","Yes","ECWFG","ECWFG2J225PA","-","27 x 15.5"]
[null,null,null,null,null,null,null,null,null,null,null,null,null,null,null,null,null,null,null,null,null,null,null,null,null,null,null,null,null,null,null,null,null,null,null,null,null,null,null,null,null,null,null,null,null,31.5,12,24.5,27.5,"-40 to 110",200,"PP","Yes","ECWFG","ECWFG2J225J","-","31.5 x 12"]
[null,null,null,null,null,null,null,null,null,null,null,null,null,null,null,null,null,null,null,null,null,null,null,null,null,null,null,null,null,null,null,null,null,null,null,null,null,null,null,null,null,null,null,null,null,null,null,null,null,null,250,"PP","Yes","ECWFG","ECWFG2J225JA","-","31.5 x 12"]
[null,null,null,null,null,null,null,null,null,null,null,null,null,null,null,null,null,null,null,null,null,null,null,null,null,null,null,null,null,null,null,null,null,null,null,null,null,null,null,null,null,null,null,null,null,"31.5","12","24.5","27.5","-40 to 110","200","PP","Yes","ECWFJ","ECWFJ2J225J","12nH","31.5 x 12"]
[null,null,null,null,null,null,null,null,null,null,null,null,null,null,null,null,null,null,null,null,null,null,null,null,null,null,null,null,null,null,null,null,null,null,null,null,null,null,null,null,null,null,null,null,null,null,null,null,null,null,"250","PP","Yes","ECWFJ","ECWFJ2J225JA","12nH","31.5 x 12"]
[null,null,null,null,null,null,null,null,null,null,null,null,null,null,null,null,null,null,null,null,null,null,null,null,null,null,null,null,null,null,null,null,null,null,null,null,null,null,null,null,null,null,null,null,null,"27","15.5","24","22.5","-40 to 110","200","PP","Yes","ECWFJ","ECWFJ2J225P1","12nH","27 x 15.5"]
[null,null,null,null,null,null,null,null,null,null,null,null,null,null,null,null,null,null,null,null,null,null,null,null,null,null,null,null,null,null,null,null,null,null,null,null,null,null,null,null,null,null,null,null,null,null,null,null,null,null,"250","PP","Yes","ECWFJ","ECWFJ2J225PA","12nH","27 x 15.5"]
[null,null,null,null,null,null,null,null,null,null,null,null,null,null,null,null,null,null,null,null,null,null,null,null,null,null,null,null,null,null,null,null,null,null,null,null,null,null,null,null,null,null,null,"-","-",26,16,23,22.5,"-40 to 105 (85)",200,"PP","No","ECWFE","ECWFE2J225J","-","26 x 16"]
[null,null,null,null,null,null,null,null,null,null,null,null,null,null,null,null,null,null,null,null,null,null,null,null,null,null,null,null,null,null,null,null,null,null,null,null,null,null,null,null,null,null,null,null,null,null,null,null,null,null,null,null,null,null,"ECWFE2J225JA","-","26 x 16"]
[null,null,null,null,null,null,null,null,null,null,null,null,null,null,null,null,null,null,null,null,null,null,null,null,null,null,null,null,null,null,null,null,null,null,null,null,null,null,null,null,null,null,null,null,null,31,13,23,27.5,"-40 to 105 (85)",200,"PP","No","ECWFE","ECWFE2J225P5","-","31 x 13"]
[null,null,null,null,null,null,null,null,null,null,null,null,null,null,null,null,null,null,null,null,null,null,null,null,null,null,null,null,null,null,null,null,null,null,null,null,null,null,null,null,null,null,null,null,null,null,null,null,null,null,null,null,null,null,"ECWFE2J225PD","-","31 x 13"]
[null,null,null,null,null,null,null,null,null,null,null,null,null,null,null,null,null,null,null,null,null,null,null,null,null,null,null,null,null,null,null,null,null,null,null,null,null,null,null,null,null,1.5,"±10",6.3,8.9,27,12,21,22.5,"-40 to 110",300,"PP","Yes","ECWFG","ECWFG2J155Q1","-","27 x 12"]
[null,null,null,null,null,null,null,null,null,null,null,null,null,null,null,null,null,null,null,null,null,null,null,null,null,null,null,null,null,null,null,null,null,null,null,null,null,null,null,null,null,null,null,null,null,null,null,null,null,null,null,null,null,null,"ECWFG2J155QA","-","27 x 12"]
[null,null,null,null,null,null,null,null,null,null,null,null,null,null,null,null,null,null,null,null,null,null,null,null,null,null,null,null,null,null,null,null,null,null,null,null,null,null,null,null,null,null,null,null,null,31.5,10.5,21,27.5,"-40 to 110",300,"PP","Yes","ECWFG","ECWFG2J155K","-","31.5 x 10.5"]
[null,null,null,null,null,null,null,null,null,null,null,null,null,null,null,null,null,null,null,null,null,null,null,null,null,null,null,null,null,null,null,null,null,null,null,null,null,null,null,null,null,null,null,null,null,null,null,null,null,null,null,null,null,null,"ECWFG2J155KA","-","31.5 x 10.5"]
[null,null,null,null,null,null,null,null,null,null,null,null,null,null,null,null,null,null,null,null,null,null,null,null,null,null,null,null,null,null,null,null,null,null,null,null,null,null,null,null,null,null,null,null,null,"31.5","10.5","21","27.5","-40 to 110","300","PP","Yes","ECWFJ","ECWFJ2J155K","11nH","31.5 x 10.5"]
[null,null,null,null,null,null,null,null,null,null,null,null,null,null,null,null,null,null,null,null,null,null,null,null,null,null,null,null,null,null,null,null,null,null,null,null,null,null,null,null,null,null,null,null,null,null,null,null,null,null,null,null,null,null,"ECWFJ2J155KA","11nH","31.5 x 10.5"]
[null,null,null,null,null,null,null,null,null,null,null,null,null,null,null,null,null,null,null,null,null,null,null,null,null,null,null,null,null,null,null,null,null,null,null,null,null,null,null,null,null,null,null,null,null,"27","12","21","22.5","-40 to 110","300","PP","Yes","ECWFJ","ECWFJ2J155Q1","11nH","27 x 12"]
[null,null,null,null,null,null,null,null,null,null,null,null,null,null,null,null,null,null,null,null,null,null,null,null,null,null,null,null,null,null,null,null,null,null,null,null,null,null,null,null,null,null,null,null,null,null,null,null,null,null,null,null,null,null,"ECWFJ2J155QA","11nH","27 x 12"]
[null,null,null,null,null,null,null,null,null,null,null,null,null,null,null,null,null,null,null,null,null,null,null,null,null,null,null,null,null,null,null,null,null,null,null,null,null,null,null,null,null,null,null,"-","-",26,12,19,22.5,"-40 to 105 (85)",200,"PP","No","ECWFE","ECWFE2J155KA","-","26 x 12"]
[null,null,null,null,null,null,null,null,null,null,null,null,null,null,null,null,null,null,null,null,null,null,null,null,null,null,null,null,null,null,null,null,null,null,null,null,null,null,null,null,null,null,null,null,null,null,null,null,null,null,300,"PP","No","ECWFE","ECWFE2J155K","-","26 x 12"]
[null,null,null,null,null,null,null,null,null,null,null,null,null,null,null,null,null,null,null,null,null,null,null,null,null,null,null,null,null,null,null,null,null,null,null,null,null,null,null,null,null,null,null,null,null,31,11,21,27.5,"-40 to 105 (85)",200,"PP","No","ECWFE","ECWFE2J155Q5","-","31 x 11"]
[null,null,null,null,null,null,null,null,null,null,null,null,null,null,null,null,null,null,null,null,null,null,null,null,null,null,null,null,null,null,null,null,null,null,null,null,null,null,null,null,null,null,null,null,null,null,null,null,null,null,null,null,null,null,"ECWFE2J155QD","-","31 x 11"]
[null,null,null,null,null,null,null,null,null,null,null,null,null,null,null,null,null,null,null,null,null,null,null,null,null,null,null,null,null,null,null,null,null,null,null,null,null,null,null,null,null,null,null,"-","-",26,12,19,22.5,"-40 to 105 (85)",200,"PP","No","ECWFE","ECWFE2J155JA","-","26 x 12"]
[null,null,null,null,null,null,null,null,null,null,null,null,null,null,null,null,null,null,null,null,null,null,null,null,null,null,null,null,null,null,null,null,null,null,null,null,null,null,null,null,null,null,"± 5",4.7,12.9,27,10.5,19,22.5,"-40 to 110",350,"PP","Yes","ECWFG","ECWFG2J105PA","-","27 x 10.5"]
[null,null,null,null,null,null,null,null,null,null,null,null,null,null,null,null,null,null,null,null,null,null,null,null,null,null,null,null,null,null,null,null,null,null,null,null,null,null,null,null,null,null,null,null,null,null,null,null,null,null,"350","PP","Yes","ECWFJ","ECWFJ2J105PA","12nH","27 x 10.5"]
[null,null,null,null,null,null,null,null,null,null,null,null,null,null,null,null,null,null,null,null,null,null,null,null,null,null,null,null,null,null,null,null,null,null,null,null,null,null,null,null,null,null,null,null,null,null,null,null,null,null,600,"PP","No","ECWFE","ECWFE2J474P5","-","26 x 8"]
[null,null,null,null,null,null,null,null,null,null,null,null,null,null,null,null,null,null,null,null,null,null,null,null,null,null,null,null,null,null,null,null,null,null,null,null,null,null,null,null,null,null,null,null,null,26,7,14,22.5,"-40 to 105 (85)",500,"PP","No","ECWFE","ECWFE2J334PD","-","26 x 7"]
[null,null,null,null,null,null,null,null,null,null,null,null,null,null,null,null,null,null,null,null,null,null,null,null,null,null,null,null,null,null,null,null,null,null,null,null,null,null,null,null,null,null,null,null,null,26,6,13,22.5,"-40 to 105 (85)",700,"PP","No","ECWFE","ECWFE2J104QD","-","26 x 6"]
[null,null,null,null,null,null,null,null,null,null,null,null,null,null,null,null,null,null,null,null,null,null,null,null,null,null,null,null,null,null,null,null,null,null,null,null,null,null,null,null,null,null,null,null,null,null,null,null,null,null,900,"PP","No","ECWFE","ECWFE2J104P5","-","26 x 6"]
[null,null,null,null,null,null,null,null,null,null,null,null,null,null,null,null,null,null,null,null,null,null,null,null,null,null,null,null,null,null,null,null,null,null,null,null,null,null,null,null,null,75,"±10",23.6,5.5,57.5,30,51,52.5,"-40 to 105 (85)",50,"PP","Yes","EZPV","EZPV60756MTS","-","57.5 x 30"]
[null,null,null,null,null,null,null,null,null,null,null,null,null,null,null,null,null,null,null,null,null,null,null,null,null,null,null,null,null,null,null,null,null,null,null,null,null,null,null,null,null,null,null,null,null,null,null,null,null,null,null,null,"No","EZPV","EZPV60606MTC","-","57.5 x 30"]
[null,null,null,null,null,null,null,null,null,null,null,null,null,null,null,null,null,null,null,null,null,null,null,null,null,null,null,null,null,null,null,null,null,null,null,null,null,null,null,null,null,null,null,null,null,null,null,null,null,null,null,null,"No","EZPV","EZPV60556MTB","-","41 x 30"]
[null,null,null,null,null,null,null,null,null,null,null,null,null,null,null,null,null,null,null,null,null,null,null,null,null,null,null,null,null,null,null,null,null,null,null,null,null,null,null,null,null,30,"±10",15.6,8.1999999999999993,41,26,40.5,37.5,"-40 to 105 (85)",150,"PP","Yes","EZPV","EZPV60306MTT","-","41 x 26"]
[null,null,null,null,null,null,null,null,null,null,null,null,null,null,null,null,null,null,null,null,null,null,null,null,null,null,null,null,null,null,null,null,null,null,null,null,null,null,null,null,null,25,"±10",13.8,8.6,41,22,36,37.5,"-40 to 105 (85)",150,"PP","Yes","EZPV","EZPV60256MTT","-","41 x 22"]
[null,null,null,null,null,null,null,null,null,null,null,null,null,null,null,null,null,null,null,null,null,null,null,null,null,null,null,null,null,null,null,null,null,null,null,null,null,null,null,null,null,null,null,null,null,null,null,null,null,null,null,null,"No","EZPV","EZPV60106LTB","-","41 x 15"]
[null,null,null,null,null,null,null,null,null,null,null,null,null,null,null,null,null,null,null,null,null,null,null,null,null,null,null,null,null,null,null,null,null,null,null,null,null,null,null,null,null,8.1999999999999993,"± 5",7.6,6.6,31.5,13.5,28.5,27.5,"-40 to 110",150,"PP","Yes","ECWFG","ECWFG60825J","-","31.5 x 13.5"]
[null,null,null,null,null,null,null,null,null,null,null,null,null,null,null,null,null,null,null,null,null,null,null,null,null,null,null,null,null,null,null,null,null,null,null,null,null,null,null,null,null,6.8,"± 5",6.8,7.9,31.5,12,24.5,27.5,"-40 to 110",200,"PP","Yes","ECWFG","ECWFG60685J","-","31.5 x 12"]
[null,null,null,null,null,null,null,null,null,null,null,null,null,null,null,null,null,null,null,null,null,null,null,null,null,null,null,null,null,null,null,null,null,null,null,null,null,null,null,null,null,4,"± 5",5.0999999999999996,13.1,31.5,10.5,21,27.5,"-40 to 110",300,"PP","Yes","ECWFG","ECWFG60405J","-","31.5 x 10.5"]
[null,null,null,null,null,null,null,null,null,null,null,null,null,null,null,null,null,null,null,null,null,null,null,null,null,null,null,null,null,null,null,null,null,null,null,null,null,null,null,null,null,null,null,null,null,null,null,null,null,null,null,null,null,null,"ECWFJ60405JA","12nH","31.5 x 10.5"]
[null,null,null,null,null,null,null,null,null,null,null,null,null,null,null,null,null,null,null,null,null,null,null,null,null,null,null,null,null,null,null,null,null,null,null,null,null,null,null,null,null,null,null,null,null,null,null,null,null,null,null,null,null,null,"ECWFG60225JA","-","31.5 x 8"]
[null,null,null,null,null,null,null,null,null,null,null,null,null,null,null,null,null,null,null,null,null,null,null,null,null,null,null,null,null,null,null,null,null,null,null,null,null,null,null,null,"AC",12,"±10",17,3.9,57.5,45,62,52.5,"-40 to 105 (85)",50,"PP","No","EZPQ","EZPQ60126MTD","-","57.5 x 45"]
[null,null,null,null,null,null,null,null,null,null,null,null,null,null,null,null,null,null,null,null,null,null,null,null,null,null,null,null,null,null,null,null,null,null,null,null,null,null,null,null,null,80,"±10",16.5,5.7,57.5,30,51,52.5,"-25 to 70",50,"PP","No","EZPE","EZPE50806MTA","-","57.5 x 30"]
[null,null,null,null,null,null,null,null,null,null,null,null,null,null,null,null,null,null,null,null,null,null,null,null,null,null,null,null,null,null,null,null,null,null,null,null,null,null,null,null,null,null,"± 5","-","-",26,12,19,22.5,"-40 to 105 (85)",200,"PP","No","ECWFE","ECWFE2W475JA","-","26 x 12"]
[null,null,null,null,null,null,null,null,null,null,null,null,null,null,null,null,null,null,null,null,null,null,null,null,null,null,null,null,null,null,null,null,null,null,null,null,null,null,null,null,null,null,null,null,null,null,null,null,null,null,150,"PP","No","ECWFE","ECWFE2W475P5","-","31 x 15.5"]
[null,null,null,null,null,null,null,null,null,null,null,null,null,null,null,null,null,null,null,null,null,null,null,null,null,null,null,null,null,null,null,null,null,null,null,null,null,null,null,null,null,null,null,null,null,null,null,null,null,null,400,"PP","No","ECWFE","ECWFE2W155Q8","-","31 x 9"]
[null,null,null,null,null,null,null,null,null,null,null,null,null,null,null,null,null,null,null,null,null,null,null,null,null,null,null,null,null,null,null,null,null,null,null,null,null,null,null,null,null,null,"± 5","-","-",17.5,7,12.5,15,"-40 to 105 (85)",1000,"PP","No","ECWFE","ECWFE2W105J","-","17.5 x 7"]
[null,null,null,null,null,null,null,null,null,null,null,null,null,null,null,null,null,null,null,null,null,null,null,null,null,null,null,null,null,null,null,null,null,null,null,null,null,null,null,null,null,null,null,null,null,17.5,5,10.5,15,"-40 to 105 (85)",1000,"PP","No","ECWFE","ECWFE2W334Q5","-","17.5 x 5"]
[null,null,null,null,null,null,null,null,null,null,null,null,null,null,null,null,null,null,null,null,null,null,null,null,null,null,null,null,null,null,null,null,null,null,null,null,null,null,null,null,null,null,null,null,null,null,null,null,null,null,null,null,null,null,"ECWFE2W224KA","-","13 x 6"]
[null,null,null,null,null,null,null,null,null,null,null,null,null,null,null,null,null,null,null,null,null,null,null,null,null,null,null,null,null,null,null,null,null,null,null,null,null,null,null,null,null,null,null,null,null,null,null,null,null,null,null,null,null,null,"ECWFE2W104JA","-","13 x 5"]
[null,null,null,null,null,null,null,null,null,null,null,null,null,null,null,null,null,null,null,null,null,null,null,null,null,null,null,null,null,null,null,null,null,null,null,null,null,null,null,null,null,11,"± 5",7.6,12.2,57.5,30,51,52.5,"-40 to 105 (85)",50,"PP","No","EZPQ","EZPQ38116LTA","-","57.5 x 30"]
[null,null,null,null,null,null,null,null,null,null,null,null,null,null,null,null,null,null,null,null,null,null,null,null,null,null,null,null,null,null,null,null,null,null,null,null,null,null,null,null,null,null,null,null,null,null,null,null,null,null,null,null,null,null,"EZPQ38905MTA","-","41 x 30"]
[null,null,null,null,null,null,null,null,null,null,null,null,null,null,null,null,null,null,null,null,null,null,null,null,null,null,null,null,null,null,null,null,null,null,null,null,null,null,null,null,null,3,"± 5",4.8,24.4,41,17,34.5,37.5,"-40 to 105 (85)",300,"PP","No","EZPQ","EZPQ38305LTA","-","41 x 17"]
[null,null,null,null,null,null,null,null,null,null,null,null,null,null,null,null,null,null,null,null,null,null,null,null,null,null,null,null,null,null,null,null,null,null,null,null,null,null,null,null,null,30,"± 5",13.3,6.6,57.5,45,62,52.5,"-40 to 105 (85)",50,"PP","No","EZPQ","EZPQ33306MTB","-","57.5 x 45"]
[null,null,null,null,null,null,null,null,null,null,null,null,null,null,null,null,null,null,null,null,null,null,null,null,null,null,null,null,null,null,null,null,null,null,null,null,null,null,null,null,null,8,"± 5",9.5,11.3,41,26,40.5,37.5,"-40 to 105 (85)",150,"PP","No","EZPQ","EZPQ33805LTA","-","41 x 26"]
[null,null,null,null,null,null,null,null,null,null,null,null,null,null,null,null,null,null,null,null,null,null,null,null,null,null,null,null,null,null,null,null,null,null,null,null,null,null,null,null,null,0.18,"± 5","-","-",7.1,6.3,4,"'-","-55 to 105",1000,"PPS","No","ECHU(C)","ECHU1184JCV","-","7.1 x 6.3"]
[null,null,null,null,null,null,null,null,null,null,null,null,null,null,null,null,null,null,null,null,null,null,null,null,null,null,null,null,null,null,null,null,null,null,null,null,null,null,null,null,null,8.2000000000000003E-2,"± 5","-","-",7.1,5,2.8,"'-","-55 to 105",1500,"PPS","No","ECHU(C)","ECHU1823JC9","-","7.1 x 5"]
[null,null,null,null,null,null,null,null,null,null,null,null,null,null,null,null,null,null,null,null,null,null,null,null,null,null,null,null,null,null,null,null,null,null,null,null,null,null,null,null,null,1.2E-2,"± 5","-","-",4.8,3.3,1.4,"'-","-55 to 105",3000,"PPS","No","ECHU(C)","ECHU1123JC9","-","4.8 x 3.3"]
[null,null,null,null,null,null,null,null,null,null,null,null,null,null,null,null,null,null,null,null,null,null,null,null,null,null,null,null,null,null,null,null,null,null,null,null,null,null,null,null,null,null,"± 2","-","-",4.8,3.3,1.4,"'-","-55 to 105",3000,"PPS","No","ECHU(C)","ECHU1103GC9","-","4.8 x 3.3"]
[null,null,null,null,null,null,null,null,null,null,null,null,null,null,null,null,null,null,null,null,null,null,null,null,null,null,null,null,null,null,null,null,null,null,null,null,null,null,null,null,null,null,"± 2","-","-",3.2,2.5,2.1,"'-","-55 to 125",2000,"PPS","No","ECHU(X)","ECHU1H393GX5","-","3.2 x 2.5"]
[null,null,null,null,null,null,null,null,null,null,null,null,null,null,null,null,null,null,null,null,null,null,null,null,null,null,null,null,null,null,null,null,null,null,null,null,null,null,null,null,null,null,"± 2","-","-",3.2,1.6,1.1000000000000001,"'-","-55 to 125",3000,"PPS","No","ECHU(X)","ECHU1H822GX5","-","3.2 x 1.6"]
[null,null,null,null,null,null,null,null,null,null,null,null,null,null,null,null,null,null,null,null,null,null,null,null,null,null,null,null,null,null,null,null,null,null,null,null,null,null,null,null,null,3.8999999999999998E-3,"± 5","-","-",3.2,1.6,0.9,"'-","-55 to 125",3000,"PPS","No","ECHU(X)","ECHU1H392JX5","-","3.2 x 1.6"]
[null,null,null,null,null,null,null,null,null,null,null,null,null,null,null,null,null,null,null,null,null,null,null,null,null,null,null,null,null,null,null,null,null,null,null,null,null,null,null,null,null,null,"± 2","-","-",2,1.25,0.9,"'-","-55 to 125",3000,"PPS","No","ECHU(X)","ECHU1H681GX5","-","2 x 1.25"]
[null,null,null,null,null,null,null,null,null,null,null,null,null,null,null,null,null,null,null,null,null,null,null,null,null,null,null,null,null,null,null,null,null,null,null,null,null,null,null,null,null,3.8999999999999999E-4,"± 5","-","-",2,1.25,0.9,"'-","-55 to 125",3000,"PPS","No","ECHU(X)","ECHU1H391JX5","-","2 x 1.25"]
[null,null,null,null,null,null,null,null,null,null,null,null,null,null,null,null,null,null,null,null,null,null,null,null,null,null,null,null,null,null,null,null,null,null,null,null,null,null,null,null,null,6.8000000000000005E-2,"± 5","-","-",3.2,2.5,1.5,"'-","-55 to 125",2000,"PPS","No","ECHU(X)","ECHU1C683JX5","-","3.2 x 2.5"]
[null,null,null,null,null,null,null,null,null,null,null,null,null,null,null,null,null,null,null,null,null,null,null,null,null,null,null,null,null,null,null,null,null,null,null,null,null,null,null,null,null,null,"± 2","-","-",3.2,2.5,1.5,"'-","-55 to 125",2000,"PPS","No","ECHU(X)","ECHU1C563GX5","-","3.2 x 2.5"]
[null,null,null,null,null,null,null,null,null,null,null,null,null,null,null,null,null,null,null,null,null,null,null,null,null,null,null,null,null,null,null,null,null,null,null,null,null,null,null,null,null,null,"± 2","-","-",2,1.25,1.1000000000000001,"'-","-55 to 125",3000,"PPS","No","ECHU(X)","ECHU1C822GX5","-","2 x 1.25"]
[null,null,null,null,null,null,null,null,null,null,null,null,null,null,null,null,null,null,null,null,null,null,null,null,null,null,null,null,null,null,null,null,null,null,null,null,null,null,null,null,null,3.8999999999999998E-3,"± 5","-","-",2,1.25,0.9,"'-","-55 to 125",3000,"PPS","No","ECHU(X)","ECHU1C392JX5","-","2 x 1.25"]
[null,null,null,null,null,null,null,null,null,null,null,null,null,null,null,null,null,null,null,null,null,null,null,null,null,null,null,null,null,null,null,null,null,null,null,null,null,null,null,null,null,8.1999999999999998E-4,"± 5","-","-",1.6,0.8,0.7,"'-","-55 to 125",4000,"PPS","No","ECHU(X)","ECHU1C821JX5","-","1.6 x 0.8"]
[null,null,null,null,null,null,null,null,null,null,null,null,null,null,null,null,null,null,null,null,null,null,null,null,null,null,null,null,null,null,null,null,null,null,null,null,null,null,null,null,null,2.7E-4,"± 5","-","-",1.6,0.8,0.7,"'-","-55 to 125",4000,"PPS","No","ECHU(X)","ECHU1C271JX5","-","1.6 x 0.8"]
[null,null,null,null,null,null,null,null,null,null,null,null,null,null,null,null,null,null,null,null,null,null,null,null,null,null,null,null,null,null,null,null,null,null,null,null,null,null,null,null,null,null,null,null,null,null,null,null,null,null,null,null,null,null,"ECWHC3F822JD","-","25.8 x 7.5"]
[null,null,null,null,null,null,null,null,null,null,null,null,null,null,null,null,null,null,null,null,null,null,null,null,null,null,null,null,null,null,null,null,null,null,null,null,null,null,null,null,null,null,null,null,null,null,null,17.899999999999999,23,"-40 to 105 (85)",1000,"PP","No","ECWH(C)","ECWHC3F242JQ","-","25.8 x 6.1"]
[null,null,null,null,null,null,null,null,null,null,null,null,null,null,null,null,null,null,null,null,null,null,null,null,null,null,null,null,null,null,null,null,null,null,null,null,null,null,null,null,null,1.2999999999999999E-2,"± 5","-","-",23,12,21,20,"-25 to 105 (85)",100,"PP","No","ECWH(V)","ECWH20133JV","-","23 x 12"]
[null,null,null,null,null,null,null,null,null,null,null,null,null,null,null,null,null,null,null,null,null,null,null,null,null,null,null,null,null,null,null,null,null,null,null,null,null,null,null,null,null,null,null,null,null,null,null,25,7.5,"-25 to 105 (85)",300,"PP","No","ECWH(V)","ECWH20113RHV","-","23 x 11"]
[null,null,null,null,null,null,null,null,null,null,null,null,null,null,null,null,null,null,null,null,null,null,null,null,null,null,null,null,null,null,null,null,null,null,null,null,null,null,null,null,null,7.4999999999999997E-3,"± 5","-","-",23,9.5,18,20,"-25 to 105 (85)",100,"PP","No","ECWH(V)","ECWH20752JV","-","23 x 9.5"]
[null,null,null,null,null,null,null,null,null,null,null,null,null,null,null,null,null,null,null,null,null,null,null,null,null,null,null,null,null,null,null,null,null,null,null,null,null,null,null,null,null,null,null,null,null,null,null,23,7.5,"-25 to 105 (85)",300,"PP","No","ECWH(V)","ECWH20752RHV","-","23 x 9.5"]
[null,null,null,null,null,null,null,null,null,null,null,null,null,null,null,null,null,null,null,null,null,null,null,null,null,null,null,null,null,null,null,null,null,null,null,null,null,null,null,null,null,5.1000000000000004E-3,"± 5","-","-",23,7.5,16,20,"-25 to 105 (85)",100,"PP","No","ECWH(V)","ECWH20512JV","-","23 x 7.5"]
[null,null,null,null,null,null,null,null,null,null,null,null,null,null,null,null,null,null,null,null,null,null,null,null,null,null,null,null,null,null,null,null,null,null,null,null,null,null,null,null,null,null,null,null,null,null,null,20.5,7.5,"-25 to 105 (85)",500,"PP","No","ECWH(V)","ECWH20472RJV","-","23 x 7"]
[null,null,null,null,null,null,null,null,null,null,null,null,null,null,null,null,null,null,null,null,null,null,null,null,null,null,null,null,null,null,null,null,null,null,null,null,null,null,null,null,null,null,null,null,null,null,null,null,10,"-25 to 105 (85)",100,"PP","No","ECWH(V)","ECWH20392HVB","-","18 x 9"]
[null,null,null,null,null,null,null,null,null,null,null,null,null,null,null,null,null,null,null,null,null,null,null,null,null,null,null,null,null,null,null,null,null,null,null,null,null,null,null,null,null,3.3E-3,"± 5","-","-",18,8.5,15.5,15,"-25 to 105 (85)",100,"PP","No","ECWH(V)","ECWH20332JV","-","18 x 8.5"]
[null,null,null,null,null,null,null,null,null,null,null,null,null,null,null,null,null,null,null,null,null,null,null,null,null,null,null,null,null,null,null,null,null,null,null,null,null,null,null,null,null,null,null,null,null,null,null,null,10,"-25 to 105 (85)",100,"PP","No","ECWH(V)","ECWH20242JVB","-","18 x 8.5"]
[null,null,null,null,null,null,null,null,null,null,null,null,null,null,null,null,null,null,null,null,null,null,null,null,null,null,null,null,null,null,null,null,null,null,null,null,null,null,null,null,null,1.8E-3,"± 5","-","-",18,8,14.5,15,"-25 to 105 (85)",100,"PP","No","ECWH(V)","ECWH20182JV","-","18 x 8"]
[null,null,null,null,null,null,null,null,null,null,null,null,null,null,null,null,null,null,null,null,null,null,null,null,null,null,null,null,null,null,null,null,null,null,null,null,null,null,null,null,null,null,null,null,null,null,null,null,10,"-25 to 105 (85)",100,"PP","No","ECWH(V)","ECWH20162HVB","-","18 x 7.5"]
[null,null,null,null,null,null,null,null,null,null,null,null,null,null,null,null,null,null,null,null,null,null,null,null,null,null,null,null,null,null,null,null,null,null,null,null,null,null,null,null,null,null,null,null,null,null,null,18.5,7.5,"-25 to 105 (85)",500,"PP","No","ECWH(V)","ECWH20122RHV","-","18 x 7"]
[null,null,null,null,null,null,null,null,null,null,null,null,null,null,null,null,null,null,null,null,null,null,null,null,null,null,null,null,null,null,null,null,null,null,null,null,null,null,null,null,null,null,null,null,null,null,null,18.5,10,"-25 to 105 (85)",100,"PP","No","ECWH(V)","ECWH20112JVB","-","18 x 6.5"]
[null,null,null,null,null,null,null,null,null,null,null,null,null,null,null,null,null,null,null,null,null,null,null,null,null,null,null,null,null,null,null,null,null,null,null,null,null,null,null,null,null,null,null,null,null,null,null,null,null,null,800,"PP","No","ECWH(A)","ECWHA3C473JC","-","20.6 x 13.4"]
[null,null,null,null,null,null,null,null,null,null,null,null,null,null,null,null,null,null,null,null,null,null,null,null,null,null,null,null,null,null,null,null,null,null,null,null,null,null,null,null,null,null,null,null,null,null,null,null,10,"-40 to 105 (85)",1000,"PP","No","ECWH(A)","ECWHA3C433JB","-","20.6 x 12.8"]
[null,null,null,null,null,null,null,null,null,null,null,null,null,null,null,null,null,null,null,null,null,null,null,null,null,null,null,null,null,null,null,null,null,null,null,null,null,null,null,null,null,null,null,null,null,null,null,null,10,"-40 to 105 (85)",1000,"PP","No","ECWH(A)","ECWHA3C433HB","-","20.6 x 12.8"]
[null,null,null,null,null,null,null,null,null,null,null,null,null,null,null,null,null,null,null,null,null,null,null,null,null,null,null,null,null,null,null,null,null,null,null,null,null,null,null,null,null,null,null,null,null,28,13.5,22,25,"-25 to 105 (85)",100,"PP","No","ECWH(V)","ECWH16393HV","-","28 x 13.5"]
[null,null,null,null,null,null,null,null,null,null,null,null,null,null,null,null,null,null,null,null,null,null,null,null,null,null,null,null,null,null,null,null,null,null,null,null,null,null,null,null,null,null,null,null,null,null,null,26.5,17.5,"-25 to 105 (85)",100,"PP","No","ECWH(V)","ECWH16363JVB","-","28 x 12.5"]
[null,null,null,null,null,null,null,null,null,null,null,null,null,null,null,null,null,null,null,null,null,null,null,null,null,null,null,null,null,null,null,null,null,null,null,null,null,null,null,null,null,null,null,null,null,28,11.5,20.5,25,"-25 to 105 (85)",100,"PP","No","ECWH(V)","ECWH16333HV","-","28 x 11.5"]
[null,null,null,null,null,null,null,null,null,null,null,null,null,null,null,null,null,null,null,null,null,null,null,null,null,null,null,null,null,null,null,null,null,null,null,null,null,null,null,null,null,null,null,null,null,28,11,20,25,"-25 to 105 (85)",100,"PP","No","ECWH(V)","ECWH16303JV","-","28 x 11"]
[null,null,null,null,null,null,null,null,null,null,null,null,null,null,null,null,null,null,null,null,null,null,null,null,null,null,null,null,null,null,null,null,null,null,null,null,null,null,null,null,null,null,"± 3","-","-",20.6,10,15.9,17.5,"-40 to 105 (85)",800,"PP","No","ECWH(A)","ECWHA3C273H","-","20.6 x 10"]
[null,null,null,null,null,null,null,null,null,null,null,null,null,null,null,null,null,null,null,null,null,null,null,null,null,null,null,null,null,null,null,null,null,null,null,null,null,null,null,null,null,2.4E-2,"± 5","-","-",20.6,9.6,15.4,17.5,"-40 to 105 (85)",800,"PP","No","ECWH(A)","ECWHA3C243J","-","20.6 x 9.6"]
[null,null,null,null,null,null,null,null,null,null,null,null,null,null,null,null,null,null,null,null,null,null,null,null,null,null,null,null,null,null,null,null,null,null,null,null,null,null,null,null,null,null,null,null,null,null,null,20,7.5,"-40 to 105 (85)",300,"PP","No","ECWH(A)","ECWHA3C223J4","-","20.6 x 9.1"]
[null,null,null,null,null,null,null,null,null,null,null,null,null,null,null,null,null,null,null,null,null,null,null,null,null,null,null,null,null,null,null,null,null,null,null,null,null,null,null,null,null,null,null,null,null,null,null,null,10,"-40 to 105 (85)",1000,"PP","No","ECWH(A)","ECWHA3C203HB","-","20.6 x 8.7"]
[null,null,null,null,null,null,null,null,null,null,null,null,null,null,null,null,null,null,null,null,null,null,null,null,null,null,null,null,null,null,null,null,null,null,null,null,null,null,null,null,null,1.7999999999999999E-2,"± 5","-","-",20.6,8.1999999999999993,14.1,17.5,"-40 to 105 (85)",1000,"PP","No","ECWH(A)","ECWHA3C183J","-","20.6 x 8.2"]
[null,null,null,null,null,null,null,null,null,null,null,null,null,null,null,null,null,null,null,null,null,null,null,null,null,null,null,null,null,null,null,null,null,null,null,null,null,null,null,null,null,1.6E-2,"± 5","-","-",20.3,7.9,13.8,17.5,"-40 to 105 (85)",1000,"PP","No","ECWH(A)","ECWHA3C163J","-","20.3 x 7.9"]
[null,null,null,null,null,null,null,null,null,null,null,null,null,null,null,null,null,null,null,null,null,null,null,null,null,null,null,null,null,null,null,null,null,null,null,null,null,null,null,null,null,null,null,null,null,null,null,null,15,"-25 to 105 (85)",100,"PP","No","ECWH(V)","ECWH16163JVB","-","23 x 10"]
[null,null,null,null,null,null,null,null,null,null,null,null,null,null,null,null,null,null,null,null,null,null,null,null,null,null,null,null,null,null,null,null,null,null,null,null,null,null,null,null,null,null,null,null,null,null,null,null,15,"-25 to 105 (85)",100,"PP","No","ECWH(V)","ECWH16153JVB","-","23 x 9.5"]
[null,null,null,null,null,null,null,null,null,null,null,null,null,null,null,null,null,null,null,null,null,null,null,null,null,null,null,null,null,null,null,null,null,null,null,null,null,null,null,null,null,null,null,null,null,null,null,null,10,"-40 to 105 (85)",1000,"PP","No","ECWH(A)","ECWHA3C133HB","-","20.3 x 7.1"]
[null,null,null,null,null,null,null,null,null,null,null,null,null,null,null,null,null,null,null,null,null,null,null,null,null,null,null,null,null,null,null,null,null,null,null,null,null,null,null,null,null,null,null,null,null,null,null,17.8,7.5,"-40 to 105 (85)",400,"PP","No","ECWH(A)","ECWHA3C123H4","-","20.3 x 6.8"]
[null,null,null,null,null,null,null,null,null,null,null,null,null,null,null,null,null,null,null,null,null,null,null,null,null,null,null,null,null,null,null,null,null,null,null,null,null,null,null,null,null,null,null,null,null,null,null,null,10,"-40 to 105 (85)",1000,"PP","No","ECWH(A)","ECWHA3C113JB","-","20.3 x 6.6"]
[null,null,null,null,null,null,null,null,null,null,null,null,null,null,null,null,null,null,null,null,null,null,null,null,null,null,null,null,null,null,null,null,null,null,null,null,null,null,null,null,null,null,null,null,null,null,null,17.5,7.5,"-40 to 105 (85)",400,"PP","No","ECWH(A)","ECWHA3C113H4","-","20.3 x 6.6"]
[null,null,null,null,null,null,null,null,null,null,null,null,null,null,null,null,null,null,null,null,null,null,null,null,null,null,null,null,null,null,null,null,null,null,null,null,null,null,null,null,null,null,null,null,null,null,null,21.5,7.5,"-25 to 105 (85)",400,"PP","No","ECWH(V)","ECWH16103RHV","-","23 x 8"]
[null,null,null,null,null,null,null,null,null,null,null,null,null,null,null,null,null,null,null,null,null,null,null,null,null,null,null,null,null,null,null,null,null,null,null,null,null,null,null,null,null,null,null,null,null,null,null,21,7.5,"-25 to 105 (85)",400,"PP","No","ECWH(V)","ECWH16912RHV","-","23 x 8"]
[null,null,null,null,null,null,null,null,null,null,null,null,null,null,null,null,null,null,null,null,null,null,null,null,null,null,null,null,null,null,null,null,null,null,null,null,null,null,null,null,null,null,null,null,null,23,7.5,16,20,"-25 to 105 (85)",100,"PP","No","ECWH(V)","ECWH16822JV","-","23 x 7.5"]
[null,null,null,null,null,null,null,null,null,null,null,null,null,null,null,null,null,null,null,null,null,null,null,null,null,null,null,null,null,null,null,null,null,null,null,null,null,null,null,null,null,null,null,null,null,23,7.5,15.5,20,"-25 to 105 (85)",100,"PP","No","ECWH(V)","ECWH16752JV","-","23 x 7.5"]
[null,null,null,null,null,null,null,null,null,null,null,null,null,null,null,null,null,null,null,null,null,null,null,null,null,null,null,null,null,null,null,null,null,null,null,null,null,null,null,null,null,null,null,null,null,23,7.5,15.5,20,"-25 to 105 (85)",100,"PP","No","ECWH(V)","ECWH16752HV","-","23 x 7.5"]
[null,null,null,null,null,null,null,null,null,null,null,null,null,null,null,null,null,null,null,null,null,null,null,null,null,null,null,null,null,null,null,null,null,null,null,null,null,null,null,null,null,null,null,null,null,null,null,null,null,null,null,null,null,null,"ECWHA3C622JC","-","17.8 x 7.1"]
[null,null,null,null,null,null,null,null,null,null,null,null,null,null,null,null,null,null,null,null,null,null,null,null,null,null,null,null,null,null,null,null,null,null,null,null,null,null,null,null,null,null,null,null,null,null,null,null,15,"-40 to 105 (85)",1000,"PP","No","ECWH(A)","ECWHA3C622JQ","-","17.8 x 7.1"]
[null,null,null,null,null,null,null,null,null,null,null,null,null,null,null,null,null,null,null,null,null,null,null,null,null,null,null,null,null,null,null,null,null,null,null,null,null,null,null,null,null,null,"± 3","-","-",17.8,6.8,9.6,15,"-40 to 105 (85)",1000,"PP","No","ECWH(A)","ECWHA3C562H","-","17.8 x 6.8"]
[null,null,null,null,null,null,null,null,null,null,null,null,null,null,null,null,null,null,null,null,null,null,null,null,null,null,null,null,null,null,null,null,null,null,null,null,null,null,null,null,null,null,null,null,null,null,null,null,15,"-25 to 105 (85)",100,"PP","No","ECWH(V)","ECWH16562HVB","-","23 x 6.5"]
[null,null,null,null,null,null,null,null,null,null,null,null,null,null,null,null,null,null,null,null,null,null,null,null,null,null,null,null,null,null,null,null,null,null,null,null,null,null,null,null,null,null,null,null,null,null,null,null,15,"-25 to 105 (85)",100,"PP","No","ECWH(V)","ECWH16512HVB","-","23 x 6.5"]
[null,null,null,null,null,null,null,null,null,null,null,null,null,null,null,null,null,null,null,null,null,null,null,null,null,null,null,null,null,null,null,null,null,null,null,null,null,null,null,null,null,null,null,null,null,18,7,14,15,"-25 to 105 (85)",100,"PP","No","ECWH(V)","ECWH16432JV","-","18 x 7"]
[null,null,null,null,null,null,null,null,null,null,null,null,null,null,null,null,null,null,null,null,null,null,null,null,null,null,null,null,null,null,null,null,null,null,null,null,null,null,null,null,null,null,null,null,null,null,null,null,15,"-40 to 105 (85)",1000,"PP","No","ECWH(A)","ECWHA3C392JQ","-","17.8 x 6"]
[null,null,null,null,null,null,null,null,null,null,null,null,null,null,null,null,null,null,null,null,null,null,null,null,null,null,null,null,null,null,null,null,null,null,null,null,null,null,null,null,null,null,null,null,null,18,7,13.5,15,"-25 to 105 (85)",100,"PP","No","ECWH(V)","ECWH16362JV","-","18 x 7"]
[null,null,null,null,null,null,null,null,null,null,null,null,null,null,null,null,null,null,null,null,null,null,null,null,null,null,null,null,null,null,null,null,null,null,null,null,null,null,null,null,null,null,null,null,null,null,null,18.5,7.5,"-25 to 105 (85)",500,"PP","No","ECWH(V)","ECWH16362RHV","-","18 x 7"]
[null,null,null,null,null,null,null,null,null,null,null,null,null,null,null,null,null,null,null,null,null,null,null,null,null,null,null,null,null,null,null,null,null,null,null,null,null,null,null,null,null,null,null,null,null,null,null,null,15,"-40 to 105 (85)",1000,"PP","No","ECWH(A)","ECWHA3C302JQ","-","17.8 x 5.5"]
[null,null,null,null,null,null,null,null,null,null,null,null,null,null,null,null,null,null,null,null,null,null,null,null,null,null,null,null,null,null,null,null,null,null,null,null,null,null,null,null,null,null,null,null,null,null,null,19,7.5,"-25 to 105 (85)",500,"PP","No","ECWH(V)","ECWH16272RHV","-","18 x 7"]
[null,null,null,null,null,null,null,null,null,null,null,null,null,null,null,null,null,null,null,null,null,null,null,null,null,null,null,null,null,null,null,null,null,null,null,null,null,null,null,null,null,null,null,null,null,null,null,null,10,"-40 to 105 (85)",1000,"PP","No","ECWH(A)","ECWHA3C242JB","-","17.8 x 7"]
[null,null,null,null,null,null,null,null,null,null,null,null,null,null,null,null,null,null,null,null,null,null,null,null,null,null,null,null,null,null,null,null,null,null,null,null,null,null,null,null,null,null,null,null,null,18,6.5,13.5,15,"-25 to 105 (85)",100,"PP","No","ECWH(V)","ECWH16222HV","-","18 x 6.5"]
[null,null,null,null,null,null,null,null,null,null,null,null,null,null,null,null,null,null,null,null,null,null,null,null,null,null,null,null,null,null,null,null,null,null,null,null,null,null,null,null,null,null,null,null,null,null,null,null,10,"-25 to 105 (85)",100,"PP","No","ECWH(V)","ECWH16202JVB","-","18 x 7"]
[null,null,null,null,null,null,null,null,null,null,null,null,null,null,null,null,null,null,null,null,null,null,null,null,null,null,null,null,null,null,null,null,null,null,null,null,null,null,null,null,null,null,null,null,null,18,7,14,15,"-25 to 105 (85)",100,"PP","No","ECWH(V)","ECWH16182HV","-","18 x 7"]
[null,null,null,null,null,null,null,null,null,null,null,null,null,null,null,null,null,null,null,null,null,null,null,null,null,null,null,null,null,null,null,null,null,null,null,null,null,null,null,null,null,null,null,null,null,null,null,18.5,7.5,"-25 to 105 (85)",500,"PP","No","ECWH(V)","ECWH16162RJV","-","18 x 7"]
[null,null,null,null,null,null,null,null,null,null,null,null,null,null,null,null,null,null,null,null,null,null,null,null,null,null,null,null,null,null,null,null,null,null,null,null,null,null,null,null,null,1.2999999999999999E-3,"± 5","-","-",17.8,5.7,13.4,7.5,"-40 to 105 (85)",500,"PP","No","ECWH(A)","ECWHA3C132J4","-","17.8 x 5.7"]
[null,null,null,null,null,null,null,null,null,null,null,null,null,null,null,null,null,null,null,null,null,null,null,null,null,null,null,null,null,null,null,null,null,null,null,null,null,null,null,null,null,null,null,null,null,null,null,18.5,7.5,"-25 to 105 (85)",500,"PP","No","ECWH(V)","ECWH16122RJV","-","18 x 7"]
[null,null,null,null,null,null,null,null,null,null,null,null,null,null,null,null,null,null,null,null,null,null,null,null,null,null,null,null,null,null,null,null,null,null,null,null,null,null,null,null,null,null,null,null,null,null,null,null,10,"-25 to 105 (85)",100,"PP","No","ECWH(V)","ECWH16122HVB","-","18 x 7"]
[null,null,null,null,null,null,null,null,null,null,null,null,null,null,null,null,null,null,null,null,null,null,null,null,null,null,null,null,null,null,null,null,null,null,null,null,null,null,null,null,null,null,null,null,null,null,null,null,15,"-40 to 105 (85)",1000,"PP","No","ECWH(A)","ECWHA3C112HQ","-","17.8 x 5.4"]
[null,null,null,null,null,null,null,null,null,null,null,null,null,null,null,null,null,null,null,null,null,null,null,null,null,null,null,null,null,null,null,null,null,null,null,null,null,null,null,null,null,null,null,null,null,null,null,null,10,"-25 to 105 (85)",100,"PP","No","ECWH(V)","ECWH16102HVB","-","18 x 6.5"]
[null,null,null,null,null,null,null,null,null,null,null,null,null,null,null,null,null,null,null,null,null,null,null,null,null,null,null,null,null,null,null,null,null,null,null,null,null,null,null,null,null,null,null,null,null,null,null,25.5,22.5,"-40 to 105 (85)",100,"PET","No","ECQE(F)[DC]","ECQE12124KFB","-","31 x 11.5"]
[null,null,null,null,null,null,null,null,null,null,null,null,null,null,null,null,null,null,null,null,null,null,null,null,null,null,null,null,null,null,null,null,null,null,null,null,null,null,null,null,null,null,"± 3","-","-",28,15.5,24,25,"-25 to 105 (85)",100,"PP","No","ECWH(V)","ECWH12104HV","-","28 x 15.5"]
[null,null,null,null,null,null,null,null,null,null,null,null,null,null,null,null,null,null,null,null,null,null,null,null,null,null,null,null,null,null,null,null,null,null,null,null,null,null,null,null,null,null,null,null,null,null,null,23.5,22.5,"-40 to 105 (85)",100,"PET","No","ECQE(F)[DC]","ECQE12823KFB","-","31 x 9"]
[null,null,null,null,null,null,null,null,null,null,null,null,null,null,null,null,null,null,null,null,null,null,null,null,null,null,null,null,null,null,null,null,null,null,null,null,null,null,null,null,null,null,null,null,null,null,null,null,null,null,null,null,null,null,"ECQE12683KFW","-","31 x 8"]
[null,null,null,null,null,null,null,null,null,null,null,null,null,null,null,null,null,null,null,null,null,null,null,null,null,null,null,null,null,null,null,null,null,null,null,null,null,null,null,null,null,null,null,null,null,null,null,null,null,null,null,null,null,null,"ECQE12683JFW","-","31 x 8"]
[null,null,null,null,null,null,null,null,null,null,null,null,null,null,null,null,null,null,null,null,null,null,null,null,null,null,null,null,null,null,null,null,null,null,null,null,null,null,null,null,null,4.7E-2,"±10","-","-",26,8,17,22.5,"-40 to 105 (85)",100,"PET","No","ECQE(F)[DC]","ECQE12473KF","-","26 x 8"]
[null,null,null,null,null,null,null,null,null,null,null,null,null,null,null,null,null,null,null,null,null,null,null,null,null,null,null,null,null,null,null,null,null,null,null,null,null,null,null,null,null,null,null,null,null,null,null,25,7.5,"-25 to 105 (85)",300,"PP","No","ECWH(V)","ECWH12433RHV","-","23 x 11"]
[null,null,null,null,null,null,null,null,null,null,null,null,null,null,null,null,null,null,null,null,null,null,null,null,null,null,null,null,null,null,null,null,null,null,null,null,null,null,null,null,null,null,null,null,null,null,null,null,15,"-25 to 105 (85)",100,"PP","No","ECWH(V)","ECWH12393JVB","-","23 x 10.5"]
[null,null,null,null,null,null,null,null,null,null,null,null,null,null,null,null,null,null,null,null,null,null,null,null,null,null,null,null,null,null,null,null,null,null,null,null,null,null,null,null,null,3.5999999999999997E-2,"± 5","-","-",23,10,19,20,"-25 to 105 (85)",100,"PP","No","ECWH(V)","ECWH12363JV","-","23 x 10"]
[null,null,null,null,null,null,null,null,null,null,null,null,null,null,null,null,null,null,null,null,null,null,null,null,null,null,null,null,null,null,null,null,null,null,null,null,null,null,null,null,null,null,null,null,null,null,null,23.5,7.5,"-25 to 105 (85)",300,"PP","No","ECWH(V)","ECWH12333RHV","-","23 x 10"]
[null,null,null,null,null,null,null,null,null,null,null,null,null,null,null,null,null,null,null,null,null,null,null,null,null,null,null,null,null,null,null,null,null,null,null,null,null,null,null,null,null,2.4E-2,"± 5","-","-",23,8.5,17,20,"-25 to 105 (85)",100,"PP","No","ECWH(V)","ECWH12243JV","-","23 x 8.5"]
[null,null,null,null,null,null,null,null,null,null,null,null,null,null,null,null,null,null,null,null,null,null,null,null,null,null,null,null,null,null,null,null,null,null,null,null,null,null,null,null,null,null,null,null,null,null,null,null,12.5,"-40 to 105 (85)",100,"PET","No","ECQE(F)[DC]","ECQE12223KFB","-","21 x 7"]
[null,null,null,null,null,null,null,null,null,null,null,null,null,null,null,null,null,null,null,null,null,null,null,null,null,null,null,null,null,null,null,null,null,null,null,null,null,null,null,null,null,null,null,null,null,null,null,21.5,7.5,"-25 to 105 (85)",400,"PP","No","ECWH(V)","ECWH12203RHV","-","23 x 8"]
[null,null,null,null,null,null,null,null,null,null,null,null,null,null,null,null,null,null,null,null,null,null,null,null,null,null,null,null,null,null,null,null,null,null,null,null,null,null,null,null,null,null,null,null,null,null,null,19.5,7.5,"-40 to 105 (85)",500,"PET","No","ECQE(F)[DC]","ECQE12183RJF","-","21 x 6.5"]
[null,null,null,null,null,null,null,null,null,null,null,null,null,null,null,null,null,null,null,null,null,null,null,null,null,null,null,null,null,null,null,null,null,null,null,null,null,null,null,null,null,null,null,null,null,null,null,18.5,7.5,"-40 to 105 (85)",500,"PET","No","ECQE(F)[DC]","ECQE12153RKF","-","21 x 6"]
[null,null,null,null,null,null,null,null,null,null,null,null,null,null,null,null,null,null,null,null,null,null,null,null,null,null,null,null,null,null,null,null,null,null,null,null,null,null,null,null,null,null,null,null,null,null,null,18,7.5,"-40 to 105 (85)",500,"PET","No","ECQE(F)[DC]","ECQE12123RKF","-","21 x 5.5"]
[null,null,null,null,null,null,null,null,null,null,null,null,null,null,null,null,null,null,null,null,null,null,null,null,null,null,null,null,null,null,null,null,null,null,null,null,null,null,null,null,null,null,null,null,null,null,null,18,7.5,"-40 to 105 (85)",500,"PET","No","ECQE(F)[DC]","ECQE12123RJF","-","21 x 5.5"]
[null,null,null,null,null,null,null,null,null,null,null,null,null,null,null,null,null,null,null,null,null,null,null,null,null,null,null,null,null,null,null,null,null,null,null,null,null,null,null,null,null,null,null,null,null,null,null,17.5,7.5,"-40 to 105 (85)",500,"PET","No","ECQE(F)[DC]","ECQE12103RKF","-","21 x 5"]
[null,null,null,null,null,null,null,null,null,null,null,null,null,null,null,null,null,null,null,null,null,null,null,null,null,null,null,null,null,null,null,null,null,null,null,null,null,null,null,null,null,null,null,null,null,null,null,20,7.5,"-25 to 105 (85)",400,"PP","No","ECWH(V)","ECWH12103RHV","-","18 x 8"]
[null,null,null,null,null,null,null,null,null,null,null,null,null,null,null,null,null,null,null,null,null,null,null,null,null,null,null,null,null,null,null,null,null,null,null,null,null,null,null,null,null,null,null,null,null,null,null,17,7.5,"-40 to 105 (85)",500,"PET","No","ECQE(F)[DC]","ECQE12822RJF","-","21 x 5"]
[null,null,null,null,null,null,null,null,null,null,null,null,null,null,null,null,null,null,null,null,null,null,null,null,null,null,null,null,null,null,null,null,null,null,null,null,null,null,null,null,null,null,null,null,null,18,7,13.5,15,"-25 to 105 (85)",100,"PP","No","ECWH(V)","ECWH12682JV","-","18 x 7"]
[null,null,null,null,null,null,null,null,null,null,null,null,null,null,null,null,null,null,null,null,null,null,null,null,null,null,null,null,null,null,null,null,null,null,null,null,null,null,null,null,null,null,null,null,null,null,null,18.5,7.5,"-25 to 105 (85)",500,"PP","No","ECWH(V)","ECWH12622RJV","-","18 x 6.5"]
[null,null,null,null,null,null,null,null,null,null,null,null,null,null,null,null,null,null,null,null,null,null,null,null,null,null,null,null,null,null,null,null,null,null,null,null,null,null,null,null,null,null,"± 3","-","-",18,6.5,13.5,15,"-25 to 105 (85)",100,"PP","No","ECWH(V)","ECWH12562HV","-","18 x 6.5"]
[null,null,null,null,null,null,null,null,null,null,null,null,null,null,null,null,null,null,null,null,null,null,null,null,null,null,null,null,null,null,null,null,null,null,null,null,null,null,null,null,null,null,null,null,null,null,null,18,7.5,"-25 to 105 (85)",500,"PP","No","ECWH(V)","ECWH12512RHV","-","18 x 6.5"]
[null,null,null,null,null,null,null,null,null,null,null,null,null,null,null,null,null,null,null,null,null,null,null,null,null,null,null,null,null,null,null,null,null,null,null,null,null,null,null,null,null,null,null,null,null,null,null,18,7.5,"-25 to 105 (85)",500,"PP","No","ECWH(V)","ECWH12432RHV","-","18 x 6"]
[null,null,null,null,null,null,null,null,null,null,null,null,null,null,null,null,null,null,null,null,null,null,null,null,null,null,null,null,null,null,null,null,null,null,null,null,null,null,null,null,null,null,null,null,null,null,null,null,10,"-40 to 105 (85)",100,"PET","No","ECQE(F)[DC]","ECQE12392KFB","-","15.5 x 6.5"]
[null,null,null,null,null,null,null,null,null,null,null,null,null,null,null,null,null,null,null,null,null,null,null,null,null,null,null,null,null,null,null,null,null,null,null,null,null,null,null,null,null,null,null,null,null,null,null,null,10,"-40 to 105 (85)",100,"PET","No","ECQE(F)[DC]","ECQE12332KFB","-","15.5 x 6"]
[null,null,null,null,null,null,null,null,null,null,null,null,null,null,null,null,null,null,null,null,null,null,null,null,null,null,null,null,null,null,null,null,null,null,null,null,null,null,null,null,null,null,null,null,null,null,null,19,7.5,"-25 to 105 (85)",500,"PP","No","ECWH(V)","ECWH12302RHV","-","18 x 7.5"]
[null,null,null,null,null,null,null,null,null,null,null,null,null,null,null,null,null,null,null,null,null,null,null,null,null,null,null,null,null,null,null,null,null,null,null,null,null,null,null,null,null,null,null,null,null,null,null,null,10,"-25 to 105 (85)",100,"PP","No","ECWH(V)","ECWH12272HVB","-","18 x 7"]
[null,null,null,null,null,null,null,null,null,null,null,null,null,null,null,null,null,null,null,null,null,null,null,null,null,null,null,null,null,null,null,null,null,null,null,null,null,null,null,null,null,null,null,null,null,null,null,19,7.5,"-25 to 105 (85)",500,"PP","No","ECWH(V)","ECWH12182RJV","-","18 x 7"]
[null,null,null,null,null,null,null,null,null,null,null,null,null,null,null,null,null,null,null,null,null,null,null,null,null,null,null,null,null,null,null,null,null,null,null,null,null,null,null,null,null,null,null,null,null,null,null,19,7.5,"-25 to 105 (85)",500,"PP","No","ECWH(V)","ECWH12182RHV","-","18 x 7"]
[null,null,null,null,null,null,null,null,null,null,null,null,null,null,null,null,null,null,null,null,null,null,null,null,null,null,null,null,null,null,null,null,null,null,null,null,null,null,null,null,null,null,"± 3","-","-",18,7,13.5,15,"-25 to 105 (85)",100,"PP","No","ECWH(V)","ECWH12122HV","-","18 x 7"]
[null,null,null,null,null,null,null,null,null,null,null,null,null,null,null,null,null,null,null,null,null,null,null,null,null,null,null,null,null,null,null,null,null,null,null,null,null,null,null,null,null,null,null,null,null,null,null,null,10,"-25 to 105 (85)",100,"PP","No","ECWH(V)","ECWH12102HVB","-","18 x 6.5"]
[null,null,null,null,null,null,null,null,null,null,null,null,null,null,null,null,null,null,null,null,null,null,null,null,null,null,null,null,null,null,null,null,null,null,null,null,null,null,null,null,null,0.18,"±10","-","-",26,10.5,22,22.5,"-40 to 105 (85)",100,"PET","No","ECQE(F)[DC]","ECQE10184KF","-","26 x 10.5"]
[null,null,null,null,null,null,null,null,null,null,null,null,null,null,null,null,null,null,null,null,null,null,null,null,null,null,null,null,null,null,null,null,null,null,null,null,null,null,null,null,null,null,"± 5","-","-",26,9,18.5,22.5,"-40 to 105 (85)",100,"PET","No","ECQE(F)[DC]","ECQE10124JF","-","26 x 9"]
[null,null,null,null,null,null,null,null,null,null,null,null,null,null,null,null,null,null,null,null,null,null,null,null,null,null,null,null,null,null,null,null,null,null,null,null,null,null,null,null,null,null,null,null,null,null,null,null,null,null,null,null,null,null,"ECQE10124JFW","-","26 x 9"]
[null,null,null,null,null,null,null,null,null,null,null,null,null,null,null,null,null,null,null,null,null,null,null,null,null,null,null,null,null,null,null,null,null,null,null,null,null,null,null,null,null,null,null,null,null,null,null,null,15,"-25 to 105 (85)",100,"PP","No","ECWH(V)","ECWH10913HVB","-","23 x 11.5"]
[null,null,null,null,null,null,null,null,null,null,null,null,null,null,null,null,null,null,null,null,null,null,null,null,null,null,null,null,null,null,null,null,null,null,null,null,null,null,null,null,null,null,null,null,null,null,null,23.5,12.5,"-40 to 105 (85)",100,"PET","No","ECQE(F)[DC]","ECQE10823JFB","-","21 x 9"]
[null,null,null,null,null,null,null,null,null,null,null,null,null,null,null,null,null,null,null,null,null,null,null,null,null,null,null,null,null,null,null,null,null,null,null,null,null,null,null,null,null,null,null,null,null,null,null,null,null,null,null,null,null,null,"ECQE10683JFW","-","21 x 8.5"]
[null,null,null,null,null,null,null,null,null,null,null,null,null,null,null,null,null,null,null,null,null,null,null,null,null,null,null,null,null,null,null,null,null,null,null,null,null,null,null,null,null,6.2E-2,"± 5","-","-",23,9.5,18,20,"-25 to 105 (85)",100,"PP","No","ECWH(V)","ECWH10623JV","-","23 x 9.5"]
[null,null,null,null,null,null,null,null,null,null,null,null,null,null,null,null,null,null,null,null,null,null,null,null,null,null,null,null,null,null,null,null,null,null,null,null,null,null,null,null,null,null,null,null,null,null,null,22.5,7.5,"-25 to 105 (85)",300,"PP","No","ECWH(V)","ECWH10563RHV","-","23 x 9.5"]
[null,null,null,null,null,null,null,null,null,null,null,null,null,null,null,null,null,null,null,null,null,null,null,null,null,null,null,null,null,null,null,null,null,null,null,null,null,null,null,null,null,null,null,null,null,null,null,22,7.5,"-25 to 105 (85)",400,"PP","No","ECWH(V)","ECWH10473RHV","-","23 x 8.5"]
[null,null,null,null,null,null,null,null,null,null,null,null,null,null,null,null,null,null,null,null,null,null,null,null,null,null,null,null,null,null,null,null,null,null,null,null,null,null,null,null,null,null,null,null,null,null,null,null,15,"-25 to 105 (85)",100,"PP","No","ECWH(V)","ECWH10433HVB","-","23 x 8.5"]
[null,null,null,null,null,null,null,null,null,null,null,null,null,null,null,null,null,null,null,null,null,null,null,null,null,null,null,null,null,null,null,null,null,null,null,null,null,null,null,null,null,null,null,null,null,null,null,21,7.5,"-25 to 105 (85)",400,"PP","No","ECWH(V)","ECWH10363RJV","-","23 x 7.5"]
[null,null,null,null,null,null,null,null,null,null,null,null,null,null,null,null,null,null,null,null,null,null,null,null,null,null,null,null,null,null,null,null,null,null,null,null,null,null,null,null,null,null,null,null,null,null,null,null,null,null,null,null,null,null,"ECQE10333KFW","-","21 x 6.5"]
[null,null,null,null,null,null,null,null,null,null,null,null,null,null,null,null,null,null,null,null,null,null,null,null,null,null,null,null,null,null,null,null,null,null,null,null,null,null,null,null,null,null,null,null,null,null,null,null,10,"-25 to 105 (85)",100,"PP","No","ECWH(V)","ECWH10303HVB","-","18 x 9.5"]
[null,null,null,null,null,null,null,null,null,null,null,null,null,null,null,null,null,null,null,null,null,null,null,null,null,null,null,null,null,null,null,null,null,null,null,null,null,null,null,null,null,null,null,null,null,null,null,null,10,"-25 to 105 (85)",100,"PP","No","ECWH(V)","ECWH10243HVB","-","18 x 8.5"]
[null,null,null,null,null,null,null,null,null,null,null,null,null,null,null,null,null,null,null,null,null,null,null,null,null,null,null,null,null,null,null,null,null,null,null,null,null,null,null,null,null,null,null,null,null,null,null,null,12.5,"-40 to 105 (85)",100,"PET","No","ECQE(F)[DC]","ECQE10223JFB","-","15.5 x 7.5"]
[null,null,null,null,null,null,null,null,null,null,null,null,null,null,null,null,null,null,null,null,null,null,null,null,null,null,null,null,null,null,null,null,null,null,null,null,null,null,null,null,null,null,null,null,null,null,null,null,12.5,"-40 to 105 (85)",100,"PET","No","ECQE(F)[DC]","ECQE10183KFB","-","15.5 x 7.5"]
[null,null,null,null,null,null,null,null,null,null,null,null,null,null,null,null,null,null,null,null,null,null,null,null,null,null,null,null,null,null,null,null,null,null,null,null,null,null,null,null,null,null,null,null,null,null,null,19.5,7.5,"-25 to 105 (85)",500,"PP","No","ECWH(V)","ECWH10183RJV","-","18 x 7.5"]
[null,null,null,null,null,null,null,null,null,null,null,null,null,null,null,null,null,null,null,null,null,null,null,null,null,null,null,null,null,null,null,null,null,null,null,null,null,null,null,null,null,null,null,null,null,null,null,null,12.5,"-40 to 105 (85)",100,"PET","No","ECQE(F)[DC]","ECQE10153KFB","-","15.5 x 7"]
[null,null,null,null,null,null,null,null,null,null,null,null,null,null,null,null,null,null,null,null,null,null,null,null,null,null,null,null,null,null,null,null,null,null,null,null,null,null,null,null,null,null,null,null,null,null,null,null,12.5,"-40 to 105 (85)",100,"PET","No","ECQE(F)[DC]","ECQE10123JFB","-","15.5 x 6"]
[null,null,null,null,null,null,null,null,null,null,null,null,null,null,null,null,null,null,null,null,null,null,null,null,null,null,null,null,null,null,null,null,null,null,null,null,null,null,null,null,null,null,null,null,null,null,null,null,10,"-25 to 105 (85)",100,"PP","No","ECWH(V)","ECWH10123HVB","-","18 x 6.5"]
[null,null,null,null,null,null,null,null,null,null,null,null,null,null,null,null,null,null,null,null,null,null,null,null,null,null,null,null,null,null,null,null,null,null,null,null,null,null,null,null,null,null,null,null,null,null,null,18,7.5,"-25 to 105 (85)",500,"PP","No","ECWH(V)","ECWH10103RJV","-","18 x 6.5"]
[null,null,null,null,null,null,null,null,null,null,null,null,null,null,null,null,null,null,null,null,null,null,null,null,null,null,null,null,null,null,null,null,null,null,null,null,null,null,null,null,null,null,null,null,null,null,null,null,10,"-25 to 105 (85)",100,"PP","No","ECWH(V)","ECWH10912JVB","-","18 x 6"]
[null,null,null,null,null,null,null,null,null,null,null,null,null,null,null,null,null,null,null,null,null,null,null,null,null,null,null,null,null,null,null,null,null,null,null,null,null,null,null,null,null,null,null,null,null,null,null,18.5,7.5,"-25 to 105 (85)",500,"PP","No","ECWH(V)","ECWH10682RHV","-","18 x 7"]
[null,null,null,null,null,null,null,null,null,null,null,null,null,null,null,null,null,null,null,null,null,null,null,null,null,null,null,null,null,null,null,null,null,null,null,null,null,null,null,null,null,null,null,null,null,null,null,18.5,7.5,"-25 to 105 (85)",500,"PP","No","ECWH(V)","ECWH10622RJV","-","18 x 6.5"]
[null,null,null,null,null,null,null,null,null,null,null,null,null,null,null,null,null,null,null,null,null,null,null,null,null,null,null,null,null,null,null,null,null,null,null,null,null,null,null,null,null,null,"± 3","-","-",18,6,13,15,"-25 to 105 (85)",100,"PP","No","ECWH(V)","ECWH10472HV","-","18 x 6"]
[null,null,null,null,null,null,null,null,null,null,null,null,null,null,null,null,null,null,null,null,null,null,null,null,null,null,null,null,null,null,null,null,null,null,null,null,null,null,null,null,null,null,null,null,null,null,null,null,10,"-25 to 105 (85)",100,"PP","No","ECWH(V)","ECWH10362JVB","-","18 x 6"]
[null,null,null,null,null,null,null,null,null,null,null,null,null,null,null,null,null,null,null,null,null,null,null,null,null,null,null,null,null,null,null,null,null,null,null,null,null,null,null,null,null,null,"± 3","-","-",18,7.5,14.5,15,"-25 to 105 (85)",100,"PP","No","ECWH(V)","ECWH10332HV","-","18 x 7.5"]
[null,null,null,null,null,null,null,null,null,null,null,null,null,null,null,null,null,null,null,null,null,null,null,null,null,null,null,null,null,null,null,null,null,null,null,null,null,null,null,null,null,null,null,null,null,null,null,null,10,"-25 to 105 (85)",100,"PP","No","ECWH(V)","ECWH10242HVB","-","18 x 7"]
[null,null,null,null,null,null,null,null,null,null,null,null,null,null,null,null,null,null,null,null,null,null,null,null,null,null,null,null,null,null,null,null,null,null,null,null,null,null,null,null,null,null,null,null,null,null,null,null,10,"-25 to 105 (85)",100,"PP","No","ECWH(V)","ECWH10222JVB","-","18 x 6.5"]
[null,null,null,null,null,null,null,null,null,null,null,null,null,null,null,null,null,null,null,null,null,null,null,null,null,null,null,null,null,null,null,null,null,null,null,null,null,null,null,null,null,null,null,null,null,null,null,18.5,7.5,"-25 to 105 (85)",500,"PP","No","ECWH(V)","ECWH10162RHV","-","18 x 7"]
[null,null,null,null,null,null,null,null,null,null,null,null,null,null,null,null,null,null,null,null,null,null,null,null,null,null,null,null,null,null,null,null,null,null,null,null,null,null,null,null,null,null,null,null,null,null,null,null,10,"-25 to 105 (85)",100,"PP","No","ECWH(V)","ECWH10152HVB","-","18 x 6.5"]
[null,null,null,null,null,null,null,null,null,null,null,null,null,null,null,null,null,null,null,null,null,null,null,null,null,null,null,null,null,null,null,null,null,null,null,null,null,null,null,null,null,null,null,null,null,null,null,18.5,7.5,"-25 to 105 (85)",500,"PP","No","ECWH(V)","ECWH10102RHV","-","18 x 6.5"]
[null,null,null,null,null,null,null,null,null,null,null,null,null,null,null,null,null,null,null,null,null,null,null,null,null,null,null,null,null,null,null,null,null,null,null,null,null,null,null,null,null,2.7E-2,"± 3","-","-",15.7,7.6,12,12.5,"-40 to 105 (85)",100,"PP","No","ECWH(A)","ECWH8273HA","-","15.7 x 7.6"]
[null,null,null,null,null,null,null,null,null,null,null,null,null,null,null,null,null,null,null,null,null,null,null,null,null,null,null,null,null,null,null,null,null,null,null,null,null,null,null,null,null,null,null,null,null,null,null,19,12.5,"-40 to 105 (85)",100,"PP","No","ECWH(A)","ECWH8273HAQ","-","15.7 x 7.6"]
[null,null,null,null,null,null,null,null,null,null,null,null,null,null,null,null,null,null,null,null,null,null,null,null,null,null,null,null,null,null,null,null,null,null,null,null,null,null,null,null,null,null,null,null,null,null,null,null,12.5,"-40 to 105 (85)",100,"PP","No","ECWH(A)","ECWH8123HAQ","-","15.4 x 5.8"]
[null,null,null,null,null,null,null,null,null,null,null,null,null,null,null,null,null,null,null,null,null,null,null,null,null,null,null,null,null,null,null,null,null,null,null,null,null,null,null,null,null,null,null,null,null,null,null,null,null,null,400,"PP","No","ECWFD","ECWFD2J475KC","-","25.3 x 18.3"]
[null,null,null,null,null,null,null,null,null,null,null,null,null,null,null,null,null,null,null,null,null,null,null,null,null,null,null,null,null,null,null,null,null,null,null,null,null,null,null,null,null,null,null,null,null,null,null,null,null,null,600,"PP","No","ECWFD","ECWFD2J335KC","-","25.3 x 15.3"]
[null,null,null,null,null,null,null,null,null,null,null,null,null,null,null,null,null,null,null,null,null,null,null,null,null,null,null,null,null,null,null,null,null,null,null,null,null,null,null,null,null,null,null,null,null,31,19.5,29,27.5,"-40 to 105 (85)",100,"PET","No","ECQE(F)[DC]","ECQE6225KF","-","31 x 19.5"]
[null,null,null,null,null,null,null,null,null,null,null,null,null,null,null,null,null,null,null,null,null,null,null,null,null,null,null,null,null,null,null,null,null,null,null,null,null,null,null,null,null,null,null,null,null,26,16.3,21.4,22.5,"-40 to 105 (85)",400,"PP","No","ECWF(A)","ECWFA2J225J","-","26 x 16.3"]
[null,null,null,null,null,null,null,null,null,null,null,null,null,null,null,null,null,null,null,null,null,null,null,null,null,null,null,null,null,null,null,null,null,null,null,null,null,null,null,null,null,null,null,null,null,31.5,16.8,27,27.5,"-40 to 105 (85)",100,"PET","No","ECQE(T)[DC]","ECQE6185KT","-","31.5 x 16.8"]
[null,null,null,null,null,null,null,null,null,null,null,null,null,null,null,null,null,null,null,null,null,null,null,null,null,null,null,null,null,null,null,null,null,null,null,null,null,null,null,null,null,null,null,null,null,null,null,null,null,null,null,null,null,null,"ECWFA2J185JC","-","26 x 14.8"]
[null,null,null,null,null,null,null,null,null,null,null,null,null,null,null,null,null,null,null,null,null,null,null,null,null,null,null,null,null,null,null,null,null,null,null,null,null,null,null,null,null,null,null,null,null,null,null,29.7,22.5,"-40 to 105 (85)",100,"PET","No","ECQE(T)[DC]","ECQE6155KTB","-","31.5 x 15.3"]
[null,null,null,null,null,null,null,null,null,null,null,null,null,null,null,null,null,null,null,null,null,null,null,null,null,null,null,null,null,null,null,null,null,null,null,null,null,null,null,null,null,null,null,null,null,null,null,23.6,15,"-40 to 105 (85)",600,"PP","No","ECWF(A)","ECWFA2J155JB","-","26 x 13.5"]
[null,null,null,null,null,null,null,null,null,null,null,null,null,null,null,null,null,null,null,null,null,null,null,null,null,null,null,null,null,null,null,null,null,null,null,null,null,null,null,null,null,null,"± 5","-","-",25.3,9.1999999999999993,14.3,22.5,"-40 to 105 (85)",1000,"PP","No","ECWFD","ECWFD2J125J","-","25.3 x 9.2"]
[null,null,null,null,null,null,null,null,null,null,null,null,null,null,null,null,null,null,null,null,null,null,null,null,null,null,null,null,null,null,null,null,null,null,null,null,null,null,null,null,null,null,null,null,null,28,17,23.7,25,"-40 to 105 (85)",100,"PP","No","ECWF(L)","ECWF6125JL","-","28 x 17"]
[null,null,null,null,null,null,null,null,null,null,null,null,null,null,null,null,null,null,null,null,null,null,null,null,null,null,null,null,null,null,null,null,null,null,null,null,null,null,null,null,null,null,null,null,null,null,null,21.1,7.5,"-40 to 105 (85)",1000,"PP","No","ECWFD","ECWFD2J105QB","-","17.8 x 11.2"]
[null,null,null,null,null,null,null,null,null,null,null,null,null,null,null,null,null,null,null,null,null,null,null,null,null,null,null,null,null,null,null,null,null,null,null,null,null,null,null,null,null,null,null,null,null,25.3,8.4,13.5,22.5,"-40 to 105 (85)",1000,"PP","No","ECWFD","ECWFD2J105J","-","25.3 x 8.4"]
[null,null,null,null,null,null,null,null,null,null,null,null,null,null,null,null,null,null,null,null,null,null,null,null,null,null,null,null,null,null,null,null,null,null,null,null,null,null,null,null,null,null,null,null,null,null,null,null,22.5,"-40 to 105 (85)",1000,"PP","No","ECWF(A)","ECWFA2J105JQ","-","26 x 11.1"]
[null,null,null,null,null,null,null,null,null,null,null,null,null,null,null,null,null,null,null,null,null,null,null,null,null,null,null,null,null,null,null,null,null,null,null,null,null,null,null,null,null,null,null,null,null,null,null,25.5,22.5,"-40 to 105 (85)",100,"PET","No","ECQE(F)[DC]","ECQE6824KFB","-","31 x 11.3"]
[null,null,null,null,null,null,null,null,null,null,null,null,null,null,null,null,null,null,null,null,null,null,null,null,null,null,null,null,null,null,null,null,null,null,null,null,null,null,null,null,null,null,null,null,null,null,null,25.5,22.5,"-40 to 105 (85)",100,"PET","No","ECQE(F)[DC]","ECQE6824JFB","-","31 x 11.3"]
[null,null,null,null,null,null,null,null,null,null,null,null,null,null,null,null,null,null,null,null,null,null,null,null,null,null,null,null,null,null,null,null,null,null,null,null,null,null,null,null,null,null,"± 3","-","-",28,13.9,20.5,25,"-40 to 105 (85)",100,"PP","No","ECWF(L)","ECWF6824HL","-","28 x 13.9"]
[null,null,null,null,null,null,null,null,null,null,null,null,null,null,null,null,null,null,null,null,null,null,null,null,null,null,null,null,null,null,null,null,null,null,null,null,null,null,null,null,null,null,null,null,null,26,11.5,21,22.5,"-40 to 105 (85)",100,"PET","No","ECQE(F)[DC]","ECQE6684KF","-","26 x 11.5"]
[null,null,null,null,null,null,null,null,null,null,null,null,null,null,null,null,null,null,null,null,null,null,null,null,null,null,null,null,null,null,null,null,null,null,null,null,null,null,null,null,null,null,null,null,null,null,null,26,15,"-40 to 105 (85)",100,"PET","No","ECQE(F)[DC]","ECQE6684JFB","-","26 x 11.5"]
[null,null,null,null,null,null,null,null,null,null,null,null,null,null,null,null,null,null,null,null,null,null,null,null,null,null,null,null,null,null,null,null,null,null,null,null,null,null,null,null,null,null,null,null,null,26.5,10,20,22.5,"-40 to 105 (85)",100,"PET","No","ECQE(T)[DC]","ECQE6564KT","-","26.5 x 10"]
[null,null,null,null,null,null,null,null,null,null,null,null,null,null,null,null,null,null,null,null,null,null,null,null,null,null,null,null,null,null,null,null,null,null,null,null,null,null,null,null,null,null,null,null,null,null,null,null,15,"-40 to 105 (85)",1000,"PP","No","ECWFD","ECWFD2J564J","-","17.8 x 8.4"]
[null,null,null,null,null,null,null,null,null,null,null,null,null,null,null,null,null,null,null,null,null,null,null,null,null,null,null,null,null,null,null,null,null,null,null,null,null,null,null,null,null,null,"± 3","-","-",28,11.1,17.3,25,"-40 to 105 (85)",100,"PP","No","ECWF(L)","ECWF6514HL","-","28 x 11.1"]
[null,null,null,null,null,null,null,null,null,null,null,null,null,null,null,null,null,null,null,null,null,null,null,null,null,null,null,null,null,null,null,null,null,null,null,null,null,null,null,null,null,null,null,null,null,26,9.3000000000000007,18.5,22.5,"-40 to 105 (85)",100,"PET","No","ECQE(F)[DC]","ECQE6474KF","-","26 x 9.3"]
[null,null,null,null,null,null,null,null,null,null,null,null,null,null,null,null,null,null,null,null,null,null,null,null,null,null,null,null,null,null,null,null,null,null,null,null,null,null,null,null,null,null,null,null,null,26.5,9.3000000000000007,18.5,22.5,"-40 to 105 (85)",100,"PET","No","ECQE(T)[DC]","ECQE6474JT","-","26.5 x 9.3"]
[null,null,null,null,null,null,null,null,null,null,null,null,null,null,null,null,null,null,null,null,null,null,null,null,null,null,null,null,null,null,null,null,null,null,null,null,null,null,null,null,null,null,null,null,null,null,null,null,null,null,null,null,null,null,"ECQE6394KFW","-","26 x 8.5"]
[null,null,null,null,null,null,null,null,null,null,null,null,null,null,null,null,null,null,null,null,null,null,null,null,null,null,null,null,null,null,null,null,null,null,null,null,null,null,null,null,null,null,"± 5","-","-",17.8,7.1,12,7.5,"-40 to 105 (85)",400,"PP","No","ECWFD","ECWFD2J394J4","-","17.8 x 7.1"]
[null,null,null,null,null,null,null,null,null,null,null,null,null,null,null,null,null,null,null,null,null,null,null,null,null,null,null,null,null,null,null,null,null,null,null,null,null,null,null,null,null,null,null,null,null,null,null,null,null,null,200,"PP","No","ECWF(L)","ECWF6394RHL","-","20.5 x 12.4"]
[null,null,null,null,null,null,null,null,null,null,null,null,null,null,null,null,null,null,null,null,null,null,null,null,null,null,null,null,null,null,null,null,null,null,null,null,null,null,null,null,null,0.33,"±10","-","-",17.8,6.6,11.5,7.5,"-40 to 105 (85)",400,"PP","No","ECWFD","ECWFD2J334K4","-","17.8 x 6.6"]
[null,null,null,null,null,null,null,null,null,null,null,null,null,null,null,null,null,null,null,null,null,null,null,null,null,null,null,null,null,null,null,null,null,null,null,null,null,null,null,null,null,null,null,null,null,null,null,null,null,null,null,null,null,null,"ECWFA2J334JC","-","18.2 x 8.5"]
[null,null,null,null,null,null,null,null,null,null,null,null,null,null,null,null,null,null,null,null,null,null,null,null,null,null,null,null,null,null,null,null,null,null,null,null,null,null,null,null,null,null,null,null,null,null,null,null,null,null,null,null,null,null,"ECWH6334HCC","-","20.7 x 14.7"]
[null,null,null,null,null,null,null,null,null,null,null,null,null,null,null,null,null,null,null,null,null,null,null,null,null,null,null,null,null,null,null,null,null,null,null,null,null,null,null,null,null,null,null,null,null,null,null,null,null,null,null,null,null,null,"ECWH6284HCC","-","20.7 x 14.3"]
[null,null,null,null,null,null,null,null,null,null,null,null,null,null,null,null,null,null,null,null,null,null,null,null,null,null,null,null,null,null,null,null,null,null,null,null,null,null,null,null,null,null,null,null,null,18.2,7.8,12.9,15,"-40 to 105 (85)",1000,"PP","No","ECWF(A)","ECWFA2J274J","-","18.2 x 7.8"]
[null,null,null,null,null,null,null,null,null,null,null,null,null,null,null,null,null,null,null,null,null,null,null,null,null,null,null,null,null,null,null,null,null,null,null,null,null,null,null,null,null,null,null,null,null,null,null,null,null,null,300,"PP","No","ECWF(L)","ECWF6274RJL","-","20.5 x 10.4"]
[null,null,null,null,null,null,null,null,null,null,null,null,null,null,null,null,null,null,null,null,null,null,null,null,null,null,null,null,null,null,null,null,null,null,null,null,null,null,null,null,null,null,null,null,null,null,null,null,null,null,200,"PP","No","ECWF(L)","ECWF6244RHL","-","18 x 11.2"]
[null,null,null,null,null,null,null,null,null,null,null,null,null,null,null,null,null,null,null,null,null,null,null,null,null,null,null,null,null,null,null,null,null,null,null,null,null,null,null,null,null,null,null,null,null,null,null,21.5,5,"-40 to 105 (85)",400,"PET","No","ECQE(F)[DC]","ECQE6224KF3","-","18.5 x 9"]
[null,null,null,null,null,null,null,null,null,null,null,null,null,null,null,null,null,null,null,null,null,null,null,null,null,null,null,null,null,null,null,null,null,null,null,null,null,null,null,null,null,null,null,null,null,null,null,21.5,5,"-40 to 105 (85)",400,"PET","No","ECQE(F)[DC]","ECQE6224JF3","-","18.5 x 9"]
[null,null,null,null,null,null,null,null,null,null,null,null,null,null,null,null,null,null,null,null,null,null,null,null,null,null,null,null,null,null,null,null,null,null,null,null,null,null,null,null,null,null,null,null,null,null,null,null,null,null,300,"PP","No","ECWF(L)","ECWF6204RHL","-","18 x 10.3"]
[null,null,null,null,null,null,null,null,null,null,null,null,null,null,null,null,null,null,null,null,null,null,null,null,null,null,null,null,null,null,null,null,null,null,null,null,null,null,null,null,null,null,null,null,null,null,null,21,5,"-40 to 105 (85)",500,"PET","No","ECQE(F)[DC]","ECQE6184KF3","-","18.5 x 8"]
[null,null,null,null,null,null,null,null,null,null,null,null,null,null,null,null,null,null,null,null,null,null,null,null,null,null,null,null,null,null,null,null,null,null,null,null,null,null,null,null,null,null,null,null,null,null,null,21,5,"-40 to 105 (85)",500,"PET","No","ECQE(F)[DC]","ECQE6184JF3","-","18.5 x 8"]
[null,null,null,null,null,null,null,null,null,null,null,null,null,null,null,null,null,null,null,null,null,null,null,null,null,null,null,null,null,null,null,null,null,null,null,null,null,null,null,null,null,null,null,null,null,null,null,null,null,null,null,null,null,null,"ECQE6184JFW","-","18.5 x 8"]
[null,null,null,null,null,null,null,null,null,null,null,null,null,null,null,null,null,null,null,null,null,null,null,null,null,null,null,null,null,null,null,null,null,null,null,null,null,null,null,null,null,null,null,null,null,18.5,7.5,15.4,15,"-40 to 105 (85)",100,"PET","No","ECQE(F)[DC]","ECQE6154KF","-","18.5 x 7.5"]
[null,null,null,null,null,null,null,null,null,null,null,null,null,null,null,null,null,null,null,null,null,null,null,null,null,null,null,null,null,null,null,null,null,null,null,null,null,null,null,null,null,null,null,null,null,null,null,null,null,null,null,null,null,null,"ECWFA2J154JC","-","18.2 x 6"]
[null,null,null,null,null,null,null,null,null,null,null,null,null,null,null,null,null,null,null,null,null,null,null,null,null,null,null,null,null,null,null,null,null,null,null,null,null,null,null,null,null,null,null,null,null,null,null,null,10,"-40 to 105 (85)",100,"PET","No","ECQE(F)[DC]","ECQE6154JFB","-","18.5 x 7.5"]
[null,null,null,null,null,null,null,null,null,null,null,null,null,null,null,null,null,null,null,null,null,null,null,null,null,null,null,null,null,null,null,null,null,null,null,null,null,null,null,null,null,null,null,null,null,null,null,null,null,null,300,"PP","No","ECWF(L)","ECWF6154RHL","-","18 x 9.1"]
[null,null,null,null,null,null,null,null,null,null,null,null,null,null,null,null,null,null,null,null,null,null,null,null,null,null,null,null,null,null,null,null,null,null,null,null,null,null,null,null,null,null,null,null,null,null,null,19.5,5,"-40 to 105 (85)",600,"PET","No","ECQE(T)[DC]","ECQE6124KT3","-","19 x 6.3"]
[null,null,null,null,null,null,null,null,null,null,null,null,null,null,null,null,null,null,null,null,null,null,null,null,null,null,null,null,null,null,null,null,null,null,null,null,null,null,null,null,null,null,null,null,null,null,null,19.5,5,"-40 to 105 (85)",600,"PET","No","ECQE(T)[DC]","ECQE6124JT3","-","19 x 6.3"]
[null,null,null,null,null,null,null,null,null,null,null,null,null,null,null,null,null,null,null,null,null,null,null,null,null,null,null,null,null,null,null,null,null,null,null,null,null,null,null,null,null,null,null,null,null,null,null,null,null,null,null,null,null,null,"ECWH6114HCC","-","20.7 x 9"]
[null,null,null,null,null,null,null,null,null,null,null,null,null,null,null,null,null,null,null,null,null,null,null,null,null,null,null,null,null,null,null,null,null,null,null,null,null,null,null,null,null,null,null,null,null,null,null,null,7.5,"-40 to 105 (85)",500,"PET","No","ECQE(F)[DC]","ECQE6104RKF","-","18.5 x 6.3"]
[null,null,null,null,null,null,null,null,null,null,null,null,null,null,null,null,null,null,null,null,null,null,null,null,null,null,null,null,null,null,null,null,null,null,null,null,null,null,null,null,null,null,"± 5","-","-",12.6,5.8,9.1999999999999993,7.5,"-40 to 105 (85)",1000,"PP","No","ECWFD","ECWFD2J104J4","-","12.6 x 5.8"]
[null,null,null,null,null,null,null,null,null,null,null,null,null,null,null,null,null,null,null,null,null,null,null,null,null,null,null,null,null,null,null,null,null,null,null,null,null,null,null,null,null,null,null,null,null,null,null,19,5,"-40 to 105 (85)",600,"PET","No","ECQE(T)[DC]","ECQE6104JT3","-","19 x 6.3"]
[null,null,null,null,null,null,null,null,null,null,null,null,null,null,null,null,null,null,null,null,null,null,null,null,null,null,null,null,null,null,null,null,null,null,null,null,null,null,null,null,null,null,null,null,null,null,null,null,7.5,"-40 to 105 (85)",500,"PET","No","ECQE(F)[DC]","ECQE6823RKF","-","18.5 x 6.5"]
[null,null,null,null,null,null,null,null,null,null,null,null,null,null,null,null,null,null,null,null,null,null,null,null,null,null,null,null,null,null,null,null,null,null,null,null,null,null,null,null,null,null,"± 5","-","-",12.6,5.4,8.6999999999999993,7.5,"-40 to 105 (85)",1000,"PP","No","ECWFD","ECWFD2J823J4","-","12.6 x 5.4"]
[null,null,null,null,null,null,null,null,null,null,null,null,null,null,null,null,null,null,null,null,null,null,null,null,null,null,null,null,null,null,null,null,null,null,null,null,null,null,null,null,null,null,null,null,null,null,null,17.399999999999999,7.5,"-40 to 105 (85)",100,"PP","No","ECWF(L)","ECWF6823HLB","-","15.5 x 8"]
[null,null,null,null,null,null,null,null,null,null,null,null,null,null,null,null,null,null,null,null,null,null,null,null,null,null,null,null,null,null,null,null,null,null,null,null,null,null,null,null,null,null,null,null,null,null,null,null,null,null,400,"PP","No","ECWF(L)","ECWF6753RHL","-","15.5 x 7.7"]
[null,null,null,null,null,null,null,null,null,null,null,null,null,null,null,null,null,null,null,null,null,null,null,null,null,null,null,null,null,null,null,null,null,null,null,null,null,null,null,null,null,null,null,null,null,15.5,7.4,11.8,12.5,"-40 to 105 (85)",100,"PP","No","ECWF(L)","ECWF6683JL","-","15.5 x 7.4"]
[null,null,null,null,null,null,null,null,null,null,null,null,null,null,null,null,null,null,null,null,null,null,null,null,null,null,null,null,null,null,null,null,null,null,null,null,null,null,null,null,null,null,null,null,null,null,null,null,null,null,400,"PP","No","ECWF(L)","ECWF6623RHL","-","15.5 x 7.1"]
[null,null,null,null,null,null,null,null,null,null,null,null,null,null,null,null,null,null,null,null,null,null,null,null,null,null,null,null,null,null,null,null,null,null,null,null,null,null,null,null,null,null,null,null,null,null,null,null,10,"-40 to 105 (85)",100,"PET","No","ECQE(F)[DC]","ECQE6563KFB","-","18.5 x 5.4"]
[null,null,null,null,null,null,null,null,null,null,null,null,null,null,null,null,null,null,null,null,null,null,null,null,null,null,null,null,null,null,null,null,null,null,null,null,null,null,null,null,null,null,null,null,null,19,5.4,10.5,15,"-40 to 105 (85)",100,"PET","No","ECQE(T)[DC]","ECQE6563JT","-","19 x 5.4"]
[null,null,null,null,null,null,null,null,null,null,null,null,null,null,null,null,null,null,null,null,null,null,null,null,null,null,null,null,null,null,null,null,null,null,null,null,null,null,null,null,null,5.0999999999999997E-2,"± 5","-","-",15.5,6.6,11,12.5,"-40 to 105 (85)",100,"PP","No","ECWF(L)","ECWF6513JL","-","15.5 x 6.6"]
[null,null,null,null,null,null,null,null,null,null,null,null,null,null,null,null,null,null,null,null,null,null,null,null,null,null,null,null,null,null,null,null,null,null,null,null,null,null,null,null,null,null,null,null,null,null,null,18.5,5,"-40 to 105 (85)",1000,"PET","No","ECQE(F)[DC]","ECQE6473JF3","-","12 x 6.5"]
[null,null,null,null,null,null,null,null,null,null,null,null,null,null,null,null,null,null,null,null,null,null,null,null,null,null,null,null,null,null,null,null,null,null,null,null,null,null,null,null,null,null,null,null,null,null,null,15.8,7.5,"-40 to 105 (85)",100,"PP","No","ECWF(L)","ECWF6473HLB","-","15.5 x 6.4"]
[null,null,null,null,null,null,null,null,null,null,null,null,null,null,null,null,null,null,null,null,null,null,null,null,null,null,null,null,null,null,null,null,null,null,null,null,null,null,null,null,null,null,null,null,null,null,null,null,null,null,800,"PP","No","ECWF(L)","ECWF6433RHL","-","13 x 7.9"]
[null,null,null,null,null,null,null,null,null,null,null,null,null,null,null,null,null,null,null,null,null,null,null,null,null,null,null,null,null,null,null,null,null,null,null,null,null,null,null,null,null,null,null,null,null,null,null,null,7.5,"-40 to 105 (85)",1000,"PET","No","ECQE(F)[DC]","ECQE6393RJF","-","12 x 6"]
[null,null,null,null,null,null,null,null,null,null,null,null,null,null,null,null,null,null,null,null,null,null,null,null,null,null,null,null,null,null,null,null,null,null,null,null,null,null,null,null,null,null,null,null,null,null,null,null,10,"-40 to 105 (85)",1000,"PP","No","ECWFD","ECWFD2J393JQ","-","12.6 x 8"]
[null,null,null,null,null,null,null,null,null,null,null,null,null,null,null,null,null,null,null,null,null,null,null,null,null,null,null,null,null,null,null,null,null,null,null,null,null,null,null,null,null,null,null,null,null,null,null,16.899999999999999,5,"-40 to 105 (85)",700,"PET","No","ECQE(T)[DC]","ECQE6333KT3","-","12.5 x 6"]
[null,null,null,null,null,null,null,null,null,null,null,null,null,null,null,null,null,null,null,null,null,null,null,null,null,null,null,null,null,null,null,null,null,null,null,null,null,null,null,null,null,null,null,null,null,12.6,7.5,15.5,7.5,"-40 to 105 (85)",1000,"PP","No","ECWFD","ECWFD2J333KB","-","12.6 x 7.5"]
[null,null,null,null,null,null,null,null,null,null,null,null,null,null,null,null,null,null,null,null,null,null,null,null,null,null,null,null,null,null,null,null,null,null,null,null,null,null,null,null,null,0.03,"± 5","-","-",13,6.9,9.6999999999999993,10,"-40 to 105 (85)",100,"PP","No","ECWF(L)","ECWF6303JL","-","13 x 6.9"]
[null,null,null,null,null,null,null,null,null,null,null,null,null,null,null,null,null,null,null,null,null,null,null,null,null,null,null,null,null,null,null,null,null,null,null,null,null,null,null,null,null,null,null,null,null,12.6,6.9,14.9,7.5,"-40 to 105 (85)",1000,"PP","No","ECWFD","ECWFD2J273KB","-","12.6 x 6.9"]
[null,null,null,null,null,null,null,null,null,null,null,null,null,null,null,null,null,null,null,null,null,null,null,null,null,null,null,null,null,null,null,null,null,null,null,null,null,null,null,null,null,null,null,null,null,null,null,null,null,null,null,null,null,null,"ECQE6273JFW","-","12 x 5.5"]
[null,null,null,null,null,null,null,null,null,null,null,null,null,null,null,null,null,null,null,null,null,null,null,null,null,null,null,null,null,null,null,null,null,null,null,null,null,null,null,null,null,2.1999999999999999E-2,"±10","-","-",12,5.3,10.5,10,"-40 to 105 (85)",100,"PET","No","ECQE(F)[DC]","ECQE6223KF","-","12 x 5.3"]
[null,null,null,null,null,null,null,null,null,null,null,null,null,null,null,null,null,null,null,null,null,null,null,null,null,null,null,null,null,null,null,null,null,null,null,null,null,null,null,null,null,null,null,null,null,null,null,null,null,null,null,null,null,null,"ECQE6223KFW","-","12 x 5.3"]
[null,null,null,null,null,null,null,null,null,null,null,null,null,null,null,null,null,null,null,null,null,null,null,null,null,null,null,null,null,null,null,null,null,null,null,null,null,null,null,null,null,null,null,null,null,12.6,6.4,14.4,7.5,"-40 to 105 (85)",1000,"PP","No","ECWFD","ECWFD2J223JB","-","12.6 x 6.4"]
[null,null,null,null,null,null,null,null,null,null,null,null,null,null,null,null,null,null,null,null,null,null,null,null,null,null,null,null,null,null,null,null,null,null,null,null,null,null,null,null,null,null,null,null,null,null,null,null,null,null,1000,"PP","No","ECWF(L)","ECWF6203RJL","-","12.5 x 6.5"]
[null,null,null,null,null,null,null,null,null,null,null,null,null,null,null,null,null,null,null,null,null,null,null,null,null,null,null,null,null,null,null,null,null,null,null,null,null,null,null,null,null,null,"± 5","-","-",12,4.9000000000000004,10,10,"-40 to 105 (85)",100,"PET","No","ECQE(F)[DC]","ECQE6183JF","-","12 x 4.9"]
[null,null,null,null,null,null,null,null,null,null,null,null,null,null,null,null,null,null,null,null,null,null,null,null,null,null,null,null,null,null,null,null,null,null,null,null,null,null,null,null,null,null,null,null,null,null,null,null,null,null,1100,"PP","No","ECWF(L)","ECWF6163RJL","-","12.5 x 6"]
[null,null,null,null,null,null,null,null,null,null,null,null,null,null,null,null,null,null,null,null,null,null,null,null,null,null,null,null,null,null,null,null,null,null,null,null,null,null,null,null,null,null,"± 3","-","-",12.5,6,8.9,10,"-40 to 105 (85)",100,"PP","No","ECWF(L)","ECWF6163HL","-","12.5 x 6"]
[null,null,null,null,null,null,null,null,null,null,null,null,null,null,null,null,null,null,null,null,null,null,null,null,null,null,null,null,null,null,null,null,null,null,null,null,null,null,null,null,null,null,null,null,null,null,null,null,7.5,"-40 to 105 (85)",1400,"PET","No","ECQE(T)[DC]","ECQE6153RJT","-","12.5 x 5"]
[null,null,null,null,null,null,null,null,null,null,null,null,null,null,null,null,null,null,null,null,null,null,null,null,null,null,null,null,null,null,null,null,null,null,null,null,null,null,null,null,null,null,"± 3","-","-",12.5,5.9,8.6999999999999993,10,"-40 to 105 (85)",100,"PP","No","ECWF(L)","ECWF6153HL","-","12.5 x 5.9"]
[null,null,null,null,null,null,null,null,null,null,null,null,null,null,null,null,null,null,null,null,null,null,null,null,null,null,null,null,null,null,null,null,null,null,null,null,null,null,null,null,null,null,null,null,null,null,null,null,7.5,"-40 to 105 (85)",1600,"PET","No","ECQE(T)[DC]","ECQE6123RKT","-","12.5 x 4.5"]
[null,null,null,null,null,null,null,null,null,null,null,null,null,null,null,null,null,null,null,null,null,null,null,null,null,null,null,null,null,null,null,null,null,null,null,null,null,null,null,null,null,null,null,null,null,null,null,null,10,"-40 to 105 (85)",100,"PET","No","ECQE(F)[DC]","ECQE6123JFB","-","12 x 4.5"]
[null,null,null,null,null,null,null,null,null,null,null,null,null,null,null,null,null,null,null,null,null,null,null,null,null,null,null,null,null,null,null,null,null,null,null,null,null,null,null,null,null,null,null,null,null,null,null,null,null,null,1200,"PP","No","ECWF(L)","ECWF6113RJL","-","12.5 x 5.4"]
[null,null,null,null,null,null,null,null,null,null,null,null,null,null,null,null,null,null,null,null,null,null,null,null,null,null,null,null,null,null,null,null,null,null,null,null,null,null,null,null,null,null,null,null,null,12.5,4.5,7.5,10,"-40 to 105 (85)",100,"PET","No","ECQE(T)[DC]","ECQE6103JT","-","12.5 x 4.5"]
[null,null,null,null,null,null,null,null,null,null,null,null,null,null,null,null,null,null,null,null,null,null,null,null,null,null,null,null,null,null,null,null,null,null,null,null,null,null,null,null,null,null,null,null,null,null,5.2,8,10,"-40 to 105 (85)",100,"PP","No","ECWF(L)","ECWF6103JL","-","12.5 x 5.2"]
[null,null,null,null,null,null,null,null,null,null,null,null,null,null,null,null,null,null,null,null,null,null,null,null,null,null,null,null,null,null,null,null,null,null,null,null,null,null,null,null,null,null,null,null,null,null,null,null,7.5,"-40 to 105 (85)",1000,"PET","No","ECQE(F)[DC]","ECQE6103RKF","-","12 x 4.9"]
[null,null,null,null,null,null,null,null,null,null,null,null,null,null,null,null,null,null,null,null,null,null,null,null,null,null,null,null,null,null,null,null,null,null,null,null,null,null,null,null,null,null,null,null,null,null,null,null,null,null,null,null,null,null,"ECQE6682JFW","-","12 x 4.9"]
[null,null,null,null,null,null,null,null,null,null,null,null,null,null,null,null,null,null,null,null,null,null,null,null,null,null,null,null,null,null,null,null,null,null,null,null,null,null,null,null,null,null,null,null,null,null,null,24.6,15,"-40 to 105 (85)",100,"PP","No","ECWF(A)","ECWF2W475KAB","-","26.3 x 13.8"]
[null,null,null,null,null,null,null,null,null,null,null,null,null,null,null,null,null,null,null,null,null,null,null,null,null,null,null,null,null,null,null,null,null,null,null,null,null,null,null,null,null,null,"± 5","-","-",25.3,10.7,15.4,22.5,"-40 to 110",800,"PP","No","ECWFD","ECWFD2W395J","-","25.3 x 10.7"]
[null,null,null,null,null,null,null,null,null,null,null,null,null,null,null,null,null,null,null,null,null,null,null,null,null,null,null,null,null,null,null,null,null,null,null,null,null,null,null,null,null,3.3,"±10","-","-",25.3,9.8000000000000007,14.6,22.5,"-40 to 110",800,"PP","No","ECWFD","ECWFD2W335K","-","25.3 x 9.8"]
[null,null,null,null,null,null,null,null,null,null,null,null,null,null,null,null,null,null,null,null,null,null,null,null,null,null,null,null,null,null,null,null,null,null,null,null,null,null,null,null,null,null,null,null,null,null,null,18.7,15,"-40 to 110",1000,"PP","No","ECWFD","ECWFD2W275KB","-","25.3 x 9"]
[null,null,null,null,null,null,null,null,null,null,null,null,null,null,null,null,null,null,null,null,null,null,null,null,null,null,null,null,null,null,null,null,null,null,null,null,null,null,null,null,null,null,null,null,null,null,null,23.5,22.5,"-40 to 105 (85)",100,"PP","No","ECWF(A)","ECWF2W275JAQ","-","26.3 x 10.6"]
[null,null,null,null,null,null,null,null,null,null,null,null,null,null,null,null,null,null,null,null,null,null,null,null,null,null,null,null,null,null,null,null,null,null,null,null,null,null,null,null,null,null,null,null,null,null,null,null,null,null,200,"PP","No","ECWF(A)","ECWF2W225RJA","-","18.8 x 12.8"]
[null,null,null,null,null,null,null,null,null,null,null,null,null,null,null,null,null,null,null,null,null,null,null,null,null,null,null,null,null,null,null,null,null,null,null,null,null,null,null,null,null,null,null,null,null,18.8,11.6,16.7,15,"-40 to 105 (85)",100,"PP","No","ECWF(A)","ECWF2W185JA","-","18.8 x 11.6"]
[null,null,null,null,null,null,null,null,null,null,null,null,null,null,null,null,null,null,null,null,null,null,null,null,null,null,null,null,null,null,null,null,null,null,null,null,null,null,null,null,null,null,null,null,null,null,null,null,null,null,1000,"PP","No","ECWFD","ECWFD2W155KB","-","17.5 x 9.3"]
[null,null,null,null,null,null,null,null,null,null,null,null,null,null,null,null,null,null,null,null,null,null,null,null,null,null,null,null,null,null,null,null,null,null,null,null,null,null,null,null,null,null,null,null,null,null,null,null,null,null,null,null,null,null,"ECWFD2W155JC","-","17.5 x 9.3"]
[null,null,null,null,null,null,null,null,null,null,null,null,null,null,null,null,null,null,null,null,null,null,null,null,null,null,null,null,null,null,null,null,null,null,null,null,null,null,null,null,null,null,null,null,null,null,null,21.7,15,"-40 to 105 (85)",100,"PP","No","ECWF(A)","ECWF2W125KAQ","-","18.8 x 9.7"]
[null,null,null,null,null,null,null,null,null,null,null,null,null,null,null,null,null,null,null,null,null,null,null,null,null,null,null,null,null,null,null,null,null,null,null,null,null,null,null,null,null,null,null,null,null,17.5,7.8,11,15,"-40 to 110",1000,"PP","No","ECWFD","ECWFD2W105K","-","17.5 x 7.8"]
[null,null,null,null,null,null,null,null,null,null,null,null,null,null,null,null,null,null,null,null,null,null,null,null,null,null,null,null,null,null,null,null,null,null,null,null,null,null,null,null,null,null,null,null,null,null,null,null,null,null,300,"PP","No","ECWF(A)","ECWF2W105RKA","-","18.1 x 9.3"]
[null,null,null,null,null,null,null,null,null,null,null,null,null,null,null,null,null,null,null,null,null,null,null,null,null,null,null,null,null,null,null,null,null,null,null,null,null,null,null,null,null,null,null,null,null,null,null,null,null,null,1000,"PP","No","ECWFD","ECWFD2W824KB","-","17.5 x 7.2"]
[null,null,null,null,null,null,null,null,null,null,null,null,null,null,null,null,null,null,null,null,null,null,null,null,null,null,null,null,null,null,null,null,null,null,null,null,null,null,null,null,null,null,null,null,null,null,null,null,null,null,null,null,null,null,"ECWFD2W824JC","-","17.5 x 7.2"]
[null,null,null,null,null,null,null,null,null,null,null,null,null,null,null,null,null,null,null,null,null,null,null,null,null,null,null,null,null,null,null,null,null,null,null,null,null,null,null,null,null,null,null,null,null,null,null,14.9,7.5,"-40 to 110",400,"PP","No","ECWFD","ECWFD2W684K4","-","17.5 x 6.7"]
[null,null,null,null,null,null,null,null,null,null,null,null,null,null,null,null,null,null,null,null,null,null,null,null,null,null,null,null,null,null,null,null,null,null,null,null,null,null,null,null,null,null,null,null,null,null,null,null,null,null,400,"PP","No","ECWF(A)","ECWF2W684RJA","-","18.1 x 7.5"]
[null,null,null,null,null,null,null,null,null,null,null,null,null,null,null,null,null,null,null,null,null,null,null,null,null,null,null,null,null,null,null,null,null,null,null,null,null,null,null,null,null,null,null,null,null,null,null,null,null,null,null,null,null,null,"ECWFD2W564KC","-","17.5 x 6.2"]
[null,null,null,null,null,null,null,null,null,null,null,null,null,null,null,null,null,null,null,null,null,null,null,null,null,null,null,null,null,null,null,null,null,null,null,null,null,null,null,null,null,null,null,null,null,13,8.6999999999999993,17.899999999999999,7.5,"-40 to 105 (85)",100,"PP","No","ECWF(A)","ECWF2W474KAB","-","13 x 8.7"]
[null,null,null,null,null,null,null,null,null,null,null,null,null,null,null,null,null,null,null,null,null,null,null,null,null,null,null,null,null,null,null,null,null,null,null,null,null,null,null,null,null,null,null,null,null,null,null,14,7.5,"-40 to 110",500,"PP","No","ECWFD","ECWFD2W474K4","-","17.5 x 5.8"]
[null,null,null,null,null,null,null,null,null,null,null,null,null,null,null,null,null,null,null,null,null,null,null,null,null,null,null,null,null,null,null,null,null,null,null,null,null,null,null,null,null,null,null,null,null,null,null,16,15,"-40 to 110",1000,"PP","No","ECWFD","ECWFD2W474JQ","-","17.5 x 5.8"]
[null,null,null,null,null,null,null,null,null,null,null,null,null,null,null,null,null,null,null,null,null,null,null,null,null,null,null,null,null,null,null,null,null,null,null,null,null,null,null,null,null,null,null,null,null,null,null,null,null,null,800,"PP","No","ECWF(A)","ECWF2W334RKA","-","13 x 7.6"]
[null,null,null,null,null,null,null,null,null,null,null,null,null,null,null,null,null,null,null,null,null,null,null,null,null,null,null,null,null,null,null,null,null,null,null,null,null,null,null,null,null,null,null,null,null,null,null,null,null,null,800,"PP","No","ECWF(A)","ECWF2W334RJA","-","13 x 7.6"]
[null,null,null,null,null,null,null,null,null,null,null,null,null,null,null,null,null,null,null,null,null,null,null,null,null,null,null,null,null,null,null,null,null,null,null,null,null,null,null,null,null,0.22,"±10","-","-",12.6,5,14.6,5,"-40 to 110",1400,"PP","No","ECWFD","ECWFD2W224K3","-","12.6 x 5"]
[null,null,null,null,null,null,null,null,null,null,null,null,null,null,null,null,null,null,null,null,null,null,null,null,null,null,null,null,null,null,null,null,null,null,null,null,null,null,null,null,null,null,null,null,null,null,null,null,7.5,"-40 to 110",1000,"PP","No","ECWFD","ECWFD2W184KB","-","12.6 x 4.8"]
[null,null,null,null,null,null,null,null,null,null,null,null,null,null,null,null,null,null,null,null,null,null,null,null,null,null,null,null,null,null,null,null,null,null,null,null,null,null,null,null,null,null,null,null,null,null,null,null,10,"-40 to 110",1000,"PP","No","ECWFD","ECWFD2W184JQ","-","12.6 x 4.8"]
[null,null,null,null,null,null,null,null,null,null,null,null,null,null,null,null,null,null,null,null,null,null,null,null,null,null,null,null,null,null,null,null,null,null,null,null,null,null,null,null,null,null,null,null,null,null,null,null,10,"-40 to 110",1000,"PP","No","ECWFD","ECWFD2W154KQ","-","12.6 x 4.6"]
[null,null,null,null,null,null,null,null,null,null,null,null,null,null,null,null,null,null,null,null,null,null,null,null,null,null,null,null,null,null,null,null,null,null,null,null,null,null,null,null,null,null,null,null,null,null,null,null,null,null,1400,"PP","No","ECWFD","ECWFD2W124J4","-","12.6 x 4.6"]
[null,null,null,null,null,null,null,null,null,null,null,null,null,null,null,null,null,null,null,null,null,null,null,null,null,null,null,null,null,null,null,null,null,null,null,null,null,null,null,null,null,null,null,null,null,13,5.0999999999999996,14.3,7.5,"-40 to 105 (85)",100,"PP","No","ECWF(A)","ECWF2W104JAB","-","13 x 5.1"]
[null,null,null,null,null,null,null,null,null,null,null,null,null,null,null,null,null,null,null,null,null,null,null,null,null,null,null,null,null,null,null,null,null,null,null,null,null,null,null,null,null,2.2000000000000002,"±10","-","-",31,11,22,27.5,"-40 to 105 (85)",100,"PET","No","ECQE(F)[DC]","ECQE4225KF","-","31 x 11"]
[null,null,null,null,null,null,null,null,null,null,null,null,null,null,null,null,null,null,null,null,null,null,null,null,null,null,null,null,null,null,null,null,null,null,null,null,null,null,null,null,null,null,"± 3","-","-",28,16,23.1,25,"-40 to 105 (85)",100,"PP","No","ECWF(L)","ECWF4205HL","-","28 x 16"]
[null,null,null,null,null,null,null,null,null,null,null,null,null,null,null,null,null,null,null,null,null,null,null,null,null,null,null,null,null,null,null,null,null,null,null,null,null,null,null,null,null,null,null,null,null,null,null,27.2,17.5,"-40 to 105 (85)",100,"PP","No","ECWF(L)","ECWF4185JLB","-","28 x 15.2"]
[null,null,null,null,null,null,null,null,null,null,null,null,null,null,null,null,null,null,null,null,null,null,null,null,null,null,null,null,null,null,null,null,null,null,null,null,null,null,null,null,null,null,null,null,null,null,null,24,22.5,"-40 to 105 (85)",100,"PET","No","ECQE(F)[DC]","ECQE4155JFB","-","31 x 9.5"]
[null,null,null,null,null,null,null,null,null,null,null,null,null,null,null,null,null,null,null,null,null,null,null,null,null,null,null,null,null,null,null,null,null,null,null,null,null,null,null,null,null,null,null,null,null,null,null,23.9,15,"-40 to 105 (85)",100,"PET","No","ECQE(F)[DC]","ECQE4125JFB","-","26 x 9.5"]
[null,null,null,null,null,null,null,null,null,null,null,null,null,null,null,null,null,null,null,null,null,null,null,null,null,null,null,null,null,null,null,null,null,null,null,null,null,null,null,null,null,null,null,null,null,null,null,24.1,17.5,"-40 to 105 (85)",100,"PP","No","ECWF(L)","ECWF4125HLB","-","28 x 12.3"]
[null,null,null,null,null,null,null,null,null,null,null,null,null,null,null,null,null,null,null,null,null,null,null,null,null,null,null,null,null,null,null,null,null,null,null,null,null,null,null,null,null,null,null,null,null,null,null,null,null,null,200,"PP","No","ECWF(L)","ECWF4105RHL","-","23 x 13"]
[null,null,null,null,null,null,null,null,null,null,null,null,null,null,null,null,null,null,null,null,null,null,null,null,null,null,null,null,null,null,null,null,null,null,null,null,null,null,null,null,null,null,null,null,null,null,null,null,null,null,200,"PP","No","ECWF(L)","ECWF4914RJL","-","23 x 12.4"]
[null,null,null,null,null,null,null,null,null,null,null,null,null,null,null,null,null,null,null,null,null,null,null,null,null,null,null,null,null,null,null,null,null,null,null,null,null,null,null,null,null,0.75,"± 5","-","-",20.5,12.3,19.100000000000001,17.5,"-40 to 105 (85)",100,"PP","No","ECWF(L)","ECWF4754JL","-","20.5 x 12.3"]
[null,null,null,null,null,null,null,null,null,null,null,null,null,null,null,null,null,null,null,null,null,null,null,null,null,null,null,null,null,null,null,null,null,null,null,null,null,null,null,null,null,null,"± 5","-","-",20.5,11.8,18.5,17.5,"-40 to 105 (85)",100,"PP","No","ECWF(L)","ECWF4684JL","-","20.5 x 11.8"]
[null,null,null,null,null,null,null,null,null,null,null,null,null,null,null,null,null,null,null,null,null,null,null,null,null,null,null,null,null,null,null,null,null,null,null,null,null,null,null,null,null,null,null,null,null,null,null,null,null,null,200,"PP","No","ECWF(L)","ECWF4624RJL","-","20.5 x 11.3"]
[null,null,null,null,null,null,null,null,null,null,null,null,null,null,null,null,null,null,null,null,null,null,null,null,null,null,null,null,null,null,null,null,null,null,null,null,null,null,null,null,null,null,null,null,null,26.5,6.5,16,22.5,"-40 to 105 (85)",100,"PET","No","ECQE(T)[DC]","ECQE4564KT","-","26.5 x 6.5"]
[null,null,null,null,null,null,null,null,null,null,null,null,null,null,null,null,null,null,null,null,null,null,null,null,null,null,null,null,null,null,null,null,null,null,null,null,null,null,null,null,null,null,"± 3","-","-",20.5,10.3,16.8,17.5,"-40 to 105 (85)",100,"PP","No","ECWF(L)","ECWF4514HL","-","20.5 x 10.3"]
[null,null,null,null,null,null,null,null,null,null,null,null,null,null,null,null,null,null,null,null,null,null,null,null,null,null,null,null,null,null,null,null,null,null,null,null,null,null,null,null,null,null,null,null,null,19,7.8,17,15,"-40 to 105 (85)",100,"PET","No","ECQE(T)[DC]","ECQE4474JT","-","19 x 7.8"]
[null,null,null,null,null,null,null,null,null,null,null,null,null,null,null,null,null,null,null,null,null,null,null,null,null,null,null,null,null,null,null,null,null,null,null,null,null,null,null,null,null,0.43,"± 5","-","-",18,10.7,15.6,15,"-40 to 105 (85)",100,"PP","No","ECWF(L)","ECWF4434JL","-","18 x 10.7"]
[null,null,null,null,null,null,null,null,null,null,null,null,null,null,null,null,null,null,null,null,null,null,null,null,null,null,null,null,null,null,null,null,null,null,null,null,null,null,null,null,null,null,null,null,null,null,null,20.100000000000001,10,"-40 to 105 (85)",100,"PP","No","ECWF(L)","ECWF4394JLB","-","18 x 10.3"]
[null,null,null,null,null,null,null,null,null,null,null,null,null,null,null,null,null,null,null,null,null,null,null,null,null,null,null,null,null,null,null,null,null,null,null,null,null,null,null,null,null,null,null,null,null,null,null,20.399999999999999,5,"-40 to 105 (85)",500,"PET","No","ECQE(T)[DC]","ECQE4394JT3","-","19 x 7.5"]
[null,null,null,null,null,null,null,null,null,null,null,null,null,null,null,null,null,null,null,null,null,null,null,null,null,null,null,null,null,null,null,null,null,null,null,null,null,null,null,null,null,null,null,null,null,null,null,null,null,null,null,null,null,null,"ECQE4334KFW","-","18.5 x 7"]
[null,null,null,null,null,null,null,null,null,null,null,null,null,null,null,null,null,null,null,null,null,null,null,null,null,null,null,null,null,null,null,null,null,null,null,null,null,null,null,null,null,0.3,"± 5","-","-",18,9.1999999999999993,13.9,15,"-40 to 105 (85)",100,"PP","No","ECWF(L)","ECWF4304JL","-","18 x 9.2"]
[null,null,null,null,null,null,null,null,null,null,null,null,null,null,null,null,null,null,null,null,null,null,null,null,null,null,null,null,null,null,null,null,null,null,null,null,null,null,null,null,null,null,null,null,null,null,null,19.3,5,"-40 to 105 (85)",500,"PET","No","ECQE(F)[DC]","ECQE4274KF3","-","18.5 x 6.5"]
[null,null,null,null,null,null,null,null,null,null,null,null,null,null,null,null,null,null,null,null,null,null,null,null,null,null,null,null,null,null,null,null,null,null,null,null,null,null,null,null,null,null,null,null,null,19,6.5,14.3,15,"-40 to 105 (85)",100,"PET","No","ECQE(T)[DC]","ECQE4274JT","-","19 x 6.5"]
[null,null,null,null,null,null,null,null,null,null,null,null,null,null,null,null,null,null,null,null,null,null,null,null,null,null,null,null,null,null,null,null,null,null,null,null,null,null,null,null,null,0.24,"± 5","-","-",18,8.3000000000000007,13,15,"-40 to 105 (85)",100,"PP","No","ECWF(L)","ECWF4244JL","-","18 x 8.3"]
[null,null,null,null,null,null,null,null,null,null,null,null,null,null,null,null,null,null,null,null,null,null,null,null,null,null,null,null,null,null,null,null,null,null,null,null,null,null,null,null,null,null,null,null,null,19,5.9,13,15,"-40 to 105 (85)",100,"PET","No","ECQE(T)[DC]","ECQE4224JT","-","19 x 5.9"]
[null,null,null,null,null,null,null,null,null,null,null,null,null,null,null,null,null,null,null,null,null,null,null,null,null,null,null,null,null,null,null,null,null,null,null,null,null,null,null,null,null,null,null,null,null,null,null,17.5,5,"-40 to 105 (85)",500,"PET","No","ECQE(F)[DC]","ECQE4184KF3","-","18.5 x 5.4"]
[null,null,null,null,null,null,null,null,null,null,null,null,null,null,null,null,null,null,null,null,null,null,null,null,null,null,null,null,null,null,null,null,null,null,null,null,null,null,null,null,null,null,null,null,null,null,null,null,10,"-40 to 105 (85)",100,"PET","No","ECQE(T)[DC]","ECQE4184KTB","-","19 x 5.4"]
[null,null,null,null,null,null,null,null,null,null,null,null,null,null,null,null,null,null,null,null,null,null,null,null,null,null,null,null,null,null,null,null,null,null,null,null,null,null,null,null,null,0.16,"± 5","-","-",15.5,7.8,12.4,12.5,"-40 to 105 (85)",100,"PP","No","ECWF(L)","ECWF4164JL","-","15.5 x 7.8"]
[null,null,null,null,null,null,null,null,null,null,null,null,null,null,null,null,null,null,null,null,null,null,null,null,null,null,null,null,null,null,null,null,null,null,null,null,null,null,null,null,null,null,null,null,null,null,null,17.399999999999999,5,"-40 to 105 (85)",500,"PET","No","ECQE(F)[DC]","ECQE4154KF3","-","18.5 x 5"]
[null,null,null,null,null,null,null,null,null,null,null,null,null,null,null,null,null,null,null,null,null,null,null,null,null,null,null,null,null,null,null,null,null,null,null,null,null,null,null,null,null,null,"± 3","-","-",15.5,7.6,12.2,12.5,"-40 to 105 (85)",100,"PP","No","ECWF(L)","ECWF4154HL","-","15.5 x 7.6"]
[null,null,null,null,null,null,null,null,null,null,null,null,null,null,null,null,null,null,null,null,null,null,null,null,null,null,null,null,null,null,null,null,null,null,null,null,null,null,null,null,null,null,null,null,null,null,null,15,5,"-40 to 105 (85)",800,"PET","No","ECQE(T)[DC]","ECQE4124KT3","-","19 x 5"]
[null,null,null,null,null,null,null,null,null,null,null,null,null,null,null,null,null,null,null,null,null,null,null,null,null,null,null,null,null,null,null,null,null,null,null,null,null,null,null,null,null,null,null,null,null,null,null,null,10,"-40 to 105 (85)",100,"PET","No","ECQE(F)[DC]","ECQE4124JFB","-","18.5 x 5"]
[null,null,null,null,null,null,null,null,null,null,null,null,null,null,null,null,null,null,null,null,null,null,null,null,null,null,null,null,null,null,null,null,null,null,null,null,null,null,null,null,null,null,null,null,null,null,null,17,5,"-40 to 105 (85)",500,"PET","No","ECQE(F)[DC]","ECQE4104KF3","-","12 x 6.3"]
[null,null,null,null,null,null,null,null,null,null,null,null,null,null,null,null,null,null,null,null,null,null,null,null,null,null,null,null,null,null,null,null,null,null,null,null,null,null,null,null,null,null,null,null,null,null,null,null,7.5,"-40 to 105 (85)",700,"PET","No","ECQE(T)[DC]","ECQE4104RKT","-","12.5 x 6.3"]
[null,null,null,null,null,null,null,null,null,null,null,null,null,null,null,null,null,null,null,null,null,null,null,null,null,null,null,null,null,null,null,null,null,null,null,null,null,null,null,null,null,null,null,null,null,null,null,null,null,null,800,"PP","No","ECWF(L)","ECWF4913RJL","-","13 x 7.8"]
[null,null,null,null,null,null,null,null,null,null,null,null,null,null,null,null,null,null,null,null,null,null,null,null,null,null,null,null,null,null,null,null,null,null,null,null,null,null,null,null,null,null,null,null,null,null,null,null,null,null,800,"PP","No","ECWF(L)","ECWF4913RHL","-","13 x 7.8"]
[null,null,null,null,null,null,null,null,null,null,null,null,null,null,null,null,null,null,null,null,null,null,null,null,null,null,null,null,null,null,null,null,null,null,null,null,null,null,null,null,null,null,null,null,null,null,null,null,10,"-40 to 105 (85)",100,"PET","No","ECQE(T)[DC]","ECQE4823JTB","-","12.5 x 5.8"]
[null,null,null,null,null,null,null,null,null,null,null,null,null,null,null,null,null,null,null,null,null,null,null,null,null,null,null,null,null,null,null,null,null,null,null,null,null,null,null,null,null,null,null,null,null,null,null,null,null,null,null,null,null,null,"ECQE4683KFW","-","12 x 5.4"]
[null,null,null,null,null,null,null,null,null,null,null,null,null,null,null,null,null,null,null,null,null,null,null,null,null,null,null,null,null,null,null,null,null,null,null,null,null,null,null,null,null,null,null,null,null,null,null,15.5,5,"-40 to 105 (85)",500,"PET","No","ECQE(F)[DC]","ECQE4683JF3","-","12 x 5.4"]
[null,null,null,null,null,null,null,null,null,null,null,null,null,null,null,null,null,null,null,null,null,null,null,null,null,null,null,null,null,null,null,null,null,null,null,null,null,null,null,null,null,null,null,null,null,null,null,null,null,null,900,"PP","No","ECWF(L)","ECWF4623RHL","-","13 x 6.8"]
[null,null,null,null,null,null,null,null,null,null,null,null,null,null,null,null,null,null,null,null,null,null,null,null,null,null,null,null,null,null,null,null,null,null,null,null,null,null,null,null,null,null,null,null,null,null,null,null,null,null,1000,"PET","No","ECQE(F)[DC]","ECQE4563KF9","-","12 x 5"]
[null,null,null,null,null,null,null,null,null,null,null,null,null,null,null,null,null,null,null,null,null,null,null,null,null,null,null,null,null,null,null,null,null,null,null,null,null,null,null,null,null,null,null,null,null,null,null,null,null,null,1000,"PP","No","ECWF(L)","ECWF4563RJL","-","12.5 x 6.6"]
[null,null,null,null,null,null,null,null,null,null,null,null,null,null,null,null,null,null,null,null,null,null,null,null,null,null,null,null,null,null,null,null,null,null,null,null,null,null,null,null,null,null,"± 3","-","-",12.5,6.4,9.1999999999999993,10,"-40 to 105 (85)",100,"PP","No","ECWF(L)","ECWF4513HL","-","12.5 x 6.4"]
[null,null,null,null,null,null,null,null,null,null,null,null,null,null,null,null,null,null,null,null,null,null,null,null,null,null,null,null,null,null,null,null,null,null,null,null,null,null,null,null,null,null,"± 5","-","-",12,5,8.3000000000000007,10,"-40 to 105 (85)",100,"PET","No","ECQE(F)[DC]","ECQE4473JF","-","12 x 5"]
[null,null,null,null,null,null,null,null,null,null,null,null,null,null,null,null,null,null,null,null,null,null,null,null,null,null,null,null,null,null,null,null,null,null,null,null,null,null,null,null,null,null,null,null,null,null,null,14,7.5,"-40 to 105 (85)",100,"PP","No","ECWF(L)","ECWF4473JLB","-","12.5 x 6.2"]
[null,null,null,null,null,null,null,null,null,null,null,null,null,null,null,null,null,null,null,null,null,null,null,null,null,null,null,null,null,null,null,null,null,null,null,null,null,null,null,null,null,null,null,null,null,null,null,null,null,null,null,null,null,null,"ECQE4393KFW","-","12 x 4.9"]
[null,null,null,null,null,null,null,null,null,null,null,null,null,null,null,null,null,null,null,null,null,null,null,null,null,null,null,null,null,null,null,null,null,null,null,null,null,null,null,null,null,null,null,null,null,null,null,null,null,null,1100,"PP","No","ECWF(L)","ECWF4393RHL","-","12.5 x 5.8"]
[null,null,null,null,null,null,null,null,null,null,null,null,null,null,null,null,null,null,null,null,null,null,null,null,null,null,null,null,null,null,null,null,null,null,null,null,null,null,null,null,null,3.3000000000000002E-2,"±10","-","-",10.3,6,9,7.5,"-40 to 105 (85)",100,"PET","No","ECQE(F)[DC]","ECQE4333KF","-","10.3 x 6"]
[null,null,null,null,null,null,null,null,null,null,null,null,null,null,null,null,null,null,null,null,null,null,null,null,null,null,null,null,null,null,null,null,null,null,null,null,null,null,null,null,null,null,null,null,null,10.8,6,9,7.5,"-40 to 105 (85)",100,"PET","No","ECQE(T)[DC]","ECQE4333JT","-","10.8 x 6"]
[null,null,null,null,null,null,null,null,null,null,null,null,null,null,null,null,null,null,null,null,null,null,null,null,null,null,null,null,null,null,null,null,null,null,null,null,null,null,null,null,null,null,"± 3","-","-",12.5,6.7,9.5,10,"-40 to 105 (85)",100,"PP","No","ECWF(L)","ECWF4333HL","-","12.5 x 6.7"]
[null,null,null,null,null,null,null,null,null,null,null,null,null,null,null,null,null,null,null,null,null,null,null,null,null,null,null,null,null,null,null,null,null,null,null,null,null,null,null,null,null,null,null,null,null,null,null,13,5,"-40 to 105 (85)",1500,"PET","No","ECQE(T)[DC]","ECQE4273KT3","-","10.8 x 5.5"]
[null,null,null,null,null,null,null,null,null,null,null,null,null,null,null,null,null,null,null,null,null,null,null,null,null,null,null,null,null,null,null,null,null,null,null,null,null,null,null,null,null,null,null,null,null,null,null,null,null,null,1100,"PP","No","ECWF(L)","ECWF4243RJL","-","12.5 x 6"]
[null,null,null,null,null,null,null,null,null,null,null,null,null,null,null,null,null,null,null,null,null,null,null,null,null,null,null,null,null,null,null,null,null,null,null,null,null,null,null,null,null,null,null,null,null,null,null,null,7.5,"-40 to 105 (85)",100,"PET","No","ECQE(F)[DC]","ECQE4223KFB","-","10.3 x 4.8"]
[null,null,null,null,null,null,null,null,null,null,null,null,null,null,null,null,null,null,null,null,null,null,null,null,null,null,null,null,null,null,null,null,null,null,null,null,null,null,null,null,null,null,null,null,null,null,null,null,null,null,1500,"PET","No","ECQE(T)[DC]","ECQE4223RJT","-","10.8 x 4.8"]
[null,null,null,null,null,null,null,null,null,null,null,null,null,null,null,null,null,null,null,null,null,null,null,null,null,null,null,null,null,null,null,null,null,null,null,null,null,null,null,null,null,1.7999999999999999E-2,"±10","-","-",10.3,4.4000000000000004,7.5,7.5,"-40 to 105 (85)",100,"PET","No","ECQE(F)[DC]","ECQE4183KF","-","10.3 x 4.4"]
[null,null,null,null,null,null,null,null,null,null,null,null,null,null,null,null,null,null,null,null,null,null,null,null,null,null,null,null,null,null,null,null,null,null,null,null,null,null,null,null,null,1.4999999999999999E-2,"±10","-","-",10.3,4.4000000000000004,7.5,7.5,"-40 to 105 (85)",100,"PET","No","ECQE(F)[DC]","ECQE4153KF","-","10.3 x 4.4"]
[null,null,null,null,null,null,null,null,null,null,null,null,null,null,null,null,null,null,null,null,null,null,null,null,null,null,null,null,null,null,null,null,null,null,null,null,null,null,null,null,null,null,null,null,null,10.8,4.4000000000000004,7.5,7.5,"-40 to 105 (85)",100,"PET","No","ECQE(T)[DC]","ECQE4153JT","-","10.8 x 4.4"]
[null,null,null,null,null,null,null,null,null,null,null,null,null,null,null,null,null,null,null,null,null,null,null,null,null,null,null,null,null,null,null,null,null,null,null,null,null,null,null,null,null,null,null,null,null,10.8,4.4000000000000004,7.5,7.5,"-40 to 105 (85)",100,"PET","No","ECQE(T)[DC]","ECQE4123KT","-","10.8 x 4.4"]
[null,null,null,null,null,null,null,null,null,null,null,null,null,null,null,null,null,null,null,null,null,null,null,null,null,null,null,null,null,null,null,null,null,null,null,null,null,null,null,null,null,0.01,"±10","-","-",10.3,4.3,7.4,7.5,"-40 to 105 (85)",100,"PET","No","ECQE(F)[DC]","ECQE4103KF","-","10.3 x 4.3"]
[null,null,null,null,null,null,null,null,null,null,null,null,null,null,null,null,null,null,null,null,null,null,null,null,null,null,null,null,null,null,null,null,null,null,null,null,null,null,null,null,null,null,null,null,null,null,null,12.4,5,"-40 to 105 (85)",1500,"PET","No","ECQE(T)[DC]","ECQE4103KT3","-","10.8 x 4.3"]
[null,null,null,null,null,null,null,null,null,null,null,null,null,null,null,null,null,null,null,null,null,null,null,null,null,null,null,null,null,null,null,null,null,null,null,null,null,null,null,null,null,null,null,null,null,null,null,null,null,null,null,null,null,null,"ECQE2106JFW","-","31 x 15.9"]
[null,null,null,null,null,null,null,null,null,null,null,null,null,null,null,null,null,null,null,null,null,null,null,null,null,null,null,null,null,null,null,null,null,null,null,null,null,null,null,null,null,8.1999999999999993,"±10","-","-",31,14.3,23.5,27.5,"-40 to 105 (85)",100,"PET","No","ECQE(F)[DC]","ECQE2825KF","-","31 x 14.3"]
[null,null,null,null,null,null,null,null,null,null,null,null,null,null,null,null,null,null,null,null,null,null,null,null,null,null,null,null,null,null,null,null,null,null,null,null,null,null,null,null,null,null,null,null,null,null,null,null,null,null,null,null,null,null,"ECQE2685JFW","-","31 x 13"]
[null,null,null,null,null,null,null,null,null,null,null,null,null,null,null,null,null,null,null,null,null,null,null,null,null,null,null,null,null,null,null,null,null,null,null,null,null,null,null,null,null,null,null,null,null,null,null,26,22.5,"-40 to 105 (85)",100,"PET","No","ECQE(F)[DC]","ECQE2565JFB","-","31 x 11.8"]
[null,null,null,null,null,null,null,null,null,null,null,null,null,null,null,null,null,null,null,null,null,null,null,null,null,null,null,null,null,null,null,null,null,null,null,null,null,null,null,null,null,null,null,null,null,null,null,null,7.5,"-40 to 105 (85)",200,"PET","No","ECQE(B)[DC]","ECQE2475RKB","-","20.8 x 11.9"]
[null,null,null,null,null,null,null,null,null,null,null,null,null,null,null,null,null,null,null,null,null,null,null,null,null,null,null,null,null,null,null,null,null,null,null,null,null,null,null,null,null,3.9,"±10","-","-",20.8,10.8,19.8,17.5,"-40 to 105 (85)",100,"PET","No","ECQE(B)[DC]","ECQE2395KB","-","20.8 x 10.8"]
[null,null,null,null,null,null,null,null,null,null,null,null,null,null,null,null,null,null,null,null,null,null,null,null,null,null,null,null,null,null,null,null,null,null,null,null,null,null,null,null,null,null,null,null,null,26,11,20.5,22.5,"-40 to 105 (85)",100,"PET","No","ECQE(F)[DC]","ECQE2395KF","-","26 x 11"]
[null,null,null,null,null,null,null,null,null,null,null,null,null,null,null,null,null,null,null,null,null,null,null,null,null,null,null,null,null,null,null,null,null,null,null,null,null,null,null,null,null,3.3,"±10","-","-",20.8,10.5,17.899999999999999,17.5,"-40 to 105 (85)",100,"PET","No","ECQE(B)[DC]","ECQE2335KB","-","20.8 x 10.5"]
[null,null,null,null,null,null,null,null,null,null,null,null,null,null,null,null,null,null,null,null,null,null,null,null,null,null,null,null,null,null,null,null,null,null,null,null,null,null,null,null,null,null,null,null,null,null,null,23,15,"-40 to 105 (85)",100,"PET","No","ECQE(T)[DC]","ECQE2335KTB","-","26.5 x 10.3"]
[null,null,null,null,null,null,null,null,null,null,null,null,null,null,null,null,null,null,null,null,null,null,null,null,null,null,null,null,null,null,null,null,null,null,null,null,null,null,null,null,null,null,null,null,null,null,null,25.3,20,"-40 to 105 (85)",500,"PP","No","ECWF(A)","ECWF2335HAQ","-","23.8 x 12.5"]
[null,null,null,null,null,null,null,null,null,null,null,null,null,null,null,null,null,null,null,null,null,null,null,null,null,null,null,null,null,null,null,null,null,null,null,null,null,null,null,null,null,null,null,null,null,null,null,22,15,"-40 to 105 (85)",100,"PET","No","ECQE(T)[DC]","ECQE2275KTB","-","26.5 x 9.4"]
[null,null,null,null,null,null,null,null,null,null,null,null,null,null,null,null,null,null,null,null,null,null,null,null,null,null,null,null,null,null,null,null,null,null,null,null,null,null,null,null,null,null,null,null,null,26,8.5,16.3,22.5,"-40 to 105 (85)",100,"PET","No","ECQE(F)[DC]","ECQE2225KF","-","26 x 8.5"]
[null,null,null,null,null,null,null,null,null,null,null,null,null,null,null,null,null,null,null,null,null,null,null,null,null,null,null,null,null,null,null,null,null,null,null,null,null,null,null,null,null,null,null,null,null,null,null,21.3,15,"-40 to 105 (85)",100,"PET","No","ECQE(T)[DC]","ECQE2225JTB","-","26.5 x 8.5"]
[null,null,null,null,null,null,null,null,null,null,null,null,null,null,null,null,null,null,null,null,null,null,null,null,null,null,null,null,null,null,null,null,null,null,null,null,null,null,null,null,null,null,null,null,null,null,null,null,7.5,"-40 to 105 (85)",400,"PET","No","ECQE(B)[DC]","ECQE2185RKB","-","20.8 x 7.6"]
[null,null,null,null,null,null,null,null,null,null,null,null,null,null,null,null,null,null,null,null,null,null,null,null,null,null,null,null,null,null,null,null,null,null,null,null,null,null,null,null,null,null,null,null,null,26.5,7.5,15.5,22.5,"-40 to 105 (85)",100,"PET","No","ECQE(T)[DC]","ECQE2185JT","-","26.5 x 7.5"]
[null,null,null,null,null,null,null,null,null,null,null,null,null,null,null,null,null,null,null,null,null,null,null,null,null,null,null,null,null,null,null,null,null,null,null,null,null,null,null,null,null,null,null,null,null,null,null,20.7,5,"-40 to 105 (85)",100,"PET","No","ECQE(B)[DC]","ECQE2155KBB","-","15.3 x 8.6"]
[null,null,null,null,null,null,null,null,null,null,null,null,null,null,null,null,null,null,null,null,null,null,null,null,null,null,null,null,null,null,null,null,null,null,null,null,null,null,null,null,null,null,null,null,null,null,null,20.7,5,"-40 to 105 (85)",100,"PET","No","ECQE(B)[DC]","ECQE2155JBB","-","15.3 x 8.6"]
[null,null,null,null,null,null,null,null,null,null,null,null,null,null,null,null,null,null,null,null,null,null,null,null,null,null,null,null,null,null,null,null,null,null,null,null,null,null,null,null,null,null,null,null,null,18.5,8,15.9,15,"-40 to 105 (85)",100,"PET","No","ECQE(F)[DC]","ECQE2125KF","-","18.5 x 8"]
[null,null,null,null,null,null,null,null,null,null,null,null,null,null,null,null,null,null,null,null,null,null,null,null,null,null,null,null,null,null,null,null,null,null,null,null,null,null,null,null,null,null,null,null,null,null,null,null,7.5,"-40 to 105 (85)",500,"PET","No","ECQE(T)[DC]","ECQE2125RKT","-","19 x 8"]
[null,null,null,null,null,null,null,null,null,null,null,null,null,null,null,null,null,null,null,null,null,null,null,null,null,null,null,null,null,null,null,null,null,null,null,null,null,null,null,null,null,null,null,null,null,null,null,20.9,5,"-40 to 105 (85)",500,"PET","No","ECQE(T)[DC]","ECQE2125JT3","-","19 x 8"]
[null,null,null,null,null,null,null,null,null,null,null,null,null,null,null,null,null,null,null,null,null,null,null,null,null,null,null,null,null,null,null,null,null,null,null,null,null,null,null,null,null,1,"±10","-","-",15.3,7,14,12.5,"-40 to 105 (85)",100,"PET","No","ECQE(B)[DC]","ECQE2105KB","-","15.3 x 7"]
[null,null,null,null,null,null,null,null,null,null,null,null,null,null,null,null,null,null,null,null,null,null,null,null,null,null,null,null,null,null,null,null,null,null,null,null,null,null,null,null,null,null,null,null,null,null,null,20.3,15,"-40 to 105 (85)",500,"PP","No","ECWF(A)","ECWF2105JAQ","-","18.1 x 8.5"]
[null,null,null,null,null,null,null,null,null,null,null,null,null,null,null,null,null,null,null,null,null,null,null,null,null,null,null,null,null,null,null,null,null,null,null,null,null,null,null,null,null,null,null,null,null,null,null,null,null,null,600,"PET","No","ECQE(B)[DC]","ECQE2824KB3","-","15.3 x 6.3"]
[null,null,null,null,null,null,null,null,null,null,null,null,null,null,null,null,null,null,null,null,null,null,null,null,null,null,null,null,null,null,null,null,null,null,null,null,null,null,null,null,null,null,null,null,null,19,6.5,14.5,15,"-40 to 105 (85)",100,"PET","No","ECQE(T)[DC]","ECQE2824KT","-","19 x 6.5"]
[null,null,null,null,null,null,null,null,null,null,null,null,null,null,null,null,null,null,null,null,null,null,null,null,null,null,null,null,null,null,null,null,null,null,null,null,null,null,null,null,null,null,null,null,null,null,null,null,null,null,500,"PP","No","ECWF(A)","ECWF2824HAB","-","18.1 x 8"]
[null,null,null,null,null,null,null,null,null,null,null,null,null,null,null,null,null,null,null,null,null,null,null,null,null,null,null,null,null,null,null,null,null,null,null,null,null,null,null,null,null,null,null,null,null,null,null,17.7,5,"-40 to 105 (85)",100,"PET","No","ECQE(B)[DC]","ECQE2684KBB","-","12.3 x 7.3"]
[null,null,null,null,null,null,null,null,null,null,null,null,null,null,null,null,null,null,null,null,null,null,null,null,null,null,null,null,null,null,null,null,null,null,null,null,null,null,null,null,null,null,null,null,null,null,null,18.5,5,"-40 to 105 (85)",500,"PET","No","ECQE(F)[DC]","ECQE2684JF3","-","18.5 x 6"]
[null,null,null,null,null,null,null,null,null,null,null,null,null,null,null,null,null,null,null,null,null,null,null,null,null,null,null,null,null,null,null,null,null,null,null,null,null,null,null,null,null,null,null,null,null,null,null,18,5,"-40 to 105 (85)",500,"PET","No","ECQE(F)[DC]","ECQE2564KF3","-","18.5 x 5.5"]
[null,null,null,null,null,null,null,null,null,null,null,null,null,null,null,null,null,null,null,null,null,null,null,null,null,null,null,null,null,null,null,null,null,null,null,null,null,null,null,null,null,null,null,null,null,null,null,null,10,"-40 to 105 (85)",100,"PET","No","ECQE(T)[DC]","ECQE2564KTB","-","19 x 5.5"]
[null,null,null,null,null,null,null,null,null,null,null,null,null,null,null,null,null,null,null,null,null,null,null,null,null,null,null,null,null,null,null,null,null,null,null,null,null,null,null,null,null,null,null,null,null,null,null,null,null,null,null,null,null,null,"ECQE2564JFW","-","18.5 x 5.5"]
[null,null,null,null,null,null,null,null,null,null,null,null,null,null,null,null,null,null,null,null,null,null,null,null,null,null,null,null,null,null,null,null,null,null,null,null,null,null,null,null,null,null,null,null,null,18.5,5.3,12.5,15,"-40 to 105 (85)",100,"PET","No","ECQE(F)[DC]","ECQE2474KF","-","18.5 x 5.3"]
[null,null,null,null,null,null,null,null,null,null,null,null,null,null,null,null,null,null,null,null,null,null,null,null,null,null,null,null,null,null,null,null,null,null,null,null,null,null,null,null,null,null,null,null,null,null,null,null,null,null,null,null,null,null,"ECQE2474JFW","-","18.5 x 5.3"]
[null,null,null,null,null,null,null,null,null,null,null,null,null,null,null,null,null,null,null,null,null,null,null,null,null,null,null,null,null,null,null,null,null,null,null,null,null,null,null,null,null,null,null,null,null,null,null,null,7.5,"-40 to 105 (85)",700,"PET","No","ECQE(T)[DC]","ECQE2474RJT","-","19 x 5.3"]
[null,null,null,null,null,null,null,null,null,null,null,null,null,null,null,null,null,null,null,null,null,null,null,null,null,null,null,null,null,null,null,null,null,null,null,null,null,null,null,null,null,null,null,null,null,null,null,null,null,null,1000,"PET","No","ECQE(B)[DC]","ECQE2394JB3","-","12.3 x 5.7"]
[null,null,null,null,null,null,null,null,null,null,null,null,null,null,null,null,null,null,null,null,null,null,null,null,null,null,null,null,null,null,null,null,null,null,null,null,null,null,null,null,null,null,null,null,null,null,null,null,7.5,"-40 to 105 (85)",500,"PET","No","ECQE(F)[DC]","ECQE2394RJF","-","18.5 x 4.9"]
[null,null,null,null,null,null,null,null,null,null,null,null,null,null,null,null,null,null,null,null,null,null,null,null,null,null,null,null,null,null,null,null,null,null,null,null,null,null,null,null,null,null,null,null,null,null,null,null,null,null,null,null,null,null,"ECQE2334KF9","-","12 x 6.5"]
[null,null,null,null,null,null,null,null,null,null,null,null,null,null,null,null,null,null,null,null,null,null,null,null,null,null,null,null,null,null,null,null,null,null,null,null,null,null,null,null,null,null,null,null,null,null,null,17,5,"-40 to 105 (85)",600,"PET","No","ECQE(T)[DC]","ECQE2334JT3","-","12.5 x 6.5"]
[null,null,null,null,null,null,null,null,null,null,null,null,null,null,null,null,null,null,null,null,null,null,null,null,null,null,null,null,null,null,null,null,null,null,null,null,null,null,null,null,null,0.27,"±10","-","-",10.3,5.9,10.8,7.5,"-40 to 105 (85)",100,"PET","No","ECQE(B)[DC]","ECQE2274KB","-","10.3 x 5.9"]
[null,null,null,null,null,null,null,null,null,null,null,null,null,null,null,null,null,null,null,null,null,null,null,null,null,null,null,null,null,null,null,null,null,null,null,null,null,null,null,null,null,null,null,null,null,null,null,null,null,null,1000,"PET","No","ECQE(B)[DC]","ECQE2274JB3","-","10.3 x 5.9"]
[null,null,null,null,null,null,null,null,null,null,null,null,null,null,null,null,null,null,null,null,null,null,null,null,null,null,null,null,null,null,null,null,null,null,null,null,null,null,null,null,null,null,null,null,null,null,null,null,null,null,null,null,null,null,"ECQE2274JFW","-","12 x 6"]
[null,null,null,null,null,null,null,null,null,null,null,null,null,null,null,null,null,null,null,null,null,null,null,null,null,null,null,null,null,null,null,null,null,null,null,null,null,null,null,null,null,null,null,null,null,12,5.5,10.5,10,"-40 to 105 (85)",100,"PET","No","ECQE(F)[DC]","ECQE2224KF","-","12 x 5.5"]
[null,null,null,null,null,null,null,null,null,null,null,null,null,null,null,null,null,null,null,null,null,null,null,null,null,null,null,null,null,null,null,null,null,null,null,null,null,null,null,null,null,null,null,null,null,null,null,null,null,null,null,null,null,null,"ECQE2224JFW","-","12 x 5.5"]
[null,null,null,null,null,null,null,null,null,null,null,null,null,null,null,null,null,null,null,null,null,null,null,null,null,null,null,null,null,null,null,null,null,null,null,null,null,null,null,null,null,null,null,null,null,null,null,null,10,"-40 to 105 (85)",500,"PP","No","ECWF(A)","ECWF2224JAQ","-","13 x 6.3"]
[null,null,null,null,null,null,null,null,null,null,null,null,null,null,null,null,null,null,null,null,null,null,null,null,null,null,null,null,null,null,null,null,null,null,null,null,null,null,null,null,null,null,null,null,null,12,5,10.3,10,"-40 to 105 (85)",100,"PET","No","ECQE(F)[DC]","ECQE2184KF","-","12 x 5"]
[null,null,null,null,null,null,null,null,null,null,null,null,null,null,null,null,null,null,null,null,null,null,null,null,null,null,null,null,null,null,null,null,null,null,null,null,null,null,null,null,null,null,null,null,null,null,null,null,null,null,1000,"PET","No","ECQE(F)[DC]","ECQE2184JF9","-","12 x 5"]
[null,null,null,null,null,null,null,null,null,null,null,null,null,null,null,null,null,null,null,null,null,null,null,null,null,null,null,null,null,null,null,null,null,null,null,null,null,null,null,null,null,null,null,null,null,null,null,null,null,null,1000,"PET","No","ECQE(F)[DC]","ECQE2154KF9","-","10.3 x 6"]
[null,null,null,null,null,null,null,null,null,null,null,null,null,null,null,null,null,null,null,null,null,null,null,null,null,null,null,null,null,null,null,null,null,null,null,null,null,null,null,null,null,null,null,null,null,null,null,null,null,null,1000,"PET","No","ECQE(F)[DC]","ECQE2154RKF","-","10.3 x 6"]
[null,null,null,null,null,null,null,null,null,null,null,null,null,null,null,null,null,null,null,null,null,null,null,null,null,null,null,null,null,null,null,null,null,null,null,null,null,null,null,null,null,null,null,null,null,null,null,null,null,null,1100,"PP","No","ECWF(A)","ECWF2154RJA","-","13 x 5.6"]
[null,null,null,null,null,null,null,null,null,null,null,null,null,null,null,null,null,null,null,null,null,null,null,null,null,null,null,null,null,null,null,null,null,null,null,null,null,null,null,null,null,null,null,null,null,null,null,14,5,"-40 to 105 (85)",1000,"PET","No","ECQE(T)[DC]","ECQE2124KT3","-","10.8 x 6"]
[null,null,null,null,null,null,null,null,null,null,null,null,null,null,null,null,null,null,null,null,null,null,null,null,null,null,null,null,null,null,null,null,null,null,null,null,null,null,null,null,null,null,null,null,null,null,null,null,null,null,1500,"PET","No","ECQE(B)[DC]","ECQE2124JB2","-","7.9 x 5.7"]
[null,null,null,null,null,null,null,null,null,null,null,null,null,null,null,null,null,null,null,null,null,null,null,null,null,null,null,null,null,null,null,null,null,null,null,null,null,null,null,null,null,null,null,null,null,null,null,13.4,5,"-40 to 105 (85)",500,"PET","No","ECQE(F)[DC]","ECQE2104KF3","-","10.3 x 5.8"]
[null,null,null,null,null,null,null,null,null,null,null,null,null,null,null,null,null,null,null,null,null,null,null,null,null,null,null,null,null,null,null,null,null,null,null,null,null,null,null,null,null,null,null,null,null,null,null,null,null,null,null,null,null,null,"ECQE2104KFW","-","10.3 x 5.8"]
[null,null,null,null,null,null,null,null,null,null,null,null,null,null,null,null,null,null,null,null,null,null,null,null,null,null,null,null,null,null,null,null,null,null,null,null,null,null,null,null,null,null,null,null,null,13,5,14.1,7.5,"-40 to 105 (85)",500,"PP","No","ECWF(A)","ECWF2104JAB","-","13 x 5"]
[null,null,null,null,null,null,null,null,null,null,null,null,null,null,null,null,null,null,null,null,null,null,null,null,null,null,null,null,null,null,null,null,null,null,null,null,null,null,null,null,null,null,null,null,null,10.8,4.9000000000000004,8,7.5,"-40 to 105 (85)",100,"PET","No","ECQE(T)[DC]","ECQE2823KT","-","10.8 x 4.9"]
[null,null,null,null,null,null,null,null,null,null,null,null,null,null,null,null,null,null,null,null,null,null,null,null,null,null,null,null,null,null,null,null,null,null,null,null,null,null,null,null,null,null,null,null,null,null,null,null,null,null,1500,"PET","No","ECQE(B)[DC]","ECQE2823JB3","-","7.9 x 5.4"]
[null,null,null,null,null,null,null,null,null,null,null,null,null,null,null,null,null,null,null,null,null,null,null,null,null,null,null,null,null,null,null,null,null,null,null,null,null,null,null,null,null,null,null,null,null,null,null,null,null,null,1000,"PET","No","ECQE(F)[DC]","ECQE2683RKF","-","10.3 x 4.5"]
[null,null,null,null,null,null,null,null,null,null,null,null,null,null,null,null,null,null,null,null,null,null,null,null,null,null,null,null,null,null,null,null,null,null,null,null,null,null,null,null,null,null,null,null,null,null,null,13,5,"-40 to 105 (85)",100,"PET","No","ECQE(B)[DC]","ECQE2683JBB","-","7.9 x 5.1"]
[null,null,null,null,null,null,null,null,null,null,null,null,null,null,null,null,null,null,null,null,null,null,null,null,null,null,null,null,null,null,null,null,null,null,null,null,null,null,null,null,null,null,null,null,null,null,null,12.9,5,"-40 to 105 (85)",1000,"PET","No","ECQE(F)[DC]","ECQE2563KF3","-","10.3 x 4.8"]
[null,null,null,null,null,null,null,null,null,null,null,null,null,null,null,null,null,null,null,null,null,null,null,null,null,null,null,null,null,null,null,null,null,null,null,null,null,null,null,null,null,null,null,null,null,null,null,null,7.5,"-40 to 105 (85)",100,"PET","No","ECQE(T)[DC]","ECQE2563KTB","-","10.8 x 4.8"]
[null,null,null,null,null,null,null,null,null,null,null,null,null,null,null,null,null,null,null,null,null,null,null,null,null,null,null,null,null,null,null,null,null,null,null,null,null,null,null,null,null,4.7E-2,"±10","-","-",7.9,4.5,7.4,5,"-40 to 105 (85)",100,"PET","No","ECQE(B)[DC]","ECQE2473KB","-","7.9 x 4.5"]
[null,null,null,null,null,null,null,null,null,null,null,null,null,null,null,null,null,null,null,null,null,null,null,null,null,null,null,null,null,null,null,null,null,null,null,null,null,null,null,null,null,null,null,null,null,null,null,null,7.5,"-40 to 105 (85)",100,"PET","No","ECQE(F)[DC]","ECQE2473KFB","-","10.3 x 4.5"]
[null,null,null,null,null,null,null,null,null,null,null,null,null,null,null,null,null,null,null,null,null,null,null,null,null,null,null,null,null,null,null,null,null,null,null,null,null,null,null,null,null,null,null,null,null,null,null,null,null,null,1000,"PET","No","ECQE(F)[DC]","ECQE2473RJF","-","10.3 x 4.5"]
[null,null,null,null,null,null,null,null,null,null,null,null,null,null,null,null,null,null,null,null,null,null,null,null,null,null,null,null,null,null,null,null,null,null,null,null,null,null,null,null,null,null,null,null,null,null,null,null,7.5,"-40 to 105 (85)",100,"PET","No","ECQE(T)[DC]","ECQE2393KTB","-","10.8 x 4.5"]
[null,null,null,null,null,null,null,null,null,null,null,null,null,null,null,null,null,null,null,null,null,null,null,null,null,null,null,null,null,null,null,null,null,null,null,null,null,null,null,null,null,null,null,null,null,10.8,4.5,7.5,7.5,"-40 to 105 (85)",100,"PET","No","ECQE(T)[DC]","ECQE2393JT","-","10.8 x 4.5"]
[null,null,null,null,null,null,null,null,null,null,null,null,null,null,null,null,null,null,null,null,null,null,null,null,null,null,null,null,null,null,null,null,null,null,null,null,null,null,null,null,null,null,null,null,null,null,null,null,7.5,"-40 to 105 (85)",100,"PET","No","ECQE(T)[DC]","ECQE2333KTB","-","10.8 x 4.5"]
[null,null,null,null,null,null,null,null,null,null,null,null,null,null,null,null,null,null,null,null,null,null,null,null,null,null,null,null,null,null,null,null,null,null,null,null,null,null,null,null,null,null,null,null,null,null,null,12.5,5,"-40 to 105 (85)",1000,"PET","No","ECQE(F)[DC]","ECQE2333JF3","-","10.3 x 4.5"]
[null,null,null,null,null,null,null,null,null,null,null,null,null,null,null,null,null,null,null,null,null,null,null,null,null,null,null,null,null,null,null,null,null,null,null,null,null,null,null,null,null,null,null,null,null,null,null,12.5,5,"-40 to 105 (85)",1500,"PET","No","ECQE(T)[DC]","ECQE2273KT3","-","10.8 x 4.4"]
[null,null,null,null,null,null,null,null,null,null,null,null,null,null,null,null,null,null,null,null,null,null,null,null,null,null,null,null,null,null,null,null,null,null,null,null,null,null,null,null,null,null,null,null,null,null,null,null,null,null,1500,"PET","No","ECQE(T)[DC]","ECQE2273RJT","-","10.8 x 4.4"]
[null,null,null,null,null,null,null,null,null,null,null,null,null,null,null,null,null,null,null,null,null,null,null,null,null,null,null,null,null,null,null,null,null,null,null,null,null,null,null,null,null,null,null,null,null,null,null,null,null,null,null,null,null,null,"ECQE2223KF9","-","10.3 x 4.4"]
[null,null,null,null,null,null,null,null,null,null,null,null,null,null,null,null,null,null,null,null,null,null,null,null,null,null,null,null,null,null,null,null,null,null,null,null,null,null,null,null,null,null,null,null,null,null,null,12.5,5,"-40 to 105 (85)",1500,"PET","No","ECQE(T)[DC]","ECQE2223JT3","-","10.8 x 4.4"]
[null,null,null,null,null,null,null,null,null,null,null,null,null,null,null,null,null,null,null,null,null,null,null,null,null,null,null,null,null,null,null,null,null,null,null,null,null,null,null,null,null,null,null,null,null,null,null,12.2,5,"-40 to 105 (85)",100,"PET","No","ECQE(B)[DC]","ECQE2183KBB","-","7.9 x 4.3"]
[null,null,null,null,null,null,null,null,null,null,null,null,null,null,null,null,null,null,null,null,null,null,null,null,null,null,null,null,null,null,null,null,null,null,null,null,null,null,null,null,null,null,null,null,null,null,null,null,null,null,null,null,null,null,"ECQE2183JFW","-","10.3 x 4.4"]
[null,null,null,null,null,null,null,null,null,null,null,null,null,null,null,null,null,null,null,null,null,null,null,null,null,null,null,null,null,null,null,null,null,null,null,null,null,null,null,null,null,null,null,null,null,10.8,4.4000000000000004,7.5,7.5,"-40 to 105 (85)",100,"PET","No","ECQE(T)[DC]","ECQE2153KT","-","10.8 x 4.4"]
[null,null,null,null,null,null,null,null,null,null,null,null,null,null,null,null,null,null,null,null,null,null,null,null,null,null,null,null,null,null,null,null,null,null,null,null,null,null,null,null,null,null,null,null,null,null,null,null,null,null,2000,"PET","No","ECQE(B)[DC]","ECQE2153JB3","-","7.9 x 4.2"]
[null,null,null,null,null,null,null,null,null,null,null,null,null,null,null,null,null,null,null,null,null,null,null,null,null,null,null,null,null,null,null,null,null,null,null,null,null,null,null,null,null,null,null,null,null,null,null,12.5,5,"-40 to 105 (85)",1000,"PET","No","ECQE(F)[DC]","ECQE2123KF3","-","10.3 x 4.4"]
[null,null,null,null,null,null,null,null,null,null,null,null,null,null,null,null,null,null,null,null,null,null,null,null,null,null,null,null,null,null,null,null,null,null,null,null,null,null,null,null,null,null,null,null,null,null,null,null,7.5,"-40 to 105 (85)",100,"PET","No","ECQE(T)[DC]","ECQE2123KTB","-","10.8 x 4.4"]
[null,null,null,null,null,null,null,null,null,null,null,null,null,null,null,null,null,null,null,null,null,null,null,null,null,null,null,null,null,null,null,null,null,null,null,null,null,null,null,null,null,null,null,null,null,null,null,null,null,null,null,null,null,null,"ECQE2103KF9","-","10.3 x 4.3"]
[null,null,null,null,null,null,null,null,null,null,null,null,null,null,null,null,null,null,null,null,null,null,null,null,null,null,null,null,null,null,null,null,null,null,null,null,null,null,null,null,null,null,null,null,null,null,null,null,null,null,null,null,null,null,"ECQE2103KFW","-","10.3 x 4.3"]
[null,null,null,null,null,null,null,null,null,null,null,null,null,null,null,null,null,null,null,null,null,null,null,null,null,null,null,null,null,null,null,null,null,null,null,null,null,null,null,null,"AC",0.47,"±10","-","-",26,9.3000000000000007,18.5,22.5,"-40 to 85",100,"PET","No","ECQE(F)[AC]","ECQE2A474KF","-","26 x 9.3"]
[null,null,null,null,null,null,null,null,null,null,null,null,null,null,null,null,null,null,null,null,null,null,null,null,null,null,null,null,null,null,null,null,null,null,null,null,null,null,null,null,null,null,null,null,null,null,null,null,null,null,null,null,null,null,"ECQE2A474JFW","-","26 x 9.3"]
[null,null,null,null,null,null,null,null,null,null,null,null,null,null,null,null,null,null,null,null,null,null,null,null,null,null,null,null,null,null,null,null,null,null,null,null,null,null,null,null,null,null,null,null,null,26.5,7.8,17,22.5,"-40 to 85",100,"PET","No","ECQE(T)[AC]","ECQE2A334KT","-","26.5 x 7.8"]
[null,null,null,null,null,null,null,null,null,null,null,null,null,null,null,null,null,null,null,null,null,null,null,null,null,null,null,null,null,null,null,null,null,null,null,null,null,null,null,null,null,null,null,null,null,null,null,null,null,null,null,null,null,null,"ECQE2A224KFW","-","18.5 x 9"]
[null,null,null,null,null,null,null,null,null,null,null,null,null,null,null,null,null,null,null,null,null,null,null,null,null,null,null,null,null,null,null,null,null,null,null,null,null,null,null,null,null,null,"± 5","-","-",18.5,9,16.899999999999999,15,"-40 to 85",100,"PET","No","ECQE(F)[AC]","ECQE2A224JF","-","18.5 x 9"]
[null,null,null,null,null,null,null,null,null,null,null,null,null,null,null,null,null,null,null,null,null,null,null,null,null,null,null,null,null,null,null,null,null,null,null,null,null,null,null,null,null,null,null,null,null,null,null,null,10,"-40 to 85",100,"PET","No","ECQE(T)[AC]","ECQE2A184JTB","-","19 x 8"]
[null,null,null,null,null,null,null,null,null,null,null,null,null,null,null,null,null,null,null,null,null,null,null,null,null,null,null,null,null,null,null,null,null,null,null,null,null,null,null,null,null,null,null,null,null,null,null,null,10,"-40 to 85",100,"PET","No","ECQE(T)[AC]","ECQE2A154KTB","-","19 x 7.5"]
[null,null,null,null,null,null,null,null,null,null,null,null,null,null,null,null,null,null,null,null,null,null,null,null,null,null,null,null,null,null,null,null,null,null,null,null,null,null,null,null,null,null,null,null,null,null,null,19.5,7.5,"-40 to 85",500,"PET","No","ECQE(F)[AC]","ECQE2A124RJF","-","18.5 x 6.8"]
[null,null,null,null,null,null,null,null,null,null,null,null,null,null,null,null,null,null,null,null,null,null,null,null,null,null,null,null,null,null,null,null,null,null,null,null,null,null,null,null,null,8.2000000000000003E-2,"±10","-","-",18.5,6.3,12,15,"-40 to 85",100,"PET","No","ECQE(F)[AC]","ECQE2A823KF","-","18.5 x 6.3"]
[null,null,null,null,null,null,null,null,null,null,null,null,null,null,null,null,null,null,null,null,null,null,null,null,null,null,null,null,null,null,null,null,null,null,null,null,null,null,null,null,null,null,null,null,null,null,null,null,null,null,null,null,null,null,"ECQE2A823KFW","-","18.5 x 6.3"]
[null,null,null,null,null,null,null,null,null,null,null,null,null,null,null,null,null,null,null,null,null,null,null,null,null,null,null,null,null,null,null,null,null,null,null,null,null,null,null,null,null,null,null,null,null,null,null,null,10,"-40 to 85",100,"PET","No","ECQE(F)[AC]","ECQE2A683JFB","-","18.5 x 5.8"]
[null,null,null,null,null,null,null,null,null,null,null,null,null,null,null,null,null,null,null,null,null,null,null,null,null,null,null,null,null,null,null,null,null,null,null,null,null,null,null,null,null,null,null,null,null,null,null,null,10,"-40 to 85",100,"PET","No","ECQE(F)[AC]","ECQE2A563KFB","-","18.5 x 5.4"]
[null,null,null,null,null,null,null,null,null,null,null,null,null,null,null,null,null,null,null,null,null,null,null,null,null,null,null,null,null,null,null,null,null,null,null,null,null,null,null,null,null,null,null,null,null,null,null,19.399999999999999,5,"-40 to 85",600,"PET","No","ECQE(T)[AC]","ECQE2A473KT6","-","13 x 6.5"]
[null,null,null,null,null,null,null,null,null,null,null,null,null,null,null,null,null,null,null,null,null,null,null,null,null,null,null,null,null,null,null,null,null,null,null,null,null,null,null,null,null,null,null,null,null,null,null,19.399999999999999,5,"-40 to 85",600,"PET","No","ECQE(T)[AC]","ECQE2A473JT6","-","13 x 6.5"]
[null,null,null,null,null,null,null,null,null,null,null,null,null,null,null,null,null,null,null,null,null,null,null,null,null,null,null,null,null,null,null,null,null,null,null,null,null,null,null,null,null,null,null,null,null,null,null,null,null,null,null,null,null,null,"ECQE2A333KFW","-","12.5 x 6"]
[null,null,null,null,null,null,null,null,null,null,null,null,null,null,null,null,null,null,null,null,null,null,null,null,null,null,null,null,null,null,null,null,null,null,null,null,null,null,null,null,null,null,null,null,null,null,null,null,null,null,null,null,null,null,"ECQE2A273KFW","-","12.5 x 5.5"]
[null,null,null,null,null,null,null,null,null,null,null,null,null,null,null,null,null,null,null,null,null,null,null,null,null,null,null,null,null,null,null,null,null,null,null,null,null,null,null,null,null,null,null,null,null,null,null,null,10,"-40 to 85",100,"PET","No","ECQE(F)[AC]","ECQE2A273JFB","-","12.5 x 5.5"]
[null,null,null,null,null,null,null,null,null,null,null,null,null,null,null,null,null,null,null,null,null,null,null,null,null,null,null,null,null,null,null,null,null,null,null,null,null,null,null,null,null,null,null,null,null,null,null,null,10,"-40 to 85",100,"PET","No","ECQE(F)[AC]","ECQE2A223JFB","-","12.5 x 6"]
[null,null,null,null,null,null,null,null,null,null,null,null,null,null,null,null,null,null,null,null,null,null,null,null,null,null,null,null,null,null,null,null,null,null,null,null,null,null,null,null,null,null,null,null,null,null,null,null,10,"-40 to 85",100,"PET","No","ECQE(F)[AC]","ECQE2A183KFB","-","12.5 x 6"]
[null,null,null,null,null,null,null,null,null,null,null,null,null,null,null,null,null,null,null,null,null,null,null,null,null,null,null,null,null,null,null,null,null,null,null,null,null,null,null,null,null,null,null,null,null,null,6.3,9.9,10,"-40 to 85",100,"PET","No","ECQE(T)[AC]","ECQE2A153KT","-","13 x 6.3"]
[null,null,null,null,null,null,null,null,null,null,null,null,null,null,null,null,null,null,null,null,null,null,null,null,null,null,null,null,null,null,null,null,null,null,null,null,null,null,null,null,null,null,null,null,null,null,null,null,10,"-40 to 85",100,"PET","No","ECQE(T)[AC]","ECQE2A123KTB","-","13 x 6"]
[null,null,null,null,null,null,null,null,null,null,null,null,null,null,null,null,null,null,null,null,null,null,null,null,null,null,null,null,null,null,null,null,null,null,null,null,null,null,null,null,null,null,null,null,null,null,null,16.5,5,"-40 to 85",700,"PET","No","ECQE(T)[AC]","ECQE2A123JT6","-","13 x 6"]
[null,null,null,null,null,null,null,null,null,null,null,null,null,null,null,null,null,null,null,null,null,null,null,null,null,null,null,null,null,null,null,null,null,null,null,null,null,null,null,null,null,null,null,null,null,null,null,25.8,15,"-40 to 85",100,"PET","No","ECQE(B)[AC]","ECQE1A475KBB","-","25.8 x 11.8"]
[null,null,null,null,null,null,null,null,null,null,null,null,null,null,null,null,null,null,null,null,null,null,null,null,null,null,null,null,null,null,null,null,null,null,null,null,null,null,null,null,null,null,null,null,null,null,null,25.8,15,"-40 to 85",100,"PET","No","ECQE(B)[AC]","ECQE1A475JBB","-","25.8 x 11.8"]
[null,null,null,null,null,null,null,null,null,null,null,null,null,null,null,null,null,null,null,null,null,null,null,null,null,null,null,null,null,null,null,null,null,null,null,null,null,null,null,null,null,null,null,null,null,null,null,null,10,"-40 to 85",100,"PET","No","ECQE(B)[AC]","ECQE1A275JBB","-","20.8 x 10.9"]
[null,null,null,null,null,null,null,null,null,null,null,null,null,null,null,null,null,null,null,null,null,null,null,null,null,null,null,null,null,null,null,null,null,null,null,null,null,null,null,null,null,null,null,null,null,null,null,null,null,null,400,"PET","No","ECQE(B)[AC]","ECQE1A185KB3","-","20.8 x 8.7"]
[null,null,null,null,null,null,null,null,null,null,null,null,null,null,null,null,null,null,null,null,null,null,null,null,null,null,null,null,null,null,null,null,null,null,null,null,null,null,null,null,null,null,null,null,null,null,null,null,null,"-40 to 105 (85)",100,"PET","No","ECQE(B)[AC]","ECQE1A155KBZ","-","20.8 x 8"]
[null,null,null,null,null,null,null,null,null,null,null,null,null,null,null,null,null,null,null,null,null,null,null,null,null,null,null,null,null,null,null,null,null,null,null,null,null,null,null,null,null,null,null,null,null,null,null,null,10,"-40 to 85",100,"PET","No","ECQE(B)[AC]","ECQE1A155JBB","-","20.8 x 8"]
[null,null,null,null,null,null,null,null,null,null,null,null,null,null,null,null,null,null,null,null,null,null,null,null,null,null,null,null,null,null,null,null,null,null,null,null,null,null,null,null,null,null,null,null,null,null,null,null,null,null,400,"PET","No","ECQE(B)[AC]","ECQE1A105RKB","-","15.3 x 7"]
[null,null,null,null,null,null,null,null,null,null,null,null,null,null,null,null,null,null,null,null,null,null,null,null,null,null,null,null,null,null,null,null,null,null,null,null,null,null,null,null,null,null,null,null,null,null,null,null,null,null,900,"PET","No","ECQE(B)[AC]","ECQE1A684RKB","-","12.3 x 7.3"]
[null,null,null,null,null,null,null,null,null,null,null,null,null,null,null,null,null,null,null,null,null,null,null,null,null,null,null,null,null,null,null,null,null,null,null,null,null,null,null,null,null,null,null,null,null,null,null,null,7.5,"-40 to 85",100,"PET","No","ECQE(B)[AC]","ECQE1A564JBB","-","12.3 x 6.7"]
[null,null,null,null,null,null,null,null,null,null,null,null,null,null,null,null,null,null,null,null,null,null,null,null,null,null,null,null,null,null,null,null,null,null,null,null,null,null,null,null,null,null,null,null,null,null,null,20.3,5,"-40 to 85",500,"PET","No","ECQE(F)[AC]","ECQE1A474KF3","-","18.5 x 7.5"]
[null,null,null,null,null,null,null,null,null,null,null,null,null,null,null,null,null,null,null,null,null,null,null,null,null,null,null,null,null,null,null,null,null,null,null,null,null,null,null,null,null,null,null,null,null,null,null,null,10,"-40 to 85",100,"PET","No","ECQE(T)[AC]","ECQE1A474KTB","-","19 x 7.5"]
[null,null,null,null,null,null,null,null,null,null,null,null,null,null,null,null,null,null,null,null,null,null,null,null,null,null,null,null,null,null,null,null,null,null,null,null,null,null,null,null,null,0.39,"±10","-","-",12.3,6.4,11.6,10,"-40 to 85",100,"PET","No","ECQE(B)[AC]","ECQE1A394KB","-","12.3 x 6.4"]
[null,null,null,null,null,null,null,null,null,null,null,null,null,null,null,null,null,null,null,null,null,null,null,null,null,null,null,null,null,null,null,null,null,null,null,null,null,null,null,null,null,null,null,null,null,18.5,7.4,13,15,"-40 to 85",100,"PET","No","ECQE(F)[AC]","ECQE1A394JF","-","18.5 x 7.4"]
[null,null,null,null,null,null,null,null,null,null,null,null,null,null,null,null,null,null,null,null,null,null,null,null,null,null,null,null,null,null,null,null,null,null,null,null,null,null,null,null,null,null,null,null,null,null,null,18,5,"-40 to 85",500,"PET","No","ECQE(T)[AC]","ECQE1A394JT3","-","19 x 7.4"]
[null,null,null,null,null,null,null,null,null,null,null,null,null,null,null,null,null,null,null,null,null,null,null,null,null,null,null,null,null,null,null,null,null,null,null,null,null,null,null,null,null,null,null,null,null,null,null,null,7.5,"-40 to 85",400,"PET","No","ECQE(T)[AC]","ECQE1A334RKT","-","19 x 6.9"]
[null,null,null,null,null,null,null,null,null,null,null,null,null,null,null,null,null,null,null,null,null,null,null,null,null,null,null,null,null,null,null,null,null,null,null,null,null,null,null,null,null,0.27,"±10","-","-",12.3,5.4,10.7,10,"-40 to 85",100,"PET","No","ECQE(B)[AC]","ECQE1A274KB","-","12.3 x 5.4"]
[null,null,null,null,null,null,null,null,null,null,null,null,null,null,null,null,null,null,null,null,null,null,null,null,null,null,null,null,null,null,null,null,null,null,null,null,null,null,null,null,null,null,null,null,null,null,null,null,null,"-40 to 105 (85)",100,"PET","No","ECQE(F)[AC]","ECQE1A274KFZ","-","18.5 x 6.3"]
[null,null,null,null,null,null,null,null,null,null,null,null,null,null,null,null,null,null,null,null,null,null,null,null,null,null,null,null,null,null,null,null,null,null,null,null,null,null,null,null,null,null,null,null,null,19,6.3,12,15,"-40 to 85",100,"PET","No","ECQE(T)[AC]","ECQE1A274JT","-","19 x 6.3"]
[null,null,null,null,null,null,null,null,null,null,null,null,null,null,null,null,null,null,null,null,null,null,null,null,null,null,null,null,null,null,null,null,null,null,null,null,null,null,null,null,null,null,null,null,null,null,null,null,null,"-40 to 105 (85)",100,"PET","No","ECQE(B)[AC]","ECQE1A224KBZ","-","10.3 x 6.1"]
[null,null,null,null,null,null,null,null,null,null,null,null,null,null,null,null,null,null,null,null,null,null,null,null,null,null,null,null,null,null,null,null,null,null,null,null,null,null,null,null,null,null,null,null,null,null,null,null,null,"-40 to 105 (85)",100,"PET","No","ECQE(B)[AC]","ECQE1A224JBZ","-","10.3 x 6.1"]
[null,null,null,null,null,null,null,null,null,null,null,null,null,null,null,null,null,null,null,null,null,null,null,null,null,null,null,null,null,null,null,null,null,null,null,null,null,null,null,null,null,null,null,null,null,null,null,null,7.5,"-40 to 85",500,"PET","No","ECQE(F)[AC]","ECQE1A224RJF","-","12.5 x 7.5"]
[null,null,null,null,null,null,null,null,null,null,null,null,null,null,null,null,null,null,null,null,null,null,null,null,null,null,null,null,null,null,null,null,null,null,null,null,null,null,null,null,null,null,null,null,null,null,null,17.5,5,"-40 to 85",500,"PET","No","ECQE(T)[AC]","ECQE1A184KT6","-","13 x 7"]
[null,null,null,null,null,null,null,null,null,null,null,null,null,null,null,null,null,null,null,null,null,null,null,null,null,null,null,null,null,null,null,null,null,null,null,null,null,null,null,null,null,null,null,null,null,null,null,null,null,null,1000,"PET","No","ECQE(B)[AC]","ECQE1A184RJB","-","10.3 x 5.6"]
[null,null,null,null,null,null,null,null,null,null,null,null,null,null,null,null,null,null,null,null,null,null,null,null,null,null,null,null,null,null,null,null,null,null,null,null,null,null,null,null,null,null,null,null,null,12.5,6.5,12,10,"-40 to 85",100,"PET","No","ECQE(F)[AC]","ECQE1A154KF","-","12.5 x 6.5"]
[null,null,null,null,null,null,null,null,null,null,null,null,null,null,null,null,null,null,null,null,null,null,null,null,null,null,null,null,null,null,null,null,null,null,null,null,null,null,null,null,null,null,null,null,null,12.5,6.5,12,10,"-40 to 85",100,"PET","No","ECQE(F)[AC]","ECQE1A154JF","-","12.5 x 6.5"]
[null,null,null,null,null,null,null,null,null,null,null,null,null,null,null,null,null,null,null,null,null,null,null,null,null,null,null,null,null,null,null,null,null,null,null,null,null,null,null,null,null,null,null,null,null,null,null,17,5,"-40 to 85",600,"PET","No","ECQE(T)[AC]","ECQE1A154JT6","-","13 x 6.5"]
[null,null,null,null,null,null,null,null,null,null,null,null,null,null,null,null,null,null,null,null,null,null,null,null,null,null,null,null,null,null,null,null,null,null,null,null,null,null,null,null,null,null,null,null,null,null,null,null,null,"-40 to 105 (85)",100,"PET","No","ECQE(B)[AC]","ECQE1A124JBZ","-","10.3 x 5.3"]
[null,null,null,null,null,null,null,null,null,null,null,null,null,null,null,null,null,null,null,null,null,null,null,null,null,null,null,null,null,null,null,null,null,null,null,null,null,null,null,null,null,null,null,null,null,null,null,null,null,null,1000,"PET","No","ECQE(B)[AC]","ECQE1A124RJB","-","10.3 x 5.3"]
[null,null,null,null,null,null,null,null,null,null,null,null,null,null,null,null,null,null,null,null,null,null,null,null,null,null,null,null,null,null,null,null,null,null,null,null,null,null,null,null,null,null,null,null,null,null,null,null,null,null,1000,"PET","No","ECQE(B)[AC]","ECQE1A104RKB","-","10.3 x 5.1"]
[null,null,null,null,null,null,null,null,null,null,null,null,null,null,null,null,null,null,null,null,null,null,null,null,null,null,null,null,null,null,null,null,null,null,null,null,null,null,null,null,null,null,null,null,null,null,null,null,null,null,1100,"PET","No","ECQE(T)[AC]","ECQE1A104RJT","-","11 x 6.5"]
[null,null,null,null,null,null,null,null,null,null,null,null,null,null,null,null,null,null,null,null,null,null,null,null,null,null,null,null,null,null,null,null,null,null,null,null,null,null,null,null,null,8.2000000000000003E-2,"±10","-","-",10.3,4.5999999999999996,12.6,5,"-40 to 85",1500,"PET","No","ECQE(B)[AC]","ECQE1A823KB6","-","10.3 x 4.6"]
[null,null,null,null,null,null,null,null,null,null,null,null,null,null,null,null,null,null,null,null,null,null,null,null,null,null,null,null,null,null,null,null,null,null,null,null,null,null,null,null,null,null,null,null,null,null,null,null,null,"-40 to 105 (85)",100,"PET","No","ECQE(B)[AC]","ECQE1A823JBZ","-","10.3 x 4.6"]
[null,null,null,null,null,null,null,null,null,null,null,null,null,null,null,null,null,null,null,null,null,null,null,null,null,null,null,null,null,null,null,null,null,null,null,null,null,null,null,null,null,null,null,null,null,null,null,null,7.5,"-40 to 85",100,"PET","No","ECQE(T)[AC]","ECQE1A823JTB","-","11 x 6.5"]
[null,null,null,null,null,null,null,null,null,null,null,null,null,null,null,null,null,null,null,null,null,null,null,null,null,null,null,null,null,null,null,null,null,null,null,null,null,null,null,null,null,null,null,null,null,null,null,null,null,null,1000,"PET","No","ECQE(F)[AC]","ECQE1A683RKF","-","10.5 x 6.3"]
[null,null,null,null,null,null,null,null,null,null,null,null,null,null,null,null,null,null,null,null,null,null,null,null,null,null,null,null,null,null,null,null,null,null,null,null,null,null,null,null,null,null,null,null,null,null,null,null,null,null,1200,"PET","No","ECQE(T)[AC]","ECQE1A683RJT","-","11 x 6.3"]
[null,null,null,null,null,null,null,null,null,null,null,null,null,null,null,null,null,null,null,null,null,null,null,null,null,null,null,null,null,null,null,null,null,null,null,null,null,null,null,null,null,null,null,null,null,null,null,null,null,null,1000,"PET","No","ECQE(F)[AC]","ECQE1A563RKF","-","10.5 x 5.9"]
[null,null,null,null,null,null,null,null,null,null,null,null,null,null,null,null,null,null,null,null,null,null,null,null,null,null,null,null,null,null,null,null,null,null,null,null,null,null,null,null,null,null,null,null,null,null,null,13.5,5,"-40 to 85",1000,"PET","No","ECQE(T)[AC]","ECQE1A563JT6","-","11 x 5.9"]
[null,null,null,null,null,null,null,null,null,null,null,null,null,null,null,null,null,null,null,null,null,null,null,null,null,null,null,null,null,null,null,null,null,null,null,null,null,null,null,null,null,null,null,null,null,10.5,5.5,8,7.5,"-40 to 85",100,"PET","No","ECQE(F)[AC]","ECQE1A473KF","-","10.5 x 5.5"]
[null,null,null,null,null,null,null,null,null,null,null,null,null,null,null,null,null,null,null,null,null,null,null,null,null,null,null,null,null,null,null,null,null,null,null,null,null,null,null,null,null,null,null,null,null,null,3.5,7.4,5,"-40 to 85",100,"PET","No","ECQE(B)[AC]","ECQE1A393KB","-","7.9 x 3.5"]
[null,null,null,null,null,null,null,null,null,null,null,null,null,null,null,null,null,null,null,null,null,null,null,null,null,null,null,null,null,null,null,null,null,null,null,null,null,null,null,null,null,null,null,null,null,null,null,null,null,"-40 to 105 (85)",100,"PET","No","ECQE(F)[AC]","ECQE1A393KFZ","-","10.5 x 4.5"]
[null,null,null,null,null,null,null,null,null,null,null,null,null,null,null,null,null,null,null,null,null,null,null,null,null,null,null,null,null,null,null,null,null,null,null,null,null,null,null,null,null,null,null,null,null,null,null,null,null,null,null,null,null,null,"ECQE1A393JFW","-","10.5 x 4.5"]
[null,null,null,null,null,null,null,null,null,null,null,null,null,null,null,null,null,null,null,null,null,null,null,null,null,null,null,null,null,null,null,null,null,null,null,null,null,null,null,null,null,null,"± 5","-","-",7.9,4.3,7.2,5,"-40 to 85",100,"PET","No","ECQE(B)[AC]","ECQE1A333JB","-","7.9 x 4.3"]
[null,null,null,null,null,null,null,null,null,null,null,null,null,null,null,null,null,null,null,null,null,null,null,null,null,null,null,null,null,null,null,null,null,null,null,null,null,null,null,null,null,null,null,null,null,null,null,12.8,5,"-40 to 85",1000,"PET","No","ECQE(F)[AC]","ECQE1A333JF6","-","10.5 x 4.5"]
[null,null,null,null,null,null,null,null,null,null,null,null,null,null,null,null,null,null,null,null,null,null,null,null,null,null,null,null,null,null,null,null,null,null,null,null,null,null,null,null,null,null,null,null,null,11,4.4000000000000004,7.5,7.5,"-40 to 85",100,"PET","No","ECQE(T)[AC]","ECQE1A273JT","-","11 x 4.4"]
[null,null,null,null,null,null,null,null,null,null,null,null,null,null,null,null,null,null,null,null,null,null,null,null,null,null,null,null,null,null,null,null,null,null,null,null,null,null,null,null,null,null,null,null,null,null,null,null,7.5,"-40 to 85",100,"PET","No","ECQE(F)[AC]","ECQE1A273JFB","-","10.5 x 4.4"]
[null,null,null,null,null,null,null,null,null,null,null,null,null,null,null,null,null,null,null,null,null,null,null,null,null,null,null,null,null,null,null,null,null,null,null,null,null,null,null,null,null,null,"± 5","-","-",7.9,4.3,7.2,5,"-40 to 85",100,"PET","No","ECQE(B)[AC]","ECQE1A223JB","-","7.9 x 4.3"]
[null,null,null,null,null,null,null,null,null,null,null,null,null,null,null,null,null,null,null,null,null,null,null,null,null,null,null,null,null,null,null,null,null,null,null,null,null,null,null,null,null,null,null,null,null,10.5,4.4000000000000004,7.5,7.5,"-40 to 85",100,"PET","No","ECQE(F)[AC]","ECQE1A223JF","-","10.5 x 4.4"]
[null,null,null,null,null,null,null,null,null,null,null,null,null,null,null,null,null,null,null,null,null,null,null,null,null,null,null,null,null,null,null,null,null,null,null,null,null,null,null,null,null,null,null,null,null,null,null,null,null,null,2000,"PET","No","ECQE(B)[AC]","ECQE1A183JB2","-","7.9 x 4.3"]
[null,null,null,null,null,null,null,null,null,null,null,null,null,null,null,null,null,null,null,null,null,null,null,null,null,null,null,null,null,null,null,null,null,null,null,null,null,null,null,null,null,null,null,null,null,null,null,null,7.5,"-40 to 85",100,"PET","No","ECQE(T)[AC]","ECQE1A183JTB","-","11 x 4.4"]
[null,null,null,null,null,null,null,null,null,null,null,null,null,null,null,null,null,null,null,null,null,null,null,null,null,null,null,null,null,null,null,null,null,null,null,null,null,null,null,null,null,null,null,null,null,null,null,null,null,null,1000,"PET","No","ECQE(F)[AC]","ECQE1A153RKF","-","10.5 x 4.4"]
[null,null,null,null,null,null,null,null,null,null,null,null,null,null,null,null,null,null,null,null,null,null,null,null,null,null,null,null,null,null,null,null,null,null,null,null,null,null,null,null,null,null,null,null,null,null,null,null,null,"-40 to 105 (85)",100,"PET","No","ECQE(B)[AC]","ECQE1A123KBZ","-","7.9 x 4.2"]
[null,null,null,null,null,null,null,null,null,null,null,null,null,null,null,null,null,null,null,null,null,null,null,null,null,null,null,null,null,null,null,null,null,null,null,null,null,null,null,null,null,null,null,null,null,null,null,12.5,5,"-40 to 85",1000,"PET","No","ECQE(F)[AC]","ECQE1A123KF6","-","10.5 x 4.4"]
[null,null,null,null,null,null,null,null,null,null,null,null,null,null,null,null,null,null,null,null,null,null,null,null,null,null,null,null,null,null,null,null,null,null,null,null,null,null,null,null,null,null,null,null,null,11,4.5,7.5,7.5,"-40 to 85",100,"PET","No","ECQE(T)[AC]","ECQE1A103KT","-","11 x 4.5"]
[null,null,null,null,null,null,null,null,null,null,null,null,null,null,null,null,null,null,null,null,null,null,null,null,null,null,null,null,null,null,null,null,null,null,null,null,null,null,null,null,null,null,null,null,null,null,null,null,null,null,1700,"PET","No","ECQE(T)[AC]","ECQE1A103RKT","-","11 x 4.5"]
[null,null,null,null,null,null,null,null,null,null,null,null,null,null,null,null,null,null,null,null,null,null,null,null,null,null,null,null,null,null,null,null,null,null,null,null,null,null,null,null,null,null,null,null,null,null,null,null,null,null,1700,"PET","No","ECQE(T)[AC]","ECQE1A103RJT","-","11 x 4.5"]
[null,null,null,null,null,null,null,null,null,null,null,null,null,null,null,null,null,null,null,null,null,null,null,null,null,null,null,null,null,null,null,null,null,null,null,null,null,null,null,null,null,null,null,null,null,null,null,25,15,"-40 to 105 (85)",100,"PET","No","ECQE(F)[DC]","ECQE1825KFB","-","26 x 10"]
[null,null,null,null,null,null,null,null,null,null,null,null,null,null,null,null,null,null,null,null,null,null,null,null,null,null,null,null,null,null,null,null,null,null,null,null,null,null,null,null,null,null,null,null,null,null,null,null,null,null,null,null,null,null,"ECQE1825KFW","-","26 x 10"]
[null,null,null,null,null,null,null,null,null,null,null,null,null,null,null,null,null,null,null,null,null,null,null,null,null,null,null,null,null,null,null,null,null,null,null,null,null,null,null,null,null,null,"± 5","-","-",26,10,20,22.5,"-40 to 105 (85)",100,"PET","No","ECQE(F)[DC]","ECQE1825JF","-","26 x 10"]
[null,null,null,null,null,null,null,null,null,null,null,null,null,null,null,null,null,null,null,null,null,null,null,null,null,null,null,null,null,null,null,null,null,null,null,null,null,null,null,null,null,null,null,null,null,null,null,25,15,"-40 to 105 (85)",100,"PET","No","ECQE(F)[DC]","ECQE1825JFB","-","26 x 10"]
[null,null,null,null,null,null,null,null,null,null,null,null,null,null,null,null,null,null,null,null,null,null,null,null,null,null,null,null,null,null,null,null,null,null,null,null,null,null,null,null,null,null,null,null,null,null,null,null,null,null,null,null,null,null,"ECQE1825JFW","-","26 x 10"]
[null,null,null,null,null,null,null,null,null,null,null,null,null,null,null,null,null,null,null,null,null,null,null,null,null,null,null,null,null,null,null,null,null,null,null,null,null,null,null,null,null,6.8,"±10","-","-",26,9,18.5,22.5,"-40 to 105 (85)",100,"PET","No","ECQE(F)[DC]","ECQE1685KF","-","26 x 9"]
[null,null,null,null,null,null,null,null,null,null,null,null,null,null,null,null,null,null,null,null,null,null,null,null,null,null,null,null,null,null,null,null,null,null,null,null,null,null,null,null,null,null,null,null,null,null,null,23.5,15,"-40 to 105 (85)",100,"PET","No","ECQE(F)[DC]","ECQE1685KFB","-","26 x 9"]
[null,null,null,null,null,null,null,null,null,null,null,null,null,null,null,null,null,null,null,null,null,null,null,null,null,null,null,null,null,null,null,null,null,null,null,null,null,null,null,null,null,null,null,null,null,null,null,null,null,null,null,null,null,null,"ECQE1685KFW","-","26 x 9"]
[null,null,null,null,null,null,null,null,null,null,null,null,null,null,null,null,null,null,null,null,null,null,null,null,null,null,null,null,null,null,null,null,null,null,null,null,null,null,null,null,null,null,"± 5","-","-",26,9,18.5,22.5,"-40 to 105 (85)",100,"PET","No","ECQE(F)[DC]","ECQE1685JF","-","26 x 9"]
[null,null,null,null,null,null,null,null,null,null,null,null,null,null,null,null,null,null,null,null,null,null,null,null,null,null,null,null,null,null,null,null,null,null,null,null,null,null,null,null,null,null,null,null,null,null,null,23.5,15,"-40 to 105 (85)",100,"PET","No","ECQE(F)[DC]","ECQE1685JFB","-","26 x 9"]
[null,null,null,null,null,null,null,null,null,null,null,null,null,null,null,null,null,null,null,null,null,null,null,null,null,null,null,null,null,null,null,null,null,null,null,null,null,null,null,null,null,null,null,null,null,null,null,null,null,null,null,null,null,null,"ECQE1685JFW","-","26 x 9"]
[null,null,null,null,null,null,null,null,null,null,null,null,null,null,null,null,null,null,null,null,null,null,null,null,null,null,null,null,null,null,null,null,null,null,null,null,null,null,null,null,null,5.6,"±10","-","-",26,8.3000000000000007,17.5,22.5,"-40 to 105 (85)",100,"PET","No","ECQE(F)[DC]","ECQE1565KF","-","26 x 8.3"]
[null,null,null,null,null,null,null,null,null,null,null,null,null,null,null,null,null,null,null,null,null,null,null,null,null,null,null,null,null,null,null,null,null,null,null,null,null,null,null,null,null,null,null,null,null,null,null,22.5,15,"-40 to 105 (85)",100,"PET","No","ECQE(F)[DC]","ECQE1565KFB","-","26 x 8.3"]
[null,null,null,null,null,null,null,null,null,null,null,null,null,null,null,null,null,null,null,null,null,null,null,null,null,null,null,null,null,null,null,null,null,null,null,null,null,null,null,null,null,null,null,null,null,null,null,null,null,null,null,null,null,null,"ECQE1565KFW","-","26 x 8.3"]
[null,null,null,null,null,null,null,null,null,null,null,null,null,null,null,null,null,null,null,null,null,null,null,null,null,null,null,null,null,null,null,null,null,null,null,null,null,null,null,null,null,null,"± 5","-","-",26,8.3000000000000007,17.5,22.5,"-40 to 105 (85)",100,"PET","No","ECQE(F)[DC]","ECQE1565JF","-","26 x 8.3"]
[null,null,null,null,null,null,null,null,null,null,null,null,null,null,null,null,null,null,null,null,null,null,null,null,null,null,null,null,null,null,null,null,null,null,null,null,null,null,null,null,null,null,null,null,null,null,null,22.5,15,"-40 to 105 (85)",100,"PET","No","ECQE(F)[DC]","ECQE1565JFB","-","26 x 8.3"]
[null,null,null,null,null,null,null,null,null,null,null,null,null,null,null,null,null,null,null,null,null,null,null,null,null,null,null,null,null,null,null,null,null,null,null,null,null,null,null,null,null,null,null,null,null,null,null,null,null,null,null,null,null,null,"ECQE1565JFW","-","26 x 8.3"]
[null,null,null,null,null,null,null,null,null,null,null,null,null,null,null,null,null,null,null,null,null,null,null,null,null,null,null,null,null,null,null,null,null,null,null,null,null,null,null,null,null,4.7,"±10","-","-",26,7.5,17,22.5,"-40 to 105 (85)",100,"PET","No","ECQE(F)[DC]","ECQE1475KF","-","26 x 7.5"]
[null,null,null,null,null,null,null,null,null,null,null,null,null,null,null,null,null,null,null,null,null,null,null,null,null,null,null,null,null,null,null,null,null,null,null,null,null,null,null,null,null,null,null,null,null,null,null,22,15,"-40 to 105 (85)",100,"PET","No","ECQE(F)[DC]","ECQE1475KFB","-","26 x 7.5"]
[null,null,null,null,null,null,null,null,null,null,null,null,null,null,null,null,null,null,null,null,null,null,null,null,null,null,null,null,null,null,null,null,null,null,null,null,null,null,null,null,null,null,null,null,null,null,null,null,null,null,null,null,null,null,"ECQE1475KFW","-","26 x 7.5"]
[null,null,null,null,null,null,null,null,null,null,null,null,null,null,null,null,null,null,null,null,null,null,null,null,null,null,null,null,null,null,null,null,null,null,null,null,null,null,null,null,null,null,"± 5","-","-",26,7.5,17,22.5,"-40 to 105 (85)",100,"PET","No","ECQE(F)[DC]","ECQE1475JF","-","26 x 7.5"]
[null,null,null,null,null,null,null,null,null,null,null,null,null,null,null,null,null,null,null,null,null,null,null,null,null,null,null,null,null,null,null,null,null,null,null,null,null,null,null,null,null,null,null,null,null,null,null,22,15,"-40 to 105 (85)",100,"PET","No","ECQE(F)[DC]","ECQE1475JFB","-","26 x 7.5"]
[null,null,null,null,null,null,null,null,null,null,null,null,null,null,null,null,null,null,null,null,null,null,null,null,null,null,null,null,null,null,null,null,null,null,null,null,null,null,null,null,null,null,null,null,null,null,null,null,null,null,null,null,null,null,"ECQE1475JFW","-","26 x 7.5"]
[null,null,null,null,null,null,null,null,null,null,null,null,null,null,null,null,null,null,null,null,null,null,null,null,null,null,null,null,null,null,null,null,null,null,null,null,null,null,null,null,null,3.9,"±10","-","-",26,7,16.399999999999999,22.5,"-40 to 105 (85)",100,"PET","No","ECQE(F)[DC]","ECQE1395KF","-","26 x 7"]
[null,null,null,null,null,null,null,null,null,null,null,null,null,null,null,null,null,null,null,null,null,null,null,null,null,null,null,null,null,null,null,null,null,null,null,null,null,null,null,null,null,null,null,null,null,null,null,21.4,15,"-40 to 105 (85)",100,"PET","No","ECQE(F)[DC]","ECQE1395KFB","-","26 x 7"]
[null,null,null,null,null,null,null,null,null,null,null,null,null,null,null,null,null,null,null,null,null,null,null,null,null,null,null,null,null,null,null,null,null,null,null,null,null,null,null,null,null,null,null,null,null,null,null,null,null,null,null,null,null,null,"ECQE1395KFW","-","26 x 7"]
[null,null,null,null,null,null,null,null,null,null,null,null,null,null,null,null,null,null,null,null,null,null,null,null,null,null,null,null,null,null,null,null,null,null,null,null,null,null,null,null,null,null,"± 5","-","-",26,7,16.399999999999999,22.5,"-40 to 105 (85)",100,"PET","No","ECQE(F)[DC]","ECQE1395JF","-","26 x 7"]
[null,null,null,null,null,null,null,null,null,null,null,null,null,null,null,null,null,null,null,null,null,null,null,null,null,null,null,null,null,null,null,null,null,null,null,null,null,null,null,null,null,null,null,null,null,null,null,21.4,15,"-40 to 105 (85)",100,"PET","No","ECQE(F)[DC]","ECQE1395JFB","-","26 x 7"]
[null,null,null,null,null,null,null,null,null,null,null,null,null,null,null,null,null,null,null,null,null,null,null,null,null,null,null,null,null,null,null,null,null,null,null,null,null,null,null,null,null,null,null,null,null,null,null,null,null,null,null,null,null,null,"ECQE1395JFW","-","26 x 7"]
[null,null,null,null,null,null,null,null,null,null,null,null,null,null,null,null,null,null,null,null,null,null,null,null,null,null,null,null,null,null,null,null,null,null,null,null,null,null,null,null,null,3.3,"±10","-","-",18.5,8.5,16.5,15,"-40 to 105 (85)",100,"PET","No","ECQE(F)[DC]","ECQE1335KF","-","18.5 x 8.5"]
[null,null,null,null,null,null,null,null,null,null,null,null,null,null,null,null,null,null,null,null,null,null,null,null,null,null,null,null,null,null,null,null,null,null,null,null,null,null,null,null,null,null,null,null,null,null,null,21.5,5,"-40 to 105 (85)",400,"PET","No","ECQE(F)[DC]","ECQE1335KF3","-","18.5 x 8.5"]
[null,null,null,null,null,null,null,null,null,null,null,null,null,null,null,null,null,null,null,null,null,null,null,null,null,null,null,null,null,null,null,null,null,null,null,null,null,null,null,null,null,null,null,null,null,null,null,null,7.5,"-40 to 105 (85)",400,"PET","No","ECQE(F)[DC]","ECQE1335RKF","-","18.5 x 8.5"]
[null,null,null,null,null,null,null,null,null,null,null,null,null,null,null,null,null,null,null,null,null,null,null,null,null,null,null,null,null,null,null,null,null,null,null,null,null,null,null,null,null,null,null,null,null,null,null,null,10,"-40 to 105 (85)",100,"PET","No","ECQE(F)[DC]","ECQE1335KFB","-","18.5 x 8.5"]
[null,null,null,null,null,null,null,null,null,null,null,null,null,null,null,null,null,null,null,null,null,null,null,null,null,null,null,null,null,null,null,null,null,null,null,null,null,null,null,null,null,null,null,null,null,null,null,null,null,null,null,null,null,null,"ECQE1335KFW","-","18.5 x 8.5"]
[null,null,null,null,null,null,null,null,null,null,null,null,null,null,null,null,null,null,null,null,null,null,null,null,null,null,null,null,null,null,null,null,null,null,null,null,null,null,null,null,null,null,"± 5","-","-",18.5,8.5,16.5,15,"-40 to 105 (85)",100,"PET","No","ECQE(F)[DC]","ECQE1335JF","-","18.5 x 8.5"]
[null,null,null,null,null,null,null,null,null,null,null,null,null,null,null,null,null,null,null,null,null,null,null,null,null,null,null,null,null,null,null,null,null,null,null,null,null,null,null,null,null,null,null,null,null,null,null,21.5,5,"-40 to 105 (85)",400,"PET","No","ECQE(F)[DC]","ECQE1335JF3","-","18.5 x 8.5"]
[null,null,null,null,null,null,null,null,null,null,null,null,null,null,null,null,null,null,null,null,null,null,null,null,null,null,null,null,null,null,null,null,null,null,null,null,null,null,null,null,null,null,null,null,null,null,null,null,7.5,"-40 to 105 (85)",400,"PET","No","ECQE(F)[DC]","ECQE1335RJF","-","18.5 x 8.5"]
[null,null,null,null,null,null,null,null,null,null,null,null,null,null,null,null,null,null,null,null,null,null,null,null,null,null,null,null,null,null,null,null,null,null,null,null,null,null,null,null,null,null,null,null,null,null,null,null,10,"-40 to 105 (85)",100,"PET","No","ECQE(F)[DC]","ECQE1335JFB","-","18.5 x 8.5"]
[null,null,null,null,null,null,null,null,null,null,null,null,null,null,null,null,null,null,null,null,null,null,null,null,null,null,null,null,null,null,null,null,null,null,null,null,null,null,null,null,null,null,null,null,null,null,null,null,null,null,null,null,null,null,"ECQE1335JFW","-","18.5 x 8.5"]
[null,null,null,null,null,null,null,null,null,null,null,null,null,null,null,null,null,null,null,null,null,null,null,null,null,null,null,null,null,null,null,null,null,null,null,null,null,null,null,null,null,2.7,"±10","-","-",18.5,8,15.8,15,"-40 to 105 (85)",100,"PET","No","ECQE(F)[DC]","ECQE1275KF","-","18.5 x 8"]
[null,null,null,null,null,null,null,null,null,null,null,null,null,null,null,null,null,null,null,null,null,null,null,null,null,null,null,null,null,null,null,null,null,null,null,null,null,null,null,null,null,null,null,null,null,null,null,20.8,5,"-40 to 105 (85)",500,"PET","No","ECQE(F)[DC]","ECQE1275KF3","-","18.5 x 8"]
[null,null,null,null,null,null,null,null,null,null,null,null,null,null,null,null,null,null,null,null,null,null,null,null,null,null,null,null,null,null,null,null,null,null,null,null,null,null,null,null,null,null,null,null,null,null,null,null,7.5,"-40 to 105 (85)",400,"PET","No","ECQE(F)[DC]","ECQE1275RKF","-","18.5 x 8"]
[null,null,null,null,null,null,null,null,null,null,null,null,null,null,null,null,null,null,null,null,null,null,null,null,null,null,null,null,null,null,null,null,null,null,null,null,null,null,null,null,null,null,null,null,null,null,null,null,10,"-40 to 105 (85)",100,"PET","No","ECQE(F)[DC]","ECQE1275KFB","-","18.5 x 8"]
[null,null,null,null,null,null,null,null,null,null,null,null,null,null,null,null,null,null,null,null,null,null,null,null,null,null,null,null,null,null,null,null,null,null,null,null,null,null,null,null,null,null,null,null,null,null,null,null,null,null,null,null,null,null,"ECQE1275KFW","-","18.5 x 8"]
[null,null,null,null,null,null,null,null,null,null,null,null,null,null,null,null,null,null,null,null,null,null,null,null,null,null,null,null,null,null,null,null,null,null,null,null,null,null,null,null,null,null,"± 5","-","-",18.5,8,15.8,15,"-40 to 105 (85)",100,"PET","No","ECQE(F)[DC]","ECQE1275JF","-","18.5 x 8"]
[null,null,null,null,null,null,null,null,null,null,null,null,null,null,null,null,null,null,null,null,null,null,null,null,null,null,null,null,null,null,null,null,null,null,null,null,null,null,null,null,null,null,null,null,null,null,null,20.8,5,"-40 to 105 (85)",500,"PET","No","ECQE(F)[DC]","ECQE1275JF3","-","18.5 x 8"]
[null,null,null,null,null,null,null,null,null,null,null,null,null,null,null,null,null,null,null,null,null,null,null,null,null,null,null,null,null,null,null,null,null,null,null,null,null,null,null,null,null,null,null,null,null,null,null,null,7.5,"-40 to 105 (85)",400,"PET","No","ECQE(F)[DC]","ECQE1275RJF","-","18.5 x 8"]
[null,null,null,null,null,null,null,null,null,null,null,null,null,null,null,null,null,null,null,null,null,null,null,null,null,null,null,null,null,null,null,null,null,null,null,null,null,null,null,null,null,null,null,null,null,null,null,null,10,"-40 to 105 (85)",100,"PET","No","ECQE(F)[DC]","ECQE1275JFB","-","18.5 x 8"]
[null,null,null,null,null,null,null,null,null,null,null,null,null,null,null,null,null,null,null,null,null,null,null,null,null,null,null,null,null,null,null,null,null,null,null,null,null,null,null,null,null,null,null,null,null,null,null,null,null,null,null,null,null,null,"ECQE1275JFW","-","18.5 x 8"]
[null,null,null,null,null,null,null,null,null,null,null,null,null,null,null,null,null,null,null,null,null,null,null,null,null,null,null,null,null,null,null,null,null,null,null,null,null,null,null,null,null,2.2000000000000002,"±10","-","-",18.5,7,15,15,"-40 to 105 (85)",100,"PET","No","ECQE(F)[DC]","ECQE1225KF","-","18.5 x 7"]
[null,null,null,null,null,null,null,null,null,null,null,null,null,null,null,null,null,null,null,null,null,null,null,null,null,null,null,null,null,null,null,null,null,null,null,null,null,null,null,null,null,null,null,null,null,null,null,20,5,"-40 to 105 (85)",100,"PET","No","ECQE(F)[DC]","ECQE1225KFB","-","18.5 x 7"]
[null,null,null,null,null,null,null,null,null,null,null,null,null,null,null,null,null,null,null,null,null,null,null,null,null,null,null,null,null,null,null,null,null,null,null,null,null,null,null,null,null,null,null,null,null,null,null,null,null,null,500,"PET","No","ECQE(F)[DC]","ECQE1225KF3","-","18.5 x 7"]
[null,null,null,null,null,null,null,null,null,null,null,null,null,null,null,null,null,null,null,null,null,null,null,null,null,null,null,null,null,null,null,null,null,null,null,null,null,null,null,null,null,null,null,null,null,null,null,null,7.5,"-40 to 105 (85)",500,"PET","No","ECQE(F)[DC]","ECQE1225RKF","-","18.5 x 7"]
[null,null,null,null,null,null,null,null,null,null,null,null,null,null,null,null,null,null,null,null,null,null,null,null,null,null,null,null,null,null,null,null,null,null,null,null,null,null,null,null,null,null,null,null,null,null,null,null,10,"-40 to 105 (85)",100,"PET","No","ECQE(F)[DC]","ECQE1225KFW","-","18.5 x 7"]
[null,null,null,null,null,null,null,null,null,null,null,null,null,null,null,null,null,null,null,null,null,null,null,null,null,null,null,null,null,null,null,null,null,null,null,null,null,null,null,null,null,null,"± 5","-","-",18.5,7,15,15,"-40 to 105 (85)",100,"PET","No","ECQE(F)[DC]","ECQE1225JF","-","18.5 x 7"]
[null,null,null,null,null,null,null,null,null,null,null,null,null,null,null,null,null,null,null,null,null,null,null,null,null,null,null,null,null,null,null,null,null,null,null,null,null,null,null,null,null,null,null,null,null,null,null,20,5,"-40 to 105 (85)",500,"PET","No","ECQE(F)[DC]","ECQE1225JF3","-","18.5 x 7"]
[null,null,null,null,null,null,null,null,null,null,null,null,null,null,null,null,null,null,null,null,null,null,null,null,null,null,null,null,null,null,null,null,null,null,null,null,null,null,null,null,null,null,null,null,null,null,null,null,7.5,"-40 to 105 (85)",500,"PET","No","ECQE(F)[DC]","ECQE1225RJF","-","18.5 x 7"]
[null,null,null,null,null,null,null,null,null,null,null,null,null,null,null,null,null,null,null,null,null,null,null,null,null,null,null,null,null,null,null,null,null,null,null,null,null,null,null,null,null,null,null,null,null,null,null,null,10,"-40 to 105 (85)",100,"PET","No","ECQE(F)[DC]","ECQE1225JFB","-","18.5 x 7"]
[null,null,null,null,null,null,null,null,null,null,null,null,null,null,null,null,null,null,null,null,null,null,null,null,null,null,null,null,null,null,null,null,null,null,null,null,null,null,null,null,null,null,null,null,null,null,null,null,null,null,null,null,null,null,"ECQE1225JFW","-","18.5 x 7"]
[null,null,null,null,null,null,null,null,null,null,null,null,null,null,null,null,null,null,null,null,null,null,null,null,null,null,null,null,null,null,null,null,null,null,null,null,null,null,null,null,null,1.8,"±10","-","-",18.5,6.5,14.4,15,"-40 to 105 (85)",100,"PET","No","ECQE(F)[DC]","ECQE1185KF","-","18.5 x 6.5"]
[null,null,null,null,null,null,null,null,null,null,null,null,null,null,null,null,null,null,null,null,null,null,null,null,null,null,null,null,null,null,null,null,null,null,null,null,null,null,null,null,null,null,null,null,null,null,null,19.399999999999999,5,"-40 to 105 (85)",100,"PET","No","ECQE(F)[DC]","ECQE1185KFB","-","18.5 x 6.5"]
[null,null,null,null,null,null,null,null,null,null,null,null,null,null,null,null,null,null,null,null,null,null,null,null,null,null,null,null,null,null,null,null,null,null,null,null,null,null,null,null,null,null,null,null,null,null,null,null,10,"-40 to 105 (85)",100,"PET","No","ECQE(F)[DC]","ECQE1185KFW","-","18.5 x 6.5"]
[null,null,null,null,null,null,null,null,null,null,null,null,null,null,null,null,null,null,null,null,null,null,null,null,null,null,null,null,null,null,null,null,null,null,null,null,null,null,null,null,null,null,null,null,null,18.399999999999999,6.5,19.399999999999999,5,"-40 to 105 (85)",500,"PET","No","ECQE(F)[DC]","ECQE1185KF3","-","18.4 x 6.5"]
[null,null,null,null,null,null,null,null,null,null,null,null,null,null,null,null,null,null,null,null,null,null,null,null,null,null,null,null,null,null,null,null,null,null,null,null,null,null,null,null,null,null,null,null,null,null,null,null,7.5,"-40 to 105 (85)",500,"PET","No","ECQE(F)[DC]","ECQE1185RKF","-","18.4 x 6.5"]
[null,null,null,null,null,null,null,null,null,null,null,null,null,null,null,null,null,null,null,null,null,null,null,null,null,null,null,null,null,null,null,null,null,null,null,null,null,null,null,null,null,null,"± 5","-","-",18.5,6.5,14.4,15,"-40 to 105 (85)",100,"PET","No","ECQE(F)[DC]","ECQE1185JF","-","18.5 x 6.5"]
[null,null,null,null,null,null,null,null,null,null,null,null,null,null,null,null,null,null,null,null,null,null,null,null,null,null,null,null,null,null,null,null,null,null,null,null,null,null,null,null,null,null,null,null,null,null,null,19.399999999999999,10,"-40 to 105 (85)",100,"PET","No","ECQE(F)[DC]","ECQE1185JFB","-","18.5 x 6.5"]
[null,null,null,null,null,null,null,null,null,null,null,null,null,null,null,null,null,null,null,null,null,null,null,null,null,null,null,null,null,null,null,null,null,null,null,null,null,null,null,null,null,null,null,null,null,null,null,null,null,null,null,null,null,null,"ECQE1185JFW","-","18.5 x 6.5"]
[null,null,null,null,null,null,null,null,null,null,null,null,null,null,null,null,null,null,null,null,null,null,null,null,null,null,null,null,null,null,null,null,null,null,null,null,null,null,null,null,null,null,null,null,null,18.399999999999999,6.5,19.399999999999999,5,"-40 to 105 (85)",500,"PET","No","ECQE(F)[DC]","ECQE1185JF3","-","18.4 x 6.5"]
[null,null,null,null,null,null,null,null,null,null,null,null,null,null,null,null,null,null,null,null,null,null,null,null,null,null,null,null,null,null,null,null,null,null,null,null,null,null,null,null,null,null,null,null,null,null,null,null,7.5,"-40 to 105 (85)",500,"PET","No","ECQE(F)[DC]","ECQE1185RJF","-","18.4 x 6.5"]
[null,null,null,null,null,null,null,null,null,null,null,null,null,null,null,null,null,null,null,null,null,null,null,null,null,null,null,null,null,null,null,null,null,null,null,null,null,null,null,null,null,1.5,"±10","-","-",18.5,6,13.4,15,"-40 to 105 (85)",100,"PET","No","ECQE(F)[DC]","ECQE1155KF","-","18.5 x 6"]
[null,null,null,null,null,null,null,null,null,null,null,null,null,null,null,null,null,null,null,null,null,null,null,null,null,null,null,null,null,null,null,null,null,null,null,null,null,null,null,null,null,null,null,null,null,null,null,18.399999999999999,5,"-40 to 105 (85)",100,"PET","No","ECQE(F)[DC]","ECQE1155KFB","-","18.5 x 6"]
[null,null,null,null,null,null,null,null,null,null,null,null,null,null,null,null,null,null,null,null,null,null,null,null,null,null,null,null,null,null,null,null,null,null,null,null,null,null,null,null,null,null,null,null,null,null,null,null,null,null,500,"PET","No","ECQE(F)[DC]","ECQE1155KF3","-","18.5 x 6"]
[null,null,null,null,null,null,null,null,null,null,null,null,null,null,null,null,null,null,null,null,null,null,null,null,null,null,null,null,null,null,null,null,null,null,null,null,null,null,null,null,null,null,null,null,null,null,null,null,7.5,"-40 to 105 (85)",500,"PET","No","ECQE(F)[DC]","ECQE1155RKF","-","18.5 x 6"]
[null,null,null,null,null,null,null,null,null,null,null,null,null,null,null,null,null,null,null,null,null,null,null,null,null,null,null,null,null,null,null,null,null,null,null,null,null,null,null,null,null,null,null,null,null,null,null,null,10,"-40 to 105 (85)",100,"PET","No","ECQE(F)[DC]","ECQE1155KFW","-","18.5 x 6"]
[null,null,null,null,null,null,null,null,null,null,null,null,null,null,null,null,null,null,null,null,null,null,null,null,null,null,null,null,null,null,null,null,null,null,null,null,null,null,null,null,null,null,"± 5","-","-",18.5,6,13.4,15,"-40 to 105 (85)",100,"PET","No","ECQE(F)[DC]","ECQE1155JF","-","18.5 x 6"]
[null,null,null,null,null,null,null,null,null,null,null,null,null,null,null,null,null,null,null,null,null,null,null,null,null,null,null,null,null,null,null,null,null,null,null,null,null,null,null,null,null,null,null,null,null,null,null,18.399999999999999,5,"-40 to 105 (85)",500,"PET","No","ECQE(F)[DC]","ECQE1155JF3","-","18.5 x 6"]
[null,null,null,null,null,null,null,null,null,null,null,null,null,null,null,null,null,null,null,null,null,null,null,null,null,null,null,null,null,null,null,null,null,null,null,null,null,null,null,null,null,null,null,null,null,null,null,null,7.5,"-40 to 105 (85)",500,"PET","No","ECQE(F)[DC]","ECQE1155RJF","-","18.5 x 6"]
[null,null,null,null,null,null,null,null,null,null,null,null,null,null,null,null,null,null,null,null,null,null,null,null,null,null,null,null,null,null,null,null,null,null,null,null,null,null,null,null,null,null,null,null,null,null,null,null,10,"-40 to 105 (85)",100,"PET","No","ECQE(F)[DC]","ECQE1155JFB","-","18.5 x 6"]
[null,null,null,null,null,null,null,null,null,null,null,null,null,null,null,null,null,null,null,null,null,null,null,null,null,null,null,null,null,null,null,null,null,null,null,null,null,null,null,null,null,null,null,null,null,null,null,null,null,null,null,null,null,null,"ECQE1155JFW","-","18.5 x 6"]
[null,null,null,null,null,null,null,null,null,null,null,null,null,null,null,null,null,null,null,null,null,null,null,null,null,null,null,null,null,null,null,null,null,null,null,null,null,null,null,null,null,1.2,"±10","-","-",18.5,5.5,12.8,15,"-40 to 105 (85)",100,"PET","No","ECQE(F)[DC]","ECQE1125KF","-","18.5 x 5.5"]
[null,null,null,null,null,null,null,null,null,null,null,null,null,null,null,null,null,null,null,null,null,null,null,null,null,null,null,null,null,null,null,null,null,null,null,null,null,null,null,null,null,null,null,null,null,null,null,17.8,5,"-40 to 105 (85)",500,"PET","No","ECQE(F)[DC]","ECQE1125KF3","-","18.5 x 5.5"]
[null,null,null,null,null,null,null,null,null,null,null,null,null,null,null,null,null,null,null,null,null,null,null,null,null,null,null,null,null,null,null,null,null,null,null,null,null,null,null,null,null,null,null,null,null,null,null,null,7.5,"-40 to 105 (85)",600,"PET","No","ECQE(F)[DC]","ECQE1125RKF","-","18.5 x 5.5"]
[null,null,null,null,null,null,null,null,null,null,null,null,null,null,null,null,null,null,null,null,null,null,null,null,null,null,null,null,null,null,null,null,null,null,null,null,null,null,null,null,null,null,null,null,null,null,null,null,10,"-40 to 105 (85)",100,"PET","No","ECQE(F)[DC]","ECQE1125KFB","-","18.5 x 5.5"]
[null,null,null,null,null,null,null,null,null,null,null,null,null,null,null,null,null,null,null,null,null,null,null,null,null,null,null,null,null,null,null,null,null,null,null,null,null,null,null,null,null,null,null,null,null,null,null,null,null,null,null,null,null,null,"ECQE1125KFW","-","18.5 x 5.5"]
[null,null,null,null,null,null,null,null,null,null,null,null,null,null,null,null,null,null,null,null,null,null,null,null,null,null,null,null,null,null,null,null,null,null,null,null,null,null,null,null,null,null,"± 5","-","-",18.5,5.5,12.8,15,"-40 to 105 (85)",100,"PET","No","ECQE(F)[DC]","ECQE1125JF","-","18.5 x 5.5"]
[null,null,null,null,null,null,null,null,null,null,null,null,null,null,null,null,null,null,null,null,null,null,null,null,null,null,null,null,null,null,null,null,null,null,null,null,null,null,null,null,null,null,null,null,null,null,null,17.8,5,"-40 to 105 (85)",500,"PET","No","ECQE(F)[DC]","ECQE1125JF3","-","18.5 x 5.5"]
[null,null,null,null,null,null,null,null,null,null,null,null,null,null,null,null,null,null,null,null,null,null,null,null,null,null,null,null,null,null,null,null,null,null,null,null,null,null,null,null,null,null,null,null,null,null,null,null,7.5,"-40 to 105 (85)",600,"PET","No","ECQE(F)[DC]","ECQE1125RJF","-","18.5 x 5.5"]
[null,null,null,null,null,null,null,null,null,null,null,null,null,null,null,null,null,null,null,null,null,null,null,null,null,null,null,null,null,null,null,null,null,null,null,null,null,null,null,null,null,null,null,null,null,null,null,null,10,"-40 to 105 (85)",100,"PET","No","ECQE(F)[DC]","ECQE1125JFB","-","18.5 x 5.5"]
[null,null,null,null,null,null,null,null,null,null,null,null,null,null,null,null,null,null,null,null,null,null,null,null,null,null,null,null,null,null,null,null,null,null,null,null,null,null,null,null,null,null,null,null,null,null,null,null,null,null,null,null,null,null,"ECQE1125JFW","-","18.5 x 5.5"]
[null,null,null,null,null,null,null,null,null,null,null,null,null,null,null,null,null,null,null,null,null,null,null,null,null,null,null,null,null,null,null,null,null,null,null,null,null,null,null,null,null,1,"±10","-","-",12,6.7,14,10,"-40 to 105 (85)",100,"PET","No","ECQE(F)[DC]","ECQE1105KF","-","12 x 6.7"]
[null,null,null,null,null,null,null,null,null,null,null,null,null,null,null,null,null,null,null,null,null,null,null,null,null,null,null,null,null,null,null,null,null,null,null,null,null,null,null,null,null,null,null,null,null,null,null,19,5,"-40 to 105 (85)",1000,"PET","No","ECQE(F)[DC]","ECQE1105KF3","-","12 x 6.7"]
[null,null,null,null,null,null,null,null,null,null,null,null,null,null,null,null,null,null,null,null,null,null,null,null,null,null,null,null,null,null,null,null,null,null,null,null,null,null,null,null,null,null,null,null,null,null,null,null,10,"-40 to 105 (85)",100,"PET","No","ECQE(F)[DC]","ECQE1105KFB","-","12 x 6.7"]
[null,null,null,null,null,null,null,null,null,null,null,null,null,null,null,null,null,null,null,null,null,null,null,null,null,null,null,null,null,null,null,null,null,null,null,null,null,null,null,null,null,null,null,null,null,null,null,null,null,null,null,null,null,null,"ECQE1105KFW","-","12 x 6.7"]
[null,null,null,null,null,null,null,null,null,null,null,null,null,null,null,null,null,null,null,null,null,null,null,null,null,null,null,null,null,null,null,null,null,null,null,null,null,null,null,null,null,null,"± 5","-","-",12,6.7,14,10,"-40 to 105 (85)",100,"PET","No","ECQE(F)[DC]","ECQE1105JF","-","12 x 6.7"]
[null,null,null,null,null,null,null,null,null,null,null,null,null,null,null,null,null,null,null,null,null,null,null,null,null,null,null,null,null,null,null,null,null,null,null,null,null,null,null,null,null,null,null,null,null,null,null,19,5,"-40 to 105 (85)",1000,"PET","No","ECQE(F)[DC]","ECQE1105JF3","-","12 x 6.7"]
[null,null,null,null,null,null,null,null,null,null,null,null,null,null,null,null,null,null,null,null,null,null,null,null,null,null,null,null,null,null,null,null,null,null,null,null,null,null,null,null,null,null,null,null,null,null,null,null,10,"-40 to 105 (85)",100,"PET","No","ECQE(F)[DC]","ECQE1105JFB","-","12 x 6.7"]
[null,null,null,null,null,null,null,null,null,null,null,null,null,null,null,null,null,null,null,null,null,null,null,null,null,null,null,null,null,null,null,null,null,null,null,null,null,null,null,null,null,null,null,null,null,null,null,null,null,null,null,null,null,null,"ECQE1105JFW","-","12 x 6.7"]
[null,null,null,null,null,null,null,null,null,null,null,null,null,null,null,null,null,null,null,null,null,null,null,null,null,null,null,null,null,null,null,null,null,null,null,null,null,null,null,null,null,0.82,"±10","-","-",12,6,13.5,10,"-40 to 105 (85)",100,"PET","No","ECQE(F)[DC]","ECQE1824KF","-","12 x 6"]
[null,null,null,null,null,null,null,null,null,null,null,null,null,null,null,null,null,null,null,null,null,null,null,null,null,null,null,null,null,null,null,null,null,null,null,null,null,null,null,null,null,null,null,null,null,null,null,18.5,5,"-40 to 105 (85)",1000,"PET","No","ECQE(F)[DC]","ECQE1824KF3","-","12 x 6"]
[null,null,null,null,null,null,null,null,null,null,null,null,null,null,null,null,null,null,null,null,null,null,null,null,null,null,null,null,null,null,null,null,null,null,null,null,null,null,null,null,null,null,null,null,null,null,null,null,10,"-40 to 105 (85)",100,"PET","No","ECQE(F)[DC]","ECQE1824KFB","-","12 x 6"]
[null,null,null,null,null,null,null,null,null,null,null,null,null,null,null,null,null,null,null,null,null,null,null,null,null,null,null,null,null,null,null,null,null,null,null,null,null,null,null,null,null,null,null,null,null,null,null,null,null,null,null,null,null,null,"ECQE1824KFW","-","12 x 6"]
[null,null,null,null,null,null,null,null,null,null,null,null,null,null,null,null,null,null,null,null,null,null,null,null,null,null,null,null,null,null,null,null,null,null,null,null,null,null,null,null,null,null,"± 5","-","-",12,6,13.5,10,"-40 to 105 (85)",100,"PET","No","ECQE(F)[DC]","ECQE1824JF","-","12 x 6"]
[null,null,null,null,null,null,null,null,null,null,null,null,null,null,null,null,null,null,null,null,null,null,null,null,null,null,null,null,null,null,null,null,null,null,null,null,null,null,null,null,null,null,null,null,null,null,null,18.5,5,"-40 to 105 (85)",1000,"PET","No","ECQE(F)[DC]","ECQE1824JF3","-","12 x 6"]
[null,null,null,null,null,null,null,null,null,null,null,null,null,null,null,null,null,null,null,null,null,null,null,null,null,null,null,null,null,null,null,null,null,null,null,null,null,null,null,null,null,null,null,null,null,null,null,null,10,"-40 to 105 (85)",100,"PET","No","ECQE(F)[DC]","ECQE1824JFB","-","12 x 6"]
[null,null,null,null,null,null,null,null,null,null,null,null,null,null,null,null,null,null,null,null,null,null,null,null,null,null,null,null,null,null,null,null,null,null,null,null,null,null,null,null,null,null,null,null,null,null,null,null,null,null,null,null,null,null,"ECQE1824JFW","-","12 x 6"]
[null,null,null,null,null,null,null,null,null,null,null,null,null,null,null,null,null,null,null,null,null,null,null,null,null,null,null,null,null,null,null,null,null,null,null,null,null,null,null,null,null,0.68,"±10","-","-",12,6,11.9,10,"-40 to 105 (85)",100,"PET","No","ECQE(F)[DC]","ECQE1684KF","-","12 x 6"]
[null,null,null,null,null,null,null,null,null,null,null,null,null,null,null,null,null,null,null,null,null,null,null,null,null,null,null,null,null,null,null,null,null,null,null,null,null,null,null,null,null,null,null,null,null,null,null,16.899999999999999,5,"-40 to 105 (85)",500,"PET","No","ECQE(F)[DC]","ECQE1684KF3","-","12 x 6"]
[null,null,null,null,null,null,null,null,null,null,null,null,null,null,null,null,null,null,null,null,null,null,null,null,null,null,null,null,null,null,null,null,null,null,null,null,null,null,null,null,null,null,null,null,null,null,null,null,null,null,1000,"PET","No","ECQE(F)[DC]","ECQE1684KF9","-","12 x 6"]
[null,null,null,null,null,null,null,null,null,null,null,null,null,null,null,null,null,null,null,null,null,null,null,null,null,null,null,null,null,null,null,null,null,null,null,null,null,null,null,null,null,null,null,null,null,null,null,null,10,"-40 to 105 (85)",100,"PET","No","ECQE(F)[DC]","ECQE1684KFB","-","12 x 6"]
[null,null,null,null,null,null,null,null,null,null,null,null,null,null,null,null,null,null,null,null,null,null,null,null,null,null,null,null,null,null,null,null,null,null,null,null,null,null,null,null,null,null,null,null,null,null,null,null,null,null,null,null,null,null,"ECQE1684KFW","-","12 x 6"]
[null,null,null,null,null,null,null,null,null,null,null,null,null,null,null,null,null,null,null,null,null,null,null,null,null,null,null,null,null,null,null,null,null,null,null,null,null,null,null,null,null,null,"± 5","-","-",12,6,11.9,10,"-40 to 105 (85)",100,"PET","No","ECQE(F)[DC]","ECQE1684JF","-","12 x 6"]
[null,null,null,null,null,null,null,null,null,null,null,null,null,null,null,null,null,null,null,null,null,null,null,null,null,null,null,null,null,null,null,null,null,null,null,null,null,null,null,null,null,null,null,null,null,null,null,16.899999999999999,5,"-40 to 105 (85)",500,"PET","No","ECQE(F)[DC]","ECQE1684JF3","-","12 x 6"]
[null,null,null,null,null,null,null,null,null,null,null,null,null,null,null,null,null,null,null,null,null,null,null,null,null,null,null,null,null,null,null,null,null,null,null,null,null,null,null,null,null,null,null,null,null,null,null,null,null,null,1000,"PET","No","ECQE(F)[DC]","ECQE1684JF9","-","12 x 6"]
[null,null,null,null,null,null,null,null,null,null,null,null,null,null,null,null,null,null,null,null,null,null,null,null,null,null,null,null,null,null,null,null,null,null,null,null,null,null,null,null,null,null,null,null,null,null,null,null,10,"-40 to 105 (85)",100,"PET","No","ECQE(F)[DC]","ECQE1684JFB","-","12 x 6"]
[null,null,null,null,null,null,null,null,null,null,null,null,null,null,null,null,null,null,null,null,null,null,null,null,null,null,null,null,null,null,null,null,null,null,null,null,null,null,null,null,null,null,null,null,null,null,null,null,null,null,null,null,null,null,"ECQE1684JFW","-","12 x 6"]
[null,null,null,null,null,null,null,null,null,null,null,null,null,null,null,null,null,null,null,null,null,null,null,null,null,null,null,null,null,null,null,null,null,null,null,null,null,null,null,null,null,0.56000000000000005,"±10","-","-",12,5.5,10.9,10,"-40 to 105 (85)",100,"PET","No","ECQE(F)[DC]","ECQE1564KF","-","12 x 5.5"]
[null,null,null,null,null,null,null,null,null,null,null,null,null,null,null,null,null,null,null,null,null,null,null,null,null,null,null,null,null,null,null,null,null,null,null,null,null,null,null,null,null,null,null,null,null,null,null,15.9,5,"-40 to 105 (85)",500,"PET","No","ECQE(F)[DC]","ECQE1564KF3","-","12 x 5.5"]
[null,null,null,null,null,null,null,null,null,null,null,null,null,null,null,null,null,null,null,null,null,null,null,null,null,null,null,null,null,null,null,null,null,null,null,null,null,null,null,null,null,null,null,null,null,null,null,null,null,null,1000,"PET","No","ECQE(F)[DC]","ECQE1564KF9","-","12 x 5.5"]
[null,null,null,null,null,null,null,null,null,null,null,null,null,null,null,null,null,null,null,null,null,null,null,null,null,null,null,null,null,null,null,null,null,null,null,null,null,null,null,null,null,null,null,null,null,null,null,null,10,"-40 to 105 (85)",100,"PET","No","ECQE(F)[DC]","ECQE1564KFB","-","12 x 5.5"]
[null,null,null,null,null,null,null,null,null,null,null,null,null,null,null,null,null,null,null,null,null,null,null,null,null,null,null,null,null,null,null,null,null,null,null,null,null,null,null,null,null,null,null,null,null,null,null,null,null,null,null,null,null,null,"ECQE1564KFW","-","12 x 5.5"]
[null,null,null,null,null,null,null,null,null,null,null,null,null,null,null,null,null,null,null,null,null,null,null,null,null,null,null,null,null,null,null,null,null,null,null,null,null,null,null,null,null,null,"± 5","-","-",12,5.5,10.9,10,"-40 to 105 (85)",100,"PET","No","ECQE(F)[DC]","ECQE1564JF","-","12 x 5.5"]
[null,null,null,null,null,null,null,null,null,null,null,null,null,null,null,null,null,null,null,null,null,null,null,null,null,null,null,null,null,null,null,null,null,null,null,null,null,null,null,null,null,null,null,null,null,null,null,15.9,5,"-40 to 105 (85)",500,"PET","No","ECQE(F)[DC]","ECQE1564JF3","-","12 x 5.5"]
[null,null,null,null,null,null,null,null,null,null,null,null,null,null,null,null,null,null,null,null,null,null,null,null,null,null,null,null,null,null,null,null,null,null,null,null,null,null,null,null,null,null,null,null,null,null,null,null,null,null,1000,"PET","No","ECQE(F)[DC]","ECQE1564JF9","-","12 x 5.5"]
[null,null,null,null,null,null,null,null,null,null,null,null,null,null,null,null,null,null,null,null,null,null,null,null,null,null,null,null,null,null,null,null,null,null,null,null,null,null,null,null,null,null,null,null,null,null,null,null,10,"-40 to 105 (85)",100,"PET","No","ECQE(F)[DC]","ECQE1564JFB","-","12 x 5.5"]
[null,null,null,null,null,null,null,null,null,null,null,null,null,null,null,null,null,null,null,null,null,null,null,null,null,null,null,null,null,null,null,null,null,null,null,null,null,null,null,null,null,null,null,null,null,null,null,null,null,null,null,null,null,null,"ECQE1564JFW","-","12 x 5.5"]

{"sheet":"PN->Parameter","index":2,"n_rows":137,"n_cols":26,"rows_kept":137,"cut":false,"hidden":false,"merged":[]}
["Panasonic Film Capacitor Quick Search"]
[]
[]
[]
[]
[null,"e1","e2","e3","#","Part Number","Voltage Cap.","Cap Tolerance","Current ESR","Size (mm)","Mounting","Temp. Range","Product","Series","Automotive Grade","V","Vtype","uF","Tol.","Arms","mΩ","L (mm)","W (mm)","H (mm)","URL"]
[null,null,null,null,{"$f":"\nIF(F7<>\"\",COUNTIF($F$7:F7,\"*\")&\".\",\"\")","v":""},null,{"$f":"\nIF(F7=\"\",\"\",CONCATENATE(P7,\"V\",Q7,\" \",R7,\"uF\"))","v":""},{"$f":"\nIF(F7=\"\",\"\",CONCATENATE(\"Tol. \",S7,\"%\"))","v":""},{"$f":"\nIF(F7=\"\",\"\",CONCATENATE(T7,\"Arms\",\" \",U7,\"mΩ\"))","v":""},{"$f":"\nIF(F7=\"\",\"\",CONCATENATE(\"L\"&V7,\"x W\",W7,\" x H\",X7))","v":""},{"$f":"\nIF($F7=\"\",\"\",INDEX('Film Data'!D:D,MATCH($F7,'Film Data'!G:G,0)))","v":""},{"$f":"\nIF($F7=\"\",\"\",INDEX('Film Data'!Q:Q,MATCH($F7,'Film Data'!G:G,0)))","v":""},{"$f":"\nIF($F7=\"\",\"\",INDEX('Film Data'!D:D,MATCH($F7,'Film Data'!G:G,0)))","v":""},{"$f":"\nIF($F7=\"\",\"\",INDEX('Film Data'!F:F,MATCH($F7,'Film Data'!G:G,0)))","v":""},{"$f":"\nIF($F7=\"\",\"\",INDEX('Film Data'!E:E,MATCH($F7,'Film Data'!G:G,0)))","v":""},{"$f":"\nIF($F7=\"\",\"\",INDEX('Film Data'!H:H,MATCH($F7,'Film Data'!G:G,0)))","v":""},{"$f":"\nIF($F7=\"\",\"\",INDEX('Film Data'!I:I,MATCH($F7,'Film Data'!G:G,0)))","v":""},{"$f":"\nIF($F7=\"\",\"\",INDEX('Film Data'!J:J,MATCH($F7,'Film Data'!G:G,0)))","v":""},{"$f":"\nIF($F7=\"\",\"\",INDEX('Film Data'!K:K,MATCH($F7,'Film Data'!G:G,0)))","v":""},{"$f":"\nIF($F7=\"\",\"\",INDEX('Film Data'!Y:Y,MATCH($F7,'Film Data'!G:G,0)))","v":""},{"$f":"\nIF($F7=\"\",\"\",INDEX('Film Data'!Z:Z,MATCH($F7,'Film Data'!G:G,0)))","v":""},{"$f":"\nIF($F7=\"\",\"\",INDEX('Film Data'!L:L,MATCH($F7,'Film Data'!G:G,0)))","v":""},{"$f":"\nIF($F7=\"\",\"\",INDEX('Film Data'!M:M,MATCH($F7,'Film Data'!G:G,0)))","v":""},{"$f":"\nIF($F7=\"\",\"\",INDEX('Film Data'!N:N,MATCH($F7,'Film Data'!G:G,0)))","v":""},{"$f":"\nIF($F7=\"\",\"\",HYPERLINK(INDEX('Film Data'!T:T,MATCH($F7,'Film Data'!G:G,0))))","v":""},{"$f":"IFERROR(HYPERLINK(INDEX(#REF!,MATCH(PPN[[#This Row],[Part Number]],#REF!,0)),\">More Info\"),\"\")","v":""}]
[null,null,null,null,{"$f":"\nIF(F8<>\"\",COUNTIF($F$7:F8,\"*\")&\".\",\"\")","v":""},null,"","","",{"$f":"\nIF(F8=\"\",\"\",CONCATENATE(\"L\"&V8,\"x W\",W8,\" x H\",X8))","v":""},{"$f":"\nIF($F8=\"\",\"\",INDEX('Film Data'!D:D,MATCH($F8,'Film Data'!G:G,0)))","v":""},{"$f":"\nIF($F8=\"\",\"\",INDEX('Film Data'!Q:Q,MATCH($F8,'Film Data'!G:G,0)))","v":""},{"$f":"\nIF($F8=\"\",\"\",INDEX('Film Data'!D:D,MATCH($F8,'Film Data'!G:G,0)))","v":""},{"$f":"\nIF($F8=\"\",\"\",INDEX('Film Data'!F:F,MATCH($F8,'Film Data'!G:G,0)))","v":""},{"$f":"\nIF($F8=\"\",\"\",INDEX('Film Data'!E:E,MATCH($F8,'Film Data'!G:G,0)))","v":""},{"$f":"\nIF($F8=\"\",\"\",INDEX('Film Data'!H:H,MATCH($F8,'Film Data'!G:G,0)))","v":""},{"$f":"\nIF($F8=\"\",\"\",INDEX('Film Data'!I:I,MATCH($F8,'Film Data'!G:G,0)))","v":""},{"$f":"\nIF($F8=\"\",\"\",INDEX('Film Data'!J:J,MATCH($F8,'Film Data'!G:G,0)))","v":""},{"$f":"\nIF($F8=\"\",\"\",INDEX('Film Data'!K:K,MATCH($F8,'Film Data'!G:G,0)))","v":""},{"$f":"\nIF($F8=\"\",\"\",INDEX('Film Data'!Y:Y,MATCH($F8,'Film Data'!G:G,0)))","v":""},{"$f":"\nIF($F8=\"\",\"\",INDEX('Film Data'!Z:Z,MATCH($F8,'Film Data'!G:G,0)))","v":""},{"$f":"\nIF($F8=\"\",\"\",INDEX('Film Data'!L:L,MATCH($F8,'Film Data'!G:G,0)))","v":""},{"$f":"\nIF($F8=\"\",\"\",INDEX('Film Data'!M:M,MATCH($F8,'Film Data'!G:G,0)))","v":""},{"$f":"\nIF($F8=\"\",\"\",INDEX('Film Data'!N:N,MATCH($F8,'Film Data'!G:G,0)))","v":""},{"$f":"\nIF($F8=\"\",\"\",HYPERLINK(INDEX('Film Data'!T:T,MATCH($F8,'Film Data'!G:G,0))))","v":""},{"$f":"IFERROR(HYPERLINK(INDEX(#REF!,MATCH(PPN[[#This Row],[Part Number]],#REF!,0)),\">More Info\"),\"\")","v":""}]
[null,null,null,null,{"$f":"\nIF(F9<>\"\",COUNTIF($F$7:F9,\"*\")&\".\",\"\")","v":""},null,"","","","",{"$f":"\nIF($F9=\"\",\"\",INDEX('Film Data'!D:D,MATCH($F9,'Film Data'!G:G,0)))","v":""},{"$f":"\nIF($F9=\"\",\"\",INDEX('Film Data'!Q:Q,MATCH($F9,'Film Data'!G:G,0)))","v":""},{"$f":"\nIF($F9=\"\",\"\",INDEX('Film Data'!D:D,MATCH($F9,'Film Data'!G:G,0)))","v":""},{"$f":"\nIF($F9=\"\",\"\",INDEX('Film Data'!F:F,MATCH($F9,'Film Data'!G:G,0)))","v":""},{"$f":"\nIF($F9=\"\",\"\",INDEX('Film Data'!E:E,MATCH($F9,'Film Data'!G:G,0)))","v":""},{"$f":"\nIF($F9=\"\",\"\",INDEX('Film Data'!H:H,MATCH($F9,'Film Data'!G:G,0)))","v":""},{"$f":"\nIF($F9=\"\",\"\",INDEX('Film Data'!I:I,MATCH($F9,'Film Data'!G:G,0)))","v":""},{"$f":"\nIF($F9=\"\",\"\",INDEX('Film Data'!J:J,MATCH($F9,'Film Data'!G:G,0)))","v":""},{"$f":"\nIF($F9=\"\",\"\",INDEX('Film Data'!K:K,MATCH($F9,'Film Data'!G:G,0)))","v":""},{"$f":"\nIF($F9=\"\",\"\",INDEX('Film Data'!Y:Y,MATCH($F9,'Film Data'!G:G,0)))","v":""},{"$f":"\nIF($F9=\"\",\"\",INDEX('Film Data'!Z:Z,MATCH($F9,'Film Data'!G:G,0)))","v":""},{"$f":"\nIF($F9=\"\",\"\",INDEX('Film Data'!L:L,MATCH($F9,'Film Data'!G:G,0)))","v":""},{"$f":"\nIF($F9=\"\",\"\",INDEX('Film Data'!M:M,MATCH($F9,'Film Data'!G:G,0)))","v":""},{"$f":"\nIF($F9=\"\",\"\",INDEX('Film Data'!N:N,MATCH($F9,'Film Data'!G:G,0)))","v":""},{"$f":"\nIF($F9=\"\",\"\",HYPERLINK(INDEX('Film Data'!T:T,MATCH($F9,'Film Data'!G:G,0))))","v":""},{"$f":"IFERROR(HYPERLINK(INDEX(#REF!,MATCH(PPN[[#This Row],[Part Number]],#REF!,0)),\">More Info\"),\"\")","v":""}]
[null,null,null,null,{"$f":"\nIF(F10<>\"\",COUNTIF($F$7:F10,\"*\")&\".\",\"\")","v":""},null,"","","","",{"$f":"\nIF($F10=\"\",\"\",INDEX('Film Data'!D:D,MATCH($F10,'Film Data'!G:G,0)))","v":""},{"$f":"\nIF($F10=\"\",\"\",INDEX('Film Data'!Q:Q,MATCH($F10,'Film Data'!G:G,0)))","v":""},{"$f":"\nIF($F10=\"\",\"\",INDEX('Film Data'!D:D,MATCH($F10,'Film Data'!G:G,0)))","v":""},{"$f":"\nIF($F10=\"\",\"\",INDEX('Film Data'!F:F,MATCH($F10,'Film Data'!G:G,0)))","v":""},{"$f":"\nIF($F10=\"\",\"\",INDEX('Film Data'!E:E,MATCH($F10,'Film Data'!G:G,0)))","v":""},{"$f":"\nIF($F10=\"\",\"\",INDEX('Film Data'!H:H,MATCH($F10,'Film Data'!G:G,0)))","v":""},{"$f":"\nIF($F10=\"\",\"\",INDEX('Film Data'!I:I,MATCH($F10,'Film Data'!G:G,0)))","v":""},{"$f":"\nIF($F10=\"\",\"\",INDEX('Film Data'!J:J,MATCH($F10,'Film Data'!G:G,0)))","v":""},{"$f":"\nIF($F10=\"\",\"\",INDEX('Film Data'!K:K,MATCH($F10,'Film Data'!G:G,0)))","v":""},{"$f":"\nIF($F10=\"\",\"\",INDEX('Film Data'!Y:Y,MATCH($F10,'Film Data'!G:G,0)))","v":""},{"$f":"\nIF($F10=\"\",\"\",INDEX('Film Data'!Z:Z,MATCH($F10,'Film Data'!G:G,0)))","v":""},{"$f":"\nIF($F10=\"\",\"\",INDEX('Film Data'!L:L,MATCH($F10,'Film Data'!G:G,0)))","v":""},{"$f":"\nIF($F10=\"\",\"\",INDEX('Film Data'!M:M,MATCH($F10,'Film Data'!G:G,0)))","v":""},{"$f":"\nIF($F10=\"\",\"\",INDEX('Film Data'!N:N,MATCH($F10,'Film Data'!G:G,0)))","v":""},{"$f":"\nIF($F10=\"\",\"\",HYPERLINK(INDEX('Film Data'!T:T,MATCH($F10,'Film Data'!G:G,0))))","v":""},{"$f":"IFERROR(HYPERLINK(INDEX(#REF!,MATCH(PPN[[#This Row],[Part Number]],#REF!,0)),\">More Info\"),\"\")","v":""}]
[null,null,null,null,{"$f":"\nIF(F11<>\"\",COUNTIF($F$7:F11,\"*\")&\".\",\"\")","v":""},null,"","","","",{"$f":"\nIF($F11=\"\",\"\",INDEX('Film Data'!D:D,MATCH($F11,'Film Data'!G:G,0)))","v":""},{"$f":"\nIF($F11=\"\",\"\",INDEX('Film Data'!Q:Q,MATCH($F11,'Film Data'!G:G,0)))","v":""},{"$f":"\nIF($F11=\"\",\"\",INDEX('Film Data'!D:D,MATCH($F11,'Film Data'!G:G,0)))","v":""},{"$f":"\nIF($F11=\"\",\"\",INDEX('Film Data'!F:F,MATCH($F11,'Film Data'!G:G,0)))","v":""},{"$f":"\nIF($F11=\"\",\"\",INDEX('Film Data'!E:E,MATCH($F11,'Film Data'!G:G,0)))","v":""},{"$f":"\nIF($F11=\"\",\"\",INDEX('Film Data'!H:H,MATCH($F11,'Film Data'!G:G,0)))","v":""},{"$f":"\nIF($F11=\"\",\"\",INDEX('Film Data'!I:I,MATCH($F11,'Film Data'!G:G,0)))","v":""},{"$f":"\nIF($F11=\"\",\"\",INDEX('Film Data'!J:J,MATCH($F11,'Film Data'!G:G,0)))","v":""},{"$f":"\nIF($F11=\"\",\"\",INDEX('Film Data'!K:K,MATCH($F11,'Film Data'!G:G,0)))","v":""},{"$f":"\nIF($F11=\"\",\"\",INDEX('Film Data'!Y:Y,MATCH($F11,'Film Data'!G:G,0)))","v":""},{"$f":"\nIF($F11=\"\",\"\",INDEX('Film Data'!Z:Z,MATCH($F11,'Film Data'!G:G,0)))","v":""},{"$f":"\nIF($F11=\"\",\"\",INDEX('Film Data'!L:L,MATCH($F11,'Film Data'!G:G,0)))","v":""},{"$f":"\nIF($F11=\"\",\"\",INDEX('Film Data'!M:M,MATCH($F11,'Film Data'!G:G,0)))","v":""},{"$f":"\nIF($F11=\"\",\"\",INDEX('Film Data'!N:N,MATCH($F11,'Film Data'!G:G,0)))","v":""},{"$f":"\nIF($F11=\"\",\"\",HYPERLINK(INDEX('Film Data'!T:T,MATCH($F11,'Film Data'!G:G,0))))","v":""},{"$f":"IFERROR(HYPERLINK(INDEX(#REF!,MATCH(PPN[[#This Row],[Part Number]],#REF!,0)),\">More Info\"),\"\")","v":""}]
[null,null,null,null,{"$f":"\nIF(F12<>\"\",COUNTIF($F$7:F12,\"*\")&\".\",\"\")","v":""},null,"","","","",{"$f":"\nIF($F12=\"\",\"\",INDEX('Film Data'!D:D,MATCH($F12,'Film Data'!G:G,0)))","v":""},{"$f":"\nIF($F12=\"\",\"\",INDEX('Film Data'!Q:Q,MATCH($F12,'Film Data'!G:G,0)))","v":""},{"$f":"\nIF($F12=\"\",\"\",INDEX('Film Data'!D:D,MATCH($F12,'Film Data'!G:G,0)))","v":""},{"$f":"\nIF($F12=\"\",\"\",INDEX('Film Data'!F:F,MATCH($F12,'Film Data'!G:G,0)))","v":""},{"$f":"\nIF($F12=\"\",\"\",INDEX('Film Data'!E:E,MATCH($F12,'Film Data'!G:G,0)))","v":""},{"$f":"\nIF($F12=\"\",\"\",INDEX('Film Data'!H:H,MATCH($F12,'Film Data'!G:G,0)))","v":""},{"$f":"\nIF($F12=\"\",\"\",INDEX('Film Data'!I:I,MATCH($F12,'Film Data'!G:G,0)))","v":""},{"$f":"\nIF($F12=\"\",\"\",INDEX('Film Data'!J:J,MATCH($F12,'Film Data'!G:G,0)))","v":""},{"$f":"\nIF($F12=\"\",\"\",INDEX('Film Data'!K:K,MATCH($F12,'Film Data'!G:G,0)))","v":""},{"$f":"\nIF($F12=\"\",\"\",INDEX('Film Data'!Y:Y,MATCH($F12,'Film Data'!G:G,0)))","v":""},{"$f":"\nIF($F12=\"\",\"\",INDEX('Film Data'!Z:Z,MATCH($F12,'Film Data'!G:G,0)))","v":""},{"$f":"\nIF($F12=\"\",\"\",INDEX('Film Data'!L:L,MATCH($F12,'Film Data'!G:G,0)))","v":""},{"$f":"\nIF($F12=\"\",\"\",INDEX('Film Data'!M:M,MATCH($F12,'Film Data'!G:G,0)))","v":""},{"$f":"\nIF($F12=\"\",\"\",INDEX('Film Data'!N:N,MATCH($F12,'Film Data'!G:G,0)))","v":""},{"$f":"\nIF($F12=\"\",\"\",HYPERLINK(INDEX('Film Data'!T:T,MATCH($F12,'Film Data'!G:G,0))))","v":""},{"$f":"IFERROR(HYPERLINK(INDEX(#REF!,MATCH(PPN[[#This Row],[Part Number]],#REF!,0)),\">More Info\"),\"\")","v":""}]
[null,null,null,null,{"$f":"\nIF(F13<>\"\",COUNTIF($F$7:F13,\"*\")&\".\",\"\")","v":""},null,"","","","",{"$f":"\nIF($F13=\"\",\"\",INDEX('Film Data'!D:D,MATCH($F13,'Film Data'!G:G,0)))","v":""},{"$f":"\nIF($F13=\"\",\"\",INDEX('Film Data'!Q:Q,MATCH($F13,'Film Data'!G:G,0)))","v":""},{"$f":"\nIF($F13=\"\",\"\",INDEX('Film Data'!D:D,MATCH($F13,'Film Data'!G:G,0)))","v":""},{"$f":"\nIF($F13=\"\",\"\",INDEX('Film Data'!F:F,MATCH($F13,'Film Data'!G:G,0)))","v":""},{"$f":"\nIF($F13=\"\",\"\",INDEX('Film Data'!E:E,MATCH($F13,'Film Data'!G:G,0)))","v":""},{"$f":"\nIF($F13=\"\",\"\",INDEX('Film Data'!H:H,MATCH($F13,'Film Data'!G:G,0)))","v":""},{"$f":"\nIF($F13=\"\",\"\",INDEX('Film Data'!I:I,MATCH($F13,'Film Data'!G:G,0)))","v":""},{"$f":"\nIF($F13=\"\",\"\",INDEX('Film Data'!J:J,MATCH($F13,'Film Data'!G:G,0)))","v":""},{"$f":"\nIF($F13=\"\",\"\",INDEX('Film Data'!K:K,MATCH($F13,'Film Data'!G:G,0)))","v":""},{"$f":"\nIF($F13=\"\",\"\",INDEX('Film Data'!Y:Y,MATCH($F13,'Film Data'!G:G,0)))","v":""},{"$f":"\nIF($F13=\"\",\"\",INDEX('Film Data'!Z:Z,MATCH($F13,'Film Data'!G:G,0)))","v":""},{"$f":"\nIF($F13=\"\",\"\",INDEX('Film Data'!L:L,MATCH($F13,'Film Data'!G:G,0)))","v":""},{"$f":"\nIF($F13=\"\",\"\",INDEX('Film Data'!M:M,MATCH($F13,'Film Data'!G:G,0)))","v":""},{"$f":"\nIF($F13=\"\",\"\",INDEX('Film Data'!N:N,MATCH($F13,'Film Data'!G:G,0)))","v":""},{"$f":"\nIF($F13=\"\",\"\",HYPERLINK(INDEX('Film Data'!T:T,MATCH($F13,'Film Data'!G:G,0))))","v":""},{"$f":"IFERROR(HYPERLINK(INDEX(#REF!,MATCH(PPN[[#This Row],[Part Number]],#REF!,0)),\">More Info\"),\"\")","v":""}]
[null,null,null,null,{"$f":"\nIF(F14<>\"\",COUNTIF($F$7:F14,\"*\")&\".\",\"\")","v":""},null,"","","","",{"$f":"\nIF($F14=\"\",\"\",INDEX('Film Data'!D:D,MATCH($F14,'Film Data'!G:G,0)))","v":""},{"$f":"\nIF($F14=\"\",\"\",INDEX('Film Data'!Q:Q,MATCH($F14,'Film Data'!G:G,0)))","v":""},{"$f":"\nIF($F14=\"\",\"\",INDEX('Film Data'!D:D,MATCH($F14,'Film Data'!G:G,0)))","v":""},{"$f":"\nIF($F14=\"\",\"\",INDEX('Film Data'!F:F,MATCH($F14,'Film Data'!G:G,0)))","v":""},{"$f":"\nIF($F14=\"\",\"\",INDEX('Film Data'!E:E,MATCH($F14,'Film Data'!G:G,0)))","v":""},{"$f":"\nIF($F14=\"\",\"\",INDEX('Film Data'!H:H,MATCH($F14,'Film Data'!G:G,0)))","v":""},{"$f":"\nIF($F14=\"\",\"\",INDEX('Film Data'!I:I,MATCH($F14,'Film Data'!G:G,0)))","v":""},{"$f":"\nIF($F14=\"\",\"\",INDEX('Film Data'!J:J,MATCH($F14,'Film Data'!G:G,0)))","v":""},{"$f":"\nIF($F14=\"\",\"\",INDEX('Film Data'!K:K,MATCH($F14,'Film Data'!G:G,0)))","v":""},{"$f":"\nIF($F14=\"\",\"\",INDEX('Film Data'!Y:Y,MATCH($F14,'Film Data'!G:G,0)))","v":""},{"$f":"\nIF($F14=\"\",\"\",INDEX('Film Data'!Z:Z,MATCH($F14,'Film Data'!G:G,0)))","v":""},{"$f":"\nIF($F14=\"\",\"\",INDEX('Film Data'!L:L,MATCH($F14,'Film Data'!G:G,0)))","v":""},{"$f":"\nIF($F14=\"\",\"\",INDEX('Film Data'!M:M,MATCH($F14,'Film Data'!G:G,0)))","v":""},{"$f":"\nIF($F14=\"\",\"\",INDEX('Film Data'!N:N,MATCH($F14,'Film Data'!G:G,0)))","v":""},{"$f":"\nIF($F14=\"\",\"\",HYPERLINK(INDEX('Film Data'!T:T,MATCH($F14,'Film Data'!G:G,0))))","v":""},{"$f":"IFERROR(HYPERLINK(INDEX(#REF!,MATCH(PPN[[#This Row],[Part Number]],#REF!,0)),\">More Info\"),\"\")","v":""}]
[null,null,null,null,{"$f":"\nIF(F15<>\"\",COUNTIF($F$7:F15,\"*\")&\".\",\"\")","v":""},null,"","","","",{"$f":"\nIF($F15=\"\",\"\",INDEX('Film Data'!D:D,MATCH($F15,'Film Data'!G:G,0)))","v":""},{"$f":"\nIF($F15=\"\",\"\",INDEX('Film Data'!Q:Q,MATCH($F15,'Film Data'!G:G,0)))","v":""},{"$f":"\nIF($F15=\"\",\"\",INDEX('Film Data'!D:D,MATCH($F15,'Film Data'!G:G,0)))","v":""},{"$f":"\nIF($F15=\"\",\"\",INDEX('Film Data'!F:F,MATCH($F15,'Film Data'!G:G,0)))","v":""},{"$f":"\nIF($F15=\"\",\"\",INDEX('Film Data'!E:E,MATCH($F15,'Film Data'!G:G,0)))","v":""},{"$f":"\nIF($F15=\"\",\"\",INDEX('Film Data'!H:H,MATCH($F15,'Film Data'!G:G,0)))","v":""},{"$f":"\nIF($F15=\"\",\"\",INDEX('Film Data'!I:I,MATCH($F15,'Film Data'!G:G,0)))","v":""},{"$f":"\nIF($F15=\"\",\"\",INDEX('Film Data'!J:J,MATCH($F15,'Film Data'!G:G,0)))","v":""},{"$f":"\nIF($F15=\"\",\"\",INDEX('Film Data'!K:K,MATCH($F15,'Film Data'!G:G,0)))","v":""},{"$f":"\nIF($F15=\"\",\"\",INDEX('Film Data'!Y:Y,MATCH($F15,'Film Data'!G:G,0)))","v":""},{"$f":"\nIF($F15=\"\",\"\",INDEX('Film Data'!Z:Z,MATCH($F15,'Film Data'!G:G,0)))","v":""},{"$f":"\nIF($F15=\"\",\"\",INDEX('Film Data'!L:L,MATCH($F15,'Film Data'!G:G,0)))","v":""},{"$f":"\nIF($F15=\"\",\"\",INDEX('Film Data'!M:M,MATCH($F15,'Film Data'!G:G,0)))","v":""},{"$f":"\nIF($F15=\"\",\"\",INDEX('Film Data'!N:N,MATCH($F15,'Film Data'!G:G,0)))","v":""},{"$f":"\nIF($F15=\"\",\"\",HYPERLINK(INDEX('Film Data'!T:T,MATCH($F15,'Film Data'!G:G,0))))","v":""},{"$f":"IFERROR(HYPERLINK(INDEX(#REF!,MATCH(PPN[[#This Row],[Part Number]],#REF!,0)),\">More Info\"),\"\")","v":""}]
[null,null,null,null,{"$f":"\nIF(F16<>\"\",COUNTIF($F$7:F16,\"*\")&\".\",\"\")","v":""},null,"","","","",{"$f":"\nIF($F16=\"\",\"\",INDEX('Film Data'!D:D,MATCH($F16,'Film Data'!G:G,0)))","v":""},{"$f":"\nIF($F16=\"\",\"\",INDEX('Film Data'!Q:Q,MATCH($F16,'Film Data'!G:G,0)))","v":""},{"$f":"\nIF($F16=\"\",\"\",INDEX('Film Data'!D:D,MATCH($F16,'Film Data'!G:G,0)))","v":""},{"$f":"\nIF($F16=\"\",\"\",INDEX('Film Data'!F:F,MATCH($F16,'Film Data'!G:G,0)))","v":""},{"$f":"\nIF($F16=\"\",\"\",INDEX('Film Data'!E:E,MATCH($F16,'Film Data'!G:G,0)))","v":""},{"$f":"\nIF($F16=\"\",\"\",INDEX('Film Data'!H:H,MATCH($F16,'Film Data'!G:G,0)))","v":""},{"$f":"\nIF($F16=\"\",\"\",INDEX('Film Data'!I:I,MATCH($F16,'Film Data'!G:G,0)))","v":""},{"$f":"\nIF($F16=\"\",\"\",INDEX('Film Data'!J:J,MATCH($F16,'Film Data'!G:G,0)))","v":""},{"$f":"\nIF($F16=\"\",\"\",INDEX('Film Data'!K:K,MATCH($F16,'Film Data'!G:G,0)))","v":""},{"$f":"\nIF($F16=\"\",\"\",INDEX('Film Data'!Y:Y,MATCH($F16,'Film Data'!G:G,0)))","v":""},{"$f":"\nIF($F16=\"\",\"\",INDEX('Film Data'!Z:Z,MATCH($F16,'Film Data'!G:G,0)))","v":""},{"$f":"\nIF($F16=\"\",\"\",INDEX('Film Data'!L:L,MATCH($F16,'Film Data'!G:G,0)))","v":""},{"$f":"\nIF($F16=\"\",\"\",INDEX('Film Data'!M:M,MATCH($F16,'Film Data'!G:G,0)))","v":""},{"$f":"\nIF($F16=\"\",\"\",INDEX('Film Data'!N:N,MATCH($F16,'Film Data'!G:G,0)))","v":""},{"$f":"\nIF($F16=\"\",\"\",HYPERLINK(INDEX('Film Data'!T:T,MATCH($F16,'Film Data'!G:G,0))))","v":""},{"$f":"IFERROR(HYPERLINK(INDEX(#REF!,MATCH(PPN[[#This Row],[Part Number]],#REF!,0)),\">More Info\"),\"\")","v":""}]
[null,null,null,null,{"$f":"\nIF(F17<>\"\",COUNTIF($F$7:F17,\"*\")&\".\",\"\")","v":""},null,"","","","",{"$f":"\nIF($F17=\"\",\"\",INDEX('Film Data'!D:D,MATCH($F17,'Film Data'!G:G,0)))","v":""},{"$f":"\nIF($F17=\"\",\"\",INDEX('Film Data'!Q:Q,MATCH($F17,'Film Data'!G:G,0)))","v":""},{"$f":"\nIF($F17=\"\",\"\",INDEX('Film Data'!D:D,MATCH($F17,'Film Data'!G:G,0)))","v":""},{"$f":"\nIF($F17=\"\",\"\",INDEX('Film Data'!F:F,MATCH($F17,'Film Data'!G:G,0)))","v":""},{"$f":"\nIF($F17=\"\",\"\",INDEX('Film Data'!E:E,MATCH($F17,'Film Data'!G:G,0)))","v":""},{"$f":"\nIF($F17=\"\",\"\",INDEX('Film Data'!H:H,MATCH($F17,'Film Data'!G:G,0)))","v":""},{"$f":"\nIF($F17=\"\",\"\",INDEX('Film Data'!I:I,MATCH($F17,'Film Data'!G:G,0)))","v":""},{"$f":"\nIF($F17=\"\",\"\",INDEX('Film Data'!J:J,MATCH($F17,'Film Data'!G:G,0)))","v":""},{"$f":"\nIF($F17=\"\",\"\",INDEX('Film Data'!K:K,MATCH($F17,'Film Data'!G:G,0)))","v":""},{"$f":"\nIF($F17=\"\",\"\",INDEX('Film Data'!Y:Y,MATCH($F17,'Film Data'!G:G,0)))","v":""},{"$f":"\nIF($F17=\"\",\"\",INDEX('Film Data'!Z:Z,MATCH($F17,'Film Data'!G:G,0)))","v":""},{"$f":"\nIF($F17=\"\",\"\",INDEX('Film Data'!L:L,MATCH($F17,'Film Data'!G:G,0)))","v":""},{"$f":"\nIF($F17=\"\",\"\",INDEX('Film Data'!M:M,MATCH($F17,'Film Data'!G:G,0)))","v":""},{"$f":"\nIF($F17=\"\",\"\",INDEX('Film Data'!N:N,MATCH($F17,'Film Data'!G:G,0)))","v":""},{"$f":"\nIF($F17=\"\",\"\",HYPERLINK(INDEX('Film Data'!T:T,MATCH($F17,'Film Data'!G:G,0))))","v":""},{"$f":"IFERROR(HYPERLINK(INDEX(#REF!,MATCH(PPN[[#This Row],[Part Number]],#REF!,0)),\">More Info\"),\"\")","v":""}]
[null,null,null,null,{"$f":"\nIF(F18<>\"\",COUNTIF($F$7:F18,\"*\")&\".\",\"\")","v":""},null,"","","","",{"$f":"\nIF($F18=\"\",\"\",INDEX('Film Data'!D:D,MATCH($F18,'Film Data'!G:G,0)))","v":""},{"$f":"\nIF($F18=\"\",\"\",INDEX('Film Data'!Q:Q,MATCH($F18,'Film Data'!G:G,0)))","v":""},{"$f":"\nIF($F18=\"\",\"\",INDEX('Film Data'!D:D,MATCH($F18,'Film Data'!G:G,0)))","v":""},{"$f":"\nIF($F18=\"\",\"\",INDEX('Film Data'!F:F,MATCH($F18,'Film Data'!G:G,0)))","v":""},{"$f":"\nIF($F18=\"\",\"\",INDEX('Film Data'!E:E,MATCH($F18,'Film Data'!G:G,0)))","v":""},{"$f":"\nIF($F18=\"\",\"\",INDEX('Film Data'!H:H,MATCH($F18,'Film Data'!G:G,0)))","v":""},{"$f":"\nIF($F18=\"\",\"\",INDEX('Film Data'!I:I,MATCH($F18,'Film Data'!G:G,0)))","v":""},{"$f":"\nIF($F18=\"\",\"\",INDEX('Film Data'!J:J,MATCH($F18,'Film Data'!G:G,0)))","v":""},{"$f":"\nIF($F18=\"\",\"\",INDEX('Film Data'!K:K,MATCH($F18,'Film Data'!G:G,0)))","v":""},{"$f":"\nIF($F18=\"\",\"\",INDEX('Film Data'!Y:Y,MATCH($F18,'Film Data'!G:G,0)))","v":""},{"$f":"\nIF($F18=\"\",\"\",INDEX('Film Data'!Z:Z,MATCH($F18,'Film Data'!G:G,0)))","v":""},{"$f":"\nIF($F18=\"\",\"\",INDEX('Film Data'!L:L,MATCH($F18,'Film Data'!G:G,0)))","v":""},{"$f":"\nIF($F18=\"\",\"\",INDEX('Film Data'!M:M,MATCH($F18,'Film Data'!G:G,0)))","v":""},{"$f":"\nIF($F18=\"\",\"\",INDEX('Film Data'!N:N,MATCH($F18,'Film Data'!G:G,0)))","v":""},{"$f":"\nIF($F18=\"\",\"\",HYPERLINK(INDEX('Film Data'!T:T,MATCH($F18,'Film Data'!G:G,0))))","v":""},{"$f":"IFERROR(HYPERLINK(INDEX(#REF!,MATCH(PPN[[#This Row],[Part Number]],#REF!,0)),\">More Info\"),\"\")","v":""}]
[null,null,null,null,{"$f":"\nIF(F19<>\"\",COUNTIF($F$7:F19,\"*\")&\".\",\"\")","v":""},null,"","","","",{"$f":"\nIF($F19=\"\",\"\",INDEX('Film Data'!D:D,MATCH($F19,'Film Data'!G:G,0)))","v":""},{"$f":"\nIF($F19=\"\",\"\",INDEX('Film Data'!Q:Q,MATCH($F19,'Film Data'!G:G,0)))","v":""},{"$f":"\nIF($F19=\"\",\"\",INDEX('Film Data'!D:D,MATCH($F19,'Film Data'!G:G,0)))","v":""},{"$f":"\nIF($F19=\"\",\"\",INDEX('Film Data'!F:F,MATCH($F19,'Film Data'!G:G,0)))","v":""},{"$f":"\nIF($F19=\"\",\"\",INDEX('Film Data'!E:E,MATCH($F19,'Film Data'!G:G,0)))","v":""},{"$f":"\nIF($F19=\"\",\"\",INDEX('Film Data'!H:H,MATCH($F19,'Film Data'!G:G,0)))","v":""},{"$f":"\nIF($F19=\"\",\"\",INDEX('Film Data'!I:I,MATCH($F19,'Film Data'!G:G,0)))","v":""},{"$f":"\nIF($F19=\"\",\"\",INDEX('Film Data'!J:J,MATCH($F19,'Film Data'!G:G,0)))","v":""},{"$f":"\nIF($F19=\"\",\"\",INDEX('Film Data'!K:K,MATCH($F19,'Film Data'!G:G,0)))","v":""},{"$f":"\nIF($F19=\"\",\"\",INDEX('Film Data'!Y:Y,MATCH($F19,'Film Data'!G:G,0)))","v":""},{"$f":"\nIF($F19=\"\",\"\",INDEX('Film Data'!Z:Z,MATCH($F19,'Film Data'!G:G,0)))","v":""},{"$f":"\nIF($F19=\"\",\"\",INDEX('Film Data'!L:L,MATCH($F19,'Film Data'!G:G,0)))","v":""},{"$f":"\nIF($F19=\"\",\"\",INDEX('Film Data'!M:M,MATCH($F19,'Film Data'!G:G,0)))","v":""},{"$f":"\nIF($F19=\"\",\"\",INDEX('Film Data'!N:N,MATCH($F19,'Film Data'!G:G,0)))","v":""},{"$f":"\nIF($F19=\"\",\"\",HYPERLINK(INDEX('Film Data'!T:T,MATCH($F19,'Film Data'!G:G,0))))","v":""},{"$f":"IFERROR(HYPERLINK(INDEX(#REF!,MATCH(PPN[[#This Row],[Part Number]],#REF!,0)),\">More Info\"),\"\")","v":""}]
[null,null,null,null,{"$f":"\nIF(F20<>\"\",COUNTIF($F$7:F20,\"*\")&\".\",\"\")","v":""},null,"","","","",{"$f":"\nIF($F20=\"\",\"\",INDEX('Film Data'!D:D,MATCH($F20,'Film Data'!G:G,0)))","v":""},{"$f":"\nIF($F20=\"\",\"\",INDEX('Film Data'!Q:Q,MATCH($F20,'Film Data'!G:G,0)))","v":""},{"$f":"\nIF($F20=\"\",\"\",INDEX('Film Data'!D:D,MATCH($F20,'Film Data'!G:G,0)))","v":""},{"$f":"\nIF($F20=\"\",\"\",INDEX('Film Data'!F:F,MATCH($F20,'Film Data'!G:G,0)))","v":""},{"$f":"\nIF($F20=\"\",\"\",INDEX('Film Data'!E:E,MATCH($F20,'Film Data'!G:G,0)))","v":""},{"$f":"\nIF($F20=\"\",\"\",INDEX('Film Data'!H:H,MATCH($F20,'Film Data'!G:G,0)))","v":""},{"$f":"\nIF($F20=\"\",\"\",INDEX('Film Data'!I:I,MATCH($F20,'Film Data'!G:G,0)))","v":""},{"$f":"\nIF($F20=\"\",\"\",INDEX('Film Data'!J:J,MATCH($F20,'Film Data'!G:G,0)))","v":""},{"$f":"\nIF($F20=\"\",\"\",INDEX('Film Data'!K:K,MATCH($F20,'Film Data'!G:G,0)))","v":""},{"$f":"\nIF($F20=\"\",\"\",INDEX('Film Data'!Y:Y,MATCH($F20,'Film Data'!G:G,0)))","v":""},{"$f":"\nIF($F20=\"\",\"\",INDEX('Film Data'!Z:Z,MATCH($F20,'Film Data'!G:G,0)))","v":""},{"$f":"\nIF($F20=\"\",\"\",INDEX('Film Data'!L:L,MATCH($F20,'Film Data'!G:G,0)))","v":""},{"$f":"\nIF($F20=\"\",\"\",INDEX('Film Data'!M:M,MATCH($F20,'Film Data'!G:G,0)))","v":""},{"$f":"\nIF($F20=\"\",\"\",INDEX('Film Data'!N:N,MATCH($F20,'Film Data'!G:G,0)))","v":""},{"$f":"\nIF($F20=\"\",\"\",HYPERLINK(INDEX('Film Data'!T:T,MATCH($F20,'Film Data'!G:G,0))))","v":""},{"$f":"IFERROR(HYPERLINK(INDEX(#REF!,MATCH(PPN[[#This Row],[Part Number]],#REF!,0)),\">More Info\"),\"\")","v":""}]
[null,null,null,null,{"$f":"\nIF(F21<>\"\",COUNTIF($F$7:F21,\"*\")&\".\",\"\")","v":""},null,"","","","",{"$f":"\nIF($F21=\"\",\"\",INDEX('Film Data'!D:D,MATCH($F21,'Film Data'!G:G,0)))","v":""},{"$f":"\nIF($F21=\"\",\"\",INDEX('Film Data'!Q:Q,MATCH($F21,'Film Data'!G:G,0)))","v":""},{"$f":"\nIF($F21=\"\",\"\",INDEX('Film Data'!D:D,MATCH($F21,'Film Data'!G:G,0)))","v":""},{"$f":"\nIF($F21=\"\",\"\",INDEX('Film Data'!F:F,MATCH($F21,'Film Data'!G:G,0)))","v":""},{"$f":"\nIF($F21=\"\",\"\",INDEX('Film Data'!E:E,MATCH($F21,'Film Data'!G:G,0)))","v":""},{"$f":"\nIF($F21=\"\",\"\",INDEX('Film Data'!H:H,MATCH($F21,'Film Data'!G:G,0)))","v":""},{"$f":"\nIF($F21=\"\",\"\",INDEX('Film Data'!I:I,MATCH($F21,'Film Data'!G:G,0)))","v":""},{"$f":"\nIF($F21=\"\",\"\",INDEX('Film Data'!J:J,MATCH($F21,'Film Data'!G:G,0)))","v":""},{"$f":"\nIF($F21=\"\",\"\",INDEX('Film Data'!K:K,MATCH($F21,'Film Data'!G:G,0)))","v":""},{"$f":"\nIF($F21=\"\",\"\",INDEX('Film Data'!Y:Y,MATCH($F21,'Film Data'!G:G,0)))","v":""},{"$f":"\nIF($F21=\"\",\"\",INDEX('Film Data'!Z:Z,MATCH($F21,'Film Data'!G:G,0)))","v":""},{"$f":"\nIF($F21=\"\",\"\",INDEX('Film Data'!L:L,MATCH($F21,'Film Data'!G:G,0)))","v":""},{"$f":"\nIF($F21=\"\",\"\",INDEX('Film Data'!M:M,MATCH($F21,'Film Data'!G:G,0)))","v":""},{"$f":"\nIF($F21=\"\",\"\",INDEX('Film Data'!N:N,MATCH($F21,'Film Data'!G:G,0)))","v":""},{"$f":"\nIF($F21=\"\",\"\",HYPERLINK(INDEX('Film Data'!T:T,MATCH($F21,'Film Data'!G:G,0))))","v":""},{"$f":"IFERROR(HYPERLINK(INDEX(#REF!,MATCH(PPN[[#This Row],[Part Number]],#REF!,0)),\">More Info\"),\"\")","v":""}]
[null,null,null,null,{"$f":"\nIF(F22<>\"\",COUNTIF($F$7:F22,\"*\")&\".\",\"\")","v":""},null,"","","","",{"$f":"\nIF($F22=\"\",\"\",INDEX('Film Data'!D:D,MATCH($F22,'Film Data'!G:G,0)))","v":""},{"$f":"\nIF($F22=\"\",\"\",INDEX('Film Data'!Q:Q,MATCH($F22,'Film Data'!G:G,0)))","v":""},{"$f":"\nIF($F22=\"\",\"\",INDEX('Film Data'!D:D,MATCH($F22,'Film Data'!G:G,0)))","v":""},{"$f":"\nIF($F22=\"\",\"\",INDEX('Film Data'!F:F,MATCH($F22,'Film Data'!G:G,0)))","v":""},{"$f":"\nIF($F22=\"\",\"\",INDEX('Film Data'!E:E,MATCH($F22,'Film Data'!G:G,0)))","v":""},{"$f":"\nIF($F22=\"\",\"\",INDEX('Film Data'!H:H,MATCH($F22,'Film Data'!G:G,0)))","v":""},{"$f":"\nIF($F22=\"\",\"\",INDEX('Film Data'!I:I,MATCH($F22,'Film Data'!G:G,0)))","v":""},{"$f":"\nIF($F22=\"\",\"\",INDEX('Film Data'!J:J,MATCH($F22,'Film Data'!G:G,0)))","v":""},{"$f":"\nIF($F22=\"\",\"\",INDEX('Film Data'!K:K,MATCH($F22,'Film Data'!G:G,0)))","v":""},{"$f":"\nIF($F22=\"\",\"\",INDEX('Film Data'!Y:Y,MATCH($F22,'Film Data'!G:G,0)))","v":""},{"$f":"\nIF($F22=\"\",\"\",INDEX('Film Data'!Z:Z,MATCH($F22,'Film Data'!G:G,0)))","v":""},{"$f":"\nIF($F22=\"\",\"\",INDEX('Film Data'!L:L,MATCH($F22,'Film Data'!G:G,0)))","v":""},{"$f":"\nIF($F22=\"\",\"\",INDEX('Film Data'!M:M,MATCH($F22,'Film Data'!G:G,0)))","v":""},{"$f":"\nIF($F22=\"\",\"\",INDEX('Film Data'!N:N,MATCH($F22,'Film Data'!G:G,0)))","v":""},{"$f":"\nIF($F22=\"\",\"\",HYPERLINK(INDEX('Film Data'!T:T,MATCH($F22,'Film Data'!G:G,0))))","v":""},{"$f":"IFERROR(HYPERLINK(INDEX(#REF!,MATCH(PPN[[#This Row],[Part Number]],#REF!,0)),\">More Info\"),\"\")","v":""}]
[null,null,null,null,{"$f":"\nIF(F23<>\"\",COUNTIF($F$7:F23,\"*\")&\".\",\"\")","v":""},null,"","","","",{"$f":"\nIF($F23=\"\",\"\",INDEX('Film Data'!D:D,MATCH($F23,'Film Data'!G:G,0)))","v":""},{"$f":"\nIF($F23=\"\",\"\",INDEX('Film Data'!Q:Q,MATCH($F23,'Film Data'!G:G,0)))","v":""},{"$f":"\nIF($F23=\"\",\"\",INDEX('Film Data'!D:D,MATCH($F23,'Film Data'!G:G,0)))","v":""},{"$f":"\nIF($F23=\"\",\"\",INDEX('Film Data'!F:F,MATCH($F23,'Film Data'!G:G,0)))","v":""},{"$f":"\nIF($F23=\"\",\"\",INDEX('Film Data'!E:E,MATCH($F23,'Film Data'!G:G,0)))","v":""},{"$f":"\nIF($F23=\"\",\"\",INDEX('Film Data'!H:H,MATCH($F23,'Film Data'!G:G,0)))","v":""},{"$f":"\nIF($F23=\"\",\"\",INDEX('Film Data'!I:I,MATCH($F23,'Film Data'!G:G,0)))","v":""},{"$f":"\nIF($F23=\"\",\"\",INDEX('Film Data'!J:J,MATCH($F23,'Film Data'!G:G,0)))","v":""},{"$f":"\nIF($F23=\"\",\"\",INDEX('Film Data'!K:K,MATCH($F23,'Film Data'!G:G,0)))","v":""},{"$f":"\nIF($F23=\"\",\"\",INDEX('Film Data'!Y:Y,MATCH($F23,'Film Data'!G:G,0)))","v":""},{"$f":"\nIF($F23=\"\",\"\",INDEX('Film Data'!Z:Z,MATCH($F23,'Film Data'!G:G,0)))","v":""},{"$f":"\nIF($F23=\"\",\"\",INDEX('Film Data'!L:L,MATCH($F23,'Film Data'!G:G,0)))","v":""},{"$f":"\nIF($F23=\"\",\"\",INDEX('Film Data'!M:M,MATCH($F23,'Film Data'!G:G,0)))","v":""},{"$f":"\nIF($F23=\"\",\"\",INDEX('Film Data'!N:N,MATCH($F23,'Film Data'!G:G,0)))","v":""},{"$f":"\nIF($F23=\"\",\"\",HYPERLINK(INDEX('Film Data'!T:T,MATCH($F23,'Film Data'!G:G,0))))","v":""},{"$f":"IFERROR(HYPERLINK(INDEX(#REF!,MATCH(PPN[[#This Row],[Part Number]],#REF!,0)),\">More Info\"),\"\")","v":""}]
[null,null,null,null,{"$f":"\nIF(F24<>\"\",COUNTIF($F$7:F24,\"*\")&\".\",\"\")","v":""},null,"","","","",{"$f":"\nIF($F24=\"\",\"\",INDEX('Film Data'!D:D,MATCH($F24,'Film Data'!G:G,0)))","v":""},{"$f":"\nIF($F24=\"\",\"\",INDEX('Film Data'!Q:Q,MATCH($F24,'Film Data'!G:G,0)))","v":""},{"$f":"\nIF($F24=\"\",\"\",INDEX('Film Data'!D:D,MATCH($F24,'Film Data'!G:G,0)))","v":""},{"$f":"\nIF($F24=\"\",\"\",INDEX('Film Data'!F:F,MATCH($F24,'Film Data'!G:G,0)))","v":""},{"$f":"\nIF($F24=\"\",\"\",INDEX('Film Data'!E:E,MATCH($F24,'Film Data'!G:G,0)))","v":""},{"$f":"\nIF($F24=\"\",\"\",INDEX('Film Data'!H:H,MATCH($F24,'Film Data'!G:G,0)))","v":""},{"$f":"\nIF($F24=\"\",\"\",INDEX('Film Data'!I:I,MATCH($F24,'Film Data'!G:G,0)))","v":""},{"$f":"\nIF($F24=\"\",\"\",INDEX('Film Data'!J:J,MATCH($F24,'Film Data'!G:G,0)))","v":""},{"$f":"\nIF($F24=\"\",\"\",INDEX('Film Data'!K:K,MATCH($F24,'Film Data'!G:G,0)))","v":""},{"$f":"\nIF($F24=\"\",\"\",INDEX('Film Data'!Y:Y,MATCH($F24,'Film Data'!G:G,0)))","v":""},{"$f":"\nIF($F24=\"\",\"\",INDEX('Film Data'!Z:Z,MATCH($F24,'Film Data'!G:G,0)))","v":""},{"$f":"\nIF($F24=\"\",\"\",INDEX('Film Data'!L:L,MATCH($F24,'Film Data'!G:G,0)))","v":""},{"$f":"\nIF($F24=\"\",\"\",INDEX('Film Data'!M:M,MATCH($F24,'Film Data'!G:G,0)))","v":""},{"$f":"\nIF($F24=\"\",\"\",INDEX('Film Data'!N:N,MATCH($F24,'Film Data'!G:G,0)))","v":""},{"$f":"\nIF($F24=\"\",\"\",HYPERLINK(INDEX('Film Data'!T:T,MATCH($F24,'Film Data'!G:G,0))))","v":""},{"$f":"IFERROR(HYPERLINK(INDEX(#REF!,MATCH(PPN[[#This Row],[Part Number]],#REF!,0)),\">More Info\"),\"\")","v":""}]
[null,null,null,null,{"$f":"\nIF(F25<>\"\",COUNTIF($F$7:F25,\"*\")&\".\",\"\")","v":""},null,"","","","",{"$f":"\nIF($F25=\"\",\"\",INDEX('Film Data'!D:D,MATCH($F25,'Film Data'!G:G,0)))","v":""},{"$f":"\nIF($F25=\"\",\"\",INDEX('Film Data'!Q:Q,MATCH($F25,'Film Data'!G:G,0)))","v":""},{"$f":"\nIF($F25=\"\",\"\",INDEX('Film Data'!D:D,MATCH($F25,'Film Data'!G:G,0)))","v":""},{"$f":"\nIF($F25=\"\",\"\",INDEX('Film Data'!F:F,MATCH($F25,'Film Data'!G:G,0)))","v":""},{"$f":"\nIF($F25=\"\",\"\",INDEX('Film Data'!E:E,MATCH($F25,'Film Data'!G:G,0)))","v":""},{"$f":"\nIF($F25=\"\",\"\",INDEX('Film Data'!H:H,MATCH($F25,'Film Data'!G:G,0)))","v":""},{"$f":"\nIF($F25=\"\",\"\",INDEX('Film Data'!I:I,MATCH($F25,'Film Data'!G:G,0)))","v":""},{"$f":"\nIF($F25=\"\",\"\",INDEX('Film Data'!J:J,MATCH($F25,'Film Data'!G:G,0)))","v":""},{"$f":"\nIF($F25=\"\",\"\",INDEX('Film Data'!K:K,MATCH($F25,'Film Data'!G:G,0)))","v":""},{"$f":"\nIF($F25=\"\",\"\",INDEX('Film Data'!Y:Y,MATCH($F25,'Film Data'!G:G,0)))","v":""},{"$f":"\nIF($F25=\"\",\"\",INDEX('Film Data'!Z:Z,MATCH($F25,'Film Data'!G:G,0)))","v":""},{"$f":"\nIF($F25=\"\",\"\",INDEX('Film Data'!L:L,MATCH($F25,'Film Data'!G:G,0)))","v":""},{"$f":"\nIF($F25=\"\",\"\",INDEX('Film Data'!M:M,MATCH($F25,'Film Data'!G:G,0)))","v":""},{"$f":"\nIF($F25=\"\",\"\",INDEX('Film Data'!N:N,MATCH($F25,'Film Data'!G:G,0)))","v":""},{"$f":"\nIF($F25=\"\",\"\",HYPERLINK(INDEX('Film Data'!T:T,MATCH($F25,'Film Data'!G:G,0))))","v":""},{"$f":"IFERROR(HYPERLINK(INDEX(#REF!,MATCH(PPN[[#This Row],[Part Number]],#REF!,0)),\">More Info\"),\"\")","v":""}]
[null,null,null,null,{"$f":"\nIF(F26<>\"\",COUNTIF($F$7:F26,\"*\")&\".\",\"\")","v":""},null,"","","","",{"$f":"\nIF($F26=\"\",\"\",INDEX('Film Data'!D:D,MATCH($F26,'Film Data'!G:G,0)))","v":""},{"$f":"\nIF($F26=\"\",\"\",INDEX('Film Data'!Q:Q,MATCH($F26,'Film Data'!G:G,0)))","v":""},{"$f":"\nIF($F26=\"\",\"\",INDEX('Film Data'!D:D,MATCH($F26,'Film Data'!G:G,0)))","v":""},{"$f":"\nIF($F26=\"\",\"\",INDEX('Film Data'!F:F,MATCH($F26,'Film Data'!G:G,0)))","v":""},{"$f":"\nIF($F26=\"\",\"\",INDEX('Film Data'!E:E,MATCH($F26,'Film Data'!G:G,0)))","v":""},{"$f":"\nIF($F26=\"\",\"\",INDEX('Film Data'!H:H,MATCH($F26,'Film Data'!G:G,0)))","v":""},{"$f":"\nIF($F26=\"\",\"\",INDEX('Film Data'!I:I,MATCH($F26,'Film Data'!G:G,0)))","v":""},{"$f":"\nIF($F26=\"\",\"\",INDEX('Film Data'!J:J,MATCH($F26,'Film Data'!G:G,0)))","v":""},{"$f":"\nIF($F26=\"\",\"\",INDEX('Film Data'!K:K,MATCH($F26,'Film Data'!G:G,0)))","v":""},{"$f":"\nIF($F26=\"\",\"\",INDEX('Film Data'!Y:Y,MATCH($F26,'Film Data'!G:G,0)))","v":""},{"$f":"\nIF($F26=\"\",\"\",INDEX('Film Data'!Z:Z,MATCH($F26,'Film Data'!G:G,0)))","v":""},{"$f":"\nIF($F26=\"\",\"\",INDEX('Film Data'!L:L,MATCH($F26,'Film Data'!G:G,0)))","v":""},{"$f":"\nIF($F26=\"\",\"\",INDEX('Film Data'!M:M,MATCH($F26,'Film Data'!G:G,0)))","v":""},{"$f":"\nIF($F26=\"\",\"\",INDEX('Film Data'!N:N,MATCH($F26,'Film Data'!G:G,0)))","v":""},{"$f":"\nIF($F26=\"\",\"\",HYPERLINK(INDEX('Film Data'!T:T,MATCH($F26,'Film Data'!G:G,0))))","v":""},{"$f":"IFERROR(HYPERLINK(INDEX(#REF!,MATCH(PPN[[#This Row],[Part Number]],#REF!,0)),\">More Info\"),\"\")","v":""}]
[null,null,null,null,{"$f":"\nIF(F27<>\"\",COUNTIF($F$7:F27,\"*\")&\".\",\"\")","v":""},null,"","","","",{"$f":"\nIF($F27=\"\",\"\",INDEX('Film Data'!D:D,MATCH($F27,'Film Data'!G:G,0)))","v":""},{"$f":"\nIF($F27=\"\",\"\",INDEX('Film Data'!Q:Q,MATCH($F27,'Film Data'!G:G,0)))","v":""},{"$f":"\nIF($F27=\"\",\"\",INDEX('Film Data'!D:D,MATCH($F27,'Film Data'!G:G,0)))","v":""},{"$f":"\nIF($F27=\"\",\"\",INDEX('Film Data'!F:F,MATCH($F27,'Film Data'!G:G,0)))","v":""},{"$f":"\nIF($F27=\"\",\"\",INDEX('Film Data'!E:E,MATCH($F27,'Film Data'!G:G,0)))","v":""},{"$f":"\nIF($F27=\"\",\"\",INDEX('Film Data'!H:H,MATCH($F27,'Film Data'!G:G,0)))","v":""},{"$f":"\nIF($F27=\"\",\"\",INDEX('Film Data'!I:I,MATCH($F27,'Film Data'!G:G,0)))","v":""},{"$f":"\nIF($F27=\"\",\"\",INDEX('Film Data'!J:J,MATCH($F27,'Film Data'!G:G,0)))","v":""},{"$f":"\nIF($F27=\"\",\"\",INDEX('Film Data'!K:K,MATCH($F27,'Film Data'!G:G,0)))","v":""},{"$f":"\nIF($F27=\"\",\"\",INDEX('Film Data'!Y:Y,MATCH($F27,'Film Data'!G:G,0)))","v":""},{"$f":"\nIF($F27=\"\",\"\",INDEX('Film Data'!Z:Z,MATCH($F27,'Film Data'!G:G,0)))","v":""},{"$f":"\nIF($F27=\"\",\"\",INDEX('Film Data'!L:L,MATCH($F27,'Film Data'!G:G,0)))","v":""},{"$f":"\nIF($F27=\"\",\"\",INDEX('Film Data'!M:M,MATCH($F27,'Film Data'!G:G,0)))","v":""},{"$f":"\nIF($F27=\"\",\"\",INDEX('Film Data'!N:N,MATCH($F27,'Film Data'!G:G,0)))","v":""},{"$f":"\nIF($F27=\"\",\"\",HYPERLINK(INDEX('Film Data'!T:T,MATCH($F27,'Film Data'!G:G,0))))","v":""},{"$f":"IFERROR(HYPERLINK(INDEX(#REF!,MATCH(PPN[[#This Row],[Part Number]],#REF!,0)),\">More Info\"),\"\")","v":""}]
[null,null,null,null,{"$f":"\nIF(F28<>\"\",COUNTIF($F$7:F28,\"*\")&\".\",\"\")","v":""},null,"","","","",{"$f":"\nIF($F28=\"\",\"\",INDEX('Film Data'!D:D,MATCH($F28,'Film Data'!G:G,0)))","v":""},{"$f":"\nIF($F28=\"\",\"\",INDEX('Film Data'!Q:Q,MATCH($F28,'Film Data'!G:G,0)))","v":""},{"$f":"\nIF($F28=\"\",\"\",INDEX('Film Data'!D:D,MATCH($F28,'Film Data'!G:G,0)))","v":""},{"$f":"\nIF($F28=\"\",\"\",INDEX('Film Data'!F:F,MATCH($F28,'Film Data'!G:G,0)))","v":""},{"$f":"\nIF($F28=\"\",\"\",INDEX('Film Data'!E:E,MATCH($F28,'Film Data'!G:G,0)))","v":""},{"$f":"\nIF($F28=\"\",\"\",INDEX('Film Data'!H:H,MATCH($F28,'Film Data'!G:G,0)))","v":""},{"$f":"\nIF($F28=\"\",\"\",INDEX('Film Data'!I:I,MATCH($F28,'Film Data'!G:G,0)))","v":""},{"$f":"\nIF($F28=\"\",\"\",INDEX('Film Data'!J:J,MATCH($F28,'Film Data'!G:G,0)))","v":""},{"$f":"\nIF($F28=\"\",\"\",INDEX('Film Data'!K:K,MATCH($F28,'Film Data'!G:G,0)))","v":""},{"$f":"\nIF($F28=\"\",\"\",INDEX('Film Data'!Y:Y,MATCH($F28,'Film Data'!G:G,0)))","v":""},{"$f":"\nIF($F28=\"\",\"\",INDEX('Film Data'!Z:Z,MATCH($F28,'Film Data'!G:G,0)))","v":""},{"$f":"\nIF($F28=\"\",\"\",INDEX('Film Data'!L:L,MATCH($F28,'Film Data'!G:G,0)))","v":""},{"$f":"\nIF($F28=\"\",\"\",INDEX('Film Data'!M:M,MATCH($F28,'Film Data'!G:G,0)))","v":""},{"$f":"\nIF($F28=\"\",\"\",INDEX('Film Data'!N:N,MATCH($F28,'Film Data'!G:G,0)))","v":""},{"$f":"\nIF($F28=\"\",\"\",HYPERLINK(INDEX('Film Data'!T:T,MATCH($F28,'Film Data'!G:G,0))))","v":""},{"$f":"IFERROR(HYPERLINK(INDEX(#REF!,MATCH(PPN[[#This Row],[Part Number]],#REF!,0)),\">More Info\"),\"\")","v":""}]
[null,null,null,null,{"$f":"\nIF(F29<>\"\",COUNTIF($F$7:F29,\"*\")&\".\",\"\")","v":""},null,"","","","",{"$f":"\nIF($F29=\"\",\"\",INDEX('Film Data'!D:D,MATCH($F29,'Film Data'!G:G,0)))","v":""},{"$f":"\nIF($F29=\"\",\"\",INDEX('Film Data'!Q:Q,MATCH($F29,'Film Data'!G:G,0)))","v":""},{"$f":"\nIF($F29=\"\",\"\",INDEX('Film Data'!D:D,MATCH($F29,'Film Data'!G:G,0)))","v":""},{"$f":"\nIF($F29=\"\",\"\",INDEX('Film Data'!F:F,MATCH($F29,'Film Data'!G:G,0)))","v":""},{"$f":"\nIF($F29=\"\",\"\",INDEX('Film Data'!E:E,MATCH($F29,'Film Data'!G:G,0)))","v":""},{"$f":"\nIF($F29=\"\",\"\",INDEX('Film Data'!H:H,MATCH($F29,'Film Data'!G:G,0)))","v":""},{"$f":"\nIF($F29=\"\",\"\",INDEX('Film Data'!I:I,MATCH($F29,'Film Data'!G:G,0)))","v":""},{"$f":"\nIF($F29=\"\",\"\",INDEX('Film Data'!J:J,MATCH($F29,'Film Data'!G:G,0)))","v":""},{"$f":"\nIF($F29=\"\",\"\",INDEX('Film Data'!K:K,MATCH($F29,'Film Data'!G:G,0)))","v":""},{"$f":"\nIF($F29=\"\",\"\",INDEX('Film Data'!Y:Y,MATCH($F29,'Film Data'!G:G,0)))","v":""},{"$f":"\nIF($F29=\"\",\"\",INDEX('Film Data'!Z:Z,MATCH($F29,'Film Data'!G:G,0)))","v":""},{"$f":"\nIF($F29=\"\",\"\",INDEX('Film Data'!L:L,MATCH($F29,'Film Data'!G:G,0)))","v":""},{"$f":"\nIF($F29=\"\",\"\",INDEX('Film Data'!M:M,MATCH($F29,'Film Data'!G:G,0)))","v":""},{"$f":"\nIF($F29=\"\",\"\",INDEX('Film Data'!N:N,MATCH($F29,'Film Data'!G:G,0)))","v":""},{"$f":"\nIF($F29=\"\",\"\",HYPERLINK(INDEX('Film Data'!T:T,MATCH($F29,'Film Data'!G:G,0))))","v":""},{"$f":"IFERROR(HYPERLINK(INDEX(#REF!,MATCH(PPN[[#This Row],[Part Number]],#REF!,0)),\">More Info\"),\"\")","v":""}]
[null,null,null,null,{"$f":"\nIF(F30<>\"\",COUNTIF($F$7:F30,\"*\")&\".\",\"\")","v":""},null,"","","","",{"$f":"\nIF($F30=\"\",\"\",INDEX('Film Data'!D:D,MATCH($F30,'Film Data'!G:G,0)))","v":""},{"$f":"\nIF($F30=\"\",\"\",INDEX('Film Data'!Q:Q,MATCH($F30,'Film Data'!G:G,0)))","v":""},{"$f":"\nIF($F30=\"\",\"\",INDEX('Film Data'!D:D,MATCH($F30,'Film Data'!G:G,0)))","v":""},{"$f":"\nIF($F30=\"\",\"\",INDEX('Film Data'!F:F,MATCH($F30,'Film Data'!G:G,0)))","v":""},{"$f":"\nIF($F30=\"\",\"\",INDEX('Film Data'!E:E,MATCH($F30,'Film Data'!G:G,0)))","v":""},{"$f":"\nIF($F30=\"\",\"\",INDEX('Film Data'!H:H,MATCH($F30,'Film Data'!G:G,0)))","v":""},{"$f":"\nIF($F30=\"\",\"\",INDEX('Film Data'!I:I,MATCH($F30,'Film Data'!G:G,0)))","v":""},{"$f":"\nIF($F30=\"\",\"\",INDEX('Film Data'!J:J,MATCH($F30,'Film Data'!G:G,0)))","v":""},{"$f":"\nIF($F30=\"\",\"\",INDEX('Film Data'!K:K,MATCH($F30,'Film Data'!G:G,0)))","v":""},{"$f":"\nIF($F30=\"\",\"\",INDEX('Film Data'!Y:Y,MATCH($F30,'Film Data'!G:G,0)))","v":""},{"$f":"\nIF($F30=\"\",\"\",INDEX('Film Data'!Z:Z,MATCH($F30,'Film Data'!G:G,0)))","v":""},{"$f":"\nIF($F30=\"\",\"\",INDEX('Film Data'!L:L,MATCH($F30,'Film Data'!G:G,0)))","v":""},{"$f":"\nIF($F30=\"\",\"\",INDEX('Film Data'!M:M,MATCH($F30,'Film Data'!G:G,0)))","v":""},{"$f":"\nIF($F30=\"\",\"\",INDEX('Film Data'!N:N,MATCH($F30,'Film Data'!G:G,0)))","v":""},{"$f":"\nIF($F30=\"\",\"\",HYPERLINK(INDEX('Film Data'!T:T,MATCH($F30,'Film Data'!G:G,0))))","v":""},{"$f":"IFERROR(HYPERLINK(INDEX(#REF!,MATCH(PPN[[#This Row],[Part Number]],#REF!,0)),\">More Info\"),\"\")","v":""}]
[null,null,null,null,{"$f":"\nIF(F31<>\"\",COUNTIF($F$7:F31,\"*\")&\".\",\"\")","v":""},null,"","","","",{"$f":"\nIF($F31=\"\",\"\",INDEX('Film Data'!D:D,MATCH($F31,'Film Data'!G:G,0)))","v":""},{"$f":"\nIF($F31=\"\",\"\",INDEX('Film Data'!Q:Q,MATCH($F31,'Film Data'!G:G,0)))","v":""},{"$f":"\nIF($F31=\"\",\"\",INDEX('Film Data'!D:D,MATCH($F31,'Film Data'!G:G,0)))","v":""},{"$f":"\nIF($F31=\"\",\"\",INDEX('Film Data'!F:F,MATCH($F31,'Film Data'!G:G,0)))","v":""},{"$f":"\nIF($F31=\"\",\"\",INDEX('Film Data'!E:E,MATCH($F31,'Film Data'!G:G,0)))","v":""},{"$f":"\nIF($F31=\"\",\"\",INDEX('Film Data'!H:H,MATCH($F31,'Film Data'!G:G,0)))","v":""},{"$f":"\nIF($F31=\"\",\"\",INDEX('Film Data'!I:I,MATCH($F31,'Film Data'!G:G,0)))","v":""},{"$f":"\nIF($F31=\"\",\"\",INDEX('Film Data'!J:J,MATCH($F31,'Film Data'!G:G,0)))","v":""},{"$f":"\nIF($F31=\"\",\"\",INDEX('Film Data'!K:K,MATCH($F31,'Film Data'!G:G,0)))","v":""},{"$f":"\nIF($F31=\"\",\"\",INDEX('Film Data'!Y:Y,MATCH($F31,'Film Data'!G:G,0)))","v":""},{"$f":"\nIF($F31=\"\",\"\",INDEX('Film Data'!Z:Z,MATCH($F31,'Film Data'!G:G,0)))","v":""},{"$f":"\nIF($F31=\"\",\"\",INDEX('Film Data'!L:L,MATCH($F31,'Film Data'!G:G,0)))","v":""},{"$f":"\nIF($F31=\"\",\"\",INDEX('Film Data'!M:M,MATCH($F31,'Film Data'!G:G,0)))","v":""},{"$f":"\nIF($F31=\"\",\"\",INDEX('Film Data'!N:N,MATCH($F31,'Film Data'!G:G,0)))","v":""},{"$f":"\nIF($F31=\"\",\"\",HYPERLINK(INDEX('Film Data'!T:T,MATCH($F31,'Film Data'!G:G,0))))","v":""},{"$f":"IFERROR(HYPERLINK(INDEX(#REF!,MATCH(PPN[[#This Row],[Part Number]],#REF!,0)),\">More Info\"),\"\")","v":""}]
[null,null,null,null,{"$f":"\nIF(F32<>\"\",COUNTIF($F$7:F32,\"*\")&\".\",\"\")","v":""},null,"","","","",{"$f":"\nIF($F32=\"\",\"\",INDEX('Film Data'!D:D,MATCH($F32,'Film Data'!G:G,0)))","v":""},{"$f":"\nIF($F32=\"\",\"\",INDEX('Film Data'!Q:Q,MATCH($F32,'Film Data'!G:G,0)))","v":""},{"$f":"\nIF($F32=\"\",\"\",INDEX('Film Data'!D:D,MATCH($F32,'Film Data'!G:G,0)))","v":""},{"$f":"\nIF($F32=\"\",\"\",INDEX('Film Data'!F:F,MATCH($F32,'Film Data'!G:G,0)))","v":""},{"$f":"\nIF($F32=\"\",\"\",INDEX('Film Data'!E:E,MATCH($F32,'Film Data'!G:G,0)))","v":""},{"$f":"\nIF($F32=\"\",\"\",INDEX('Film Data'!H:H,MATCH($F32,'Film Data'!G:G,0)))","v":""},{"$f":"\nIF($F32=\"\",\"\",INDEX('Film Data'!I:I,MATCH($F32,'Film Data'!G:G,0)))","v":""},{"$f":"\nIF($F32=\"\",\"\",INDEX('Film Data'!J:J,MATCH($F32,'Film Data'!G:G,0)))","v":""},{"$f":"\nIF($F32=\"\",\"\",INDEX('Film Data'!K:K,MATCH($F32,'Film Data'!G:G,0)))","v":""},{"$f":"\nIF($F32=\"\",\"\",INDEX('Film Data'!Y:Y,MATCH($F32,'Film Data'!G:G,0)))","v":""},{"$f":"\nIF($F32=\"\",\"\",INDEX('Film Data'!Z:Z,MATCH($F32,'Film Data'!G:G,0)))","v":""},{"$f":"\nIF($F32=\"\",\"\",INDEX('Film Data'!L:L,MATCH($F32,'Film Data'!G:G,0)))","v":""},{"$f":"\nIF($F32=\"\",\"\",INDEX('Film Data'!M:M,MATCH($F32,'Film Data'!G:G,0)))","v":""},{"$f":"\nIF($F32=\"\",\"\",INDEX('Film Data'!N:N,MATCH($F32,'Film Data'!G:G,0)))","v":""},{"$f":"\nIF($F32=\"\",\"\",HYPERLINK(INDEX('Film Data'!T:T,MATCH($F32,'Film Data'!G:G,0))))","v":""},{"$f":"IFERROR(HYPERLINK(INDEX(#REF!,MATCH(PPN[[#This Row],[Part Number]],#REF!,0)),\">More Info\"),\"\")","v":""}]
[null,null,null,null,{"$f":"\nIF(F33<>\"\",COUNTIF($F$7:F33,\"*\")&\".\",\"\")","v":""},null,"","","","",{"$f":"\nIF($F33=\"\",\"\",INDEX('Film Data'!D:D,MATCH($F33,'Film Data'!G:G,0)))","v":""},{"$f":"\nIF($F33=\"\",\"\",INDEX('Film Data'!Q:Q,MATCH($F33,'Film Data'!G:G,0)))","v":""},{"$f":"\nIF($F33=\"\",\"\",INDEX('Film Data'!D:D,MATCH($F33,'Film Data'!G:G,0)))","v":""},{"$f":"\nIF($F33=\"\",\"\",INDEX('Film Data'!F:F,MATCH($F33,'Film Data'!G:G,0)))","v":""},{"$f":"\nIF($F33=\"\",\"\",INDEX('Film Data'!E:E,MATCH($F33,'Film Data'!G:G,0)))","v":""},{"$f":"\nIF($F33=\"\",\"\",INDEX('Film Data'!H:H,MATCH($F33,'Film Data'!G:G,0)))","v":""},{"$f":"\nIF($F33=\"\",\"\",INDEX('Film Data'!I:I,MATCH($F33,'Film Data'!G:G,0)))","v":""},{"$f":"\nIF($F33=\"\",\"\",INDEX('Film Data'!J:J,MATCH($F33,'Film Data'!G:G,0)))","v":""},{"$f":"\nIF($F33=\"\",\"\",INDEX('Film Data'!K:K,MATCH($F33,'Film Data'!G:G,0)))","v":""},{"$f":"\nIF($F33=\"\",\"\",INDEX('Film Data'!Y:Y,MATCH($F33,'Film Data'!G:G,0)))","v":""},{"$f":"\nIF($F33=\"\",\"\",INDEX('Film Data'!Z:Z,MATCH($F33,'Film Data'!G:G,0)))","v":""},{"$f":"\nIF($F33=\"\",\"\",INDEX('Film Data'!L:L,MATCH($F33,'Film Data'!G:G,0)))","v":""},{"$f":"\nIF($F33=\"\",\"\",INDEX('Film Data'!M:M,MATCH($F33,'Film Data'!G:G,0)))","v":""},{"$f":"\nIF($F33=\"\",\"\",INDEX('Film Data'!N:N,MATCH($F33,'Film Data'!G:G,0)))","v":""},{"$f":"\nIF($F33=\"\",\"\",HYPERLINK(INDEX('Film Data'!T:T,MATCH($F33,'Film Data'!G:G,0))))","v":""},{"$f":"IFERROR(HYPERLINK(INDEX(#REF!,MATCH(PPN[[#This Row],[Part Number]],#REF!,0)),\">More Info\"),\"\")","v":""}]
[null,null,null,null,{"$f":"\nIF(F34<>\"\",COUNTIF($F$7:F34,\"*\")&\".\",\"\")","v":""},null,"","","","",{"$f":"\nIF($F34=\"\",\"\",INDEX('Film Data'!D:D,MATCH($F34,'Film Data'!G:G,0)))","v":""},{"$f":"\nIF($F34=\"\",\"\",INDEX('Film Data'!Q:Q,MATCH($F34,'Film Data'!G:G,0)))","v":""},{"$f":"\nIF($F34=\"\",\"\",INDEX('Film Data'!D:D,MATCH($F34,'Film Data'!G:G,0)))","v":""},{"$f":"\nIF($F34=\"\",\"\",INDEX('Film Data'!F:F,MATCH($F34,'Film Data'!G:G,0)))","v":""},{"$f":"\nIF($F34=\"\",\"\",INDEX('Film Data'!E:E,MATCH($F34,'Film Data'!G:G,0)))","v":""},{"$f":"\nIF($F34=\"\",\"\",INDEX('Film Data'!H:H,MATCH($F34,'Film Data'!G:G,0)))","v":""},{"$f":"\nIF($F34=\"\",\"\",INDEX('Film Data'!I:I,MATCH($F34,'Film Data'!G:G,0)))","v":""},{"$f":"\nIF($F34=\"\",\"\",INDEX('Film Data'!J:J,MATCH($F34,'Film Data'!G:G,0)))","v":""},{"$f":"\nIF($F34=\"\",\"\",INDEX('Film Data'!K:K,MATCH($F34,'Film Data'!G:G,0)))","v":""},{"$f":"\nIF($F34=\"\",\"\",INDEX('Film Data'!Y:Y,MATCH($F34,'Film Data'!G:G,0)))","v":""},{"$f":"\nIF($F34=\"\",\"\",INDEX('Film Data'!Z:Z,MATCH($F34,'Film Data'!G:G,0)))","v":""},{"$f":"\nIF($F34=\"\",\"\",INDEX('Film Data'!L:L,MATCH($F34,'Film Data'!G:G,0)))","v":""},{"$f":"\nIF($F34=\"\",\"\",INDEX('Film Data'!M:M,MATCH($F34,'Film Data'!G:G,0)))","v":""},{"$f":"\nIF($F34=\"\",\"\",INDEX('Film Data'!N:N,MATCH($F34,'Film Data'!G:G,0)))","v":""},{"$f":"\nIF($F34=\"\",\"\",HYPERLINK(INDEX('Film Data'!T:T,MATCH($F34,'Film Data'!G:G,0))))","v":""},{"$f":"IFERROR(HYPERLINK(INDEX(#REF!,MATCH(PPN[[#This Row],[Part Number]],#REF!,0)),\">More Info\"),\"\")","v":""}]
[null,null,null,null,{"$f":"\nIF(F35<>\"\",COUNTIF($F$7:F35,\"*\")&\".\",\"\")","v":""},null,"","","","",{"$f":"\nIF($F35=\"\",\"\",INDEX('Film Data'!D:D,MATCH($F35,'Film Data'!G:G,0)))","v":""},{"$f":"\nIF($F35=\"\",\"\",INDEX('Film Data'!Q:Q,MATCH($F35,'Film Data'!G:G,0)))","v":""},{"$f":"\nIF($F35=\"\",\"\",INDEX('Film Data'!D:D,MATCH($F35,'Film Data'!G:G,0)))","v":""},{"$f":"\nIF($F35=\"\",\"\",INDEX('Film Data'!F:F,MATCH($F35,'Film Data'!G:G,0)))","v":""},{"$f":"\nIF($F35=\"\",\"\",INDEX('Film Data'!E:E,MATCH($F35,'Film Data'!G:G,0)))","v":""},{"$f":"\nIF($F35=\"\",\"\",INDEX('Film Data'!H:H,MATCH($F35,'Film Data'!G:G,0)))","v":""},{"$f":"\nIF($F35=\"\",\"\",INDEX('Film Data'!I:I,MATCH($F35,'Film Data'!G:G,0)))","v":""},{"$f":"\nIF($F35=\"\",\"\",INDEX('Film Data'!J:J,MATCH($F35,'Film Data'!G:G,0)))","v":""},{"$f":"\nIF($F35=\"\",\"\",INDEX('Film Data'!K:K,MATCH($F35,'Film Data'!G:G,0)))","v":""},{"$f":"\nIF($F35=\"\",\"\",INDEX('Film Data'!Y:Y,MATCH($F35,'Film Data'!G:G,0)))","v":""},{"$f":"\nIF($F35=\"\",\"\",INDEX('Film Data'!Z:Z,MATCH($F35,'Film Data'!G:G,0)))","v":""},{"$f":"\nIF($F35=\"\",\"\",INDEX('Film Data'!L:L,MATCH($F35,'Film Data'!G:G,0)))","v":""},{"$f":"\nIF($F35=\"\",\"\",INDEX('Film Data'!M:M,MATCH($F35,'Film Data'!G:G,0)))","v":""},{"$f":"\nIF($F35=\"\",\"\",INDEX('Film Data'!N:N,MATCH($F35,'Film Data'!G:G,0)))","v":""},{"$f":"\nIF($F35=\"\",\"\",HYPERLINK(INDEX('Film Data'!T:T,MATCH($F35,'Film Data'!G:G,0))))","v":""},{"$f":"IFERROR(HYPERLINK(INDEX(#REF!,MATCH(PPN[[#This Row],[Part Number]],#REF!,0)),\">More Info\"),\"\")","v":""}]
[null,null,null,null,{"$f":"\nIF(F36<>\"\",COUNTIF($F$7:F36,\"*\")&\".\",\"\")","v":""},null,"","","","",{"$f":"\nIF($F36=\"\",\"\",INDEX('Film Data'!D:D,MATCH($F36,'Film Data'!G:G,0)))","v":""},{"$f":"\nIF($F36=\"\",\"\",INDEX('Film Data'!Q:Q,MATCH($F36,'Film Data'!G:G,0)))","v":""},{"$f":"\nIF($F36=\"\",\"\",INDEX('Film Data'!D:D,MATCH($F36,'Film Data'!G:G,0)))","v":""},{"$f":"\nIF($F36=\"\",\"\",INDEX('Film Data'!F:F,MATCH($F36,'Film Data'!G:G,0)))","v":""},{"$f":"\nIF($F36=\"\",\"\",INDEX('Film Data'!E:E,MATCH($F36,'Film Data'!G:G,0)))","v":""},{"$f":"\nIF($F36=\"\",\"\",INDEX('Film Data'!H:H,MATCH($F36,'Film Data'!G:G,0)))","v":""},{"$f":"\nIF($F36=\"\",\"\",INDEX('Film Data'!I:I,MATCH($F36,'Film Data'!G:G,0)))","v":""},{"$f":"\nIF($F36=\"\",\"\",INDEX('Film Data'!J:J,MATCH($F36,'Film Data'!G:G,0)))","v":""},{"$f":"\nIF($F36=\"\",\"\",INDEX('Film Data'!K:K,MATCH($F36,'Film Data'!G:G,0)))","v":""},{"$f":"\nIF($F36=\"\",\"\",INDEX('Film Data'!Y:Y,MATCH($F36,'Film Data'!G:G,0)))","v":""},{"$f":"\nIF($F36=\"\",\"\",INDEX('Film Data'!Z:Z,MATCH($F36,'Film Data'!G:G,0)))","v":""},{"$f":"\nIF($F36=\"\",\"\",INDEX('Film Data'!L:L,MATCH($F36,'Film Data'!G:G,0)))","v":""},{"$f":"\nIF($F36=\"\",\"\",INDEX('Film Data'!M:M,MATCH($F36,'Film Data'!G:G,0)))","v":""},{"$f":"\nIF($F36=\"\",\"\",INDEX('Film Data'!N:N,MATCH($F36,'Film Data'!G:G,0)))","v":""},{"$f":"\nIF($F36=\"\",\"\",HYPERLINK(INDEX('Film Data'!T:T,MATCH($F36,'Film Data'!G:G,0))))","v":""},{"$f":"IFERROR(HYPERLINK(INDEX(#REF!,MATCH(PPN[[#This Row],[Part Number]],#REF!,0)),\">More Info\"),\"\")","v":""}]
[null,null,null,null,{"$f":"\nIF(F37<>\"\",COUNTIF($F$7:F37,\"*\")&\".\",\"\")","v":""},null,"","","","",{"$f":"\nIF($F37=\"\",\"\",INDEX('Film Data'!D:D,MATCH($F37,'Film Data'!G:G,0)))","v":""},{"$f":"\nIF($F37=\"\",\"\",INDEX('Film Data'!Q:Q,MATCH($F37,'Film Data'!G:G,0)))","v":""},{"$f":"\nIF($F37=\"\",\"\",INDEX('Film Data'!D:D,MATCH($F37,'Film Data'!G:G,0)))","v":""},{"$f":"\nIF($F37=\"\",\"\",INDEX('Film Data'!F:F,MATCH($F37,'Film Data'!G:G,0)))","v":""},{"$f":"\nIF($F37=\"\",\"\",INDEX('Film Data'!E:E,MATCH($F37,'Film Data'!G:G,0)))","v":""},{"$f":"\nIF($F37=\"\",\"\",INDEX('Film Data'!H:H,MATCH($F37,'Film Data'!G:G,0)))","v":""},{"$f":"\nIF($F37=\"\",\"\",INDEX('Film Data'!I:I,MATCH($F37,'Film Data'!G:G,0)))","v":""},{"$f":"\nIF($F37=\"\",\"\",INDEX('Film Data'!J:J,MATCH($F37,'Film Data'!G:G,0)))","v":""},{"$f":"\nIF($F37=\"\",\"\",INDEX('Film Data'!K:K,MATCH($F37,'Film Data'!G:G,0)))","v":""},{"$f":"\nIF($F37=\"\",\"\",INDEX('Film Data'!Y:Y,MATCH($F37,'Film Data'!G:G,0)))","v":""},{"$f":"\nIF($F37=\"\",\"\",INDEX('Film Data'!Z:Z,MATCH($F37,'Film Data'!G:G,0)))","v":""},{"$f":"\nIF($F37=\"\",\"\",INDEX('Film Data'!L:L,MATCH($F37,'Film Data'!G:G,0)))","v":""},{"$f":"\nIF($F37=\"\",\"\",INDEX('Film Data'!M:M,MATCH($F37,'Film Data'!G:G,0)))","v":""},{"$f":"\nIF($F37=\"\",\"\",INDEX('Film Data'!N:N,MATCH($F37,'Film Data'!G:G,0)))","v":""},{"$f":"\nIF($F37=\"\",\"\",HYPERLINK(INDEX('Film Data'!T:T,MATCH($F37,'Film Data'!G:G,0))))","v":""},{"$f":"IFERROR(HYPERLINK(INDEX(#REF!,MATCH(PPN[[#This Row],[Part Number]],#REF!,0)),\">More Info\"),\"\")","v":""}]
[null,null,null,null,{"$f":"\nIF(F38<>\"\",COUNTIF($F$7:F38,\"*\")&\".\",\"\")","v":""},null,"","","","",{"$f":"\nIF($F38=\"\",\"\",INDEX('Film Data'!D:D,MATCH($F38,'Film Data'!G:G,0)))","v":""},{"$f":"\nIF($F38=\"\",\"\",INDEX('Film Data'!Q:Q,MATCH($F38,'Film Data'!G:G,0)))","v":""},{"$f":"\nIF($F38=\"\",\"\",INDEX('Film Data'!D:D,MATCH($F38,'Film Data'!G:G,0)))","v":""},{"$f":"\nIF($F38=\"\",\"\",INDEX('Film Data'!F:F,MATCH($F38,'Film Data'!G:G,0)))","v":""},{"$f":"\nIF($F38=\"\",\"\",INDEX('Film Data'!E:E,MATCH($F38,'Film Data'!G:G,0)))","v":""},{"$f":"\nIF($F38=\"\",\"\",INDEX('Film Data'!H:H,MATCH($F38,'Film Data'!G:G,0)))","v":""},{"$f":"\nIF($F38=\"\",\"\",INDEX('Film Data'!I:I,MATCH($F38,'Film Data'!G:G,0)))","v":""},{"$f":"\nIF($F38=\"\",\"\",INDEX('Film Data'!J:J,MATCH($F38,'Film Data'!G:G,0)))","v":""},{"$f":"\nIF($F38=\"\",\"\",INDEX('Film Data'!K:K,MATCH($F38,'Film Data'!G:G,0)))","v":""},{"$f":"\nIF($F38=\"\",\"\",INDEX('Film Data'!Y:Y,MATCH($F38,'Film Data'!G:G,0)))","v":""},{"$f":"\nIF($F38=\"\",\"\",INDEX('Film Data'!Z:Z,MATCH($F38,'Film Data'!G:G,0)))","v":""},{"$f":"\nIF($F38=\"\",\"\",INDEX('Film Data'!L:L,MATCH($F38,'Film Data'!G:G,0)))","v":""},{"$f":"\nIF($F38=\"\",\"\",INDEX('Film Data'!M:M,MATCH($F38,'Film Data'!G:G,0)))","v":""},{"$f":"\nIF($F38=\"\",\"\",INDEX('Film Data'!N:N,MATCH($F38,'Film Data'!G:G,0)))","v":""},{"$f":"\nIF($F38=\"\",\"\",HYPERLINK(INDEX('Film Data'!T:T,MATCH($F38,'Film Data'!G:G,0))))","v":""},{"$f":"IFERROR(HYPERLINK(INDEX(#REF!,MATCH(PPN[[#This Row],[Part Number]],#REF!,0)),\">More Info\"),\"\")","v":""}]
[null,null,null,null,{"$f":"\nIF(F39<>\"\",COUNTIF($F$7:F39,\"*\")&\".\",\"\")","v":""},null,{"$f":"\nIF(F39=\"\",\"\",CONCATENATE(P39,\"V\",Q39,\" \",R39,\"uF\"))","v":""},"",{"$f":"\nIF(F39=\"\",\"\",CONCATENATE(T39,\"Arms\",\" \",U39,\"mΩ\"))","v":""},"",{"$f":"\nIF($F39=\"\",\"\",INDEX('Film Data'!D:D,MATCH($F39,'Film Data'!G:G,0)))","v":""},{"$f":"\nIF($F39=\"\",\"\",INDEX('Film Data'!Q:Q,MATCH($F39,'Film Data'!G:G,0)))","v":""},{"$f":"\nIF($F39=\"\",\"\",INDEX('Film Data'!D:D,MATCH($F39,'Film Data'!G:G,0)))","v":""},{"$f":"\nIF($F39=\"\",\"\",INDEX('Film Data'!F:F,MATCH($F39,'Film Data'!G:G,0)))","v":""},{"$f":"\nIF($F39=\"\",\"\",INDEX('Film Data'!E:E,MATCH($F39,'Film Data'!G:G,0)))","v":""},{"$f":"\nIF($F39=\"\",\"\",INDEX('Film Data'!H:H,MATCH($F39,'Film Data'!G:G,0)))","v":""},{"$f":"\nIF($F39=\"\",\"\",INDEX('Film Data'!I:I,MATCH($F39,'Film Data'!G:G,0)))","v":""},{"$f":"\nIF($F39=\"\",\"\",INDEX('Film Data'!J:J,MATCH($F39,'Film Data'!G:G,0)))","v":""},{"$f":"\nIF($F39=\"\",\"\",INDEX('Film Data'!K:K,MATCH($F39,'Film Data'!G:G,0)))","v":""},{"$f":"\nIF($F39=\"\",\"\",INDEX('Film Data'!Y:Y,MATCH($F39,'Film Data'!G:G,0)))","v":""},{"$f":"\nIF($F39=\"\",\"\",INDEX('Film Data'!Z:Z,MATCH($F39,'Film Data'!G:G,0)))","v":""},{"$f":"\nIF($F39=\"\",\"\",INDEX('Film Data'!L:L,MATCH($F39,'Film Data'!G:G,0)))","v":""},{"$f":"\nIF($F39=\"\",\"\",INDEX('Film Data'!M:M,MATCH($F39,'Film Data'!G:G,0)))","v":""},{"$f":"\nIF($F39=\"\",\"\",INDEX('Film Data'!N:N,MATCH($F39,'Film Data'!G:G,0)))","v":""},{"$f":"\nIF($F39=\"\",\"\",HYPERLINK(INDEX('Film Data'!T:T,MATCH($F39,'Film Data'!G:G,0))))","v":""},{"$f":"IFERROR(HYPERLINK(INDEX(#REF!,MATCH(PPN[[#This Row],[Part Number]],#REF!,0)),\">More Info\"),\"\")","v":""}]
[null,null,null,null,{"$f":"\nIF(F40<>\"\",COUNTIF($F$7:F40,\"*\")&\".\",\"\")","v":""},null,"","","","",{"$f":"\nIF($F40=\"\",\"\",INDEX('Film Data'!D:D,MATCH($F40,'Film Data'!G:G,0)))","v":""},{"$f":"\nIF($F40=\"\",\"\",INDEX('Film Data'!Q:Q,MATCH($F40,'Film Data'!G:G,0)))","v":""},{"$f":"\nIF($F40=\"\",\"\",INDEX('Film Data'!D:D,MATCH($F40,'Film Data'!G:G,0)))","v":""},{"$f":"\nIF($F40=\"\",\"\",INDEX('Film Data'!F:F,MATCH($F40,'Film Data'!G:G,0)))","v":""},{"$f":"\nIF($F40=\"\",\"\",INDEX('Film Data'!E:E,MATCH($F40,'Film Data'!G:G,0)))","v":""},{"$f":"\nIF($F40=\"\",\"\",INDEX('Film Data'!H:H,MATCH($F40,'Film Data'!G:G,0)))","v":""},{"$f":"\nIF($F40=\"\",\"\",INDEX('Film Data'!I:I,MATCH($F40,'Film Data'!G:G,0)))","v":""},{"$f":"\nIF($F40=\"\",\"\",INDEX('Film Data'!J:J,MATCH($F40,'Film Data'!G:G,0)))","v":""},{"$f":"\nIF($F40=\"\",\"\",INDEX('Film Data'!K:K,MATCH($F40,'Film Data'!G:G,0)))","v":""},{"$f":"\nIF($F40=\"\",\"\",INDEX('Film Data'!Y:Y,MATCH($F40,'Film Data'!G:G,0)))","v":""},{"$f":"\nIF($F40=\"\",\"\",INDEX('Film Data'!Z:Z,MATCH($F40,'Film Data'!G:G,0)))","v":""},{"$f":"\nIF($F40=\"\",\"\",INDEX('Film Data'!L:L,MATCH($F40,'Film Data'!G:G,0)))","v":""},{"$f":"\nIF($F40=\"\",\"\",INDEX('Film Data'!M:M,MATCH($F40,'Film Data'!G:G,0)))","v":""},{"$f":"\nIF($F40=\"\",\"\",INDEX('Film Data'!N:N,MATCH($F40,'Film Data'!G:G,0)))","v":""},{"$f":"\nIF($F40=\"\",\"\",HYPERLINK(INDEX('Film Data'!T:T,MATCH($F40,'Film Data'!G:G,0))))","v":""},{"$f":"IFERROR(HYPERLINK(INDEX(#REF!,MATCH(PPN[[#This Row],[Part Number]],#REF!,0)),\">More Info\"),\"\")","v":""}]
[null,null,null,null,{"$f":"\nIF(F41<>\"\",COUNTIF($F$7:F41,\"*\")&\".\",\"\")","v":""},null,"","","","",{"$f":"\nIF($F41=\"\",\"\",INDEX('Film Data'!D:D,MATCH($F41,'Film Data'!G:G,0)))","v":""},{"$f":"\nIF($F41=\"\",\"\",INDEX('Film Data'!Q:Q,MATCH($F41,'Film Data'!G:G,0)))","v":""},{"$f":"\nIF($F41=\"\",\"\",INDEX('Film Data'!D:D,MATCH($F41,'Film Data'!G:G,0)))","v":""},{"$f":"\nIF($F41=\"\",\"\",INDEX('Film Data'!F:F,MATCH($F41,'Film Data'!G:G,0)))","v":""},{"$f":"\nIF($F41=\"\",\"\",INDEX('Film Data'!E:E,MATCH($F41,'Film Data'!G:G,0)))","v":""},{"$f":"\nIF($F41=\"\",\"\",INDEX('Film Data'!H:H,MATCH($F41,'Film Data'!G:G,0)))","v":""},{"$f":"\nIF($F41=\"\",\"\",INDEX('Film Data'!I:I,MATCH($F41,'Film Data'!G:G,0)))","v":""},{"$f":"\nIF($F41=\"\",\"\",INDEX('Film Data'!J:J,MATCH($F41,'Film Data'!G:G,0)))","v":""},{"$f":"\nIF($F41=\"\",\"\",INDEX('Film Data'!K:K,MATCH($F41,'Film Data'!G:G,0)))","v":""},{"$f":"\nIF($F41=\"\",\"\",INDEX('Film Data'!Y:Y,MATCH($F41,'Film Data'!G:G,0)))","v":""},{"$f":"\nIF($F41=\"\",\"\",INDEX('Film Data'!Z:Z,MATCH($F41,'Film Data'!G:G,0)))","v":""},{"$f":"\nIF($F41=\"\",\"\",INDEX('Film Data'!L:L,MATCH($F41,'Film Data'!G:G,0)))","v":""},{"$f":"\nIF($F41=\"\",\"\",INDEX('Film Data'!M:M,MATCH($F41,'Film Data'!G:G,0)))","v":""},{"$f":"\nIF($F41=\"\",\"\",INDEX('Film Data'!N:N,MATCH($F41,'Film Data'!G:G,0)))","v":""},{"$f":"\nIF($F41=\"\",\"\",HYPERLINK(INDEX('Film Data'!T:T,MATCH($F41,'Film Data'!G:G,0))))","v":""},{"$f":"IFERROR(HYPERLINK(INDEX(#REF!,MATCH(PPN[[#This Row],[Part Number]],#REF!,0)),\">More Info\"),\"\")","v":""}]
[null,null,null,null,{"$f":"\nIF(F42<>\"\",COUNTIF($F$7:F42,\"*\")&\".\",\"\")","v":""},null,"","","","",{"$f":"\nIF($F42=\"\",\"\",INDEX('Film Data'!D:D,MATCH($F42,'Film Data'!G:G,0)))","v":""},{"$f":"\nIF($F42=\"\",\"\",INDEX('Film Data'!Q:Q,MATCH($F42,'Film Data'!G:G,0)))","v":""},{"$f":"\nIF($F42=\"\",\"\",INDEX('Film Data'!D:D,MATCH($F42,'Film Data'!G:G,0)))","v":""},{"$f":"\nIF($F42=\"\",\"\",INDEX('Film Data'!F:F,MATCH($F42,'Film Data'!G:G,0)))","v":""},{"$f":"\nIF($F42=\"\",\"\",INDEX('Film Data'!E:E,MATCH($F42,'Film Data'!G:G,0)))","v":""},{"$f":"\nIF($F42=\"\",\"\",INDEX('Film Data'!H:H,MATCH($F42,'Film Data'!G:G,0)))","v":""},{"$f":"\nIF($F42=\"\",\"\",INDEX('Film Data'!I:I,MATCH($F42,'Film Data'!G:G,0)))","v":""},{"$f":"\nIF($F42=\"\",\"\",INDEX('Film Data'!J:J,MATCH($F42,'Film Data'!G:G,0)))","v":""},{"$f":"\nIF($F42=\"\",\"\",INDEX('Film Data'!K:K,MATCH($F42,'Film Data'!G:G,0)))","v":""},{"$f":"\nIF($F42=\"\",\"\",INDEX('Film Data'!Y:Y,MATCH($F42,'Film Data'!G:G,0)))","v":""},{"$f":"\nIF($F42=\"\",\"\",INDEX('Film Data'!Z:Z,MATCH($F42,'Film Data'!G:G,0)))","v":""},{"$f":"\nIF($F42=\"\",\"\",INDEX('Film Data'!L:L,MATCH($F42,'Film Data'!G:G,0)))","v":""},{"$f":"\nIF($F42=\"\",\"\",INDEX('Film Data'!M:M,MATCH($F42,'Film Data'!G:G,0)))","v":""},{"$f":"\nIF($F42=\"\",\"\",INDEX('Film Data'!N:N,MATCH($F42,'Film Data'!G:G,0)))","v":""},{"$f":"\nIF($F42=\"\",\"\",HYPERLINK(INDEX('Film Data'!T:T,MATCH($F42,'Film Data'!G:G,0))))","v":""},{"$f":"IFERROR(HYPERLINK(INDEX(#REF!,MATCH(PPN[[#This Row],[Part Number]],#REF!,0)),\">More Info\"),\"\")","v":""}]
[null,null,null,null,{"$f":"\nIF(F43<>\"\",COUNTIF($F$7:F43,\"*\")&\".\",\"\")","v":""},null,"","","","",{"$f":"\nIF($F43=\"\",\"\",INDEX('Film Data'!D:D,MATCH($F43,'Film Data'!G:G,0)))","v":""},{"$f":"\nIF($F43=\"\",\"\",INDEX('Film Data'!Q:Q,MATCH($F43,'Film Data'!G:G,0)))","v":""},{"$f":"\nIF($F43=\"\",\"\",INDEX('Film Data'!D:D,MATCH($F43,'Film Data'!G:G,0)))","v":""},{"$f":"\nIF($F43=\"\",\"\",INDEX('Film Data'!F:F,MATCH($F43,'Film Data'!G:G,0)))","v":""},{"$f":"\nIF($F43=\"\",\"\",INDEX('Film Data'!E:E,MATCH($F43,'Film Data'!G:G,0)))","v":""},{"$f":"\nIF($F43=\"\",\"\",INDEX('Film Data'!H:H,MATCH($F43,'Film Data'!G:G,0)))","v":""},{"$f":"\nIF($F43=\"\",\"\",INDEX('Film Data'!I:I,MATCH($F43,'Film Data'!G:G,0)))","v":""},{"$f":"\nIF($F43=\"\",\"\",INDEX('Film Data'!J:J,MATCH($F43,'Film Data'!G:G,0)))","v":""},{"$f":"\nIF($F43=\"\",\"\",INDEX('Film Data'!K:K,MATCH($F43,'Film Data'!G:G,0)))","v":""},{"$f":"\nIF($F43=\"\",\"\",INDEX('Film Data'!Y:Y,MATCH($F43,'Film Data'!G:G,0)))","v":""},{"$f":"\nIF($F43=\"\",\"\",INDEX('Film Data'!Z:Z,MATCH($F43,'Film Data'!G:G,0)))","v":""},{"$f":"\nIF($F43=\"\",\"\",INDEX('Film Data'!L:L,MATCH($F43,'Film Data'!G:G,0)))","v":""},{"$f":"\nIF($F43=\"\",\"\",INDEX('Film Data'!M:M,MATCH($F43,'Film Data'!G:G,0)))","v":""},{"$f":"\nIF($F43=\"\",\"\",INDEX('Film Data'!N:N,MATCH($F43,'Film Data'!G:G,0)))","v":""},{"$f":"\nIF($F43=\"\",\"\",HYPERLINK(INDEX('Film Data'!T:T,MATCH($F43,'Film Data'!G:G,0))))","v":""},{"$f":"IFERROR(HYPERLINK(INDEX(#REF!,MATCH(PPN[[#This Row],[Part Number]],#REF!,0)),\">More Info\"),\"\")","v":""}]
[null,null,null,null,{"$f":"\nIF(F44<>\"\",COUNTIF($F$7:F44,\"*\")&\".\",\"\")","v":""},null,"","","","",{"$f":"\nIF($F44=\"\",\"\",INDEX('Film Data'!D:D,MATCH($F44,'Film Data'!G:G,0)))","v":""},{"$f":"\nIF($F44=\"\",\"\",INDEX('Film Data'!Q:Q,MATCH($F44,'Film Data'!G:G,0)))","v":""},{"$f":"\nIF($F44=\"\",\"\",INDEX('Film Data'!D:D,MATCH($F44,'Film Data'!G:G,0)))","v":""},{"$f":"\nIF($F44=\"\",\"\",INDEX('Film Data'!F:F,MATCH($F44,'Film Data'!G:G,0)))","v":""},{"$f":"\nIF($F44=\"\",\"\",INDEX('Film Data'!E:E,MATCH($F44,'Film Data'!G:G,0)))","v":""},{"$f":"\nIF($F44=\"\",\"\",INDEX('Film Data'!H:H,MATCH($F44,'Film Data'!G:G,0)))","v":""},{"$f":"\nIF($F44=\"\",\"\",INDEX('Film Data'!I:I,MATCH($F44,'Film Data'!G:G,0)))","v":""},{"$f":"\nIF($F44=\"\",\"\",INDEX('Film Data'!J:J,MATCH($F44,'Film Data'!G:G,0)))","v":""},{"$f":"\nIF($F44=\"\",\"\",INDEX('Film Data'!K:K,MATCH($F44,'Film Data'!G:G,0)))","v":""},{"$f":"\nIF($F44=\"\",\"\",INDEX('Film Data'!Y:Y,MATCH($F44,'Film Data'!G:G,0)))","v":""},{"$f":"\nIF($F44=\"\",\"\",INDEX('Film Data'!Z:Z,MATCH($F44,'Film Data'!G:G,0)))","v":""},{"$f":"\nIF($F44=\"\",\"\",INDEX('Film Data'!L:L,MATCH($F44,'Film Data'!G:G,0)))","v":""},{"$f":"\nIF($F44=\"\",\"\",INDEX('Film Data'!M:M,MATCH($F44,'Film Data'!G:G,0)))","v":""},{"$f":"\nIF($F44=\"\",\"\",INDEX('Film Data'!N:N,MATCH($F44,'Film Data'!G:G,0)))","v":""},{"$f":"\nIF($F44=\"\",\"\",HYPERLINK(INDEX('Film Data'!T:T,MATCH($F44,'Film Data'!G:G,0))))","v":""},{"$f":"IFERROR(HYPERLINK(INDEX(#REF!,MATCH(PPN[[#This Row],[Part Number]],#REF!,0)),\">More Info\"),\"\")","v":""}]
[null,null,null,null,{"$f":"\nIF(F45<>\"\",COUNTIF($F$7:F45,\"*\")&\".\",\"\")","v":""},null,"","","","",{"$f":"\nIF($F45=\"\",\"\",INDEX('Film Data'!D:D,MATCH($F45,'Film Data'!G:G,0)))","v":""},{"$f":"\nIF($F45=\"\",\"\",INDEX('Film Data'!Q:Q,MATCH($F45,'Film Data'!G:G,0)))","v":""},{"$f":"\nIF($F45=\"\",\"\",INDEX('Film Data'!D:D,MATCH($F45,'Film Data'!G:G,0)))","v":""},{"$f":"\nIF($F45=\"\",\"\",INDEX('Film Data'!F:F,MATCH($F45,'Film Data'!G:G,0)))","v":""},{"$f":"\nIF($F45=\"\",\"\",INDEX('Film Data'!E:E,MATCH($F45,'Film Data'!G:G,0)))","v":""},{"$f":"\nIF($F45=\"\",\"\",INDEX('Film Data'!H:H,MATCH($F45,'Film Data'!G:G,0)))","v":""},{"$f":"\nIF($F45=\"\",\"\",INDEX('Film Data'!I:I,MATCH($F45,'Film Data'!G:G,0)))","v":""},{"$f":"\nIF($F45=\"\",\"\",INDEX('Film Data'!J:J,MATCH($F45,'Film Data'!G:G,0)))","v":""},{"$f":"\nIF($F45=\"\",\"\",INDEX('Film Data'!K:K,MATCH($F45,'Film Data'!G:G,0)))","v":""},{"$f":"\nIF($F45=\"\",\"\",INDEX('Film Data'!Y:Y,MATCH($F45,'Film Data'!G:G,0)))","v":""},{"$f":"\nIF($F45=\"\",\"\",INDEX('Film Data'!Z:Z,MATCH($F45,'Film Data'!G:G,0)))","v":""},{"$f":"\nIF($F45=\"\",\"\",INDEX('Film Data'!L:L,MATCH($F45,'Film Data'!G:G,0)))","v":""},{"$f":"\nIF($F45=\"\",\"\",INDEX('Film Data'!M:M,MATCH($F45,'Film Data'!G:G,0)))","v":""},{"$f":"\nIF($F45=\"\",\"\",INDEX('Film Data'!N:N,MATCH($F45,'Film Data'!G:G,0)))","v":""},{"$f":"\nIF($F45=\"\",\"\",HYPERLINK(INDEX('Film Data'!T:T,MATCH($F45,'Film Data'!G:G,0))))","v":""},{"$f":"IFERROR(HYPERLINK(INDEX(#REF!,MATCH(PPN[[#This Row],[Part Number]],#REF!,0)),\">More Info\"),\"\")","v":""}]
[null,null,null,null,{"$f":"\nIF(F46<>\"\",COUNTIF($F$7:F46,\"*\")&\".\",\"\")","v":""},null,"","","","",{"$f":"\nIF($F46=\"\",\"\",INDEX('Film Data'!D:D,MATCH($F46,'Film Data'!G:G,0)))","v":""},{"$f":"\nIF($F46=\"\",\"\",INDEX('Film Data'!Q:Q,MATCH($F46,'Film Data'!G:G,0)))","v":""},{"$f":"\nIF($F46=\"\",\"\",INDEX('Film Data'!D:D,MATCH($F46,'Film Data'!G:G,0)))","v":""},{"$f":"\nIF($F46=\"\",\"\",INDEX('Film Data'!F:F,MATCH($F46,'Film Data'!G:G,0)))","v":""},{"$f":"\nIF($F46=\"\",\"\",INDEX('Film Data'!E:E,MATCH($F46,'Film Data'!G:G,0)))","v":""},{"$f":"\nIF($F46=\"\",\"\",INDEX('Film Data'!H:H,MATCH($F46,'Film Data'!G:G,0)))","v":""},{"$f":"\nIF($F46=\"\",\"\",INDEX('Film Data'!I:I,MATCH($F46,'Film Data'!G:G,0)))","v":""},{"$f":"\nIF($F46=\"\",\"\",INDEX('Film Data'!J:J,MATCH($F46,'Film Data'!G:G,0)))","v":""},{"$f":"\nIF($F46=\"\",\"\",INDEX('Film Data'!K:K,MATCH($F46,'Film Data'!G:G,0)))","v":""},{"$f":"\nIF($F46=\"\",\"\",INDEX('Film Data'!Y:Y,MATCH($F46,'Film Data'!G:G,0)))","v":""},{"$f":"\nIF($F46=\"\",\"\",INDEX('Film Data'!Z:Z,MATCH($F46,'Film Data'!G:G,0)))","v":""},{"$f":"\nIF($F46=\"\",\"\",INDEX('Film Data'!L:L,MATCH($F46,'Film Data'!G:G,0)))","v":""},{"$f":"\nIF($F46=\"\",\"\",INDEX('Film Data'!M:M,MATCH($F46,'Film Data'!G:G,0)))","v":""},{"$f":"\nIF($F46=\"\",\"\",INDEX('Film Data'!N:N,MATCH($F46,'Film Data'!G:G,0)))","v":""},{"$f":"\nIF($F46=\"\",\"\",HYPERLINK(INDEX('Film Data'!T:T,MATCH($F46,'Film Data'!G:G,0))))","v":""},{"$f":"IFERROR(HYPERLINK(INDEX(#REF!,MATCH(PPN[[#This Row],[Part Number]],#REF!,0)),\">More Info\"),\"\")","v":""}]
[null,null,null,null,{"$f":"\nIF(F47<>\"\",COUNTIF($F$7:F47,\"*\")&\".\",\"\")","v":""},null,"","","","",{"$f":"\nIF($F47=\"\",\"\",INDEX('Film Data'!D:D,MATCH($F47,'Film Data'!G:G,0)))","v":""},{"$f":"\nIF($F47=\"\",\"\",INDEX('Film Data'!Q:Q,MATCH($F47,'Film Data'!G:G,0)))","v":""},{"$f":"\nIF($F47=\"\",\"\",INDEX('Film Data'!D:D,MATCH($F47,'Film Data'!G:G,0)))","v":""},{"$f":"\nIF($F47=\"\",\"\",INDEX('Film Data'!F:F,MATCH($F47,'Film Data'!G:G,0)))","v":""},{"$f":"\nIF($F47=\"\",\"\",INDEX('Film Data'!E:E,MATCH($F47,'Film Data'!G:G,0)))","v":""},{"$f":"\nIF($F47=\"\",\"\",INDEX('Film Data'!H:H,MATCH($F47,'Film Data'!G:G,0)))","v":""},{"$f":"\nIF($F47=\"\",\"\",INDEX('Film Data'!I:I,MATCH($F47,'Film Data'!G:G,0)))","v":""},{"$f":"\nIF($F47=\"\",\"\",INDEX('Film Data'!J:J,MATCH($F47,'Film Data'!G:G,0)))","v":""},{"$f":"\nIF($F47=\"\",\"\",INDEX('Film Data'!K:K,MATCH($F47,'Film Data'!G:G,0)))","v":""},{"$f":"\nIF($F47=\"\",\"\",INDEX('Film Data'!Y:Y,MATCH($F47,'Film Data'!G:G,0)))","v":""},{"$f":"\nIF($F47=\"\",\"\",INDEX('Film Data'!Z:Z,MATCH($F47,'Film Data'!G:G,0)))","v":""},{"$f":"\nIF($F47=\"\",\"\",INDEX('Film Data'!L:L,MATCH($F47,'Film Data'!G:G,0)))","v":""},{"$f":"\nIF($F47=\"\",\"\",INDEX('Film Data'!M:M,MATCH($F47,'Film Data'!G:G,0)))","v":""},{"$f":"\nIF($F47=\"\",\"\",INDEX('Film Data'!N:N,MATCH($F47,'Film Data'!G:G,0)))","v":""},{"$f":"\nIF($F47=\"\",\"\",HYPERLINK(INDEX('Film Data'!T:T,MATCH($F47,'Film Data'!G:G,0))))","v":""},{"$f":"IFERROR(HYPERLINK(INDEX(#REF!,MATCH(PPN[[#This Row],[Part Number]],#REF!,0)),\">More Info\"),\"\")","v":""}]
[null,null,null,null,{"$f":"\nIF(F48<>\"\",COUNTIF($F$7:F48,\"*\")&\".\",\"\")","v":""},null,"","","","",{"$f":"\nIF($F48=\"\",\"\",INDEX('Film Data'!D:D,MATCH($F48,'Film Data'!G:G,0)))","v":""},{"$f":"\nIF($F48=\"\",\"\",INDEX('Film Data'!Q:Q,MATCH($F48,'Film Data'!G:G,0)))","v":""},{"$f":"\nIF($F48=\"\",\"\",INDEX('Film Data'!D:D,MATCH($F48,'Film Data'!G:G,0)))","v":""},{"$f":"\nIF($F48=\"\",\"\",INDEX('Film Data'!F:F,MATCH($F48,'Film Data'!G:G,0)))","v":""},{"$f":"\nIF($F48=\"\",\"\",INDEX('Film Data'!E:E,MATCH($F48,'Film Data'!G:G,0)))","v":""},{"$f":"\nIF($F48=\"\",\"\",INDEX('Film Data'!H:H,MATCH($F48,'Film Data'!G:G,0)))","v":""},{"$f":"\nIF($F48=\"\",\"\",INDEX('Film Data'!I:I,MATCH($F48,'Film Data'!G:G,0)))","v":""},{"$f":"\nIF($F48=\"\",\"\",INDEX('Film Data'!J:J,MATCH($F48,'Film Data'!G:G,0)))","v":""},{"$f":"\nIF($F48=\"\",\"\",INDEX('Film Data'!K:K,MATCH($F48,'Film Data'!G:G,0)))","v":""},{"$f":"\nIF($F48=\"\",\"\",INDEX('Film Data'!Y:Y,MATCH($F48,'Film Data'!G:G,0)))","v":""},{"$f":"\nIF($F48=\"\",\"\",INDEX('Film Data'!Z:Z,MATCH($F48,'Film Data'!G:G,0)))","v":""},{"$f":"\nIF($F48=\"\",\"\",INDEX('Film Data'!L:L,MATCH($F48,'Film Data'!G:G,0)))","v":""},{"$f":"\nIF($F48=\"\",\"\",INDEX('Film Data'!M:M,MATCH($F48,'Film Data'!G:G,0)))","v":""},{"$f":"\nIF($F48=\"\",\"\",INDEX('Film Data'!N:N,MATCH($F48,'Film Data'!G:G,0)))","v":""},{"$f":"\nIF($F48=\"\",\"\",HYPERLINK(INDEX('Film Data'!T:T,MATCH($F48,'Film Data'!G:G,0))))","v":""},{"$f":"IFERROR(HYPERLINK(INDEX(#REF!,MATCH(PPN[[#This Row],[Part Number]],#REF!,0)),\">More Info\"),\"\")","v":""}]
[null,null,null,null,{"$f":"\nIF(F49<>\"\",COUNTIF($F$7:F49,\"*\")&\".\",\"\")","v":""},null,"","","","",{"$f":"\nIF($F49=\"\",\"\",INDEX('Film Data'!D:D,MATCH($F49,'Film Data'!G:G,0)))","v":""},{"$f":"\nIF($F49=\"\",\"\",INDEX('Film Data'!Q:Q,MATCH($F49,'Film Data'!G:G,0)))","v":""},{"$f":"\nIF($F49=\"\",\"\",INDEX('Film Data'!D:D,MATCH($F49,'Film Data'!G:G,0)))","v":""},{"$f":"\nIF($F49=\"\",\"\",INDEX('Film Data'!F:F,MATCH($F49,'Film Data'!G:G,0)))","v":""},{"$f":"\nIF($F49=\"\",\"\",INDEX('Film Data'!E:E,MATCH($F49,'Film Data'!G:G,0)))","v":""},{"$f":"\nIF($F49=\"\",\"\",INDEX('Film Data'!H:H,MATCH($F49,'Film Data'!G:G,0)))","v":""},{"$f":"\nIF($F49=\"\",\"\",INDEX('Film Data'!I:I,MATCH($F49,'Film Data'!G:G,0)))","v":""},{"$f":"\nIF($F49=\"\",\"\",INDEX('Film Data'!J:J,MATCH($F49,'Film Data'!G:G,0)))","v":""},{"$f":"\nIF($F49=\"\",\"\",INDEX('Film Data'!K:K,MATCH($F49,'Film Data'!G:G,0)))","v":""},{"$f":"\nIF($F49=\"\",\"\",INDEX('Film Data'!Y:Y,MATCH($F49,'Film Data'!G:G,0)))","v":""},{"$f":"\nIF($F49=\"\",\"\",INDEX('Film Data'!Z:Z,MATCH($F49,'Film Data'!G:G,0)))","v":""},{"$f":"\nIF($F49=\"\",\"\",INDEX('Film Data'!L:L,MATCH($F49,'Film Data'!G:G,0)))","v":""},{"$f":"\nIF($F49=\"\",\"\",INDEX('Film Data'!M:M,MATCH($F49,'Film Data'!G:G,0)))","v":""},{"$f":"\nIF($F49=\"\",\"\",INDEX('Film Data'!N:N,MATCH($F49,'Film Data'!G:G,0)))","v":""},{"$f":"\nIF($F49=\"\",\"\",HYPERLINK(INDEX('Film Data'!T:T,MATCH($F49,'Film Data'!G:G,0))))","v":""},{"$f":"IFERROR(HYPERLINK(INDEX(#REF!,MATCH(PPN[[#This Row],[Part Number]],#REF!,0)),\">More Info\"),\"\")","v":""}]
[null,null,null,null,{"$f":"\nIF(F50<>\"\",COUNTIF($F$7:F50,\"*\")&\".\",\"\")","v":""},null,"","","","",{"$f":"\nIF($F50=\"\",\"\",INDEX('Film Data'!D:D,MATCH($F50,'Film Data'!G:G,0)))","v":""},{"$f":"\nIF($F50=\"\",\"\",INDEX('Film Data'!Q:Q,MATCH($F50,'Film Data'!G:G,0)))","v":""},{"$f":"\nIF($F50=\"\",\"\",INDEX('Film Data'!D:D,MATCH($F50,'Film Data'!G:G,0)))","v":""},{"$f":"\nIF($F50=\"\",\"\",INDEX('Film Data'!F:F,MATCH($F50,'Film Data'!G:G,0)))","v":""},{"$f":"\nIF($F50=\"\",\"\",INDEX('Film Data'!E:E,MATCH($F50,'Film Data'!G:G,0)))","v":""},{"$f":"\nIF($F50=\"\",\"\",INDEX('Film Data'!H:H,MATCH($F50,'Film Data'!G:G,0)))","v":""},{"$f":"\nIF($F50=\"\",\"\",INDEX('Film Data'!I:I,MATCH($F50,'Film Data'!G:G,0)))","v":""},{"$f":"\nIF($F50=\"\",\"\",INDEX('Film Data'!J:J,MATCH($F50,'Film Data'!G:G,0)))","v":""},{"$f":"\nIF($F50=\"\",\"\",INDEX('Film Data'!K:K,MATCH($F50,'Film Data'!G:G,0)))","v":""},{"$f":"\nIF($F50=\"\",\"\",INDEX('Film Data'!Y:Y,MATCH($F50,'Film Data'!G:G,0)))","v":""},{"$f":"\nIF($F50=\"\",\"\",INDEX('Film Data'!Z:Z,MATCH($F50,'Film Data'!G:G,0)))","v":""},{"$f":"\nIF($F50=\"\",\"\",INDEX('Film Data'!L:L,MATCH($F50,'Film Data'!G:G,0)))","v":""},{"$f":"\nIF($F50=\"\",\"\",INDEX('Film Data'!M:M,MATCH($F50,'Film Data'!G:G,0)))","v":""},{"$f":"\nIF($F50=\"\",\"\",INDEX('Film Data'!N:N,MATCH($F50,'Film Data'!G:G,0)))","v":""},{"$f":"\nIF($F50=\"\",\"\",HYPERLINK(INDEX('Film Data'!T:T,MATCH($F50,'Film Data'!G:G,0))))","v":""},{"$f":"IFERROR(HYPERLINK(INDEX(#REF!,MATCH(PPN[[#This Row],[Part Number]],#REF!,0)),\">More Info\"),\"\")","v":""}]
[null,null,null,null,{"$f":"\nIF(F51<>\"\",COUNTIF($F$7:F51,\"*\")&\".\",\"\")","v":""},null,"","","","",{"$f":"\nIF($F51=\"\",\"\",INDEX('Film Data'!D:D,MATCH($F51,'Film Data'!G:G,0)))","v":""},{"$f":"\nIF($F51=\"\",\"\",INDEX('Film Data'!Q:Q,MATCH($F51,'Film Data'!G:G,0)))","v":""},{"$f":"\nIF($F51=\"\",\"\",INDEX('Film Data'!D:D,MATCH($F51,'Film Data'!G:G,0)))","v":""},{"$f":"\nIF($F51=\"\",\"\",INDEX('Film Data'!F:F,MATCH($F51,'Film Data'!G:G,0)))","v":""},{"$f":"\nIF($F51=\"\",\"\",INDEX('Film Data'!E:E,MATCH($F51,'Film Data'!G:G,0)))","v":""},{"$f":"\nIF($F51=\"\",\"\",INDEX('Film Data'!H:H,MATCH($F51,'Film Data'!G:G,0)))","v":""},{"$f":"\nIF($F51=\"\",\"\",INDEX('Film Data'!I:I,MATCH($F51,'Film Data'!G:G,0)))","v":""},{"$f":"\nIF($F51=\"\",\"\",INDEX('Film Data'!J:J,MATCH($F51,'Film Data'!G:G,0)))","v":""},{"$f":"\nIF($F51=\"\",\"\",INDEX('Film Data'!K:K,MATCH($F51,'Film Data'!G:G,0)))","v":""},{"$f":"\nIF($F51=\"\",\"\",INDEX('Film Data'!Y:Y,MATCH($F51,'Film Data'!G:G,0)))","v":""},{"$f":"\nIF($F51=\"\",\"\",INDEX('Film Data'!Z:Z,MATCH($F51,'Film Data'!G:G,0)))","v":""},{"$f":"\nIF($F51=\"\",\"\",INDEX('Film Data'!L:L,MATCH($F51,'Film Data'!G:G,0)))","v":""},{"$f":"\nIF($F51=\"\",\"\",INDEX('Film Data'!M:M,MATCH($F51,'Film Data'!G:G,0)))","v":""},{"$f":"\nIF($F51=\"\",\"\",INDEX('Film Data'!N:N,MATCH($F51,'Film Data'!G:G,0)))","v":""},{"$f":"\nIF($F51=\"\",\"\",HYPERLINK(INDEX('Film Data'!T:T,MATCH($F51,'Film Data'!G:G,0))))","v":""},{"$f":"IFERROR(HYPERLINK(INDEX(#REF!,MATCH(PPN[[#This Row],[Part Number]],#REF!,0)),\">More Info\"),\"\")","v":""}]
[null,null,null,null,{"$f":"\nIF(F52<>\"\",COUNTIF($F$7:F52,\"*\")&\".\",\"\")","v":""},null,"","","","",{"$f":"\nIF($F52=\"\",\"\",INDEX('Film Data'!D:D,MATCH($F52,'Film Data'!G:G,0)))","v":""},{"$f":"\nIF($F52=\"\",\"\",INDEX('Film Data'!Q:Q,MATCH($F52,'Film Data'!G:G,0)))","v":""},{"$f":"\nIF($F52=\"\",\"\",INDEX('Film Data'!D:D,MATCH($F52,'Film Data'!G:G,0)))","v":""},{"$f":"\nIF($F52=\"\",\"\",INDEX('Film Data'!F:F,MATCH($F52,'Film Data'!G:G,0)))","v":""},{"$f":"\nIF($F52=\"\",\"\",INDEX('Film Data'!E:E,MATCH($F52,'Film Data'!G:G,0)))","v":""},{"$f":"\nIF($F52=\"\",\"\",INDEX('Film Data'!H:H,MATCH($F52,'Film Data'!G:G,0)))","v":""},{"$f":"\nIF($F52=\"\",\"\",INDEX('Film Data'!I:I,MATCH($F52,'Film Data'!G:G,0)))","v":""},{"$f":"\nIF($F52=\"\",\"\",INDEX('Film Data'!J:J,MATCH($F52,'Film Data'!G:G,0)))","v":""},{"$f":"\nIF($F52=\"\",\"\",INDEX('Film Data'!K:K,MATCH($F52,'Film Data'!G:G,0)))","v":""},{"$f":"\nIF($F52=\"\",\"\",INDEX('Film Data'!Y:Y,MATCH($F52,'Film Data'!G:G,0)))","v":""},{"$f":"\nIF($F52=\"\",\"\",INDEX('Film Data'!Z:Z,MATCH($F52,'Film Data'!G:G,0)))","v":""},{"$f":"\nIF($F52=\"\",\"\",INDEX('Film Data'!L:L,MATCH($F52,'Film Data'!G:G,0)))","v":""},{"$f":"\nIF($F52=\"\",\"\",INDEX('Film Data'!M:M,MATCH($F52,'Film Data'!G:G,0)))","v":""},{"$f":"\nIF($F52=\"\",\"\",INDEX('Film Data'!N:N,MATCH($F52,'Film Data'!G:G,0)))","v":""},{"$f":"\nIF($F52=\"\",\"\",HYPERLINK(INDEX('Film Data'!T:T,MATCH($F52,'Film Data'!G:G,0))))","v":""},{"$f":"IFERROR(HYPERLINK(INDEX(#REF!,MATCH(PPN[[#This Row],[Part Number]],#REF!,0)),\">More Info\"),\"\")","v":""}]
[null,null,null,null,{"$f":"\nIF(F53<>\"\",COUNTIF($F$7:F53,\"*\")&\".\",\"\")","v":""},null,"","","","",{"$f":"\nIF($F53=\"\",\"\",INDEX('Film Data'!D:D,MATCH($F53,'Film Data'!G:G,0)))","v":""},{"$f":"\nIF($F53=\"\",\"\",INDEX('Film Data'!Q:Q,MATCH($F53,'Film Data'!G:G,0)))","v":""},{"$f":"\nIF($F53=\"\",\"\",INDEX('Film Data'!D:D,MATCH($F53,'Film Data'!G:G,0)))","v":""},{"$f":"\nIF($F53=\"\",\"\",INDEX('Film Data'!F:F,MATCH($F53,'Film Data'!G:G,0)))","v":""},{"$f":"\nIF($F53=\"\",\"\",INDEX('Film Data'!E:E,MATCH($F53,'Film Data'!G:G,0)))","v":""},{"$f":"\nIF($F53=\"\",\"\",INDEX('Film Data'!H:H,MATCH($F53,'Film Data'!G:G,0)))","v":""},{"$f":"\nIF($F53=\"\",\"\",INDEX('Film Data'!I:I,MATCH($F53,'Film Data'!G:G,0)))","v":""},{"$f":"\nIF($F53=\"\",\"\",INDEX('Film Data'!J:J,MATCH($F53,'Film Data'!G:G,0)))","v":""},{"$f":"\nIF($F53=\"\",\"\",INDEX('Film Data'!K:K,MATCH($F53,'Film Data'!G:G,0)))","v":""},{"$f":"\nIF($F53=\"\",\"\",INDEX('Film Data'!Y:Y,MATCH($F53,'Film Data'!G:G,0)))","v":""},{"$f":"\nIF($F53=\"\",\"\",INDEX('Film Data'!Z:Z,MATCH($F53,'Film Data'!G:G,0)))","v":""},{"$f":"\nIF($F53=\"\",\"\",INDEX('Film Data'!L:L,MATCH($F53,'Film Data'!G:G,0)))","v":""},{"$f":"\nIF($F53=\"\",\"\",INDEX('Film Data'!M:M,MATCH($F53,'Film Data'!G:G,0)))","v":""},{"$f":"\nIF($F53=\"\",\"\",INDEX('Film Data'!N:N,MATCH($F53,'Film Data'!G:G,0)))","v":""},{"$f":"\nIF($F53=\"\",\"\",HYPERLINK(INDEX('Film Data'!T:T,MATCH($F53,'Film Data'!G:G,0))))","v":""},{"$f":"IFERROR(HYPERLINK(INDEX(#REF!,MATCH(PPN[[#This Row],[Part Number]],#REF!,0)),\">More Info\"),\"\")","v":""}]
[null,null,null,null,{"$f":"\nIF(F54<>\"\",COUNTIF($F$7:F54,\"*\")&\".\",\"\")","v":""},null,"","","","",{"$f":"\nIF($F54=\"\",\"\",INDEX('Film Data'!D:D,MATCH($F54,'Film Data'!G:G,0)))","v":""},{"$f":"\nIF($F54=\"\",\"\",INDEX('Film Data'!Q:Q,MATCH($F54,'Film Data'!G:G,0)))","v":""},{"$f":"\nIF($F54=\"\",\"\",INDEX('Film Data'!D:D,MATCH($F54,'Film Data'!G:G,0)))","v":""},{"$f":"\nIF($F54=\"\",\"\",INDEX('Film Data'!F:F,MATCH($F54,'Film Data'!G:G,0)))","v":""},{"$f":"\nIF($F54=\"\",\"\",INDEX('Film Data'!E:E,MATCH($F54,'Film Data'!G:G,0)))","v":""},{"$f":"\nIF($F54=\"\",\"\",INDEX('Film Data'!H:H,MATCH($F54,'Film Data'!G:G,0)))","v":""},{"$f":"\nIF($F54=\"\",\"\",INDEX('Film Data'!I:I,MATCH($F54,'Film Data'!G:G,0)))","v":""},{"$f":"\nIF($F54=\"\",\"\",INDEX('Film Data'!J:J,MATCH($F54,'Film Data'!G:G,0)))","v":""},{"$f":"\nIF($F54=\"\",\"\",INDEX('Film Data'!K:K,MATCH($F54,'Film Data'!G:G,0)))","v":""},{"$f":"\nIF($F54=\"\",\"\",INDEX('Film Data'!Y:Y,MATCH($F54,'Film Data'!G:G,0)))","v":""},{"$f":"\nIF($F54=\"\",\"\",INDEX('Film Data'!Z:Z,MATCH($F54,'Film Data'!G:G,0)))","v":""},{"$f":"\nIF($F54=\"\",\"\",INDEX('Film Data'!L:L,MATCH($F54,'Film Data'!G:G,0)))","v":""},{"$f":"\nIF($F54=\"\",\"\",INDEX('Film Data'!M:M,MATCH($F54,'Film Data'!G:G,0)))","v":""},{"$f":"\nIF($F54=\"\",\"\",INDEX('Film Data'!N:N,MATCH($F54,'Film Data'!G:G,0)))","v":""},{"$f":"\nIF($F54=\"\",\"\",HYPERLINK(INDEX('Film Data'!T:T,MATCH($F54,'Film Data'!G:G,0))))","v":""},{"$f":"IFERROR(HYPERLINK(INDEX(#REF!,MATCH(PPN[[#This Row],[Part Number]],#REF!,0)),\">More Info\"),\"\")","v":""}]
[null,null,null,null,{"$f":"\nIF(F55<>\"\",COUNTIF($F$7:F55,\"*\")&\".\",\"\")","v":""},null,"","","","",{"$f":"\nIF($F55=\"\",\"\",INDEX('Film Data'!D:D,MATCH($F55,'Film Data'!G:G,0)))","v":""},{"$f":"\nIF($F55=\"\",\"\",INDEX('Film Data'!Q:Q,MATCH($F55,'Film Data'!G:G,0)))","v":""},{"$f":"\nIF($F55=\"\",\"\",INDEX('Film Data'!D:D,MATCH($F55,'Film Data'!G:G,0)))","v":""},{"$f":"\nIF($F55=\"\",\"\",INDEX('Film Data'!F:F,MATCH($F55,'Film Data'!G:G,0)))","v":""},{"$f":"\nIF($F55=\"\",\"\",INDEX('Film Data'!E:E,MATCH($F55,'Film Data'!G:G,0)))","v":""},{"$f":"\nIF($F55=\"\",\"\",INDEX('Film Data'!H:H,MATCH($F55,'Film Data'!G:G,0)))","v":""},{"$f":"\nIF($F55=\"\",\"\",INDEX('Film Data'!I:I,MATCH($F55,'Film Data'!G:G,0)))","v":""},{"$f":"\nIF($F55=\"\",\"\",INDEX('Film Data'!J:J,MATCH($F55,'Film Data'!G:G,0)))","v":""},{"$f":"\nIF($F55=\"\",\"\",INDEX('Film Data'!K:K,MATCH($F55,'Film Data'!G:G,0)))","v":""},{"$f":"\nIF($F55=\"\",\"\",INDEX('Film Data'!Y:Y,MATCH($F55,'Film Data'!G:G,0)))","v":""},{"$f":"\nIF($F55=\"\",\"\",INDEX('Film Data'!Z:Z,MATCH($F55,'Film Data'!G:G,0)))","v":""},{"$f":"\nIF($F55=\"\",\"\",INDEX('Film Data'!L:L,MATCH($F55,'Film Data'!G:G,0)))","v":""},{"$f":"\nIF($F55=\"\",\"\",INDEX('Film Data'!M:M,MATCH($F55,'Film Data'!G:G,0)))","v":""},{"$f":"\nIF($F55=\"\",\"\",INDEX('Film Data'!N:N,MATCH($F55,'Film Data'!G:G,0)))","v":""},{"$f":"\nIF($F55=\"\",\"\",HYPERLINK(INDEX('Film Data'!T:T,MATCH($F55,'Film Data'!G:G,0))))","v":""},{"$f":"IFERROR(HYPERLINK(INDEX(#REF!,MATCH(PPN[[#This Row],[Part Number]],#REF!,0)),\">More Info\"),\"\")","v":""}]
[null,null,null,null,{"$f":"\nIF(F56<>\"\",COUNTIF($F$7:F56,\"*\")&\".\",\"\")","v":""},null,"","","","",{"$f":"\nIF($F56=\"\",\"\",INDEX('Film Data'!D:D,MATCH($F56,'Film Data'!G:G,0)))","v":""},{"$f":"\nIF($F56=\"\",\"\",INDEX('Film Data'!Q:Q,MATCH($F56,'Film Data'!G:G,0)))","v":""},{"$f":"\nIF($F56=\"\",\"\",INDEX('Film Data'!D:D,MATCH($F56,'Film Data'!G:G,0)))","v":""},{"$f":"\nIF($F56=\"\",\"\",INDEX('Film Data'!F:F,MATCH($F56,'Film Data'!G:G,0)))","v":""},{"$f":"\nIF($F56=\"\",\"\",INDEX('Film Data'!E:E,MATCH($F56,'Film Data'!G:G,0)))","v":""},{"$f":"\nIF($F56=\"\",\"\",INDEX('Film Data'!H:H,MATCH($F56,'Film Data'!G:G,0)))","v":""},{"$f":"\nIF($F56=\"\",\"\",INDEX('Film Data'!I:I,MATCH($F56,'Film Data'!G:G,0)))","v":""},{"$f":"\nIF($F56=\"\",\"\",INDEX('Film Data'!J:J,MATCH($F56,'Film Data'!G:G,0)))","v":""},{"$f":"\nIF($F56=\"\",\"\",INDEX('Film Data'!K:K,MATCH($F56,'Film Data'!G:G,0)))","v":""},{"$f":"\nIF($F56=\"\",\"\",INDEX('Film Data'!Y:Y,MATCH($F56,'Film Data'!G:G,0)))","v":""},{"$f":"\nIF($F56=\"\",\"\",INDEX('Film Data'!Z:Z,MATCH($F56,'Film Data'!G:G,0)))","v":""},{"$f":"\nIF($F56=\"\",\"\",INDEX('Film Data'!L:L,MATCH($F56,'Film Data'!G:G,0)))","v":""},{"$f":"\nIF($F56=\"\",\"\",INDEX('Film Data'!M:M,MATCH($F56,'Film Data'!G:G,0)))","v":""},{"$f":"\nIF($F56=\"\",\"\",INDEX('Film Data'!N:N,MATCH($F56,'Film Data'!G:G,0)))","v":""},{"$f":"\nIF($F56=\"\",\"\",HYPERLINK(INDEX('Film Data'!T:T,MATCH($F56,'Film Data'!G:G,0))))","v":""},{"$f":"IFERROR(HYPERLINK(INDEX(#REF!,MATCH(PPN[[#This Row],[Part Number]],#REF!,0)),\">More Info\"),\"\")","v":""}]
[null,null,null,null,{"$f":"\nIF(F57<>\"\",COUNTIF($F$7:F57,\"*\")&\".\",\"\")","v":""},null,"","","","",{"$f":"\nIF($F57=\"\",\"\",INDEX('Film Data'!D:D,MATCH($F57,'Film Data'!G:G,0)))","v":""},{"$f":"\nIF($F57=\"\",\"\",INDEX('Film Data'!Q:Q,MATCH($F57,'Film Data'!G:G,0)))","v":""},{"$f":"\nIF($F57=\"\",\"\",INDEX('Film Data'!D:D,MATCH($F57,'Film Data'!G:G,0)))","v":""},{"$f":"\nIF($F57=\"\",\"\",INDEX('Film Data'!F:F,MATCH($F57,'Film Data'!G:G,0)))","v":""},{"$f":"\nIF($F57=\"\",\"\",INDEX('Film Data'!E:E,MATCH($F57,'Film Data'!G:G,0)))","v":""},{"$f":"\nIF($F57=\"\",\"\",INDEX('Film Data'!H:H,MATCH($F57,'Film Data'!G:G,0)))","v":""},{"$f":"\nIF($F57=\"\",\"\",INDEX('Film Data'!I:I,MATCH($F57,'Film Data'!G:G,0)))","v":""},{"$f":"\nIF($F57=\"\",\"\",INDEX('Film Data'!J:J,MATCH($F57,'Film Data'!G:G,0)))","v":""},{"$f":"\nIF($F57=\"\",\"\",INDEX('Film Data'!K:K,MATCH($F57,'Film Data'!G:G,0)))","v":""},{"$f":"\nIF($F57=\"\",\"\",INDEX('Film Data'!Y:Y,MATCH($F57,'Film Data'!G:G,0)))","v":""},{"$f":"\nIF($F57=\"\",\"\",INDEX('Film Data'!Z:Z,MATCH($F57,'Film Data'!G:G,0)))","v":""},{"$f":"\nIF($F57=\"\",\"\",INDEX('Film Data'!L:L,MATCH($F57,'Film Data'!G:G,0)))","v":""},{"$f":"\nIF($F57=\"\",\"\",INDEX('Film Data'!M:M,MATCH($F57,'Film Data'!G:G,0)))","v":""},{"$f":"\nIF($F57=\"\",\"\",INDEX('Film Data'!N:N,MATCH($F57,'Film Data'!G:G,0)))","v":""},{"$f":"\nIF($F57=\"\",\"\",HYPERLINK(INDEX('Film Data'!T:T,MATCH($F57,'Film Data'!G:G,0))))","v":""},{"$f":"IFERROR(HYPERLINK(INDEX(#REF!,MATCH(PPN[[#This Row],[Part Number]],#REF!,0)),\">More Info\"),\"\")","v":""}]
[null,null,null,null,{"$f":"\nIF(F58<>\"\",COUNTIF($F$7:F58,\"*\")&\".\",\"\")","v":""},null,"","","","",{"$f":"\nIF($F58=\"\",\"\",INDEX('Film Data'!D:D,MATCH($F58,'Film Data'!G:G,0)))","v":""},{"$f":"\nIF($F58=\"\",\"\",INDEX('Film Data'!Q:Q,MATCH($F58,'Film Data'!G:G,0)))","v":""},{"$f":"\nIF($F58=\"\",\"\",INDEX('Film Data'!D:D,MATCH($F58,'Film Data'!G:G,0)))","v":""},{"$f":"\nIF($F58=\"\",\"\",INDEX('Film Data'!F:F,MATCH($F58,'Film Data'!G:G,0)))","v":""},{"$f":"\nIF($F58=\"\",\"\",INDEX('Film Data'!E:E,MATCH($F58,'Film Data'!G:G,0)))","v":""},{"$f":"\nIF($F58=\"\",\"\",INDEX('Film Data'!H:H,MATCH($F58,'Film Data'!G:G,0)))","v":""},{"$f":"\nIF($F58=\"\",\"\",INDEX('Film Data'!I:I,MATCH($F58,'Film Data'!G:G,0)))","v":""},{"$f":"\nIF($F58=\"\",\"\",INDEX('Film Data'!J:J,MATCH($F58,'Film Data'!G:G,0)))","v":""},{"$f":"\nIF($F58=\"\",\"\",INDEX('Film Data'!K:K,MATCH($F58,'Film Data'!G:G,0)))","v":""},{"$f":"\nIF($F58=\"\",\"\",INDEX('Film Data'!Y:Y,MATCH($F58,'Film Data'!G:G,0)))","v":""},{"$f":"\nIF($F58=\"\",\"\",INDEX('Film Data'!Z:Z,MATCH($F58,'Film Data'!G:G,0)))","v":""},{"$f":"\nIF($F58=\"\",\"\",INDEX('Film Data'!L:L,MATCH($F58,'Film Data'!G:G,0)))","v":""},{"$f":"\nIF($F58=\"\",\"\",INDEX('Film Data'!M:M,MATCH($F58,'Film Data'!G:G,0)))","v":""},{"$f":"\nIF($F58=\"\",\"\",INDEX('Film Data'!N:N,MATCH($F58,'Film Data'!G:G,0)))","v":""},{"$f":"\nIF($F58=\"\",\"\",HYPERLINK(INDEX('Film Data'!T:T,MATCH($F58,'Film Data'!G:G,0))))","v":""},{"$f":"IFERROR(HYPERLINK(INDEX(#REF!,MATCH(PPN[[#This Row],[Part Number]],#REF!,0)),\">More Info\"),\"\")","v":""}]
[null,null,null,null,{"$f":"\nIF(F59<>\"\",COUNTIF($F$7:F59,\"*\")&\".\",\"\")","v":""},null,"","","","",{"$f":"\nIF($F59=\"\",\"\",INDEX('Film Data'!D:D,MATCH($F59,'Film Data'!G:G,0)))","v":""},{"$f":"\nIF($F59=\"\",\"\",INDEX('Film Data'!Q:Q,MATCH($F59,'Film Data'!G:G,0)))","v":""},{"$f":"\nIF($F59=\"\",\"\",INDEX('Film Data'!D:D,MATCH($F59,'Film Data'!G:G,0)))","v":""},{"$f":"\nIF($F59=\"\",\"\",INDEX('Film Data'!F:F,MATCH($F59,'Film Data'!G:G,0)))","v":""},{"$f":"\nIF($F59=\"\",\"\",INDEX('Film Data'!E:E,MATCH($F59,'Film Data'!G:G,0)))","v":""},{"$f":"\nIF($F59=\"\",\"\",INDEX('Film Data'!H:H,MATCH($F59,'Film Data'!G:G,0)))","v":""},{"$f":"\nIF($F59=\"\",\"\",INDEX('Film Data'!I:I,MATCH($F59,'Film Data'!G:G,0)))","v":""},{"$f":"\nIF($F59=\"\",\"\",INDEX('Film Data'!J:J,MATCH($F59,'Film Data'!G:G,0)))","v":""},{"$f":"\nIF($F59=\"\",\"\",INDEX('Film Data'!K:K,MATCH($F59,'Film Data'!G:G,0)))","v":""},{"$f":"\nIF($F59=\"\",\"\",INDEX('Film Data'!Y:Y,MATCH($F59,'Film Data'!G:G,0)))","v":""},{"$f":"\nIF($F59=\"\",\"\",INDEX('Film Data'!Z:Z,MATCH($F59,'Film Data'!G:G,0)))","v":""},{"$f":"\nIF($F59=\"\",\"\",INDEX('Film Data'!L:L,MATCH($F59,'Film Data'!G:G,0)))","v":""},{"$f":"\nIF($F59=\"\",\"\",INDEX('Film Data'!M:M,MATCH($F59,'Film Data'!G:G,0)))","v":""},{"$f":"\nIF($F59=\"\",\"\",INDEX('Film Data'!N:N,MATCH($F59,'Film Data'!G:G,0)))","v":""},{"$f":"\nIF($F59=\"\",\"\",HYPERLINK(INDEX('Film Data'!T:T,MATCH($F59,'Film Data'!G:G,0))))","v":""},{"$f":"IFERROR(HYPERLINK(INDEX(#REF!,MATCH(PPN[[#This Row],[Part Number]],#REF!,0)),\">More Info\"),\"\")","v":""}]
[null,null,null,null,{"$f":"\nIF(F60<>\"\",COUNTIF($F$7:F60,\"*\")&\".\",\"\")","v":""},null,"","","","",{"$f":"\nIF($F60=\"\",\"\",INDEX('Film Data'!D:D,MATCH($F60,'Film Data'!G:G,0)))","v":""},{"$f":"\nIF($F60=\"\",\"\",INDEX('Film Data'!Q:Q,MATCH($F60,'Film Data'!G:G,0)))","v":""},{"$f":"\nIF($F60=\"\",\"\",INDEX('Film Data'!D:D,MATCH($F60,'Film Data'!G:G,0)))","v":""},{"$f":"\nIF($F60=\"\",\"\",INDEX('Film Data'!F:F,MATCH($F60,'Film Data'!G:G,0)))","v":""},{"$f":"\nIF($F60=\"\",\"\",INDEX('Film Data'!E:E,MATCH($F60,'Film Data'!G:G,0)))","v":""},{"$f":"\nIF($F60=\"\",\"\",INDEX('Film Data'!H:H,MATCH($F60,'Film Data'!G:G,0)))","v":""},{"$f":"\nIF($F60=\"\",\"\",INDEX('Film Data'!I:I,MATCH($F60,'Film Data'!G:G,0)))","v":""},{"$f":"\nIF($F60=\"\",\"\",INDEX('Film Data'!J:J,MATCH($F60,'Film Data'!G:G,0)))","v":""},{"$f":"\nIF($F60=\"\",\"\",INDEX('Film Data'!K:K,MATCH($F60,'Film Data'!G:G,0)))","v":""},{"$f":"\nIF($F60=\"\",\"\",INDEX('Film Data'!Y:Y,MATCH($F60,'Film Data'!G:G,0)))","v":""},{"$f":"\nIF($F60=\"\",\"\",INDEX('Film Data'!Z:Z,MATCH($F60,'Film Data'!G:G,0)))","v":""},{"$f":"\nIF($F60=\"\",\"\",INDEX('Film Data'!L:L,MATCH($F60,'Film Data'!G:G,0)))","v":""},{"$f":"\nIF($F60=\"\",\"\",INDEX('Film Data'!M:M,MATCH($F60,'Film Data'!G:G,0)))","v":""},{"$f":"\nIF($F60=\"\",\"\",INDEX('Film Data'!N:N,MATCH($F60,'Film Data'!G:G,0)))","v":""},{"$f":"\nIF($F60=\"\",\"\",HYPERLINK(INDEX('Film Data'!T:T,MATCH($F60,'Film Data'!G:G,0))))","v":""},{"$f":"IFERROR(HYPERLINK(INDEX(#REF!,MATCH(PPN[[#This Row],[Part Number]],#REF!,0)),\">More Info\"),\"\")","v":""}]
[null,null,null,null,{"$f":"\nIF(F61<>\"\",COUNTIF($F$7:F61,\"*\")&\".\",\"\")","v":""},null,"","","","",{"$f":"\nIF($F61=\"\",\"\",INDEX('Film Data'!D:D,MATCH($F61,'Film Data'!G:G,0)))","v":""},{"$f":"\nIF($F61=\"\",\"\",INDEX('Film Data'!Q:Q,MATCH($F61,'Film Data'!G:G,0)))","v":""},{"$f":"\nIF($F61=\"\",\"\",INDEX('Film Data'!D:D,MATCH($F61,'Film Data'!G:G,0)))","v":""},{"$f":"\nIF($F61=\"\",\"\",INDEX('Film Data'!F:F,MATCH($F61,'Film Data'!G:G,0)))","v":""},{"$f":"\nIF($F61=\"\",\"\",INDEX('Film Data'!E:E,MATCH($F61,'Film Data'!G:G,0)))","v":""},{"$f":"\nIF($F61=\"\",\"\",INDEX('Film Data'!H:H,MATCH($F61,'Film Data'!G:G,0)))","v":""},{"$f":"\nIF($F61=\"\",\"\",INDEX('Film Data'!I:I,MATCH($F61,'Film Data'!G:G,0)))","v":""},{"$f":"\nIF($F61=\"\",\"\",INDEX('Film Data'!J:J,MATCH($F61,'Film Data'!G:G,0)))","v":""},{"$f":"\nIF($F61=\"\",\"\",INDEX('Film Data'!K:K,MATCH($F61,'Film Data'!G:G,0)))","v":""},{"$f":"\nIF($F61=\"\",\"\",INDEX('Film Data'!Y:Y,MATCH($F61,'Film Data'!G:G,0)))","v":""},{"$f":"\nIF($F61=\"\",\"\",INDEX('Film Data'!Z:Z,MATCH($F61,'Film Data'!G:G,0)))","v":""},{"$f":"\nIF($F61=\"\",\"\",INDEX('Film Data'!L:L,MATCH($F61,'Film Data'!G:G,0)))","v":""},{"$f":"\nIF($F61=\"\",\"\",INDEX('Film Data'!M:M,MATCH($F61,'Film Data'!G:G,0)))","v":""},{"$f":"\nIF($F61=\"\",\"\",INDEX('Film Data'!N:N,MATCH($F61,'Film Data'!G:G,0)))","v":""},{"$f":"\nIF($F61=\"\",\"\",HYPERLINK(INDEX('Film Data'!T:T,MATCH($F61,'Film Data'!G:G,0))))","v":""},{"$f":"IFERROR(HYPERLINK(INDEX(#REF!,MATCH(PPN[[#This Row],[Part Number]],#REF!,0)),\">More Info\"),\"\")","v":""}]
[null,null,null,null,{"$f":"\nIF(F62<>\"\",COUNTIF($F$7:F62,\"*\")&\".\",\"\")","v":""},null,"","","","",{"$f":"\nIF($F62=\"\",\"\",INDEX('Film Data'!D:D,MATCH($F62,'Film Data'!G:G,0)))","v":""},{"$f":"\nIF($F62=\"\",\"\",INDEX('Film Data'!Q:Q,MATCH($F62,'Film Data'!G:G,0)))","v":""},{"$f":"\nIF($F62=\"\",\"\",INDEX('Film Data'!D:D,MATCH($F62,'Film Data'!G:G,0)))","v":""},{"$f":"\nIF($F62=\"\",\"\",INDEX('Film Data'!F:F,MATCH($F62,'Film Data'!G:G,0)))","v":""},{"$f":"\nIF($F62=\"\",\"\",INDEX('Film Data'!E:E,MATCH($F62,'Film Data'!G:G,0)))","v":""},{"$f":"\nIF($F62=\"\",\"\",INDEX('Film Data'!H:H,MATCH($F62,'Film Data'!G:G,0)))","v":""},{"$f":"\nIF($F62=\"\",\"\",INDEX('Film Data'!I:I,MATCH($F62,'Film Data'!G:G,0)))","v":""},{"$f":"\nIF($F62=\"\",\"\",INDEX('Film Data'!J:J,MATCH($F62,'Film Data'!G:G,0)))","v":""},{"$f":"\nIF($F62=\"\",\"\",INDEX('Film Data'!K:K,MATCH($F62,'Film Data'!G:G,0)))","v":""},{"$f":"\nIF($F62=\"\",\"\",INDEX('Film Data'!Y:Y,MATCH($F62,'Film Data'!G:G,0)))","v":""},{"$f":"\nIF($F62=\"\",\"\",INDEX('Film Data'!Z:Z,MATCH($F62,'Film Data'!G:G,0)))","v":""},{"$f":"\nIF($F62=\"\",\"\",INDEX('Film Data'!L:L,MATCH($F62,'Film Data'!G:G,0)))","v":""},{"$f":"\nIF($F62=\"\",\"\",INDEX('Film Data'!M:M,MATCH($F62,'Film Data'!G:G,0)))","v":""},{"$f":"\nIF($F62=\"\",\"\",INDEX('Film Data'!N:N,MATCH($F62,'Film Data'!G:G,0)))","v":""},{"$f":"\nIF($F62=\"\",\"\",HYPERLINK(INDEX('Film Data'!T:T,MATCH($F62,'Film Data'!G:G,0))))","v":""},{"$f":"IFERROR(HYPERLINK(INDEX(#REF!,MATCH(PPN[[#This Row],[Part Number]],#REF!,0)),\">More Info\"),\"\")","v":""}]
[null,null,null,null,{"$f":"\nIF(F63<>\"\",COUNTIF($F$7:F63,\"*\")&\".\",\"\")","v":""},null,"","","","",{"$f":"\nIF($F63=\"\",\"\",INDEX('Film Data'!D:D,MATCH($F63,'Film Data'!G:G,0)))","v":""},{"$f":"\nIF($F63=\"\",\"\",INDEX('Film Data'!Q:Q,MATCH($F63,'Film Data'!G:G,0)))","v":""},{"$f":"\nIF($F63=\"\",\"\",INDEX('Film Data'!D:D,MATCH($F63,'Film Data'!G:G,0)))","v":""},{"$f":"\nIF($F63=\"\",\"\",INDEX('Film Data'!F:F,MATCH($F63,'Film Data'!G:G,0)))","v":""},{"$f":"\nIF($F63=\"\",\"\",INDEX('Film Data'!E:E,MATCH($F63,'Film Data'!G:G,0)))","v":""},{"$f":"\nIF($F63=\"\",\"\",INDEX('Film Data'!H:H,MATCH($F63,'Film Data'!G:G,0)))","v":""},{"$f":"\nIF($F63=\"\",\"\",INDEX('Film Data'!I:I,MATCH($F63,'Film Data'!G:G,0)))","v":""},{"$f":"\nIF($F63=\"\",\"\",INDEX('Film Data'!J:J,MATCH($F63,'Film Data'!G:G,0)))","v":""},{"$f":"\nIF($F63=\"\",\"\",INDEX('Film Data'!K:K,MATCH($F63,'Film Data'!G:G,0)))","v":""},{"$f":"\nIF($F63=\"\",\"\",INDEX('Film Data'!Y:Y,MATCH($F63,'Film Data'!G:G,0)))","v":""},{"$f":"\nIF($F63=\"\",\"\",INDEX('Film Data'!Z:Z,MATCH($F63,'Film Data'!G:G,0)))","v":""},{"$f":"\nIF($F63=\"\",\"\",INDEX('Film Data'!L:L,MATCH($F63,'Film Data'!G:G,0)))","v":""},{"$f":"\nIF($F63=\"\",\"\",INDEX('Film Data'!M:M,MATCH($F63,'Film Data'!G:G,0)))","v":""},{"$f":"\nIF($F63=\"\",\"\",INDEX('Film Data'!N:N,MATCH($F63,'Film Data'!G:G,0)))","v":""},{"$f":"\nIF($F63=\"\",\"\",HYPERLINK(INDEX('Film Data'!T:T,MATCH($F63,'Film Data'!G:G,0))))","v":""},{"$f":"IFERROR(HYPERLINK(INDEX(#REF!,MATCH(PPN[[#This Row],[Part Number]],#REF!,0)),\">More Info\"),\"\")","v":""}]
[null,null,null,null,{"$f":"\nIF(F64<>\"\",COUNTIF($F$7:F64,\"*\")&\".\",\"\")","v":""},null,"","","","",{"$f":"\nIF($F64=\"\",\"\",INDEX('Film Data'!D:D,MATCH($F64,'Film Data'!G:G,0)))","v":""},{"$f":"\nIF($F64=\"\",\"\",INDEX('Film Data'!Q:Q,MATCH($F64,'Film Data'!G:G,0)))","v":""},{"$f":"\nIF($F64=\"\",\"\",INDEX('Film Data'!D:D,MATCH($F64,'Film Data'!G:G,0)))","v":""},{"$f":"\nIF($F64=\"\",\"\",INDEX('Film Data'!F:F,MATCH($F64,'Film Data'!G:G,0)))","v":""},{"$f":"\nIF($F64=\"\",\"\",INDEX('Film Data'!E:E,MATCH($F64,'Film Data'!G:G,0)))","v":""},{"$f":"\nIF($F64=\"\",\"\",INDEX('Film Data'!H:H,MATCH($F64,'Film Data'!G:G,0)))","v":""},{"$f":"\nIF($F64=\"\",\"\",INDEX('Film Data'!I:I,MATCH($F64,'Film Data'!G:G,0)))","v":""},{"$f":"\nIF($F64=\"\",\"\",INDEX('Film Data'!J:J,MATCH($F64,'Film Data'!G:G,0)))","v":""},{"$f":"\nIF($F64=\"\",\"\",INDEX('Film Data'!K:K,MATCH($F64,'Film Data'!G:G,0)))","v":""},{"$f":"\nIF($F64=\"\",\"\",INDEX('Film Data'!Y:Y,MATCH($F64,'Film Data'!G:G,0)))","v":""},{"$f":"\nIF($F64=\"\",\"\",INDEX('Film Data'!Z:Z,MATCH($F64,'Film Data'!G:G,0)))","v":""},{"$f":"\nIF($F64=\"\",\"\",INDEX('Film Data'!L:L,MATCH($F64,'Film Data'!G:G,0)))","v":""},{"$f":"\nIF($F64=\"\",\"\",INDEX('Film Data'!M:M,MATCH($F64,'Film Data'!G:G,0)))","v":""},{"$f":"\nIF($F64=\"\",\"\",INDEX('Film Data'!N:N,MATCH($F64,'Film Data'!G:G,0)))","v":""},{"$f":"\nIF($F64=\"\",\"\",HYPERLINK(INDEX('Film Data'!T:T,MATCH($F64,'Film Data'!G:G,0))))","v":""},{"$f":"IFERROR(HYPERLINK(INDEX(#REF!,MATCH(PPN[[#This Row],[Part Number]],#REF!,0)),\">More Info\"),\"\")","v":""}]
[null,null,null,null,{"$f":"\nIF(F65<>\"\",COUNTIF($F$7:F65,\"*\")&\".\",\"\")","v":""},null,"","","","",{"$f":"\nIF($F65=\"\",\"\",INDEX('Film Data'!D:D,MATCH($F65,'Film Data'!G:G,0)))","v":""},{"$f":"\nIF($F65=\"\",\"\",INDEX('Film Data'!Q:Q,MATCH($F65,'Film Data'!G:G,0)))","v":""},{"$f":"\nIF($F65=\"\",\"\",INDEX('Film Data'!D:D,MATCH($F65,'Film Data'!G:G,0)))","v":""},{"$f":"\nIF($F65=\"\",\"\",INDEX('Film Data'!F:F,MATCH($F65,'Film Data'!G:G,0)))","v":""},{"$f":"\nIF($F65=\"\",\"\",INDEX('Film Data'!E:E,MATCH($F65,'Film Data'!G:G,0)))","v":""},{"$f":"\nIF($F65=\"\",\"\",INDEX('Film Data'!H:H,MATCH($F65,'Film Data'!G:G,0)))","v":""},{"$f":"\nIF($F65=\"\",\"\",INDEX('Film Data'!I:I,MATCH($F65,'Film Data'!G:G,0)))","v":""},{"$f":"\nIF($F65=\"\",\"\",INDEX('Film Data'!J:J,MATCH($F65,'Film Data'!G:G,0)))","v":""},{"$f":"\nIF($F65=\"\",\"\",INDEX('Film Data'!K:K,MATCH($F65,'Film Data'!G:G,0)))","v":""},{"$f":"\nIF($F65=\"\",\"\",INDEX('Film Data'!Y:Y,MATCH($F65,'Film Data'!G:G,0)))","v":""},{"$f":"\nIF($F65=\"\",\"\",INDEX('Film Data'!Z:Z,MATCH($F65,'Film Data'!G:G,0)))","v":""},{"$f":"\nIF($F65=\"\",\"\",INDEX('Film Data'!L:L,MATCH($F65,'Film Data'!G:G,0)))","v":""},{"$f":"\nIF($F65=\"\",\"\",INDEX('Film Data'!M:M,MATCH($F65,'Film Data'!G:G,0)))","v":""},{"$f":"\nIF($F65=\"\",\"\",INDEX('Film Data'!N:N,MATCH($F65,'Film Data'!G:G,0)))","v":""},{"$f":"\nIF($F65=\"\",\"\",HYPERLINK(INDEX('Film Data'!T:T,MATCH($F65,'Film Data'!G:G,0))))","v":""},{"$f":"IFERROR(HYPERLINK(INDEX(#REF!,MATCH(PPN[[#This Row],[Part Number]],#REF!,0)),\">More Info\"),\"\")","v":""}]
[null,null,null,null,{"$f":"\nIF(F66<>\"\",COUNTIF($F$7:F66,\"*\")&\".\",\"\")","v":""},null,"","","","",{"$f":"\nIF($F66=\"\",\"\",INDEX('Film Data'!D:D,MATCH($F66,'Film Data'!G:G,0)))","v":""},{"$f":"\nIF($F66=\"\",\"\",INDEX('Film Data'!Q:Q,MATCH($F66,'Film Data'!G:G,0)))","v":""},{"$f":"\nIF($F66=\"\",\"\",INDEX('Film Data'!D:D,MATCH($F66,'Film Data'!G:G,0)))","v":""},{"$f":"\nIF($F66=\"\",\"\",INDEX('Film Data'!F:F,MATCH($F66,'Film Data'!G:G,0)))","v":""},{"$f":"\nIF($F66=\"\",\"\",INDEX('Film Data'!E:E,MATCH($F66,'Film Data'!G:G,0)))","v":""},{"$f":"\nIF($F66=\"\",\"\",INDEX('Film Data'!H:H,MATCH($F66,'Film Data'!G:G,0)))","v":""},{"$f":"\nIF($F66=\"\",\"\",INDEX('Film Data'!I:I,MATCH($F66,'Film Data'!G:G,0)))","v":""},{"$f":"\nIF($F66=\"\",\"\",INDEX('Film Data'!J:J,MATCH($F66,'Film Data'!G:G,0)))","v":""},{"$f":"\nIF($F66=\"\",\"\",INDEX('Film Data'!K:K,MATCH($F66,'Film Data'!G:G,0)))","v":""},{"$f":"\nIF($F66=\"\",\"\",INDEX('Film Data'!Y:Y,MATCH($F66,'Film Data'!G:G,0)))","v":""},{"$f":"\nIF($F66=\"\",\"\",INDEX('Film Data'!Z:Z,MATCH($F66,'Film Data'!G:G,0)))","v":""},{"$f":"\nIF($F66=\"\",\"\",INDEX('Film Data'!L:L,MATCH($F66,'Film Data'!G:G,0)))","v":""},{"$f":"\nIF($F66=\"\",\"\",INDEX('Film Data'!M:M,MATCH($F66,'Film Data'!G:G,0)))","v":""},{"$f":"\nIF($F66=\"\",\"\",INDEX('Film Data'!N:N,MATCH($F66,'Film Data'!G:G,0)))","v":""},{"$f":"\nIF($F66=\"\",\"\",HYPERLINK(INDEX('Film Data'!T:T,MATCH($F66,'Film Data'!G:G,0))))","v":""},{"$f":"IFERROR(HYPERLINK(INDEX(#REF!,MATCH(PPN[[#This Row],[Part Number]],#REF!,0)),\">More Info\"),\"\")","v":""}]
[null,null,null,null,{"$f":"\nIF(F67<>\"\",COUNTIF($F$7:F67,\"*\")&\".\",\"\")","v":""},null,"","","","",{"$f":"\nIF($F67=\"\",\"\",INDEX('Film Data'!D:D,MATCH($F67,'Film Data'!G:G,0)))","v":""},{"$f":"\nIF($F67=\"\",\"\",INDEX('Film Data'!Q:Q,MATCH($F67,'Film Data'!G:G,0)))","v":""},{"$f":"\nIF($F67=\"\",\"\",INDEX('Film Data'!D:D,MATCH($F67,'Film Data'!G:G,0)))","v":""},{"$f":"\nIF($F67=\"\",\"\",INDEX('Film Data'!F:F,MATCH($F67,'Film Data'!G:G,0)))","v":""},{"$f":"\nIF($F67=\"\",\"\",INDEX('Film Data'!E:E,MATCH($F67,'Film Data'!G:G,0)))","v":""},{"$f":"\nIF($F67=\"\",\"\",INDEX('Film Data'!H:H,MATCH($F67,'Film Data'!G:G,0)))","v":""},{"$f":"\nIF($F67=\"\",\"\",INDEX('Film Data'!I:I,MATCH($F67,'Film Data'!G:G,0)))","v":""},{"$f":"\nIF($F67=\"\",\"\",INDEX('Film Data'!J:J,MATCH($F67,'Film Data'!G:G,0)))","v":""},{"$f":"\nIF($F67=\"\",\"\",INDEX('Film Data'!K:K,MATCH($F67,'Film Data'!G:G,0)))","v":""},{"$f":"\nIF($F67=\"\",\"\",INDEX('Film Data'!Y:Y,MATCH($F67,'Film Data'!G:G,0)))","v":""},{"$f":"\nIF($F67=\"\",\"\",INDEX('Film Data'!Z:Z,MATCH($F67,'Film Data'!G:G,0)))","v":""},{"$f":"\nIF($F67=\"\",\"\",INDEX('Film Data'!L:L,MATCH($F67,'Film Data'!G:G,0)))","v":""},{"$f":"\nIF($F67=\"\",\"\",INDEX('Film Data'!M:M,MATCH($F67,'Film Data'!G:G,0)))","v":""},{"$f":"\nIF($F67=\"\",\"\",INDEX('Film Data'!N:N,MATCH($F67,'Film Data'!G:G,0)))","v":""},{"$f":"\nIF($F67=\"\",\"\",HYPERLINK(INDEX('Film Data'!T:T,MATCH($F67,'Film Data'!G:G,0))))","v":""},{"$f":"IFERROR(HYPERLINK(INDEX(#REF!,MATCH(PPN[[#This Row],[Part Number]],#REF!,0)),\">More Info\"),\"\")","v":""}]
[null,null,null,null,{"$f":"\nIF(F68<>\"\",COUNTIF($F$7:F68,\"*\")&\".\",\"\")","v":""},null,"","","","",{"$f":"\nIF($F68=\"\",\"\",INDEX('Film Data'!D:D,MATCH($F68,'Film Data'!G:G,0)))","v":""},{"$f":"\nIF($F68=\"\",\"\",INDEX('Film Data'!Q:Q,MATCH($F68,'Film Data'!G:G,0)))","v":""},{"$f":"\nIF($F68=\"\",\"\",INDEX('Film Data'!D:D,MATCH($F68,'Film Data'!G:G,0)))","v":""},{"$f":"\nIF($F68=\"\",\"\",INDEX('Film Data'!F:F,MATCH($F68,'Film Data'!G:G,0)))","v":""},{"$f":"\nIF($F68=\"\",\"\",INDEX('Film Data'!E:E,MATCH($F68,'Film Data'!G:G,0)))","v":""},{"$f":"\nIF($F68=\"\",\"\",INDEX('Film Data'!H:H,MATCH($F68,'Film Data'!G:G,0)))","v":""},{"$f":"\nIF($F68=\"\",\"\",INDEX('Film Data'!I:I,MATCH($F68,'Film Data'!G:G,0)))","v":""},{"$f":"\nIF($F68=\"\",\"\",INDEX('Film Data'!J:J,MATCH($F68,'Film Data'!G:G,0)))","v":""},{"$f":"\nIF($F68=\"\",\"\",INDEX('Film Data'!K:K,MATCH($F68,'Film Data'!G:G,0)))","v":""},{"$f":"\nIF($F68=\"\",\"\",INDEX('Film Data'!Y:Y,MATCH($F68,'Film Data'!G:G,0)))","v":""},{"$f":"\nIF($F68=\"\",\"\",INDEX('Film Data'!Z:Z,MATCH($F68,'Film Data'!G:G,0)))","v":""},{"$f":"\nIF($F68=\"\",\"\",INDEX('Film Data'!L:L,MATCH($F68,'Film Data'!G:G,0)))","v":""},{"$f":"\nIF($F68=\"\",\"\",INDEX('Film Data'!M:M,MATCH($F68,'Film Data'!G:G,0)))","v":""},{"$f":"\nIF($F68=\"\",\"\",INDEX('Film Data'!N:N,MATCH($F68,'Film Data'!G:G,0)))","v":""},{"$f":"\nIF($F68=\"\",\"\",HYPERLINK(INDEX('Film Data'!T:T,MATCH($F68,'Film Data'!G:G,0))))","v":""},{"$f":"IFERROR(HYPERLINK(INDEX(#REF!,MATCH(PPN[[#This Row],[Part Number]],#REF!,0)),\">More Info\"),\"\")","v":""}]
[null,null,null,null,{"$f":"\nIF(F69<>\"\",COUNTIF($F$7:F69,\"*\")&\".\",\"\")","v":""},null,"","","","",{"$f":"\nIF($F69=\"\",\"\",INDEX('Film Data'!D:D,MATCH($F69,'Film Data'!G:G,0)))","v":""},{"$f":"\nIF($F69=\"\",\"\",INDEX('Film Data'!Q:Q,MATCH($F69,'Film Data'!G:G,0)))","v":""},{"$f":"\nIF($F69=\"\",\"\",INDEX('Film Data'!D:D,MATCH($F69,'Film Data'!G:G,0)))","v":""},{"$f":"\nIF($F69=\"\",\"\",INDEX('Film Data'!F:F,MATCH($F69,'Film Data'!G:G,0)))","v":""},{"$f":"\nIF($F69=\"\",\"\",INDEX('Film Data'!E:E,MATCH($F69,'Film Data'!G:G,0)))","v":""},{"$f":"\nIF($F69=\"\",\"\",INDEX('Film Data'!H:H,MATCH($F69,'Film Data'!G:G,0)))","v":""},{"$f":"\nIF($F69=\"\",\"\",INDEX('Film Data'!I:I,MATCH($F69,'Film Data'!G:G,0)))","v":""},{"$f":"\nIF($F69=\"\",\"\",INDEX('Film Data'!J:J,MATCH($F69,'Film Data'!G:G,0)))","v":""},{"$f":"\nIF($F69=\"\",\"\",INDEX('Film Data'!K:K,MATCH($F69,'Film Data'!G:G,0)))","v":""},{"$f":"\nIF($F69=\"\",\"\",INDEX('Film Data'!Y:Y,MATCH($F69,'Film Data'!G:G,0)))","v":""},{"$f":"\nIF($F69=\"\",\"\",INDEX('Film Data'!Z:Z,MATCH($F69,'Film Data'!G:G,0)))","v":""},{"$f":"\nIF($F69=\"\",\"\",INDEX('Film Data'!L:L,MATCH($F69,'Film Data'!G:G,0)))","v":""},{"$f":"\nIF($F69=\"\",\"\",INDEX('Film Data'!M:M,MATCH($F69,'Film Data'!G:G,0)))","v":""},{"$f":"\nIF($F69=\"\",\"\",INDEX('Film Data'!N:N,MATCH($F69,'Film Data'!G:G,0)))","v":""},{"$f":"\nIF($F69=\"\",\"\",HYPERLINK(INDEX('Film Data'!T:T,MATCH($F69,'Film Data'!G:G,0))))","v":""},{"$f":"IFERROR(HYPERLINK(INDEX(#REF!,MATCH(PPN[[#This Row],[Part Number]],#REF!,0)),\">More Info\"),\"\")","v":""}]
[null,null,null,null,{"$f":"\nIF(F70<>\"\",COUNTIF($F$7:F70,\"*\")&\".\",\"\")","v":""},null,"","","","",{"$f":"\nIF($F70=\"\",\"\",INDEX('Film Data'!D:D,MATCH($F70,'Film Data'!G:G,0)))","v":""},{"$f":"\nIF($F70=\"\",\"\",INDEX('Film Data'!Q:Q,MATCH($F70,'Film Data'!G:G,0)))","v":""},{"$f":"\nIF($F70=\"\",\"\",INDEX('Film Data'!D:D,MATCH($F70,'Film Data'!G:G,0)))","v":""},{"$f":"\nIF($F70=\"\",\"\",INDEX('Film Data'!F:F,MATCH($F70,'Film Data'!G:G,0)))","v":""},{"$f":"\nIF($F70=\"\",\"\",INDEX('Film Data'!E:E,MATCH($F70,'Film Data'!G:G,0)))","v":""},{"$f":"\nIF($F70=\"\",\"\",INDEX('Film Data'!H:H,MATCH($F70,'Film Data'!G:G,0)))","v":""},{"$f":"\nIF($F70=\"\",\"\",INDEX('Film Data'!I:I,MATCH($F70,'Film Data'!G:G,0)))","v":""},{"$f":"\nIF($F70=\"\",\"\",INDEX('Film Data'!J:J,MATCH($F70,'Film Data'!G:G,0)))","v":""},{"$f":"\nIF($F70=\"\",\"\",INDEX('Film Data'!K:K,MATCH($F70,'Film Data'!G:G,0)))","v":""},{"$f":"\nIF($F70=\"\",\"\",INDEX('Film Data'!Y:Y,MATCH($F70,'Film Data'!G:G,0)))","v":""},{"$f":"\nIF($F70=\"\",\"\",INDEX('Film Data'!Z:Z,MATCH($F70,'Film Data'!G:G,0)))","v":""},{"$f":"\nIF($F70=\"\",\"\",INDEX('Film Data'!L:L,MATCH($F70,'Film Data'!G:G,0)))","v":""},{"$f":"\nIF($F70=\"\",\"\",INDEX('Film Data'!M:M,MATCH($F70,'Film Data'!G:G,0)))","v":""},{"$f":"\nIF($F70=\"\",\"\",INDEX('Film Data'!N:N,MATCH($F70,'Film Data'!G:G,0)))","v":""},{"$f":"\nIF($F70=\"\",\"\",HYPERLINK(INDEX('Film Data'!T:T,MATCH($F70,'Film Data'!G:G,0))))","v":""},{"$f":"IFERROR(HYPERLINK(INDEX(#REF!,MATCH(PPN[[#This Row],[Part Number]],#REF!,0)),\">More Info\"),\"\")","v":""}]
[null,null,null,null,{"$f":"\nIF(F71<>\"\",COUNTIF($F$7:F71,\"*\")&\".\",\"\")","v":""},null,{"$f":"\nIF(F71=\"\",\"\",CONCATENATE(P71,\"V\",Q71,\" \",R71,\"uF\"))","v":""},{"$f":"\nIF(F71=\"\",\"\",CONCATENATE(\"Tol. \",S71,\"%\"))","v":""},{"$f":"\nIF(F71=\"\",\"\",CONCATENATE(T71,\"Arms\",\" \",U71,\"mΩ\"))","v":""},"",{"$f":"\nIF($F71=\"\",\"\",INDEX('Film Data'!D:D,MATCH($F71,'Film Data'!G:G,0)))","v":""},{"$f":"\nIF($F71=\"\",\"\",INDEX('Film Data'!Q:Q,MATCH($F71,'Film Data'!G:G,0)))","v":""},{"$f":"\nIF($F71=\"\",\"\",INDEX('Film Data'!D:D,MATCH($F71,'Film Data'!G:G,0)))","v":""},{"$f":"\nIF($F71=\"\",\"\",INDEX('Film Data'!F:F,MATCH($F71,'Film Data'!G:G,0)))","v":""},{"$f":"\nIF($F71=\"\",\"\",INDEX('Film Data'!E:E,MATCH($F71,'Film Data'!G:G,0)))","v":""},{"$f":"\nIF($F71=\"\",\"\",INDEX('Film Data'!H:H,MATCH($F71,'Film Data'!G:G,0)))","v":""},{"$f":"\nIF($F71=\"\",\"\",INDEX('Film Data'!I:I,MATCH($F71,'Film Data'!G:G,0)))","v":""},{"$f":"\nIF($F71=\"\",\"\",INDEX('Film Data'!J:J,MATCH($F71,'Film Data'!G:G,0)))","v":""},{"$f":"\nIF($F71=\"\",\"\",INDEX('Film Data'!K:K,MATCH($F71,'Film Data'!G:G,0)))","v":""},{"$f":"\nIF($F71=\"\",\"\",INDEX('Film Data'!Y:Y,MATCH($F71,'Film Data'!G:G,0)))","v":""},{"$f":"\nIF($F71=\"\",\"\",INDEX('Film Data'!Z:Z,MATCH($F71,'Film Data'!G:G,0)))","v":""},{"$f":"\nIF($F71=\"\",\"\",INDEX('Film Data'!L:L,MATCH($F71,'Film Data'!G:G,0)))","v":""},{"$f":"\nIF($F71=\"\",\"\",INDEX('Film Data'!M:M,MATCH($F71,'Film Data'!G:G,0)))","v":""},{"$f":"\nIF($F71=\"\",\"\",INDEX('Film Data'!N:N,MATCH($F71,'Film Data'!G:G,0)))","v":""},{"$f":"\nIF($F71=\"\",\"\",HYPERLINK(INDEX('Film Data'!T:T,MATCH($F71,'Film Data'!G:G,0))))","v":""},{"$f":"IFERROR(HYPERLINK(INDEX(#REF!,MATCH(PPN[[#This Row],[Part Number]],#REF!,0)),\">More Info\"),\"\")","v":""}]
[null,null,null,null,{"$f":"\nIF(F72<>\"\",COUNTIF($F$7:F72,\"*\")&\".\",\"\")","v":""},null,"","","",{"$f":"\nIF(F72=\"\",\"\",CONCATENATE(\"L\"&V72,\"x W\",W72,\" x H\",X72))","v":""},{"$f":"\nIF($F72=\"\",\"\",INDEX('Film Data'!D:D,MATCH($F72,'Film Data'!G:G,0)))","v":""},{"$f":"\nIF($F72=\"\",\"\",INDEX('Film Data'!Q:Q,MATCH($F72,'Film Data'!G:G,0)))","v":""},{"$f":"\nIF($F72=\"\",\"\",INDEX('Film Data'!D:D,MATCH($F72,'Film Data'!G:G,0)))","v":""},{"$f":"\nIF($F72=\"\",\"\",INDEX('Film Data'!F:F,MATCH($F72,'Film Data'!G:G,0)))","v":""},{"$f":"\nIF($F72=\"\",\"\",INDEX('Film Data'!E:E,MATCH($F72,'Film Data'!G:G,0)))","v":""},{"$f":"\nIF($F72=\"\",\"\",INDEX('Film Data'!H:H,MATCH($F72,'Film Data'!G:G,0)))","v":""},{"$f":"\nIF($F72=\"\",\"\",INDEX('Film Data'!I:I,MATCH($F72,'Film Data'!G:G,0)))","v":""},{"$f":"\nIF($F72=\"\",\"\",INDEX('Film Data'!J:J,MATCH($F72,'Film Data'!G:G,0)))","v":""},{"$f":"\nIF($F72=\"\",\"\",INDEX('Film Data'!K:K,MATCH($F72,'Film Data'!G:G,0)))","v":""},{"$f":"\nIF($F72=\"\",\"\",INDEX('Film Data'!Y:Y,MATCH($F72,'Film Data'!G:G,0)))","v":""},{"$f":"\nIF($F72=\"\",\"\",INDEX('Film Data'!Z:Z,MATCH($F72,'Film Data'!G:G,0)))","v":""},{"$f":"\nIF($F72=\"\",\"\",INDEX('Film Data'!L:L,MATCH($F72,'Film Data'!G:G,0)))","v":""},{"$f":"\nIF($F72=\"\",\"\",INDEX('Film Data'!M:M,MATCH($F72,'Film Data'!G:G,0)))","v":""},{"$f":"\nIF($F72=\"\",\"\",INDEX('Film Data'!N:N,MATCH($F72,'Film Data'!G:G,0)))","v":""},{"$f":"\nIF($F72=\"\",\"\",HYPERLINK(INDEX('Film Data'!T:T,MATCH($F72,'Film Data'!G:G,0))))","v":""},{"$f":"IFERROR(HYPERLINK(INDEX(#REF!,MATCH(PPN[[#This Row],[Part Number]],#REF!,0)),\">More Info\"),\"\")","v":""}]
[null,null,null,null,{"$f":"\nIF(F73<>\"\",COUNTIF($F$7:F73,\"*\")&\".\",\"\")","v":""},null,"","","","",{"$f":"\nIF($F73=\"\",\"\",INDEX('Film Data'!D:D,MATCH($F73,'Film Data'!G:G,0)))","v":""},{"$f":"\nIF($F73=\"\",\"\",INDEX('Film Data'!Q:Q,MATCH($F73,'Film Data'!G:G,0)))","v":""},{"$f":"\nIF($F73=\"\",\"\",INDEX('Film Data'!D:D,MATCH($F73,'Film Data'!G:G,0)))","v":""},{"$f":"\nIF($F73=\"\",\"\",INDEX('Film Data'!F:F,MATCH($F73,'Film Data'!G:G,0)))","v":""},{"$f":"\nIF($F73=\"\",\"\",INDEX('Film Data'!E:E,MATCH($F73,'Film Data'!G:G,0)))","v":""},{"$f":"\nIF($F73=\"\",\"\",INDEX('Film Data'!H:H,MATCH($F73,'Film Data'!G:G,0)))","v":""},{"$f":"\nIF($F73=\"\",\"\",INDEX('Film Data'!I:I,MATCH($F73,'Film Data'!G:G,0)))","v":""},{"$f":"\nIF($F73=\"\",\"\",INDEX('Film Data'!J:J,MATCH($F73,'Film Data'!G:G,0)))","v":""},{"$f":"\nIF($F73=\"\",\"\",INDEX('Film Data'!K:K,MATCH($F73,'Film Data'!G:G,0)))","v":""},{"$f":"\nIF($F73=\"\",\"\",INDEX('Film Data'!Y:Y,MATCH($F73,'Film Data'!G:G,0)))","v":""},{"$f":"\nIF($F73=\"\",\"\",INDEX('Film Data'!Z:Z,MATCH($F73,'Film Data'!G:G,0)))","v":""},{"$f":"\nIF($F73=\"\",\"\",INDEX('Film Data'!L:L,MATCH($F73,'Film Data'!G:G,0)))","v":""},{"$f":"\nIF($F73=\"\",\"\",INDEX('Film Data'!M:M,MATCH($F73,'Film Data'!G:G,0)))","v":""},{"$f":"\nIF($F73=\"\",\"\",INDEX('Film Data'!N:N,MATCH($F73,'Film Data'!G:G,0)))","v":""},{"$f":"\nIF($F73=\"\",\"\",HYPERLINK(INDEX('Film Data'!T:T,MATCH($F73,'Film Data'!G:G,0))))","v":""},{"$f":"IFERROR(HYPERLINK(INDEX(#REF!,MATCH(PPN[[#This Row],[Part Number]],#REF!,0)),\">More Info\"),\"\")","v":""}]
[null,null,null,null,{"$f":"\nIF(F74<>\"\",COUNTIF($F$7:F74,\"*\")&\".\",\"\")","v":""},null,"","","","",{"$f":"\nIF($F74=\"\",\"\",INDEX('Film Data'!D:D,MATCH($F74,'Film Data'!G:G,0)))","v":""},{"$f":"\nIF($F74=\"\",\"\",INDEX('Film Data'!Q:Q,MATCH($F74,'Film Data'!G:G,0)))","v":""},{"$f":"\nIF($F74=\"\",\"\",INDEX('Film Data'!D:D,MATCH($F74,'Film Data'!G:G,0)))","v":""},{"$f":"\nIF($F74=\"\",\"\",INDEX('Film Data'!F:F,MATCH($F74,'Film Data'!G:G,0)))","v":""},{"$f":"\nIF($F74=\"\",\"\",INDEX('Film Data'!E:E,MATCH($F74,'Film Data'!G:G,0)))","v":""},{"$f":"\nIF($F74=\"\",\"\",INDEX('Film Data'!H:H,MATCH($F74,'Film Data'!G:G,0)))","v":""},{"$f":"\nIF($F74=\"\",\"\",INDEX('Film Data'!I:I,MATCH($F74,'Film Data'!G:G,0)))","v":""},{"$f":"\nIF($F74=\"\",\"\",INDEX('Film Data'!J:J,MATCH($F74,'Film Data'!G:G,0)))","v":""},{"$f":"\nIF($F74=\"\",\"\",INDEX('Film Data'!K:K,MATCH($F74,'Film Data'!G:G,0)))","v":""},{"$f":"\nIF($F74=\"\",\"\",INDEX('Film Data'!Y:Y,MATCH($F74,'Film Data'!G:G,0)))","v":""},{"$f":"\nIF($F74=\"\",\"\",INDEX('Film Data'!Z:Z,MATCH($F74,'Film Data'!G:G,0)))","v":""},{"$f":"\nIF($F74=\"\",\"\",INDEX('Film Data'!L:L,MATCH($F74,'Film Data'!G:G,0)))","v":""},{"$f":"\nIF($F74=\"\",\"\",INDEX('Film Data'!M:M,MATCH($F74,'Film Data'!G:G,0)))","v":""},{"$f":"\nIF($F74=\"\",\"\",INDEX('Film Data'!N:N,MATCH($F74,'Film Data'!G:G,0)))","v":""},{"$f":"\nIF($F74=\"\",\"\",HYPERLINK(INDEX('Film Data'!T:T,MATCH($F74,'Film Data'!G:G,0))))","v":""},{"$f":"IFERROR(HYPERLINK(INDEX(#REF!,MATCH(PPN[[#This Row],[Part Number]],#REF!,0)),\">More Info\"),\"\")","v":""}]
[null,null,null,null,{"$f":"\nIF(F75<>\"\",COUNTIF($F$7:F75,\"*\")&\".\",\"\")","v":""},null,"","","","",{"$f":"\nIF($F75=\"\",\"\",INDEX('Film Data'!D:D,MATCH($F75,'Film Data'!G:G,0)))","v":""},{"$f":"\nIF($F75=\"\",\"\",INDEX('Film Data'!Q:Q,MATCH($F75,'Film Data'!G:G,0)))","v":""},{"$f":"\nIF($F75=\"\",\"\",INDEX('Film Data'!D:D,MATCH($F75,'Film Data'!G:G,0)))","v":""},{"$f":"\nIF($F75=\"\",\"\",INDEX('Film Data'!F:F,MATCH($F75,'Film Data'!G:G,0)))","v":""},{"$f":"\nIF($F75=\"\",\"\",INDEX('Film Data'!E:E,MATCH($F75,'Film Data'!G:G,0)))","v":""},{"$f":"\nIF($F75=\"\",\"\",INDEX('Film Data'!H:H,MATCH($F75,'Film Data'!G:G,0)))","v":""},{"$f":"\nIF($F75=\"\",\"\",INDEX('Film Data'!I:I,MATCH($F75,'Film Data'!G:G,0)))","v":""},{"$f":"\nIF($F75=\"\",\"\",INDEX('Film Data'!J:J,MATCH($F75,'Film Data'!G:G,0)))","v":""},{"$f":"\nIF($F75=\"\",\"\",INDEX('Film Data'!K:K,MATCH($F75,'Film Data'!G:G,0)))","v":""},{"$f":"\nIF($F75=\"\",\"\",INDEX('Film Data'!Y:Y,MATCH($F75,'Film Data'!G:G,0)))","v":""},{"$f":"\nIF($F75=\"\",\"\",INDEX('Film Data'!Z:Z,MATCH($F75,'Film Data'!G:G,0)))","v":""},{"$f":"\nIF($F75=\"\",\"\",INDEX('Film Data'!L:L,MATCH($F75,'Film Data'!G:G,0)))","v":""},{"$f":"\nIF($F75=\"\",\"\",INDEX('Film Data'!M:M,MATCH($F75,'Film Data'!G:G,0)))","v":""},{"$f":"\nIF($F75=\"\",\"\",INDEX('Film Data'!N:N,MATCH($F75,'Film Data'!G:G,0)))","v":""},{"$f":"\nIF($F75=\"\",\"\",HYPERLINK(INDEX('Film Data'!T:T,MATCH($F75,'Film Data'!G:G,0))))","v":""},{"$f":"IFERROR(HYPERLINK(INDEX(#REF!,MATCH(PPN[[#This Row],[Part Number]],#REF!,0)),\">More Info\"),\"\")","v":""}]
[null,null,null,null,{"$f":"\nIF(F76<>\"\",COUNTIF($F$7:F76,\"*\")&\".\",\"\")","v":""},null,"","","","",{"$f":"\nIF($F76=\"\",\"\",INDEX('Film Data'!D:D,MATCH($F76,'Film Data'!G:G,0)))","v":""},{"$f":"\nIF($F76=\"\",\"\",INDEX('Film Data'!Q:Q,MATCH($F76,'Film Data'!G:G,0)))","v":""},{"$f":"\nIF($F76=\"\",\"\",INDEX('Film Data'!D:D,MATCH($F76,'Film Data'!G:G,0)))","v":""},{"$f":"\nIF($F76=\"\",\"\",INDEX('Film Data'!F:F,MATCH($F76,'Film Data'!G:G,0)))","v":""},{"$f":"\nIF($F76=\"\",\"\",INDEX('Film Data'!E:E,MATCH($F76,'Film Data'!G:G,0)))","v":""},{"$f":"\nIF($F76=\"\",\"\",INDEX('Film Data'!H:H,MATCH($F76,'Film Data'!G:G,0)))","v":""},{"$f":"\nIF($F76=\"\",\"\",INDEX('Film Data'!I:I,MATCH($F76,'Film Data'!G:G,0)))","v":""},{"$f":"\nIF($F76=\"\",\"\",INDEX('Film Data'!J:J,MATCH($F76,'Film Data'!G:G,0)))","v":""},{"$f":"\nIF($F76=\"\",\"\",INDEX('Film Data'!K:K,MATCH($F76,'Film Data'!G:G,0)))","v":""},{"$f":"\nIF($F76=\"\",\"\",INDEX('Film Data'!Y:Y,MATCH($F76,'Film Data'!G:G,0)))","v":""},{"$f":"\nIF($F76=\"\",\"\",INDEX('Film Data'!Z:Z,MATCH($F76,'Film Data'!G:G,0)))","v":""},{"$f":"\nIF($F76=\"\",\"\",INDEX('Film Data'!L:L,MATCH($F76,'Film Data'!G:G,0)))","v":""},{"$f":"\nIF($F76=\"\",\"\",INDEX('Film Data'!M:M,MATCH($F76,'Film Data'!G:G,0)))","v":""},{"$f":"\nIF($F76=\"\",\"\",INDEX('Film Data'!N:N,MATCH($F76,'Film Data'!G:G,0)))","v":""},{"$f":"\nIF($F76=\"\",\"\",HYPERLINK(INDEX('Film Data'!T:T,MATCH($F76,'Film Data'!G:G,0))))","v":""},{"$f":"IFERROR(HYPERLINK(INDEX(#REF!,MATCH(PPN[[#This Row],[Part Number]],#REF!,0)),\">More Info\"),\"\")","v":""}]
[null,null,null,null,{"$f":"\nIF(F77<>\"\",COUNTIF($F$7:F77,\"*\")&\".\",\"\")","v":""},null,"","","","",{"$f":"\nIF($F77=\"\",\"\",INDEX('Film Data'!D:D,MATCH($F77,'Film Data'!G:G,0)))","v":""},{"$f":"\nIF($F77=\"\",\"\",INDEX('Film Data'!Q:Q,MATCH($F77,'Film Data'!G:G,0)))","v":""},{"$f":"\nIF($F77=\"\",\"\",INDEX('Film Data'!D:D,MATCH($F77,'Film Data'!G:G,0)))","v":""},{"$f":"\nIF($F77=\"\",\"\",INDEX('Film Data'!F:F,MATCH($F77,'Film Data'!G:G,0)))","v":""},{"$f":"\nIF($F77=\"\",\"\",INDEX('Film Data'!E:E,MATCH($F77,'Film Data'!G:G,0)))","v":""},{"$f":"\nIF($F77=\"\",\"\",INDEX('Film Data'!H:H,MATCH($F77,'Film Data'!G:G,0)))","v":""},{"$f":"\nIF($F77=\"\",\"\",INDEX('Film Data'!I:I,MATCH($F77,'Film Data'!G:G,0)))","v":""},{"$f":"\nIF($F77=\"\",\"\",INDEX('Film Data'!J:J,MATCH($F77,'Film Data'!G:G,0)))","v":""},{"$f":"\nIF($F77=\"\",\"\",INDEX('Film Data'!K:K,MATCH($F77,'Film Data'!G:G,0)))","v":""},{"$f":"\nIF($F77=\"\",\"\",INDEX('Film Data'!Y:Y,MATCH($F77,'Film Data'!G:G,0)))","v":""},{"$f":"\nIF($F77=\"\",\"\",INDEX('Film Data'!Z:Z,MATCH($F77,'Film Data'!G:G,0)))","v":""},{"$f":"\nIF($F77=\"\",\"\",INDEX('Film Data'!L:L,MATCH($F77,'Film Data'!G:G,0)))","v":""},{"$f":"\nIF($F77=\"\",\"\",INDEX('Film Data'!M:M,MATCH($F77,'Film Data'!G:G,0)))","v":""},{"$f":"\nIF($F77=\"\",\"\",INDEX('Film Data'!N:N,MATCH($F77,'Film Data'!G:G,0)))","v":""},{"$f":"\nIF($F77=\"\",\"\",HYPERLINK(INDEX('Film Data'!T:T,MATCH($F77,'Film Data'!G:G,0))))","v":""},{"$f":"IFERROR(HYPERLINK(INDEX(#REF!,MATCH(PPN[[#This Row],[Part Number]],#REF!,0)),\">More Info\"),\"\")","v":""}]
[null,null,null,null,{"$f":"\nIF(F78<>\"\",COUNTIF($F$7:F78,\"*\")&\".\",\"\")","v":""},null,"","","","",{"$f":"\nIF($F78=\"\",\"\",INDEX('Film Data'!D:D,MATCH($F78,'Film Data'!G:G,0)))","v":""},{"$f":"\nIF($F78=\"\",\"\",INDEX('Film Data'!Q:Q,MATCH($F78,'Film Data'!G:G,0)))","v":""},{"$f":"\nIF($F78=\"\",\"\",INDEX('Film Data'!D:D,MATCH($F78,'Film Data'!G:G,0)))","v":""},{"$f":"\nIF($F78=\"\",\"\",INDEX('Film Data'!F:F,MATCH($F78,'Film Data'!G:G,0)))","v":""},{"$f":"\nIF($F78=\"\",\"\",INDEX('Film Data'!E:E,MATCH($F78,'Film Data'!G:G,0)))","v":""},{"$f":"\nIF($F78=\"\",\"\",INDEX('Film Data'!H:H,MATCH($F78,'Film Data'!G:G,0)))","v":""},{"$f":"\nIF($F78=\"\",\"\",INDEX('Film Data'!I:I,MATCH($F78,'Film Data'!G:G,0)))","v":""},{"$f":"\nIF($F78=\"\",\"\",INDEX('Film Data'!J:J,MATCH($F78,'Film Data'!G:G,0)))","v":""},{"$f":"\nIF($F78=\"\",\"\",INDEX('Film Data'!K:K,MATCH($F78,'Film Data'!G:G,0)))","v":""},{"$f":"\nIF($F78=\"\",\"\",INDEX('Film Data'!Y:Y,MATCH($F78,'Film Data'!G:G,0)))","v":""},{"$f":"\nIF($F78=\"\",\"\",INDEX('Film Data'!Z:Z,MATCH($F78,'Film Data'!G:G,0)))","v":""},{"$f":"\nIF($F78=\"\",\"\",INDEX('Film Data'!L:L,MATCH($F78,'Film Data'!G:G,0)))","v":""},{"$f":"\nIF($F78=\"\",\"\",INDEX('Film Data'!M:M,MATCH($F78,'Film Data'!G:G,0)))","v":""},{"$f":"\nIF($F78=\"\",\"\",INDEX('Film Data'!N:N,MATCH($F78,'Film Data'!G:G,0)))","v":""},{"$f":"\nIF($F78=\"\",\"\",HYPERLINK(INDEX('Film Data'!T:T,MATCH($F78,'Film Data'!G:G,0))))","v":""},{"$f":"IFERROR(HYPERLINK(INDEX(#REF!,MATCH(PPN[[#This Row],[Part Number]],#REF!,0)),\">More Info\"),\"\")","v":""}]
[null,null,null,null,{"$f":"\nIF(F79<>\"\",COUNTIF($F$7:F79,\"*\")&\".\",\"\")","v":""},null,"","","","",{"$f":"\nIF($F79=\"\",\"\",INDEX('Film Data'!D:D,MATCH($F79,'Film Data'!G:G,0)))","v":""},{"$f":"\nIF($F79=\"\",\"\",INDEX('Film Data'!Q:Q,MATCH($F79,'Film Data'!G:G,0)))","v":""},{"$f":"\nIF($F79=\"\",\"\",INDEX('Film Data'!D:D,MATCH($F79,'Film Data'!G:G,0)))","v":""},{"$f":"\nIF($F79=\"\",\"\",INDEX('Film Data'!F:F,MATCH($F79,'Film Data'!G:G,0)))","v":""},{"$f":"\nIF($F79=\"\",\"\",INDEX('Film Data'!E:E,MATCH($F79,'Film Data'!G:G,0)))","v":""},{"$f":"\nIF($F79=\"\",\"\",INDEX('Film Data'!H:H,MATCH($F79,'Film Data'!G:G,0)))","v":""},{"$f":"\nIF($F79=\"\",\"\",INDEX('Film Data'!I:I,MATCH($F79,'Film Data'!G:G,0)))","v":""},{"$f":"\nIF($F79=\"\",\"\",INDEX('Film Data'!J:J,MATCH($F79,'Film Data'!G:G,0)))","v":""},{"$f":"\nIF($F79=\"\",\"\",INDEX('Film Data'!K:K,MATCH($F79,'Film Data'!G:G,0)))","v":""},{"$f":"\nIF($F79=\"\",\"\",INDEX('Film Data'!Y:Y,MATCH($F79,'Film Data'!G:G,0)))","v":""},{"$f":"\nIF($F79=\"\",\"\",INDEX('Film Data'!Z:Z,MATCH($F79,'Film Data'!G:G,0)))","v":""},{"$f":"\nIF($F79=\"\",\"\",INDEX('Film Data'!L:L,MATCH($F79,'Film Data'!G:G,0)))","v":""},{"$f":"\nIF($F79=\"\",\"\",INDEX('Film Data'!M:M,MATCH($F79,'Film Data'!G:G,0)))","v":""},{"$f":"\nIF($F79=\"\",\"\",INDEX('Film Data'!N:N,MATCH($F79,'Film Data'!G:G,0)))","v":""},{"$f":"\nIF($F79=\"\",\"\",HYPERLINK(INDEX('Film Data'!T:T,MATCH($F79,'Film Data'!G:G,0))))","v":""},{"$f":"IFERROR(HYPERLINK(INDEX(#REF!,MATCH(PPN[[#This Row],[Part Number]],#REF!,0)),\">More Info\"),\"\")","v":""}]
[null,null,null,null,{"$f":"\nIF(F80<>\"\",COUNTIF($F$7:F80,\"*\")&\".\",\"\")","v":""},null,"","","","",{"$f":"\nIF($F80=\"\",\"\",INDEX('Film Data'!D:D,MATCH($F80,'Film Data'!G:G,0)))","v":""},{"$f":"\nIF($F80=\"\",\"\",INDEX('Film Data'!Q:Q,MATCH($F80,'Film Data'!G:G,0)))","v":""},{"$f":"\nIF($F80=\"\",\"\",INDEX('Film Data'!D:D,MATCH($F80,'Film Data'!G:G,0)))","v":""},{"$f":"\nIF($F80=\"\",\"\",INDEX('Film Data'!F:F,MATCH($F80,'Film Data'!G:G,0)))","v":""},{"$f":"\nIF($F80=\"\",\"\",INDEX('Film Data'!E:E,MATCH($F80,'Film Data'!G:G,0)))","v":""},{"$f":"\nIF($F80=\"\",\"\",INDEX('Film Data'!H:H,MATCH($F80,'Film Data'!G:G,0)))","v":""},{"$f":"\nIF($F80=\"\",\"\",INDEX('Film Data'!I:I,MATCH($F80,'Film Data'!G:G,0)))","v":""},{"$f":"\nIF($F80=\"\",\"\",INDEX('Film Data'!J:J,MATCH($F80,'Film Data'!G:G,0)))","v":""},{"$f":"\nIF($F80=\"\",\"\",INDEX('Film Data'!K:K,MATCH($F80,'Film Data'!G:G,0)))","v":""},{"$f":"\nIF($F80=\"\",\"\",INDEX('Film Data'!Y:Y,MATCH($F80,'Film Data'!G:G,0)))","v":""},{"$f":"\nIF($F80=\"\",\"\",INDEX('Film Data'!Z:Z,MATCH($F80,'Film Data'!G:G,0)))","v":""},{"$f":"\nIF($F80=\"\",\"\",INDEX('Film Data'!L:L,MATCH($F80,'Film Data'!G:G,0)))","v":""},{"$f":"\nIF($F80=\"\",\"\",INDEX('Film Data'!M:M,MATCH($F80,'Film Data'!G:G,0)))","v":""},{"$f":"\nIF($F80=\"\",\"\",INDEX('Film Data'!N:N,MATCH($F80,'Film Data'!G:G,0)))","v":""},{"$f":"\nIF($F80=\"\",\"\",HYPERLINK(INDEX('Film Data'!T:T,MATCH($F80,'Film Data'!G:G,0))))","v":""},{"$f":"IFERROR(HYPERLINK(INDEX(#REF!,MATCH(PPN[[#This Row],[Part Number]],#REF!,0)),\">More Info\"),\"\")","v":""}]
[null,null,null,null,{"$f":"\nIF(F81<>\"\",COUNTIF($F$7:F81,\"*\")&\".\",\"\")","v":""},null,"","","","",{"$f":"\nIF($F81=\"\",\"\",INDEX('Film Data'!D:D,MATCH($F81,'Film Data'!G:G,0)))","v":""},{"$f":"\nIF($F81=\"\",\"\",INDEX('Film Data'!Q:Q,MATCH($F81,'Film Data'!G:G,0)))","v":""},{"$f":"\nIF($F81=\"\",\"\",INDEX('Film Data'!D:D,MATCH($F81,'Film Data'!G:G,0)))","v":""},{"$f":"\nIF($F81=\"\",\"\",INDEX('Film Data'!F:F,MATCH($F81,'Film Data'!G:G,0)))","v":""},{"$f":"\nIF($F81=\"\",\"\",INDEX('Film Data'!E:E,MATCH($F81,'Film Data'!G:G,0)))","v":""},{"$f":"\nIF($F81=\"\",\"\",INDEX('Film Data'!H:H,MATCH($F81,'Film Data'!G:G,0)))","v":""},{"$f":"\nIF($F81=\"\",\"\",INDEX('Film Data'!I:I,MATCH($F81,'Film Data'!G:G,0)))","v":""},{"$f":"\nIF($F81=\"\",\"\",INDEX('Film Data'!J:J,MATCH($F81,'Film Data'!G:G,0)))","v":""},{"$f":"\nIF($F81=\"\",\"\",INDEX('Film Data'!K:K,MATCH($F81,'Film Data'!G:G,0)))","v":""},{"$f":"\nIF($F81=\"\",\"\",INDEX('Film Data'!Y:Y,MATCH($F81,'Film Data'!G:G,0)))","v":""},{"$f":"\nIF($F81=\"\",\"\",INDEX('Film Data'!Z:Z,MATCH($F81,'Film Data'!G:G,0)))","v":""},{"$f":"\nIF($F81=\"\",\"\",INDEX('Film Data'!L:L,MATCH($F81,'Film Data'!G:G,0)))","v":""},{"$f":"\nIF($F81=\"\",\"\",INDEX('Film Data'!M:M,MATCH($F81,'Film Data'!G:G,0)))","v":""},{"$f":"\nIF($F81=\"\",\"\",INDEX('Film Data'!N:N,MATCH($F81,'Film Data'!G:G,0)))","v":""},{"$f":"\nIF($F81=\"\",\"\",HYPERLINK(INDEX('Film Data'!T:T,MATCH($F81,'Film Data'!G:G,0))))","v":""},{"$f":"IFERROR(HYPERLINK(INDEX(#REF!,MATCH(PPN[[#This Row],[Part Number]],#REF!,0)),\">More Info\"),\"\")","v":""}]
[null,null,null,null,{"$f":"\nIF(F82<>\"\",COUNTIF($F$7:F82,\"*\")&\".\",\"\")","v":""},null,"","","","",{"$f":"\nIF($F82=\"\",\"\",INDEX('Film Data'!D:D,MATCH($F82,'Film Data'!G:G,0)))","v":""},{"$f":"\nIF($F82=\"\",\"\",INDEX('Film Data'!Q:Q,MATCH($F82,'Film Data'!G:G,0)))","v":""},{"$f":"\nIF($F82=\"\",\"\",INDEX('Film Data'!D:D,MATCH($F82,'Film Data'!G:G,0)))","v":""},{"$f":"\nIF($F82=\"\",\"\",INDEX('Film Data'!F:F,MATCH($F82,'Film Data'!G:G,0)))","v":""},{"$f":"\nIF($F82=\"\",\"\",INDEX('Film Data'!E:E,MATCH($F82,'Film Data'!G:G,0)))","v":""},{"$f":"\nIF($F82=\"\",\"\",INDEX('Film Data'!H:H,MATCH($F82,'Film Data'!G:G,0)))","v":""},{"$f":"\nIF($F82=\"\",\"\",INDEX('Film Data'!I:I,MATCH($F82,'Film Data'!G:G,0)))","v":""},{"$f":"\nIF($F82=\"\",\"\",INDEX('Film Data'!J:J,MATCH($F82,'Film Data'!G:G,0)))","v":""},{"$f":"\nIF($F82=\"\",\"\",INDEX('Film Data'!K:K,MATCH($F82,'Film Data'!G:G,0)))","v":""},{"$f":"\nIF($F82=\"\",\"\",INDEX('Film Data'!Y:Y,MATCH($F82,'Film Data'!G:G,0)))","v":""},{"$f":"\nIF($F82=\"\",\"\",INDEX('Film Data'!Z:Z,MATCH($F82,'Film Data'!G:G,0)))","v":""},{"$f":"\nIF($F82=\"\",\"\",INDEX('Film Data'!L:L,MATCH($F82,'Film Data'!G:G,0)))","v":""},{"$f":"\nIF($F82=\"\",\"\",INDEX('Film Data'!M:M,MATCH($F82,'Film Data'!G:G,0)))","v":""},{"$f":"\nIF($F82=\"\",\"\",INDEX('Film Data'!N:N,MATCH($F82,'Film Data'!G:G,0)))","v":""},{"$f":"\nIF($F82=\"\",\"\",HYPERLINK(INDEX('Film Data'!T:T,MATCH($F82,'Film Data'!G:G,0))))","v":""},{"$f":"IFERROR(HYPERLINK(INDEX(#REF!,MATCH(PPN[[#This Row],[Part Number]],#REF!,0)),\">More Info\"),\"\")","v":""}]
[null,null,null,null,{"$f":"\nIF(F83<>\"\",COUNTIF($F$7:F83,\"*\")&\".\",\"\")","v":""},null,"","","","",{"$f":"\nIF($F83=\"\",\"\",INDEX('Film Data'!D:D,MATCH($F83,'Film Data'!G:G,0)))","v":""},{"$f":"\nIF($F83=\"\",\"\",INDEX('Film Data'!Q:Q,MATCH($F83,'Film Data'!G:G,0)))","v":""},{"$f":"\nIF($F83=\"\",\"\",INDEX('Film Data'!D:D,MATCH($F83,'Film Data'!G:G,0)))","v":""},{"$f":"\nIF($F83=\"\",\"\",INDEX('Film Data'!F:F,MATCH($F83,'Film Data'!G:G,0)))","v":""},{"$f":"\nIF($F83=\"\",\"\",INDEX('Film Data'!E:E,MATCH($F83,'Film Data'!G:G,0)))","v":""},{"$f":"\nIF($F83=\"\",\"\",INDEX('Film Data'!H:H,MATCH($F83,'Film Data'!G:G,0)))","v":""},{"$f":"\nIF($F83=\"\",\"\",INDEX('Film Data'!I:I,MATCH($F83,'Film Data'!G:G,0)))","v":""},{"$f":"\nIF($F83=\"\",\"\",INDEX('Film Data'!J:J,MATCH($F83,'Film Data'!G:G,0)))","v":""},{"$f":"\nIF($F83=\"\",\"\",INDEX('Film Data'!K:K,MATCH($F83,'Film Data'!G:G,0)))","v":""},{"$f":"\nIF($F83=\"\",\"\",INDEX('Film Data'!Y:Y,MATCH($F83,'Film Data'!G:G,0)))","v":""},{"$f":"\nIF($F83=\"\",\"\",INDEX('Film Data'!Z:Z,MATCH($F83,'Film Data'!G:G,0)))","v":""},{"$f":"\nIF($F83=\"\",\"\",INDEX('Film Data'!L:L,MATCH($F83,'Film Data'!G:G,0)))","v":""},{"$f":"\nIF($F83=\"\",\"\",INDEX('Film Data'!M:M,MATCH($F83,'Film Data'!G:G,0)))","v":""},{"$f":"\nIF($F83=\"\",\"\",INDEX('Film Data'!N:N,MATCH($F83,'Film Data'!G:G,0)))","v":""},{"$f":"\nIF($F83=\"\",\"\",HYPERLINK(INDEX('Film Data'!T:T,MATCH($F83,'Film Data'!G:G,0))))","v":""},{"$f":"IFERROR(HYPERLINK(INDEX(#REF!,MATCH(PPN[[#This Row],[Part Number]],#REF!,0)),\">More Info\"),\"\")","v":""}]
[null,null,null,null,{"$f":"\nIF(F84<>\"\",COUNTIF($F$7:F84,\"*\")&\".\",\"\")","v":""},null,"","","","",{"$f":"\nIF($F84=\"\",\"\",INDEX('Film Data'!D:D,MATCH($F84,'Film Data'!G:G,0)))","v":""},{"$f":"\nIF($F84=\"\",\"\",INDEX('Film Data'!Q:Q,MATCH($F84,'Film Data'!G:G,0)))","v":""},{"$f":"\nIF($F84=\"\",\"\",INDEX('Film Data'!D:D,MATCH($F84,'Film Data'!G:G,0)))","v":""},{"$f":"\nIF($F84=\"\",\"\",INDEX('Film Data'!F:F,MATCH($F84,'Film Data'!G:G,0)))","v":""},{"$f":"\nIF($F84=\"\",\"\",INDEX('Film Data'!E:E,MATCH($F84,'Film Data'!G:G,0)))","v":""},{"$f":"\nIF($F84=\"\",\"\",INDEX('Film Data'!H:H,MATCH($F84,'Film Data'!G:G,0)))","v":""},{"$f":"\nIF($F84=\"\",\"\",INDEX('Film Data'!I:I,MATCH($F84,'Film Data'!G:G,0)))","v":""},{"$f":"\nIF($F84=\"\",\"\",INDEX('Film Data'!J:J,MATCH($F84,'Film Data'!G:G,0)))","v":""},{"$f":"\nIF($F84=\"\",\"\",INDEX('Film Data'!K:K,MATCH($F84,'Film Data'!G:G,0)))","v":""},{"$f":"\nIF($F84=\"\",\"\",INDEX('Film Data'!Y:Y,MATCH($F84,'Film Data'!G:G,0)))","v":""},{"$f":"\nIF($F84=\"\",\"\",INDEX('Film Data'!Z:Z,MATCH($F84,'Film Data'!G:G,0)))","v":""},{"$f":"\nIF($F84=\"\",\"\",INDEX('Film Data'!L:L,MATCH($F84,'Film Data'!G:G,0)))","v":""},{"$f":"\nIF($F84=\"\",\"\",INDEX('Film Data'!M:M,MATCH($F84,'Film Data'!G:G,0)))","v":""},{"$f":"\nIF($F84=\"\",\"\",INDEX('Film Data'!N:N,MATCH($F84,'Film Data'!G:G,0)))","v":""},{"$f":"\nIF($F84=\"\",\"\",HYPERLINK(INDEX('Film Data'!T:T,MATCH($F84,'Film Data'!G:G,0))))","v":""},{"$f":"IFERROR(HYPERLINK(INDEX(#REF!,MATCH(PPN[[#This Row],[Part Number]],#REF!,0)),\">More Info\"),\"\")","v":""}]
[null,null,null,null,{"$f":"\nIF(F85<>\"\",COUNTIF($F$7:F85,\"*\")&\".\",\"\")","v":""},null,"","","","",{"$f":"\nIF($F85=\"\",\"\",INDEX('Film Data'!D:D,MATCH($F85,'Film Data'!G:G,0)))","v":""},{"$f":"\nIF($F85=\"\",\"\",INDEX('Film Data'!Q:Q,MATCH($F85,'Film Data'!G:G,0)))","v":""},{"$f":"\nIF($F85=\"\",\"\",INDEX('Film Data'!D:D,MATCH($F85,'Film Data'!G:G,0)))","v":""},{"$f":"\nIF($F85=\"\",\"\",INDEX('Film Data'!F:F,MATCH($F85,'Film Data'!G:G,0)))","v":""},{"$f":"\nIF($F85=\"\",\"\",INDEX('Film Data'!E:E,MATCH($F85,'Film Data'!G:G,0)))","v":""},{"$f":"\nIF($F85=\"\",\"\",INDEX('Film Data'!H:H,MATCH($F85,'Film Data'!G:G,0)))","v":""},{"$f":"\nIF($F85=\"\",\"\",INDEX('Film Data'!I:I,MATCH($F85,'Film Data'!G:G,0)))","v":""},{"$f":"\nIF($F85=\"\",\"\",INDEX('Film Data'!J:J,MATCH($F85,'Film Data'!G:G,0)))","v":""},{"$f":"\nIF($F85=\"\",\"\",INDEX('Film Data'!K:K,MATCH($F85,'Film Data'!G:G,0)))","v":""},{"$f":"\nIF($F85=\"\",\"\",INDEX('Film Data'!Y:Y,MATCH($F85,'Film Data'!G:G,0)))","v":""},{"$f":"\nIF($F85=\"\",\"\",INDEX('Film Data'!Z:Z,MATCH($F85,'Film Data'!G:G,0)))","v":""},{"$f":"\nIF($F85=\"\",\"\",INDEX('Film Data'!L:L,MATCH($F85,'Film Data'!G:G,0)))","v":""},{"$f":"\nIF($F85=\"\",\"\",INDEX('Film Data'!M:M,MATCH($F85,'Film Data'!G:G,0)))","v":""},{"$f":"\nIF($F85=\"\",\"\",INDEX('Film Data'!N:N,MATCH($F85,'Film Data'!G:G,0)))","v":""},{"$f":"\nIF($F85=\"\",\"\",HYPERLINK(INDEX('Film Data'!T:T,MATCH($F85,'Film Data'!G:G,0))))","v":""},{"$f":"IFERROR(HYPERLINK(INDEX(#REF!,MATCH(PPN[[#This Row],[Part Number]],#REF!,0)),\">More Info\"),\"\")","v":""}]
[null,null,null,null,{"$f":"\nIF(F86<>\"\",COUNTIF($F$7:F86,\"*\")&\".\",\"\")","v":""},null,"","","","",{"$f":"\nIF($F86=\"\",\"\",INDEX('Film Data'!D:D,MATCH($F86,'Film Data'!G:G,0)))","v":""},{"$f":"\nIF($F86=\"\",\"\",INDEX('Film Data'!Q:Q,MATCH($F86,'Film Data'!G:G,0)))","v":""},{"$f":"\nIF($F86=\"\",\"\",INDEX('Film Data'!D:D,MATCH($F86,'Film Data'!G:G,0)))","v":""},{"$f":"\nIF($F86=\"\",\"\",INDEX('Film Data'!F:F,MATCH($F86,'Film Data'!G:G,0)))","v":""},{"$f":"\nIF($F86=\"\",\"\",INDEX('Film Data'!E:E,MATCH($F86,'Film Data'!G:G,0)))","v":""},{"$f":"\nIF($F86=\"\",\"\",INDEX('Film Data'!H:H,MATCH($F86,'Film Data'!G:G,0)))","v":""},{"$f":"\nIF($F86=\"\",\"\",INDEX('Film Data'!I:I,MATCH($F86,'Film Data'!G:G,0)))","v":""},{"$f":"\nIF($F86=\"\",\"\",INDEX('Film Data'!J:J,MATCH($F86,'Film Data'!G:G,0)))","v":""},{"$f":"\nIF($F86=\"\",\"\",INDEX('Film Data'!K:K,MATCH($F86,'Film Data'!G:G,0)))","v":""},{"$f":"\nIF($F86=\"\",\"\",INDEX('Film Data'!Y:Y,MATCH($F86,'Film Data'!G:G,0)))","v":""},{"$f":"\nIF($F86=\"\",\"\",INDEX('Film Data'!Z:Z,MATCH($F86,'Film Data'!G:G,0)))","v":""},{"$f":"\nIF($F86=\"\",\"\",INDEX('Film Data'!L:L,MATCH($F86,'Film Data'!G:G,0)))","v":""},{"$f":"\nIF($F86=\"\",\"\",INDEX('Film Data'!M:M,MATCH($F86,'Film Data'!G:G,0)))","v":""},{"$f":"\nIF($F86=\"\",\"\",INDEX('Film Data'!N:N,MATCH($F86,'Film Data'!G:G,0)))","v":""},{"$f":"\nIF($F86=\"\",\"\",HYPERLINK(INDEX('Film Data'!T:T,MATCH($F86,'Film Data'!G:G,0))))","v":""},{"$f":"IFERROR(HYPERLINK(INDEX(#REF!,MATCH(PPN[[#This Row],[Part Number]],#REF!,0)),\">More Info\"),\"\")","v":""}]
[null,null,null,null,{"$f":"\nIF(F87<>\"\",COUNTIF($F$7:F87,\"*\")&\".\",\"\")","v":""},null,"","","","",{"$f":"\nIF($F87=\"\",\"\",INDEX('Film Data'!D:D,MATCH($F87,'Film Data'!G:G,0)))","v":""},{"$f":"\nIF($F87=\"\",\"\",INDEX('Film Data'!Q:Q,MATCH($F87,'Film Data'!G:G,0)))","v":""},{"$f":"\nIF($F87=\"\",\"\",INDEX('Film Data'!D:D,MATCH($F87,'Film Data'!G:G,0)))","v":""},{"$f":"\nIF($F87=\"\",\"\",INDEX('Film Data'!F:F,MATCH($F87,'Film Data'!G:G,0)))","v":""},{"$f":"\nIF($F87=\"\",\"\",INDEX('Film Data'!E:E,MATCH($F87,'Film Data'!G:G,0)))","v":""},{"$f":"\nIF($F87=\"\",\"\",INDEX('Film Data'!H:H,MATCH($F87,'Film Data'!G:G,0)))","v":""},{"$f":"\nIF($F87=\"\",\"\",INDEX('Film Data'!I:I,MATCH($F87,'Film Data'!G:G,0)))","v":""},{"$f":"\nIF($F87=\"\",\"\",INDEX('Film Data'!J:J,MATCH($F87,'Film Data'!G:G,0)))","v":""},{"$f":"\nIF($F87=\"\",\"\",INDEX('Film Data'!K:K,MATCH($F87,'Film Data'!G:G,0)))","v":""},{"$f":"\nIF($F87=\"\",\"\",INDEX('Film Data'!Y:Y,MATCH($F87,'Film Data'!G:G,0)))","v":""},{"$f":"\nIF($F87=\"\",\"\",INDEX('Film Data'!Z:Z,MATCH($F87,'Film Data'!G:G,0)))","v":""},{"$f":"\nIF($F87=\"\",\"\",INDEX('Film Data'!L:L,MATCH($F87,'Film Data'!G:G,0)))","v":""},{"$f":"\nIF($F87=\"\",\"\",INDEX('Film Data'!M:M,MATCH($F87,'Film Data'!G:G,0)))","v":""},{"$f":"\nIF($F87=\"\",\"\",INDEX('Film Data'!N:N,MATCH($F87,'Film Data'!G:G,0)))","v":""},{"$f":"\nIF($F87=\"\",\"\",HYPERLINK(INDEX('Film Data'!T:T,MATCH($F87,'Film Data'!G:G,0))))","v":""},{"$f":"IFERROR(HYPERLINK(INDEX(#REF!,MATCH(PPN[[#This Row],[Part Number]],#REF!,0)),\">More Info\"),\"\")","v":""}]
[null,null,null,null,{"$f":"\nIF(F88<>\"\",COUNTIF($F$7:F88,\"*\")&\".\",\"\")","v":""},null,"","","","",{"$f":"\nIF($F88=\"\",\"\",INDEX('Film Data'!D:D,MATCH($F88,'Film Data'!G:G,0)))","v":""},{"$f":"\nIF($F88=\"\",\"\",INDEX('Film Data'!Q:Q,MATCH($F88,'Film Data'!G:G,0)))","v":""},{"$f":"\nIF($F88=\"\",\"\",INDEX('Film Data'!D:D,MATCH($F88,'Film Data'!G:G,0)))","v":""},{"$f":"\nIF($F88=\"\",\"\",INDEX('Film Data'!F:F,MATCH($F88,'Film Data'!G:G,0)))","v":""},{"$f":"\nIF($F88=\"\",\"\",INDEX('Film Data'!E:E,MATCH($F88,'Film Data'!G:G,0)))","v":""},{"$f":"\nIF($F88=\"\",\"\",INDEX('Film Data'!H:H,MATCH($F88,'Film Data'!G:G,0)))","v":""},{"$f":"\nIF($F88=\"\",\"\",INDEX('Film Data'!I:I,MATCH($F88,'Film Data'!G:G,0)))","v":""},{"$f":"\nIF($F88=\"\",\"\",INDEX('Film Data'!J:J,MATCH($F88,'Film Data'!G:G,0)))","v":""},{"$f":"\nIF($F88=\"\",\"\",INDEX('Film Data'!K:K,MATCH($F88,'Film Data'!G:G,0)))","v":""},{"$f":"\nIF($F88=\"\",\"\",INDEX('Film Data'!Y:Y,MATCH($F88,'Film Data'!G:G,0)))","v":""},{"$f":"\nIF($F88=\"\",\"\",INDEX('Film Data'!Z:Z,MATCH($F88,'Film Data'!G:G,0)))","v":""},{"$f":"\nIF($F88=\"\",\"\",INDEX('Film Data'!L:L,MATCH($F88,'Film Data'!G:G,0)))","v":""},{"$f":"\nIF($F88=\"\",\"\",INDEX('Film Data'!M:M,MATCH($F88,'Film Data'!G:G,0)))","v":""},{"$f":"\nIF($F88=\"\",\"\",INDEX('Film Data'!N:N,MATCH($F88,'Film Data'!G:G,0)))","v":""},{"$f":"\nIF($F88=\"\",\"\",HYPERLINK(INDEX('Film Data'!T:T,MATCH($F88,'Film Data'!G:G,0))))","v":""},{"$f":"IFERROR(HYPERLINK(INDEX(#REF!,MATCH(PPN[[#This Row],[Part Number]],#REF!,0)),\">More Info\"),\"\")","v":""}]
[null,null,null,null,{"$f":"\nIF(F89<>\"\",COUNTIF($F$7:F89,\"*\")&\".\",\"\")","v":""},null,"","","","",{"$f":"\nIF($F89=\"\",\"\",INDEX('Film Data'!D:D,MATCH($F89,'Film Data'!G:G,0)))","v":""},{"$f":"\nIF($F89=\"\",\"\",INDEX('Film Data'!Q:Q,MATCH($F89,'Film Data'!G:G,0)))","v":""},{"$f":"\nIF($F89=\"\",\"\",INDEX('Film Data'!D:D,MATCH($F89,'Film Data'!G:G,0)))","v":""},{"$f":"\nIF($F89=\"\",\"\",INDEX('Film Data'!F:F,MATCH($F89,'Film Data'!G:G,0)))","v":""},{"$f":"\nIF($F89=\"\",\"\",INDEX('Film Data'!E:E,MATCH($F89,'Film Data'!G:G,0)))","v":""},{"$f":"\nIF($F89=\"\",\"\",INDEX('Film Data'!H:H,MATCH($F89,'Film Data'!G:G,0)))","v":""},{"$f":"\nIF($F89=\"\",\"\",INDEX('Film Data'!I:I,MATCH($F89,'Film Data'!G:G,0)))","v":""},{"$f":"\nIF($F89=\"\",\"\",INDEX('Film Data'!J:J,MATCH($F89,'Film Data'!G:G,0)))","v":""},{"$f":"\nIF($F89=\"\",\"\",INDEX('Film Data'!K:K,MATCH($F89,'Film Data'!G:G,0)))","v":""},{"$f":"\nIF($F89=\"\",\"\",INDEX('Film Data'!Y:Y,MATCH($F89,'Film Data'!G:G,0)))","v":""},{"$f":"\nIF($F89=\"\",\"\",INDEX('Film Data'!Z:Z,MATCH($F89,'Film Data'!G:G,0)))","v":""},{"$f":"\nIF($F89=\"\",\"\",INDEX('Film Data'!L:L,MATCH($F89,'Film Data'!G:G,0)))","v":""},{"$f":"\nIF($F89=\"\",\"\",INDEX('Film Data'!M:M,MATCH($F89,'Film Data'!G:G,0)))","v":""},{"$f":"\nIF($F89=\"\",\"\",INDEX('Film Data'!N:N,MATCH($F89,'Film Data'!G:G,0)))","v":""},{"$f":"\nIF($F89=\"\",\"\",HYPERLINK(INDEX('Film Data'!T:T,MATCH($F89,'Film Data'!G:G,0))))","v":""},{"$f":"IFERROR(HYPERLINK(INDEX(#REF!,MATCH(PPN[[#This Row],[Part Number]],#REF!,0)),\">More Info\"),\"\")","v":""}]
[null,null,null,null,{"$f":"\nIF(F90<>\"\",COUNTIF($F$7:F90,\"*\")&\".\",\"\")","v":""},null,"","","","",{"$f":"\nIF($F90=\"\",\"\",INDEX('Film Data'!D:D,MATCH($F90,'Film Data'!G:G,0)))","v":""},{"$f":"\nIF($F90=\"\",\"\",INDEX('Film Data'!Q:Q,MATCH($F90,'Film Data'!G:G,0)))","v":""},{"$f":"\nIF($F90=\"\",\"\",INDEX('Film Data'!D:D,MATCH($F90,'Film Data'!G:G,0)))","v":""},{"$f":"\nIF($F90=\"\",\"\",INDEX('Film Data'!F:F,MATCH($F90,'Film Data'!G:G,0)))","v":""},{"$f":"\nIF($F90=\"\",\"\",INDEX('Film Data'!E:E,MATCH($F90,'Film Data'!G:G,0)))","v":""},{"$f":"\nIF($F90=\"\",\"\",INDEX('Film Data'!H:H,MATCH($F90,'Film Data'!G:G,0)))","v":""},{"$f":"\nIF($F90=\"\",\"\",INDEX('Film Data'!I:I,MATCH($F90,'Film Data'!G:G,0)))","v":""},{"$f":"\nIF($F90=\"\",\"\",INDEX('Film Data'!J:J,MATCH($F90,'Film Data'!G:G,0)))","v":""},{"$f":"\nIF($F90=\"\",\"\",INDEX('Film Data'!K:K,MATCH($F90,'Film Data'!G:G,0)))","v":""},{"$f":"\nIF($F90=\"\",\"\",INDEX('Film Data'!Y:Y,MATCH($F90,'Film Data'!G:G,0)))","v":""},{"$f":"\nIF($F90=\"\",\"\",INDEX('Film Data'!Z:Z,MATCH($F90,'Film Data'!G:G,0)))","v":""},{"$f":"\nIF($F90=\"\",\"\",INDEX('Film Data'!L:L,MATCH($F90,'Film Data'!G:G,0)))","v":""},{"$f":"\nIF($F90=\"\",\"\",INDEX('Film Data'!M:M,MATCH($F90,'Film Data'!G:G,0)))","v":""},{"$f":"\nIF($F90=\"\",\"\",INDEX('Film Data'!N:N,MATCH($F90,'Film Data'!G:G,0)))","v":""},{"$f":"\nIF($F90=\"\",\"\",HYPERLINK(INDEX('Film Data'!T:T,MATCH($F90,'Film Data'!G:G,0))))","v":""},{"$f":"IFERROR(HYPERLINK(INDEX(#REF!,MATCH(PPN[[#This Row],[Part Number]],#REF!,0)),\">More Info\"),\"\")","v":""}]
[null,null,null,null,{"$f":"\nIF(F91<>\"\",COUNTIF($F$7:F91,\"*\")&\".\",\"\")","v":""},null,"","","","",{"$f":"\nIF($F91=\"\",\"\",INDEX('Film Data'!D:D,MATCH($F91,'Film Data'!G:G,0)))","v":""},{"$f":"\nIF($F91=\"\",\"\",INDEX('Film Data'!Q:Q,MATCH($F91,'Film Data'!G:G,0)))","v":""},{"$f":"\nIF($F91=\"\",\"\",INDEX('Film Data'!D:D,MATCH($F91,'Film Data'!G:G,0)))","v":""},{"$f":"\nIF($F91=\"\",\"\",INDEX('Film Data'!F:F,MATCH($F91,'Film Data'!G:G,0)))","v":""},{"$f":"\nIF($F91=\"\",\"\",INDEX('Film Data'!E:E,MATCH($F91,'Film Data'!G:G,0)))","v":""},{"$f":"\nIF($F91=\"\",\"\",INDEX('Film Data'!H:H,MATCH($F91,'Film Data'!G:G,0)))","v":""},{"$f":"\nIF($F91=\"\",\"\",INDEX('Film Data'!I:I,MATCH($F91,'Film Data'!G:G,0)))","v":""},{"$f":"\nIF($F91=\"\",\"\",INDEX('Film Data'!J:J,MATCH($F91,'Film Data'!G:G,0)))","v":""},{"$f":"\nIF($F91=\"\",\"\",INDEX('Film Data'!K:K,MATCH($F91,'Film Data'!G:G,0)))","v":""},{"$f":"\nIF($F91=\"\",\"\",INDEX('Film Data'!Y:Y,MATCH($F91,'Film Data'!G:G,0)))","v":""},{"$f":"\nIF($F91=\"\",\"\",INDEX('Film Data'!Z:Z,MATCH($F91,'Film Data'!G:G,0)))","v":""},{"$f":"\nIF($F91=\"\",\"\",INDEX('Film Data'!L:L,MATCH($F91,'Film Data'!G:G,0)))","v":""},{"$f":"\nIF($F91=\"\",\"\",INDEX('Film Data'!M:M,MATCH($F91,'Film Data'!G:G,0)))","v":""},{"$f":"\nIF($F91=\"\",\"\",INDEX('Film Data'!N:N,MATCH($F91,'Film Data'!G:G,0)))","v":""},{"$f":"\nIF($F91=\"\",\"\",HYPERLINK(INDEX('Film Data'!T:T,MATCH($F91,'Film Data'!G:G,0))))","v":""},{"$f":"IFERROR(HYPERLINK(INDEX(#REF!,MATCH(PPN[[#This Row],[Part Number]],#REF!,0)),\">More Info\"),\"\")","v":""}]
[null,null,null,null,{"$f":"\nIF(F92<>\"\",COUNTIF($F$7:F92,\"*\")&\".\",\"\")","v":""},null,"","","","",{"$f":"\nIF($F92=\"\",\"\",INDEX('Film Data'!D:D,MATCH($F92,'Film Data'!G:G,0)))","v":""},{"$f":"\nIF($F92=\"\",\"\",INDEX('Film Data'!Q:Q,MATCH($F92,'Film Data'!G:G,0)))","v":""},{"$f":"\nIF($F92=\"\",\"\",INDEX('Film Data'!D:D,MATCH($F92,'Film Data'!G:G,0)))","v":""},{"$f":"\nIF($F92=\"\",\"\",INDEX('Film Data'!F:F,MATCH($F92,'Film Data'!G:G,0)))","v":""},{"$f":"\nIF($F92=\"\",\"\",INDEX('Film Data'!E:E,MATCH($F92,'Film Data'!G:G,0)))","v":""},{"$f":"\nIF($F92=\"\",\"\",INDEX('Film Data'!H:H,MATCH($F92,'Film Data'!G:G,0)))","v":""},{"$f":"\nIF($F92=\"\",\"\",INDEX('Film Data'!I:I,MATCH($F92,'Film Data'!G:G,0)))","v":""},{"$f":"\nIF($F92=\"\",\"\",INDEX('Film Data'!J:J,MATCH($F92,'Film Data'!G:G,0)))","v":""},{"$f":"\nIF($F92=\"\",\"\",INDEX('Film Data'!K:K,MATCH($F92,'Film Data'!G:G,0)))","v":""},{"$f":"\nIF($F92=\"\",\"\",INDEX('Film Data'!Y:Y,MATCH($F92,'Film Data'!G:G,0)))","v":""},{"$f":"\nIF($F92=\"\",\"\",INDEX('Film Data'!Z:Z,MATCH($F92,'Film Data'!G:G,0)))","v":""},{"$f":"\nIF($F92=\"\",\"\",INDEX('Film Data'!L:L,MATCH($F92,'Film Data'!G:G,0)))","v":""},{"$f":"\nIF($F92=\"\",\"\",INDEX('Film Data'!M:M,MATCH($F92,'Film Data'!G:G,0)))","v":""},{"$f":"\nIF($F92=\"\",\"\",INDEX('Film Data'!N:N,MATCH($F92,'Film Data'!G:G,0)))","v":""},{"$f":"\nIF($F92=\"\",\"\",HYPERLINK(INDEX('Film Data'!T:T,MATCH($F92,'Film Data'!G:G,0))))","v":""},{"$f":"IFERROR(HYPERLINK(INDEX(#REF!,MATCH(PPN[[#This Row],[Part Number]],#REF!,0)),\">More Info\"),\"\")","v":""}]
[null,null,null,null,{"$f":"\nIF(F93<>\"\",COUNTIF($F$7:F93,\"*\")&\".\",\"\")","v":""},null,"","","","",{"$f":"\nIF($F93=\"\",\"\",INDEX('Film Data'!D:D,MATCH($F93,'Film Data'!G:G,0)))","v":""},{"$f":"\nIF($F93=\"\",\"\",INDEX('Film Data'!Q:Q,MATCH($F93,'Film Data'!G:G,0)))","v":""},{"$f":"\nIF($F93=\"\",\"\",INDEX('Film Data'!D:D,MATCH($F93,'Film Data'!G:G,0)))","v":""},{"$f":"\nIF($F93=\"\",\"\",INDEX('Film Data'!F:F,MATCH($F93,'Film Data'!G:G,0)))","v":""},{"$f":"\nIF($F93=\"\",\"\",INDEX('Film Data'!E:E,MATCH($F93,'Film Data'!G:G,0)))","v":""},{"$f":"\nIF($F93=\"\",\"\",INDEX('Film Data'!H:H,MATCH($F93,'Film Data'!G:G,0)))","v":""},{"$f":"\nIF($F93=\"\",\"\",INDEX('Film Data'!I:I,MATCH($F93,'Film Data'!G:G,0)))","v":""},{"$f":"\nIF($F93=\"\",\"\",INDEX('Film Data'!J:J,MATCH($F93,'Film Data'!G:G,0)))","v":""},{"$f":"\nIF($F93=\"\",\"\",INDEX('Film Data'!K:K,MATCH($F93,'Film Data'!G:G,0)))","v":""},{"$f":"\nIF($F93=\"\",\"\",INDEX('Film Data'!Y:Y,MATCH($F93,'Film Data'!G:G,0)))","v":""},{"$f":"\nIF($F93=\"\",\"\",INDEX('Film Data'!Z:Z,MATCH($F93,'Film Data'!G:G,0)))","v":""},{"$f":"\nIF($F93=\"\",\"\",INDEX('Film Data'!L:L,MATCH($F93,'Film Data'!G:G,0)))","v":""},{"$f":"\nIF($F93=\"\",\"\",INDEX('Film Data'!M:M,MATCH($F93,'Film Data'!G:G,0)))","v":""},{"$f":"\nIF($F93=\"\",\"\",INDEX('Film Data'!N:N,MATCH($F93,'Film Data'!G:G,0)))","v":""},{"$f":"\nIF($F93=\"\",\"\",HYPERLINK(INDEX('Film Data'!T:T,MATCH($F93,'Film Data'!G:G,0))))","v":""},{"$f":"IFERROR(HYPERLINK(INDEX(#REF!,MATCH(PPN[[#This Row],[Part Number]],#REF!,0)),\">More Info\"),\"\")","v":""}]
[null,null,null,null,{"$f":"\nIF(F94<>\"\",COUNTIF($F$7:F94,\"*\")&\".\",\"\")","v":""},null,"","","","",{"$f":"\nIF($F94=\"\",\"\",INDEX('Film Data'!D:D,MATCH($F94,'Film Data'!G:G,0)))","v":""},{"$f":"\nIF($F94=\"\",\"\",INDEX('Film Data'!Q:Q,MATCH($F94,'Film Data'!G:G,0)))","v":""},{"$f":"\nIF($F94=\"\",\"\",INDEX('Film Data'!D:D,MATCH($F94,'Film Data'!G:G,0)))","v":""},{"$f":"\nIF($F94=\"\",\"\",INDEX('Film Data'!F:F,MATCH($F94,'Film Data'!G:G,0)))","v":""},{"$f":"\nIF($F94=\"\",\"\",INDEX('Film Data'!E:E,MATCH($F94,'Film Data'!G:G,0)))","v":""},{"$f":"\nIF($F94=\"\",\"\",INDEX('Film Data'!H:H,MATCH($F94,'Film Data'!G:G,0)))","v":""},{"$f":"\nIF($F94=\"\",\"\",INDEX('Film Data'!I:I,MATCH($F94,'Film Data'!G:G,0)))","v":""},{"$f":"\nIF($F94=\"\",\"\",INDEX('Film Data'!J:J,MATCH($F94,'Film Data'!G:G,0)))","v":""},{"$f":"\nIF($F94=\"\",\"\",INDEX('Film Data'!K:K,MATCH($F94,'Film Data'!G:G,0)))","v":""},{"$f":"\nIF($F94=\"\",\"\",INDEX('Film Data'!Y:Y,MATCH($F94,'Film Data'!G:G,0)))","v":""},{"$f":"\nIF($F94=\"\",\"\",INDEX('Film Data'!Z:Z,MATCH($F94,'Film Data'!G:G,0)))","v":""},{"$f":"\nIF($F94=\"\",\"\",INDEX('Film Data'!L:L,MATCH($F94,'Film Data'!G:G,0)))","v":""},{"$f":"\nIF($F94=\"\",\"\",INDEX('Film Data'!M:M,MATCH($F94,'Film Data'!G:G,0)))","v":""},{"$f":"\nIF($F94=\"\",\"\",INDEX('Film Data'!N:N,MATCH($F94,'Film Data'!G:G,0)))","v":""},{"$f":"\nIF($F94=\"\",\"\",HYPERLINK(INDEX('Film Data'!T:T,MATCH($F94,'Film Data'!G:G,0))))","v":""},{"$f":"IFERROR(HYPERLINK(INDEX(#REF!,MATCH(PPN[[#This Row],[Part Number]],#REF!,0)),\">More Info\"),\"\")","v":""}]
[null,null,null,null,{"$f":"\nIF(F95<>\"\",COUNTIF($F$7:F95,\"*\")&\".\",\"\")","v":""},null,"","","","",{"$f":"\nIF($F95=\"\",\"\",INDEX('Film Data'!D:D,MATCH($F95,'Film Data'!G:G,0)))","v":""},{"$f":"\nIF($F95=\"\",\"\",INDEX('Film Data'!Q:Q,MATCH($F95,'Film Data'!G:G,0)))","v":""},{"$f":"\nIF($F95=\"\",\"\",INDEX('Film Data'!D:D,MATCH($F95,'Film Data'!G:G,0)))","v":""},{"$f":"\nIF($F95=\"\",\"\",INDEX('Film Data'!F:F,MATCH($F95,'Film Data'!G:G,0)))","v":""},{"$f":"\nIF($F95=\"\",\"\",INDEX('Film Data'!E:E,MATCH($F95,'Film Data'!G:G,0)))","v":""},{"$f":"\nIF($F95=\"\",\"\",INDEX('Film Data'!H:H,MATCH($F95,'Film Data'!G:G,0)))","v":""},{"$f":"\nIF($F95=\"\",\"\",INDEX('Film Data'!I:I,MATCH($F95,'Film Data'!G:G,0)))","v":""},{"$f":"\nIF($F95=\"\",\"\",INDEX('Film Data'!J:J,MATCH($F95,'Film Data'!G:G,0)))","v":""},{"$f":"\nIF($F95=\"\",\"\",INDEX('Film Data'!K:K,MATCH($F95,'Film Data'!G:G,0)))","v":""},{"$f":"\nIF($F95=\"\",\"\",INDEX('Film Data'!Y:Y,MATCH($F95,'Film Data'!G:G,0)))","v":""},{"$f":"\nIF($F95=\"\",\"\",INDEX('Film Data'!Z:Z,MATCH($F95,'Film Data'!G:G,0)))","v":""},{"$f":"\nIF($F95=\"\",\"\",INDEX('Film Data'!L:L,MATCH($F95,'Film Data'!G:G,0)))","v":""},{"$f":"\nIF($F95=\"\",\"\",INDEX('Film Data'!M:M,MATCH($F95,'Film Data'!G:G,0)))","v":""},{"$f":"\nIF($F95=\"\",\"\",INDEX('Film Data'!N:N,MATCH($F95,'Film Data'!G:G,0)))","v":""},{"$f":"\nIF($F95=\"\",\"\",HYPERLINK(INDEX('Film Data'!T:T,MATCH($F95,'Film Data'!G:G,0))))","v":""},{"$f":"IFERROR(HYPERLINK(INDEX(#REF!,MATCH(PPN[[#This Row],[Part Number]],#REF!,0)),\">More Info\"),\"\")","v":""}]
[null,null,null,null,{"$f":"\nIF(F96<>\"\",COUNTIF($F$7:F96,\"*\")&\".\",\"\")","v":""},null,"","","","",{"$f":"\nIF($F96=\"\",\"\",INDEX('Film Data'!D:D,MATCH($F96,'Film Data'!G:G,0)))","v":""},{"$f":"\nIF($F96=\"\",\"\",INDEX('Film Data'!Q:Q,MATCH($F96,'Film Data'!G:G,0)))","v":""},{"$f":"\nIF($F96=\"\",\"\",INDEX('Film Data'!D:D,MATCH($F96,'Film Data'!G:G,0)))","v":""},{"$f":"\nIF($F96=\"\",\"\",INDEX('Film Data'!F:F,MATCH($F96,'Film Data'!G:G,0)))","v":""},{"$f":"\nIF($F96=\"\",\"\",INDEX('Film Data'!E:E,MATCH($F96,'Film Data'!G:G,0)))","v":""},{"$f":"\nIF($F96=\"\",\"\",INDEX('Film Data'!H:H,MATCH($F96,'Film Data'!G:G,0)))","v":""},{"$f":"\nIF($F96=\"\",\"\",INDEX('Film Data'!I:I,MATCH($F96,'Film Data'!G:G,0)))","v":""},{"$f":"\nIF($F96=\"\",\"\",INDEX('Film Data'!J:J,MATCH($F96,'Film Data'!G:G,0)))","v":""},{"$f":"\nIF($F96=\"\",\"\",INDEX('Film Data'!K:K,MATCH($F96,'Film Data'!G:G,0)))","v":""},{"$f":"\nIF($F96=\"\",\"\",INDEX('Film Data'!Y:Y,MATCH($F96,'Film Data'!G:G,0)))","v":""},{"$f":"\nIF($F96=\"\",\"\",INDEX('Film Data'!Z:Z,MATCH($F96,'Film Data'!G:G,0)))","v":""},{"$f":"\nIF($F96=\"\",\"\",INDEX('Film Data'!L:L,MATCH($F96,'Film Data'!G:G,0)))","v":""},{"$f":"\nIF($F96=\"\",\"\",INDEX('Film Data'!M:M,MATCH($F96,'Film Data'!G:G,0)))","v":""},{"$f":"\nIF($F96=\"\",\"\",INDEX('Film Data'!N:N,MATCH($F96,'Film Data'!G:G,0)))","v":""},{"$f":"\nIF($F96=\"\",\"\",HYPERLINK(INDEX('Film Data'!T:T,MATCH($F96,'Film Data'!G:G,0))))","v":""},{"$f":"IFERROR(HYPERLINK(INDEX(#REF!,MATCH(PPN[[#This Row],[Part Number]],#REF!,0)),\">More Info\"),\"\")","v":""}]
[null,null,null,null,{"$f":"\nIF(F97<>\"\",COUNTIF($F$7:F97,\"*\")&\".\",\"\")","v":""},null,"","","","",{"$f":"\nIF($F97=\"\",\"\",INDEX('Film Data'!D:D,MATCH($F97,'Film Data'!G:G,0)))","v":""},{"$f":"\nIF($F97=\"\",\"\",INDEX('Film Data'!Q:Q,MATCH($F97,'Film Data'!G:G,0)))","v":""},{"$f":"\nIF($F97=\"\",\"\",INDEX('Film Data'!D:D,MATCH($F97,'Film Data'!G:G,0)))","v":""},{"$f":"\nIF($F97=\"\",\"\",INDEX('Film Data'!F:F,MATCH($F97,'Film Data'!G:G,0)))","v":""},{"$f":"\nIF($F97=\"\",\"\",INDEX('Film Data'!E:E,MATCH($F97,'Film Data'!G:G,0)))","v":""},{"$f":"\nIF($F97=\"\",\"\",INDEX('Film Data'!H:H,MATCH($F97,'Film Data'!G:G,0)))","v":""},{"$f":"\nIF($F97=\"\",\"\",INDEX('Film Data'!I:I,MATCH($F97,'Film Data'!G:G,0)))","v":""},{"$f":"\nIF($F97=\"\",\"\",INDEX('Film Data'!J:J,MATCH($F97,'Film Data'!G:G,0)))","v":""},{"$f":"\nIF($F97=\"\",\"\",INDEX('Film Data'!K:K,MATCH($F97,'Film Data'!G:G,0)))","v":""},{"$f":"\nIF($F97=\"\",\"\",INDEX('Film Data'!Y:Y,MATCH($F97,'Film Data'!G:G,0)))","v":""},{"$f":"\nIF($F97=\"\",\"\",INDEX('Film Data'!Z:Z,MATCH($F97,'Film Data'!G:G,0)))","v":""},{"$f":"\nIF($F97=\"\",\"\",INDEX('Film Data'!L:L,MATCH($F97,'Film Data'!G:G,0)))","v":""},{"$f":"\nIF($F97=\"\",\"\",INDEX('Film Data'!M:M,MATCH($F97,'Film Data'!G:G,0)))","v":""},{"$f":"\nIF($F97=\"\",\"\",INDEX('Film Data'!N:N,MATCH($F97,'Film Data'!G:G,0)))","v":""},{"$f":"\nIF($F97=\"\",\"\",HYPERLINK(INDEX('Film Data'!T:T,MATCH($F97,'Film Data'!G:G,0))))","v":""},{"$f":"IFERROR(HYPERLINK(INDEX(#REF!,MATCH(PPN[[#This Row],[Part Number]],#REF!,0)),\">More Info\"),\"\")","v":""}]
[null,null,null,null,{"$f":"\nIF(F98<>\"\",COUNTIF($F$7:F98,\"*\")&\".\",\"\")","v":""},null,"","","","",{"$f":"\nIF($F98=\"\",\"\",INDEX('Film Data'!D:D,MATCH($F98,'Film Data'!G:G,0)))","v":""},{"$f":"\nIF($F98=\"\",\"\",INDEX('Film Data'!Q:Q,MATCH($F98,'Film Data'!G:G,0)))","v":""},{"$f":"\nIF($F98=\"\",\"\",INDEX('Film Data'!D:D,MATCH($F98,'Film Data'!G:G,0)))","v":""},{"$f":"\nIF($F98=\"\",\"\",INDEX('Film Data'!F:F,MATCH($F98,'Film Data'!G:G,0)))","v":""},{"$f":"\nIF($F98=\"\",\"\",INDEX('Film Data'!E:E,MATCH($F98,'Film Data'!G:G,0)))","v":""},{"$f":"\nIF($F98=\"\",\"\",INDEX('Film Data'!H:H,MATCH($F98,'Film Data'!G:G,0)))","v":""},{"$f":"\nIF($F98=\"\",\"\",INDEX('Film Data'!I:I,MATCH($F98,'Film Data'!G:G,0)))","v":""},{"$f":"\nIF($F98=\"\",\"\",INDEX('Film Data'!J:J,MATCH($F98,'Film Data'!G:G,0)))","v":""},{"$f":"\nIF($F98=\"\",\"\",INDEX('Film Data'!K:K,MATCH($F98,'Film Data'!G:G,0)))","v":""},{"$f":"\nIF($F98=\"\",\"\",INDEX('Film Data'!Y:Y,MATCH($F98,'Film Data'!G:G,0)))","v":""},{"$f":"\nIF($F98=\"\",\"\",INDEX('Film Data'!Z:Z,MATCH($F98,'Film Data'!G:G,0)))","v":""},{"$f":"\nIF($F98=\"\",\"\",INDEX('Film Data'!L:L,MATCH($F98,'Film Data'!G:G,0)))","v":""},{"$f":"\nIF($F98=\"\",\"\",INDEX('Film Data'!M:M,MATCH($F98,'Film Data'!G:G,0)))","v":""},{"$f":"\nIF($F98=\"\",\"\",INDEX('Film Data'!N:N,MATCH($F98,'Film Data'!G:G,0)))","v":""},{"$f":"\nIF($F98=\"\",\"\",HYPERLINK(INDEX('Film Data'!T:T,MATCH($F98,'Film Data'!G:G,0))))","v":""},{"$f":"IFERROR(HYPERLINK(INDEX(#REF!,MATCH(PPN[[#This Row],[Part Number]],#REF!,0)),\">More Info\"),\"\")","v":""}]
[null,null,null,null,{"$f":"\nIF(F99<>\"\",COUNTIF($F$7:F99,\"*\")&\".\",\"\")","v":""},null,"","","","",{"$f":"\nIF($F99=\"\",\"\",INDEX('Film Data'!D:D,MATCH($F99,'Film Data'!G:G,0)))","v":""},{"$f":"\nIF($F99=\"\",\"\",INDEX('Film Data'!Q:Q,MATCH($F99,'Film Data'!G:G,0)))","v":""},{"$f":"\nIF($F99=\"\",\"\",INDEX('Film Data'!D:D,MATCH($F99,'Film Data'!G:G,0)))","v":""},{"$f":"\nIF($F99=\"\",\"\",INDEX('Film Data'!F:F,MATCH($F99,'Film Data'!G:G,0)))","v":""},{"$f":"\nIF($F99=\"\",\"\",INDEX('Film Data'!E:E,MATCH($F99,'Film Data'!G:G,0)))","v":""},{"$f":"\nIF($F99=\"\",\"\",INDEX('Film Data'!H:H,MATCH($F99,'Film Data'!G:G,0)))","v":""},{"$f":"\nIF($F99=\"\",\"\",INDEX('Film Data'!I:I,MATCH($F99,'Film Data'!G:G,0)))","v":""},{"$f":"\nIF($F99=\"\",\"\",INDEX('Film Data'!J:J,MATCH($F99,'Film Data'!G:G,0)))","v":""},{"$f":"\nIF($F99=\"\",\"\",INDEX('Film Data'!K:K,MATCH($F99,'Film Data'!G:G,0)))","v":""},{"$f":"\nIF($F99=\"\",\"\",INDEX('Film Data'!Y:Y,MATCH($F99,'Film Data'!G:G,0)))","v":""},{"$f":"\nIF($F99=\"\",\"\",INDEX('Film Data'!Z:Z,MATCH($F99,'Film Data'!G:G,0)))","v":""},{"$f":"\nIF($F99=\"\",\"\",INDEX('Film Data'!L:L,MATCH($F99,'Film Data'!G:G,0)))","v":""},{"$f":"\nIF($F99=\"\",\"\",INDEX('Film Data'!M:M,MATCH($F99,'Film Data'!G:G,0)))","v":""},{"$f":"\nIF($F99=\"\",\"\",INDEX('Film Data'!N:N,MATCH($F99,'Film Data'!G:G,0)))","v":""},{"$f":"\nIF($F99=\"\",\"\",HYPERLINK(INDEX('Film Data'!T:T,MATCH($F99,'Film Data'!G:G,0))))","v":""},{"$f":"IFERROR(HYPERLINK(INDEX(#REF!,MATCH(PPN[[#This Row],[Part Number]],#REF!,0)),\">More Info\"),\"\")","v":""}]
[null,null,null,null,{"$f":"\nIF(F100<>\"\",COUNTIF($F$7:F100,\"*\")&\".\",\"\")","v":""},null,"","","","",{"$f":"\nIF($F100=\"\",\"\",INDEX('Film Data'!D:D,MATCH($F100,'Film Data'!G:G,0)))","v":""},{"$f":"\nIF($F100=\"\",\"\",INDEX('Film Data'!Q:Q,MATCH($F100,'Film Data'!G:G,0)))","v":""},{"$f":"\nIF($F100=\"\",\"\",INDEX('Film Data'!D:D,MATCH($F100,'Film Data'!G:G,0)))","v":""},{"$f":"\nIF($F100=\"\",\"\",INDEX('Film Data'!F:F,MATCH($F100,'Film Data'!G:G,0)))","v":""},{"$f":"\nIF($F100=\"\",\"\",INDEX('Film Data'!E:E,MATCH($F100,'Film Data'!G:G,0)))","v":""},{"$f":"\nIF($F100=\"\",\"\",INDEX('Film Data'!H:H,MATCH($F100,'Film Data'!G:G,0)))","v":""},{"$f":"\nIF($F100=\"\",\"\",INDEX('Film Data'!I:I,MATCH($F100,'Film Data'!G:G,0)))","v":""},{"$f":"\nIF($F100=\"\",\"\",INDEX('Film Data'!J:J,MATCH($F100,'Film Data'!G:G,0)))","v":""},{"$f":"\nIF($F100=\"\",\"\",INDEX('Film Data'!K:K,MATCH($F100,'Film Data'!G:G,0)))","v":""},{"$f":"\nIF($F100=\"\",\"\",INDEX('Film Data'!Y:Y,MATCH($F100,'Film Data'!G:G,0)))","v":""},{"$f":"\nIF($F100=\"\",\"\",INDEX('Film Data'!Z:Z,MATCH($F100,'Film Data'!G:G,0)))","v":""},{"$f":"\nIF($F100=\"\",\"\",INDEX('Film Data'!L:L,MATCH($F100,'Film Data'!G:G,0)))","v":""},{"$f":"\nIF($F100=\"\",\"\",INDEX('Film Data'!M:M,MATCH($F100,'Film Data'!G:G,0)))","v":""},{"$f":"\nIF($F100=\"\",\"\",INDEX('Film Data'!N:N,MATCH($F100,'Film Data'!G:G,0)))","v":""},{"$f":"\nIF($F100=\"\",\"\",HYPERLINK(INDEX('Film Data'!T:T,MATCH($F100,'Film Data'!G:G,0))))","v":""},{"$f":"IFERROR(HYPERLINK(INDEX(#REF!,MATCH(PPN[[#This Row],[Part Number]],#REF!,0)),\">More Info\"),\"\")","v":""}]
[null,null,null,null,{"$f":"\nIF(F101<>\"\",COUNTIF($F$7:F101,\"*\")&\".\",\"\")","v":""},null,"","","","",{"$f":"\nIF($F101=\"\",\"\",INDEX('Film Data'!D:D,MATCH($F101,'Film Data'!G:G,0)))","v":""},{"$f":"\nIF($F101=\"\",\"\",INDEX('Film Data'!Q:Q,MATCH($F101,'Film Data'!G:G,0)))","v":""},{"$f":"\nIF($F101=\"\",\"\",INDEX('Film Data'!D:D,MATCH($F101,'Film Data'!G:G,0)))","v":""},{"$f":"\nIF($F101=\"\",\"\",INDEX('Film Data'!F:F,MATCH($F101,'Film Data'!G:G,0)))","v":""},{"$f":"\nIF($F101=\"\",\"\",INDEX('Film Data'!E:E,MATCH($F101,'Film Data'!G:G,0)))","v":""},{"$f":"\nIF($F101=\"\",\"\",INDEX('Film Data'!H:H,MATCH($F101,'Film Data'!G:G,0)))","v":""},{"$f":"\nIF($F101=\"\",\"\",INDEX('Film Data'!I:I,MATCH($F101,'Film Data'!G:G,0)))","v":""},{"$f":"\nIF($F101=\"\",\"\",INDEX('Film Data'!J:J,MATCH($F101,'Film Data'!G:G,0)))","v":""},{"$f":"\nIF($F101=\"\",\"\",INDEX('Film Data'!K:K,MATCH($F101,'Film Data'!G:G,0)))","v":""},{"$f":"\nIF($F101=\"\",\"\",INDEX('Film Data'!Y:Y,MATCH($F101,'Film Data'!G:G,0)))","v":""},{"$f":"\nIF($F101=\"\",\"\",INDEX('Film Data'!Z:Z,MATCH($F101,'Film Data'!G:G,0)))","v":""},{"$f":"\nIF($F101=\"\",\"\",INDEX('Film Data'!L:L,MATCH($F101,'Film Data'!G:G,0)))","v":""},{"$f":"\nIF($F101=\"\",\"\",INDEX('Film Data'!M:M,MATCH($F101,'Film Data'!G:G,0)))","v":""},{"$f":"\nIF($F101=\"\",\"\",INDEX('Film Data'!N:N,MATCH($F101,'Film Data'!G:G,0)))","v":""},{"$f":"\nIF($F101=\"\",\"\",HYPERLINK(INDEX('Film Data'!T:T,MATCH($F101,'Film Data'!G:G,0))))","v":""},{"$f":"IFERROR(HYPERLINK(INDEX(#REF!,MATCH(PPN[[#This Row],[Part Number]],#REF!,0)),\">More Info\"),\"\")","v":""}]
[null,null,null,null,{"$f":"\nIF(F102<>\"\",COUNTIF($F$7:F102,\"*\")&\".\",\"\")","v":""},null,"","","","",{"$f":"\nIF($F102=\"\",\"\",INDEX('Film Data'!D:D,MATCH($F102,'Film Data'!G:G,0)))","v":""},{"$f":"\nIF($F102=\"\",\"\",INDEX('Film Data'!Q:Q,MATCH($F102,'Film Data'!G:G,0)))","v":""},{"$f":"\nIF($F102=\"\",\"\",INDEX('Film Data'!D:D,MATCH($F102,'Film Data'!G:G,0)))","v":""},{"$f":"\nIF($F102=\"\",\"\",INDEX('Film Data'!F:F,MATCH($F102,'Film Data'!G:G,0)))","v":""},{"$f":"\nIF($F102=\"\",\"\",INDEX('Film Data'!E:E,MATCH($F102,'Film Data'!G:G,0)))","v":""},{"$f":"\nIF($F102=\"\",\"\",INDEX('Film Data'!H:H,MATCH($F102,'Film Data'!G:G,0)))","v":""},{"$f":"\nIF($F102=\"\",\"\",INDEX('Film Data'!I:I,MATCH($F102,'Film Data'!G:G,0)))","v":""},{"$f":"\nIF($F102=\"\",\"\",INDEX('Film Data'!J:J,MATCH($F102,'Film Data'!G:G,0)))","v":""},{"$f":"\nIF($F102=\"\",\"\",INDEX('Film Data'!K:K,MATCH($F102,'Film Data'!G:G,0)))","v":""},{"$f":"\nIF($F102=\"\",\"\",INDEX('Film Data'!Y:Y,MATCH($F102,'Film Data'!G:G,0)))","v":""},{"$f":"\nIF($F102=\"\",\"\",INDEX('Film Data'!Z:Z,MATCH($F102,'Film Data'!G:G,0)))","v":""},{"$f":"\nIF($F102=\"\",\"\",INDEX('Film Data'!L:L,MATCH($F102,'Film Data'!G:G,0)))","v":""},{"$f":"\nIF($F102=\"\",\"\",INDEX('Film Data'!M:M,MATCH($F102,'Film Data'!G:G,0)))","v":""},{"$f":"\nIF($F102=\"\",\"\",INDEX('Film Data'!N:N,MATCH($F102,'Film Data'!G:G,0)))","v":""},{"$f":"\nIF($F102=\"\",\"\",HYPERLINK(INDEX('Film Data'!T:T,MATCH($F102,'Film Data'!G:G,0))))","v":""},{"$f":"IFERROR(HYPERLINK(INDEX(#REF!,MATCH(PPN[[#This Row],[Part Number]],#REF!,0)),\">More Info\"),\"\")","v":""}]
[null,null,null,null,{"$f":"\nIF(F103<>\"\",COUNTIF($F$7:F103,\"*\")&\".\",\"\")","v":""},null,{"$f":"\nIF(F103=\"\",\"\",CONCATENATE(P103,\"V\",Q103,\" \",R103,\"uF\"))","v":""},"",{"$f":"\nIF(F103=\"\",\"\",CONCATENATE(T103,\"Arms\",\" \",U103,\"mΩ\"))","v":""},"",{"$f":"\nIF($F103=\"\",\"\",INDEX('Film Data'!D:D,MATCH($F103,'Film Data'!G:G,0)))","v":""},{"$f":"\nIF($F103=\"\",\"\",INDEX('Film Data'!Q:Q,MATCH($F103,'Film Data'!G:G,0)))","v":""},{"$f":"\nIF($F103=\"\",\"\",INDEX('Film Data'!D:D,MATCH($F103,'Film Data'!G:G,0)))","v":""},{"$f":"\nIF($F103=\"\",\"\",INDEX('Film Data'!F:F,MATCH($F103,'Film Data'!G:G,0)))","v":""},{"$f":"\nIF($F103=\"\",\"\",INDEX('Film Data'!E:E,MATCH($F103,'Film Data'!G:G,0)))","v":""},{"$f":"\nIF($F103=\"\",\"\",INDEX('Film Data'!H:H,MATCH($F103,'Film Data'!G:G,0)))","v":""},{"$f":"\nIF($F103=\"\",\"\",INDEX('Film Data'!I:I,MATCH($F103,'Film Data'!G:G,0)))","v":""},{"$f":"\nIF($F103=\"\",\"\",INDEX('Film Data'!J:J,MATCH($F103,'Film Data'!G:G,0)))","v":""},{"$f":"\nIF($F103=\"\",\"\",INDEX('Film Data'!K:K,MATCH($F103,'Film Data'!G:G,0)))","v":""},{"$f":"\nIF($F103=\"\",\"\",INDEX('Film Data'!Y:Y,MATCH($F103,'Film Data'!G:G,0)))","v":""},{"$f":"\nIF($F103=\"\",\"\",INDEX('Film Data'!Z:Z,MATCH($F103,'Film Data'!G:G,0)))","v":""},{"$f":"\nIF($F103=\"\",\"\",INDEX('Film Data'!L:L,MATCH($F103,'Film Data'!G:G,0)))","v":""},{"$f":"\nIF($F103=\"\",\"\",INDEX('Film Data'!M:M,MATCH($F103,'Film Data'!G:G,0)))","v":""},{"$f":"\nIF($F103=\"\",\"\",INDEX('Film Data'!N:N,MATCH($F103,'Film Data'!G:G,0)))","v":""},{"$f":"\nIF($F103=\"\",\"\",HYPERLINK(INDEX('Film Data'!T:T,MATCH($F103,'Film Data'!G:G,0))))","v":""},{"$f":"IFERROR(HYPERLINK(INDEX(#REF!,MATCH(PPN[[#This Row],[Part Number]],#REF!,0)),\">More Info\"),\"\")","v":""}]
[null,null,null,null,{"$f":"\nIF(F104<>\"\",COUNTIF($F$7:F104,\"*\")&\".\",\"\")","v":""},null,"","","","",{"$f":"\nIF($F104=\"\",\"\",INDEX('Film Data'!D:D,MATCH($F104,'Film Data'!G:G,0)))","v":""},{"$f":"\nIF($F104=\"\",\"\",INDEX('Film Data'!Q:Q,MATCH($F104,'Film Data'!G:G,0)))","v":""},{"$f":"\nIF($F104=\"\",\"\",INDEX('Film Data'!D:D,MATCH($F104,'Film Data'!G:G,0)))","v":""},{"$f":"\nIF($F104=\"\",\"\",INDEX('Film Data'!F:F,MATCH($F104,'Film Data'!G:G,0)))","v":""},{"$f":"\nIF($F104=\"\",\"\",INDEX('Film Data'!E:E,MATCH($F104,'Film Data'!G:G,0)))","v":""},{"$f":"\nIF($F104=\"\",\"\",INDEX('Film Data'!H:H,MATCH($F104,'Film Data'!G:G,0)))","v":""},{"$f":"\nIF($F104=\"\",\"\",INDEX('Film Data'!I:I,MATCH($F104,'Film Data'!G:G,0)))","v":""},{"$f":"\nIF($F104=\"\",\"\",INDEX('Film Data'!J:J,MATCH($F104,'Film Data'!G:G,0)))","v":""},{"$f":"\nIF($F104=\"\",\"\",INDEX('Film Data'!K:K,MATCH($F104,'Film Data'!G:G,0)))","v":""},{"$f":"\nIF($F104=\"\",\"\",INDEX('Film Data'!Y:Y,MATCH($F104,'Film Data'!G:G,0)))","v":""},{"$f":"\nIF($F104=\"\",\"\",INDEX('Film Data'!Z:Z,MATCH($F104,'Film Data'!G:G,0)))","v":""},{"$f":"\nIF($F104=\"\",\"\",INDEX('Film Data'!L:L,MATCH($F104,'Film Data'!G:G,0)))","v":""},{"$f":"\nIF($F104=\"\",\"\",INDEX('Film Data'!M:M,MATCH($F104,'Film Data'!G:G,0)))","v":""},{"$f":"\nIF($F104=\"\",\"\",INDEX('Film Data'!N:N,MATCH($F104,'Film Data'!G:G,0)))","v":""},{"$f":"\nIF($F104=\"\",\"\",HYPERLINK(INDEX('Film Data'!T:T,MATCH($F104,'Film Data'!G:G,0))))","v":""},{"$f":"IFERROR(HYPERLINK(INDEX(#REF!,MATCH(PPN[[#This Row],[Part Number]],#REF!,0)),\">More Info\"),\"\")","v":""}]
[null,null,null,null,{"$f":"\nIF(F105<>\"\",COUNTIF($F$7:F105,\"*\")&\".\",\"\")","v":""},null,"","","","",{"$f":"\nIF($F105=\"\",\"\",INDEX('Film Data'!D:D,MATCH($F105,'Film Data'!G:G,0)))","v":""},{"$f":"\nIF($F105=\"\",\"\",INDEX('Film Data'!Q:Q,MATCH($F105,'Film Data'!G:G,0)))","v":""},{"$f":"\nIF($F105=\"\",\"\",INDEX('Film Data'!D:D,MATCH($F105,'Film Data'!G:G,0)))","v":""},{"$f":"\nIF($F105=\"\",\"\",INDEX('Film Data'!F:F,MATCH($F105,'Film Data'!G:G,0)))","v":""},{"$f":"\nIF($F105=\"\",\"\",INDEX('Film Data'!E:E,MATCH($F105,'Film Data'!G:G,0)))","v":""},{"$f":"\nIF($F105=\"\",\"\",INDEX('Film Data'!H:H,MATCH($F105,'Film Data'!G:G,0)))","v":""},{"$f":"\nIF($F105=\"\",\"\",INDEX('Film Data'!I:I,MATCH($F105,'Film Data'!G:G,0)))","v":""},{"$f":"\nIF($F105=\"\",\"\",INDEX('Film Data'!J:J,MATCH($F105,'Film Data'!G:G,0)))","v":""},{"$f":"\nIF($F105=\"\",\"\",INDEX('Film Data'!K:K,MATCH($F105,'Film Data'!G:G,0)))","v":""},{"$f":"\nIF($F105=\"\",\"\",INDEX('Film Data'!Y:Y,MATCH($F105,'Film Data'!G:G,0)))","v":""},{"$f":"\nIF($F105=\"\",\"\",INDEX('Film Data'!Z:Z,MATCH($F105,'Film Data'!G:G,0)))","v":""},{"$f":"\nIF($F105=\"\",\"\",INDEX('Film Data'!L:L,MATCH($F105,'Film Data'!G:G,0)))","v":""},{"$f":"\nIF($F105=\"\",\"\",INDEX('Film Data'!M:M,MATCH($F105,'Film Data'!G:G,0)))","v":""},{"$f":"\nIF($F105=\"\",\"\",INDEX('Film Data'!N:N,MATCH($F105,'Film Data'!G:G,0)))","v":""},{"$f":"\nIF($F105=\"\",\"\",HYPERLINK(INDEX('Film Data'!T:T,MATCH($F105,'Film Data'!G:G,0))))","v":""},{"$f":"IFERROR(HYPERLINK(INDEX(#REF!,MATCH(PPN[[#This Row],[Part Number]],#REF!,0)),\">More Info\"),\"\")","v":""}]
[null,null,null,null,{"$f":"\nIF(F106<>\"\",COUNTIF($F$7:F137,\"*\")&\".\",\"\")","v":""},null,"","","","",{"$f":"\nIF($F106=\"\",\"\",INDEX('Film Data'!D:D,MATCH($F106,'Film Data'!G:G,0)))","v":""},{"$f":"\nIF($F106=\"\",\"\",INDEX('Film Data'!Q:Q,MATCH($F106,'Film Data'!G:G,0)))","v":""},{"$f":"\nIF($F106=\"\",\"\",INDEX('Film Data'!D:D,MATCH($F106,'Film Data'!G:G,0)))","v":""},{"$f":"\nIF($F106=\"\",\"\",INDEX('Film Data'!F:F,MATCH($F106,'Film Data'!G:G,0)))","v":""},{"$f":"\nIF($F106=\"\",\"\",INDEX('Film Data'!E:E,MATCH($F106,'Film Data'!G:G,0)))","v":""},{"$f":"\nIF($F106=\"\",\"\",INDEX('Film Data'!H:H,MATCH($F106,'Film Data'!G:G,0)))","v":""},{"$f":"\nIF($F106=\"\",\"\",INDEX('Film Data'!I:I,MATCH($F106,'Film Data'!G:G,0)))","v":""},{"$f":"\nIF($F106=\"\",\"\",INDEX('Film Data'!J:J,MATCH($F106,'Film Data'!G:G,0)))","v":""},{"$f":"\nIF($F106=\"\",\"\",INDEX('Film Data'!K:K,MATCH($F106,'Film Data'!G:G,0)))","v":""},{"$f":"\nIF($F106=\"\",\"\",INDEX('Film Data'!Y:Y,MATCH($F106,'Film Data'!G:G,0)))","v":""},{"$f":"\nIF($F106=\"\",\"\",INDEX('Film Data'!Z:Z,MATCH($F106,'Film Data'!G:G,0)))","v":""},{"$f":"\nIF($F106=\"\",\"\",INDEX('Film Data'!L:L,MATCH($F106,'Film Data'!G:G,0)))","v":""},{"$f":"\nIF($F106=\"\",\"\",INDEX('Film Data'!M:M,MATCH($F106,'Film Data'!G:G,0)))","v":""},{"$f":"\nIF($F106=\"\",\"\",INDEX('Film Data'!N:N,MATCH($F106,'Film Data'!G:G,0)))","v":""},{"$f":"\nIF($F106=\"\",\"\",HYPERLINK(INDEX('Film Data'!T:T,MATCH($F106,'Film Data'!G:G,0))))","v":""},{"$f":"IFERROR(HYPERLINK(INDEX(#REF!,MATCH(PPN[[#This Row],[Part Number]],#REF!,0)),\">More Info\"),\"\")","v":""}]
[null,null,null,null,{"$f":"\nIF(F107<>\"\",COUNTIF($F$7:F137,\"*\")&\".\",\"\")","v":""},null,"",{"$f":"\nIF(F107=\"\",\"\",CONCATENATE(\"Tol. \",S107,\"%\"))","v":""},"",{"$f":"\nIF(F107=\"\",\"\",CONCATENATE(\"L\"&V107,\"x W\",W107,\" x H\",X107))","v":""},{"$f":"\nIF($F107=\"\",\"\",INDEX('Film Data'!D:D,MATCH($F107,'Film Data'!G:G,0)))","v":""},{"$f":"\nIF($F107=\"\",\"\",INDEX('Film Data'!Q:Q,MATCH($F107,'Film Data'!G:G,0)))","v":""},{"$f":"\nIF($F107=\"\",\"\",INDEX('Film Data'!D:D,MATCH($F107,'Film Data'!G:G,0)))","v":""},{"$f":"\nIF($F107=\"\",\"\",INDEX('Film Data'!F:F,MATCH($F107,'Film Data'!G:G,0)))","v":""},{"$f":"\nIF($F107=\"\",\"\",INDEX('Film Data'!E:E,MATCH($F107,'Film Data'!G:G,0)))","v":""},{"$f":"\nIF($F107=\"\",\"\",INDEX('Film Data'!H:H,MATCH($F107,'Film Data'!G:G,0)))","v":""},{"$f":"\nIF($F107=\"\",\"\",INDEX('Film Data'!I:I,MATCH($F107,'Film Data'!G:G,0)))","v":""},{"$f":"\nIF($F107=\"\",\"\",INDEX('Film Data'!J:J,MATCH($F107,'Film Data'!G:G,0)))","v":""},{"$f":"\nIF($F107=\"\",\"\",INDEX('Film Data'!K:K,MATCH($F107,'Film Data'!G:G,0)))","v":""},{"$f":"\nIF($F107=\"\",\"\",INDEX('Film Data'!Y:Y,MATCH($F107,'Film Data'!G:G,0)))","v":""},{"$f":"\nIF($F107=\"\",\"\",INDEX('Film Data'!Z:Z,MATCH($F107,'Film Data'!G:G,0)))","v":""},{"$f":"\nIF($F107=\"\",\"\",INDEX('Film Data'!L:L,MATCH($F107,'Film Data'!G:G,0)))","v":""},{"$f":"\nIF($F107=\"\",\"\",INDEX('Film Data'!M:M,MATCH($F107,'Film Data'!G:G,0)))","v":""},{"$f":"\nIF($F107=\"\",\"\",INDEX('Film Data'!N:N,MATCH($F107,'Film Data'!G:G,0)))","v":""},{"$f":"\nIF($F107=\"\",\"\",HYPERLINK(INDEX('Film Data'!T:T,MATCH($F107,'Film Data'!G:G,0))))","v":""}]
[null,null,null,null,{"$f":"\nIF(F108<>\"\",COUNTIF($F$7:F137,\"*\")&\".\",\"\")","v":""},null,"",{"$f":"\nIF(F108=\"\",\"\",CONCATENATE(\"Tol. \",S108,\"%\"))","v":""},"",{"$f":"\nIF(F108=\"\",\"\",CONCATENATE(\"L\"&V108,\"x W\",W108,\" x H\",X108))","v":""},{"$f":"\nIF($F108=\"\",\"\",INDEX('Film Data'!D:D,MATCH($F108,'Film Data'!G:G,0)))","v":""},{"$f":"\nIF($F108=\"\",\"\",INDEX('Film Data'!Q:Q,MATCH($F108,'Film Data'!G:G,0)))","v":""},{"$f":"\nIF($F108=\"\",\"\",INDEX('Film Data'!D:D,MATCH($F108,'Film Data'!G:G,0)))","v":""},{"$f":"\nIF($F108=\"\",\"\",INDEX('Film Data'!F:F,MATCH($F108,'Film Data'!G:G,0)))","v":""},{"$f":"\nIF($F108=\"\",\"\",INDEX('Film Data'!E:E,MATCH($F108,'Film Data'!G:G,0)))","v":""},{"$f":"\nIF($F108=\"\",\"\",INDEX('Film Data'!H:H,MATCH($F108,'Film Data'!G:G,0)))","v":""},{"$f":"\nIF($F108=\"\",\"\",INDEX('Film Data'!I:I,MATCH($F108,'Film Data'!G:G,0)))","v":""},{"$f":"\nIF($F108=\"\",\"\",INDEX('Film Data'!J:J,MATCH($F108,'Film Data'!G:G,0)))","v":""},{"$f":"\nIF($F108=\"\",\"\",INDEX('Film Data'!K:K,MATCH($F108,'Film Data'!G:G,0)))","v":""},{"$f":"\nIF($F108=\"\",\"\",INDEX('Film Data'!Y:Y,MATCH($F108,'Film Data'!G:G,0)))","v":""},{"$f":"\nIF($F108=\"\",\"\",INDEX('Film Data'!Z:Z,MATCH($F108,'Film Data'!G:G,0)))","v":""},{"$f":"\nIF($F108=\"\",\"\",INDEX('Film Data'!L:L,MATCH($F108,'Film Data'!G:G,0)))","v":""},{"$f":"\nIF($F108=\"\",\"\",INDEX('Film Data'!M:M,MATCH($F108,'Film Data'!G:G,0)))","v":""},{"$f":"\nIF($F108=\"\",\"\",INDEX('Film Data'!N:N,MATCH($F108,'Film Data'!G:G,0)))","v":""},{"$f":"\nIF($F108=\"\",\"\",HYPERLINK(INDEX('Film Data'!T:T,MATCH($F108,'Film Data'!G:G,0))))","v":""}]
[null,null,null,null,{"$f":"\nIF(F109<>\"\",COUNTIF($F$7:F109,\"*\")&\".\",\"\")","v":""},null,"",{"$f":"\nIF(F109=\"\",\"\",CONCATENATE(\"Tol. \",S109,\"%\"))","v":""},"",{"$f":"\nIF(F109=\"\",\"\",CONCATENATE(\"L\"&V109,\"x W\",W109,\" x H\",X109))","v":""},{"$f":"\nIF($F109=\"\",\"\",INDEX('Film Data'!D:D,MATCH($F109,'Film Data'!G:G,0)))","v":""},{"$f":"\nIF($F109=\"\",\"\",INDEX('Film Data'!Q:Q,MATCH($F109,'Film Data'!G:G,0)))","v":""},{"$f":"\nIF($F109=\"\",\"\",INDEX('Film Data'!D:D,MATCH($F109,'Film Data'!G:G,0)))","v":""},{"$f":"\nIF($F109=\"\",\"\",INDEX('Film Data'!F:F,MATCH($F109,'Film Data'!G:G,0)))","v":""},{"$f":"\nIF($F109=\"\",\"\",INDEX('Film Data'!E:E,MATCH($F109,'Film Data'!G:G,0)))","v":""},{"$f":"\nIF($F109=\"\",\"\",INDEX('Film Data'!H:H,MATCH($F109,'Film Data'!G:G,0)))","v":""},{"$f":"\nIF($F109=\"\",\"\",INDEX('Film Data'!I:I,MATCH($F109,'Film Data'!G:G,0)))","v":""},{"$f":"\nIF($F109=\"\",\"\",INDEX('Film Data'!J:J,MATCH($F109,'Film Data'!G:G,0)))","v":""},{"$f":"\nIF($F109=\"\",\"\",INDEX('Film Data'!K:K,MATCH($F109,'Film Data'!G:G,0)))","v":""},{"$f":"\nIF($F109=\"\",\"\",INDEX('Film Data'!Y:Y,MATCH($F109,'Film Data'!G:G,0)))","v":""},{"$f":"\nIF($F109=\"\",\"\",INDEX('Film Data'!Z:Z,MATCH($F109,'Film Data'!G:G,0)))","v":""},{"$f":"\nIF($F109=\"\",\"\",INDEX('Film Data'!L:L,MATCH($F109,'Film Data'!G:G,0)))","v":""},{"$f":"\nIF($F109=\"\",\"\",INDEX('Film Data'!M:M,MATCH($F109,'Film Data'!G:G,0)))","v":""},{"$f":"\nIF($F109=\"\",\"\",INDEX('Film Data'!N:N,MATCH($F109,'Film Data'!G:G,0)))","v":""},{"$f":"\nIF($F109=\"\",\"\",HYPERLINK(INDEX('Film Data'!T:T,MATCH($F109,'Film Data'!G:G,0))))","v":""}]
[null,null,null,null,{"$f":"\nIF(F110<>\"\",COUNTIF($F$7:F110,\"*\")&\".\",\"\")","v":""},null,"","","","",{"$f":"\nIF($F110=\"\",\"\",INDEX('Film Data'!D:D,MATCH($F110,'Film Data'!G:G,0)))","v":""},{"$f":"\nIF($F110=\"\",\"\",INDEX('Film Data'!Q:Q,MATCH($F110,'Film Data'!G:G,0)))","v":""},{"$f":"\nIF($F110=\"\",\"\",INDEX('Film Data'!D:D,MATCH($F110,'Film Data'!G:G,0)))","v":""},{"$f":"\nIF($F110=\"\",\"\",INDEX('Film Data'!F:F,MATCH($F110,'Film Data'!G:G,0)))","v":""},{"$f":"\nIF($F110=\"\",\"\",INDEX('Film Data'!E:E,MATCH($F110,'Film Data'!G:G,0)))","v":""},{"$f":"\nIF($F110=\"\",\"\",INDEX('Film Data'!H:H,MATCH($F110,'Film Data'!G:G,0)))","v":""},{"$f":"\nIF($F110=\"\",\"\",INDEX('Film Data'!I:I,MATCH($F110,'Film Data'!G:G,0)))","v":""},{"$f":"\nIF($F110=\"\",\"\",INDEX('Film Data'!J:J,MATCH($F110,'Film Data'!G:G,0)))","v":""},{"$f":"\nIF($F110=\"\",\"\",INDEX('Film Data'!K:K,MATCH($F110,'Film Data'!G:G,0)))","v":""},{"$f":"\nIF($F110=\"\",\"\",INDEX('Film Data'!Y:Y,MATCH($F110,'Film Data'!G:G,0)))","v":""},{"$f":"\nIF($F110=\"\",\"\",INDEX('Film Data'!Z:Z,MATCH($F110,'Film Data'!G:G,0)))","v":""},{"$f":"\nIF($F110=\"\",\"\",INDEX('Film Data'!L:L,MATCH($F110,'Film Data'!G:G,0)))","v":""},{"$f":"\nIF($F110=\"\",\"\",INDEX('Film Data'!M:M,MATCH($F110,'Film Data'!G:G,0)))","v":""},{"$f":"\nIF($F110=\"\",\"\",INDEX('Film Data'!N:N,MATCH($F110,'Film Data'!G:G,0)))","v":""},{"$f":"\nIF($F110=\"\",\"\",HYPERLINK(INDEX('Film Data'!T:T,MATCH($F110,'Film Data'!G:G,0))))","v":""}]
[null,null,null,null,{"$f":"\nIF(F111<>\"\",COUNTIF($F$7:F111,\"*\")&\".\",\"\")","v":""},null,"","","","",{"$f":"\nIF($F111=\"\",\"\",INDEX('Film Data'!D:D,MATCH($F111,'Film Data'!G:G,0)))","v":""},{"$f":"\nIF($F111=\"\",\"\",INDEX('Film Data'!Q:Q,MATCH($F111,'Film Data'!G:G,0)))","v":""},{"$f":"\nIF($F111=\"\",\"\",INDEX('Film Data'!D:D,MATCH($F111,'Film Data'!G:G,0)))","v":""},{"$f":"\nIF($F111=\"\",\"\",INDEX('Film Data'!F:F,MATCH($F111,'Film Data'!G:G,0)))","v":""},{"$f":"\nIF($F111=\"\",\"\",INDEX('Film Data'!E:E,MATCH($F111,'Film Data'!G:G,0)))","v":""},{"$f":"\nIF($F111=\"\",\"\",INDEX('Film Data'!H:H,MATCH($F111,'Film Data'!G:G,0)))","v":""},{"$f":"\nIF($F111=\"\",\"\",INDEX('Film Data'!I:I,MATCH($F111,'Film Data'!G:G,0)))","v":""},{"$f":"\nIF($F111=\"\",\"\",INDEX('Film Data'!J:J,MATCH($F111,'Film Data'!G:G,0)))","v":""},{"$f":"\nIF($F111=\"\",\"\",INDEX('Film Data'!K:K,MATCH($F111,'Film Data'!G:G,0)))","v":""},{"$f":"\nIF($F111=\"\",\"\",INDEX('Film Data'!Y:Y,MATCH($F111,'Film Data'!G:G,0)))","v":""},{"$f":"\nIF($F111=\"\",\"\",INDEX('Film Data'!Z:Z,MATCH($F111,'Film Data'!G:G,0)))","v":""},{"$f":"\nIF($F111=\"\",\"\",INDEX('Film Data'!L:L,MATCH($F111,'Film Data'!G:G,0)))","v":""},{"$f":"\nIF($F111=\"\",\"\",INDEX('Film Data'!M:M,MATCH($F111,'Film Data'!G:G,0)))","v":""},{"$f":"\nIF($F111=\"\",\"\",INDEX('Film Data'!N:N,MATCH($F111,'Film Data'!G:G,0)))","v":""},{"$f":"\nIF($F111=\"\",\"\",HYPERLINK(INDEX('Film Data'!T:T,MATCH($F111,'Film Data'!G:G,0))))","v":""}]
[null,null,null,null,{"$f":"\nIF(F112<>\"\",COUNTIF($F$7:F112,\"*\")&\".\",\"\")","v":""},null,"","","","",{"$f":"\nIF($F112=\"\",\"\",INDEX('Film Data'!D:D,MATCH($F112,'Film Data'!G:G,0)))","v":""},{"$f":"\nIF($F112=\"\",\"\",INDEX('Film Data'!Q:Q,MATCH($F112,'Film Data'!G:G,0)))","v":""},{"$f":"\nIF($F112=\"\",\"\",INDEX('Film Data'!D:D,MATCH($F112,'Film Data'!G:G,0)))","v":""},{"$f":"\nIF($F112=\"\",\"\",INDEX('Film Data'!F:F,MATCH($F112,'Film Data'!G:G,0)))","v":""},{"$f":"\nIF($F112=\"\",\"\",INDEX('Film Data'!E:E,MATCH($F112,'Film Data'!G:G,0)))","v":""},{"$f":"\nIF($F112=\"\",\"\",INDEX('Film Data'!H:H,MATCH($F112,'Film Data'!G:G,0)))","v":""},{"$f":"\nIF($F112=\"\",\"\",INDEX('Film Data'!I:I,MATCH($F112,'Film Data'!G:G,0)))","v":""},{"$f":"\nIF($F112=\"\",\"\",INDEX('Film Data'!J:J,MATCH($F112,'Film Data'!G:G,0)))","v":""},{"$f":"\nIF($F112=\"\",\"\",INDEX('Film Data'!K:K,MATCH($F112,'Film Data'!G:G,0)))","v":""},{"$f":"\nIF($F112=\"\",\"\",INDEX('Film Data'!Y:Y,MATCH($F112,'Film Data'!G:G,0)))","v":""},{"$f":"\nIF($F112=\"\",\"\",INDEX('Film Data'!Z:Z,MATCH($F112,'Film Data'!G:G,0)))","v":""},{"$f":"\nIF($F112=\"\",\"\",INDEX('Film Data'!L:L,MATCH($F112,'Film Data'!G:G,0)))","v":""},{"$f":"\nIF($F112=\"\",\"\",INDEX('Film Data'!M:M,MATCH($F112,'Film Data'!G:G,0)))","v":""},{"$f":"\nIF($F112=\"\",\"\",INDEX('Film Data'!N:N,MATCH($F112,'Film Data'!G:G,0)))","v":""},{"$f":"\nIF($F112=\"\",\"\",HYPERLINK(INDEX('Film Data'!T:T,MATCH($F112,'Film Data'!G:G,0))))","v":""}]
[null,null,null,null,{"$f":"\nIF(F113<>\"\",COUNTIF($F$7:F113,\"*\")&\".\",\"\")","v":""},null,"","","","",{"$f":"\nIF($F113=\"\",\"\",INDEX('Film Data'!D:D,MATCH($F113,'Film Data'!G:G,0)))","v":""},{"$f":"\nIF($F113=\"\",\"\",INDEX('Film Data'!Q:Q,MATCH($F113,'Film Data'!G:G,0)))","v":""},{"$f":"\nIF($F113=\"\",\"\",INDEX('Film Data'!D:D,MATCH($F113,'Film Data'!G:G,0)))","v":""},{"$f":"\nIF($F113=\"\",\"\",INDEX('Film Data'!F:F,MATCH($F113,'Film Data'!G:G,0)))","v":""},{"$f":"\nIF($F113=\"\",\"\",INDEX('Film Data'!E:E,MATCH($F113,'Film Data'!G:G,0)))","v":""},{"$f":"\nIF($F113=\"\",\"\",INDEX('Film Data'!H:H,MATCH($F113,'Film Data'!G:G,0)))","v":""},{"$f":"\nIF($F113=\"\",\"\",INDEX('Film Data'!I:I,MATCH($F113,'Film Data'!G:G,0)))","v":""},{"$f":"\nIF($F113=\"\",\"\",INDEX('Film Data'!J:J,MATCH($F113,'Film Data'!G:G,0)))","v":""},{"$f":"\nIF($F113=\"\",\"\",INDEX('Film Data'!K:K,MATCH($F113,'Film Data'!G:G,0)))","v":""},{"$f":"\nIF($F113=\"\",\"\",INDEX('Film Data'!Y:Y,MATCH($F113,'Film Data'!G:G,0)))","v":""},{"$f":"\nIF($F113=\"\",\"\",INDEX('Film Data'!Z:Z,MATCH($F113,'Film Data'!G:G,0)))","v":""},{"$f":"\nIF($F113=\"\",\"\",INDEX('Film Data'!L:L,MATCH($F113,'Film Data'!G:G,0)))","v":""},{"$f":"\nIF($F113=\"\",\"\",INDEX('Film Data'!M:M,MATCH($F113,'Film Data'!G:G,0)))","v":""},{"$f":"\nIF($F113=\"\",\"\",INDEX('Film Data'!N:N,MATCH($F113,'Film Data'!G:G,0)))","v":""},{"$f":"\nIF($F113=\"\",\"\",HYPERLINK(INDEX('Film Data'!T:T,MATCH($F113,'Film Data'!G:G,0))))","v":""}]
[null,null,null,null,{"$f":"\nIF(F114<>\"\",COUNTIF($F$7:F114,\"*\")&\".\",\"\")","v":""},null,"","","","",{"$f":"\nIF($F114=\"\",\"\",INDEX('Film Data'!D:D,MATCH($F114,'Film Data'!G:G,0)))","v":""},{"$f":"\nIF($F114=\"\",\"\",INDEX('Film Data'!Q:Q,MATCH($F114,'Film Data'!G:G,0)))","v":""},{"$f":"\nIF($F114=\"\",\"\",INDEX('Film Data'!D:D,MATCH($F114,'Film Data'!G:G,0)))","v":""},{"$f":"\nIF($F114=\"\",\"\",INDEX('Film Data'!F:F,MATCH($F114,'Film Data'!G:G,0)))","v":""},{"$f":"\nIF($F114=\"\",\"\",INDEX('Film Data'!E:E,MATCH($F114,'Film Data'!G:G,0)))","v":""},{"$f":"\nIF($F114=\"\",\"\",INDEX('Film Data'!H:H,MATCH($F114,'Film Data'!G:G,0)))","v":""},{"$f":"\nIF($F114=\"\",\"\",INDEX('Film Data'!I:I,MATCH($F114,'Film Data'!G:G,0)))","v":""},{"$f":"\nIF($F114=\"\",\"\",INDEX('Film Data'!J:J,MATCH($F114,'Film Data'!G:G,0)))","v":""},{"$f":"\nIF($F114=\"\",\"\",INDEX('Film Data'!K:K,MATCH($F114,'Film Data'!G:G,0)))","v":""},{"$f":"\nIF($F114=\"\",\"\",INDEX('Film Data'!Y:Y,MATCH($F114,'Film Data'!G:G,0)))","v":""},{"$f":"\nIF($F114=\"\",\"\",INDEX('Film Data'!Z:Z,MATCH($F114,'Film Data'!G:G,0)))","v":""},{"$f":"\nIF($F114=\"\",\"\",INDEX('Film Data'!L:L,MATCH($F114,'Film Data'!G:G,0)))","v":""},{"$f":"\nIF($F114=\"\",\"\",INDEX('Film Data'!M:M,MATCH($F114,'Film Data'!G:G,0)))","v":""},{"$f":"\nIF($F114=\"\",\"\",INDEX('Film Data'!N:N,MATCH($F114,'Film Data'!G:G,0)))","v":""},{"$f":"\nIF($F114=\"\",\"\",HYPERLINK(INDEX('Film Data'!T:T,MATCH($F114,'Film Data'!G:G,0))))","v":""}]
[null,null,null,null,{"$f":"\nIF(F115<>\"\",COUNTIF($F$7:F115,\"*\")&\".\",\"\")","v":""},null,"","","","",{"$f":"\nIF($F115=\"\",\"\",INDEX('Film Data'!D:D,MATCH($F115,'Film Data'!G:G,0)))","v":""},{"$f":"\nIF($F115=\"\",\"\",INDEX('Film Data'!Q:Q,MATCH($F115,'Film Data'!G:G,0)))","v":""},{"$f":"\nIF($F115=\"\",\"\",INDEX('Film Data'!D:D,MATCH($F115,'Film Data'!G:G,0)))","v":""},{"$f":"\nIF($F115=\"\",\"\",INDEX('Film Data'!F:F,MATCH($F115,'Film Data'!G:G,0)))","v":""},{"$f":"\nIF($F115=\"\",\"\",INDEX('Film Data'!E:E,MATCH($F115,'Film Data'!G:G,0)))","v":""},{"$f":"\nIF($F115=\"\",\"\",INDEX('Film Data'!H:H,MATCH($F115,'Film Data'!G:G,0)))","v":""},{"$f":"\nIF($F115=\"\",\"\",INDEX('Film Data'!I:I,MATCH($F115,'Film Data'!G:G,0)))","v":""},{"$f":"\nIF($F115=\"\",\"\",INDEX('Film Data'!J:J,MATCH($F115,'Film Data'!G:G,0)))","v":""},{"$f":"\nIF($F115=\"\",\"\",INDEX('Film Data'!K:K,MATCH($F115,'Film Data'!G:G,0)))","v":""},{"$f":"\nIF($F115=\"\",\"\",INDEX('Film Data'!Y:Y,MATCH($F115,'Film Data'!G:G,0)))","v":""},{"$f":"\nIF($F115=\"\",\"\",INDEX('Film Data'!Z:Z,MATCH($F115,'Film Data'!G:G,0)))","v":""},{"$f":"\nIF($F115=\"\",\"\",INDEX('Film Data'!L:L,MATCH($F115,'Film Data'!G:G,0)))","v":""},{"$f":"\nIF($F115=\"\",\"\",INDEX('Film Data'!M:M,MATCH($F115,'Film Data'!G:G,0)))","v":""},{"$f":"\nIF($F115=\"\",\"\",INDEX('Film Data'!N:N,MATCH($F115,'Film Data'!G:G,0)))","v":""},{"$f":"\nIF($F115=\"\",\"\",HYPERLINK(INDEX('Film Data'!T:T,MATCH($F115,'Film Data'!G:G,0))))","v":""}]
[null,null,null,null,{"$f":"\nIF(F116<>\"\",COUNTIF($F$7:F116,\"*\")&\".\",\"\")","v":""},null,"","","","",{"$f":"\nIF($F116=\"\",\"\",INDEX('Film Data'!D:D,MATCH($F116,'Film Data'!G:G,0)))","v":""},{"$f":"\nIF($F116=\"\",\"\",INDEX('Film Data'!Q:Q,MATCH($F116,'Film Data'!G:G,0)))","v":""},{"$f":"\nIF($F116=\"\",\"\",INDEX('Film Data'!D:D,MATCH($F116,'Film Data'!G:G,0)))","v":""},{"$f":"\nIF($F116=\"\",\"\",INDEX('Film Data'!F:F,MATCH($F116,'Film Data'!G:G,0)))","v":""},{"$f":"\nIF($F116=\"\",\"\",INDEX('Film Data'!E:E,MATCH($F116,'Film Data'!G:G,0)))","v":""},{"$f":"\nIF($F116=\"\",\"\",INDEX('Film Data'!H:H,MATCH($F116,'Film Data'!G:G,0)))","v":""},{"$f":"\nIF($F116=\"\",\"\",INDEX('Film Data'!I:I,MATCH($F116,'Film Data'!G:G,0)))","v":""},{"$f":"\nIF($F116=\"\",\"\",INDEX('Film Data'!J:J,MATCH($F116,'Film Data'!G:G,0)))","v":""},{"$f":"\nIF($F116=\"\",\"\",INDEX('Film Data'!K:K,MATCH($F116,'Film Data'!G:G,0)))","v":""},{"$f":"\nIF($F116=\"\",\"\",INDEX('Film Data'!Y:Y,MATCH($F116,'Film Data'!G:G,0)))","v":""},{"$f":"\nIF($F116=\"\",\"\",INDEX('Film Data'!Z:Z,MATCH($F116,'Film Data'!G:G,0)))","v":""},{"$f":"\nIF($F116=\"\",\"\",INDEX('Film Data'!L:L,MATCH($F116,'Film Data'!G:G,0)))","v":""},{"$f":"\nIF($F116=\"\",\"\",INDEX('Film Data'!M:M,MATCH($F116,'Film Data'!G:G,0)))","v":""},{"$f":"\nIF($F116=\"\",\"\",INDEX('Film Data'!N:N,MATCH($F116,'Film Data'!G:G,0)))","v":""},{"$f":"\nIF($F116=\"\",\"\",HYPERLINK(INDEX('Film Data'!T:T,MATCH($F116,'Film Data'!G:G,0))))","v":""}]
[null,null,null,null,{"$f":"\nIF(F117<>\"\",COUNTIF($F$7:F117,\"*\")&\".\",\"\")","v":""},null,"","","","",{"$f":"\nIF($F117=\"\",\"\",INDEX('Film Data'!D:D,MATCH($F117,'Film Data'!G:G,0)))","v":""},{"$f":"\nIF($F117=\"\",\"\",INDEX('Film Data'!Q:Q,MATCH($F117,'Film Data'!G:G,0)))","v":""},{"$f":"\nIF($F117=\"\",\"\",INDEX('Film Data'!D:D,MATCH($F117,'Film Data'!G:G,0)))","v":""},{"$f":"\nIF($F117=\"\",\"\",INDEX('Film Data'!F:F,MATCH($F117,'Film Data'!G:G,0)))","v":""},{"$f":"\nIF($F117=\"\",\"\",INDEX('Film Data'!E:E,MATCH($F117,'Film Data'!G:G,0)))","v":""},{"$f":"\nIF($F117=\"\",\"\",INDEX('Film Data'!H:H,MATCH($F117,'Film Data'!G:G,0)))","v":""},{"$f":"\nIF($F117=\"\",\"\",INDEX('Film Data'!I:I,MATCH($F117,'Film Data'!G:G,0)))","v":""},{"$f":"\nIF($F117=\"\",\"\",INDEX('Film Data'!J:J,MATCH($F117,'Film Data'!G:G,0)))","v":""},{"$f":"\nIF($F117=\"\",\"\",INDEX('Film Data'!K:K,MATCH($F117,'Film Data'!G:G,0)))","v":""},{"$f":"\nIF($F117=\"\",\"\",INDEX('Film Data'!Y:Y,MATCH($F117,'Film Data'!G:G,0)))","v":""},{"$f":"\nIF($F117=\"\",\"\",INDEX('Film Data'!Z:Z,MATCH($F117,'Film Data'!G:G,0)))","v":""},{"$f":"\nIF($F117=\"\",\"\",INDEX('Film Data'!L:L,MATCH($F117,'Film Data'!G:G,0)))","v":""},{"$f":"\nIF($F117=\"\",\"\",INDEX('Film Data'!M:M,MATCH($F117,'Film Data'!G:G,0)))","v":""},{"$f":"\nIF($F117=\"\",\"\",INDEX('Film Data'!N:N,MATCH($F117,'Film Data'!G:G,0)))","v":""},{"$f":"\nIF($F117=\"\",\"\",HYPERLINK(INDEX('Film Data'!T:T,MATCH($F117,'Film Data'!G:G,0))))","v":""}]
[null,null,null,null,{"$f":"\nIF(F118<>\"\",COUNTIF($F$7:F118,\"*\")&\".\",\"\")","v":""},null,"","","","",{"$f":"\nIF($F118=\"\",\"\",INDEX('Film Data'!D:D,MATCH($F118,'Film Data'!G:G,0)))","v":""},{"$f":"\nIF($F118=\"\",\"\",INDEX('Film Data'!Q:Q,MATCH($F118,'Film Data'!G:G,0)))","v":""},{"$f":"\nIF($F118=\"\",\"\",INDEX('Film Data'!D:D,MATCH($F118,'Film Data'!G:G,0)))","v":""},{"$f":"\nIF($F118=\"\",\"\",INDEX('Film Data'!F:F,MATCH($F118,'Film Data'!G:G,0)))","v":""},{"$f":"\nIF($F118=\"\",\"\",INDEX('Film Data'!E:E,MATCH($F118,'Film Data'!G:G,0)))","v":""},{"$f":"\nIF($F118=\"\",\"\",INDEX('Film Data'!H:H,MATCH($F118,'Film Data'!G:G,0)))","v":""},{"$f":"\nIF($F118=\"\",\"\",INDEX('Film Data'!I:I,MATCH($F118,'Film Data'!G:G,0)))","v":""},{"$f":"\nIF($F118=\"\",\"\",INDEX('Film Data'!J:J,MATCH($F118,'Film Data'!G:G,0)))","v":""},{"$f":"\nIF($F118=\"\",\"\",INDEX('Film Data'!K:K,MATCH($F118,'Film Data'!G:G,0)))","v":""},{"$f":"\nIF($F118=\"\",\"\",INDEX('Film Data'!Y:Y,MATCH($F118,'Film Data'!G:G,0)))","v":""},{"$f":"\nIF($F118=\"\",\"\",INDEX('Film Data'!Z:Z,MATCH($F118,'Film Data'!G:G,0)))","v":""},{"$f":"\nIF($F118=\"\",\"\",INDEX('Film Data'!L:L,MATCH($F118,'Film Data'!G:G,0)))","v":""},{"$f":"\nIF($F118=\"\",\"\",INDEX('Film Data'!M:M,MATCH($F118,'Film Data'!G:G,0)))","v":""},{"$f":"\nIF($F118=\"\",\"\",INDEX('Film Data'!N:N,MATCH($F118,'Film Data'!G:G,0)))","v":""},{"$f":"\nIF($F118=\"\",\"\",HYPERLINK(INDEX('Film Data'!T:T,MATCH($F118,'Film Data'!G:G,0))))","v":""}]
[null,null,null,null,{"$f":"\nIF(F119<>\"\",COUNTIF($F$7:F119,\"*\")&\".\",\"\")","v":""},null,"","","","",{"$f":"\nIF($F119=\"\",\"\",INDEX('Film Data'!D:D,MATCH($F119,'Film Data'!G:G,0)))","v":""},{"$f":"\nIF($F119=\"\",\"\",INDEX('Film Data'!Q:Q,MATCH($F119,'Film Data'!G:G,0)))","v":""},{"$f":"\nIF($F119=\"\",\"\",INDEX('Film Data'!D:D,MATCH($F119,'Film Data'!G:G,0)))","v":""},{"$f":"\nIF($F119=\"\",\"\",INDEX('Film Data'!F:F,MATCH($F119,'Film Data'!G:G,0)))","v":""},{"$f":"\nIF($F119=\"\",\"\",INDEX('Film Data'!E:E,MATCH($F119,'Film Data'!G:G,0)))","v":""},{"$f":"\nIF($F119=\"\",\"\",INDEX('Film Data'!H:H,MATCH($F119,'Film Data'!G:G,0)))","v":""},{"$f":"\nIF($F119=\"\",\"\",INDEX('Film Data'!I:I,MATCH($F119,'Film Data'!G:G,0)))","v":""},{"$f":"\nIF($F119=\"\",\"\",INDEX('Film Data'!J:J,MATCH($F119,'Film Data'!G:G,0)))","v":""},{"$f":"\nIF($F119=\"\",\"\",INDEX('Film Data'!K:K,MATCH($F119,'Film Data'!G:G,0)))","v":""},{"$f":"\nIF($F119=\"\",\"\",INDEX('Film Data'!Y:Y,MATCH($F119,'Film Data'!G:G,0)))","v":""},{"$f":"\nIF($F119=\"\",\"\",INDEX('Film Data'!Z:Z,MATCH($F119,'Film Data'!G:G,0)))","v":""},{"$f":"\nIF($F119=\"\",\"\",INDEX('Film Data'!L:L,MATCH($F119,'Film Data'!G:G,0)))","v":""},{"$f":"\nIF($F119=\"\",\"\",INDEX('Film Data'!M:M,MATCH($F119,'Film Data'!G:G,0)))","v":""},{"$f":"\nIF($F119=\"\",\"\",INDEX('Film Data'!N:N,MATCH($F119,'Film Data'!G:G,0)))","v":""},{"$f":"\nIF($F119=\"\",\"\",HYPERLINK(INDEX('Film Data'!T:T,MATCH($F119,'Film Data'!G:G,0))))","v":""}]
[null,null,null,null,{"$f":"\nIF(F120<>\"\",COUNTIF($F$7:F120,\"*\")&\".\",\"\")","v":""},null,"","","","",{"$f":"\nIF($F120=\"\",\"\",INDEX('Film Data'!D:D,MATCH($F120,'Film Data'!G:G,0)))","v":""},{"$f":"\nIF($F120=\"\",\"\",INDEX('Film Data'!Q:Q,MATCH($F120,'Film Data'!G:G,0)))","v":""},{"$f":"\nIF($F120=\"\",\"\",INDEX('Film Data'!D:D,MATCH($F120,'Film Data'!G:G,0)))","v":""},{"$f":"\nIF($F120=\"\",\"\",INDEX('Film Data'!F:F,MATCH($F120,'Film Data'!G:G,0)))","v":""},{"$f":"\nIF($F120=\"\",\"\",INDEX('Film Data'!E:E,MATCH($F120,'Film Data'!G:G,0)))","v":""},{"$f":"\nIF($F120=\"\",\"\",INDEX('Film Data'!H:H,MATCH($F120,'Film Data'!G:G,0)))","v":""},{"$f":"\nIF($F120=\"\",\"\",INDEX('Film Data'!I:I,MATCH($F120,'Film Data'!G:G,0)))","v":""},{"$f":"\nIF($F120=\"\",\"\",INDEX('Film Data'!J:J,MATCH($F120,'Film Data'!G:G,0)))","v":""},{"$f":"\nIF($F120=\"\",\"\",INDEX('Film Data'!K:K,MATCH($F120,'Film Data'!G:G,0)))","v":""},{"$f":"\nIF($F120=\"\",\"\",INDEX('Film Data'!Y:Y,MATCH($F120,'Film Data'!G:G,0)))","v":""},{"$f":"\nIF($F120=\"\",\"\",INDEX('Film Data'!Z:Z,MATCH($F120,'Film Data'!G:G,0)))","v":""},{"$f":"\nIF($F120=\"\",\"\",INDEX('Film Data'!L:L,MATCH($F120,'Film Data'!G:G,0)))","v":""},{"$f":"\nIF($F120=\"\",\"\",INDEX('Film Data'!M:M,MATCH($F120,'Film Data'!G:G,0)))","v":""},{"$f":"\nIF($F120=\"\",\"\",INDEX('Film Data'!N:N,MATCH($F120,'Film Data'!G:G,0)))","v":""},{"$f":"\nIF($F120=\"\",\"\",HYPERLINK(INDEX('Film Data'!T:T,MATCH($F120,'Film Data'!G:G,0))))","v":""}]
[null,null,null,null,{"$f":"\nIF(F121<>\"\",COUNTIF($F$7:F121,\"*\")&\".\",\"\")","v":""},null,"","","","",{"$f":"\nIF($F121=\"\",\"\",INDEX('Film Data'!D:D,MATCH($F121,'Film Data'!G:G,0)))","v":""},{"$f":"\nIF($F121=\"\",\"\",INDEX('Film Data'!Q:Q,MATCH($F121,'Film Data'!G:G,0)))","v":""},{"$f":"\nIF($F121=\"\",\"\",INDEX('Film Data'!D:D,MATCH($F121,'Film Data'!G:G,0)))","v":""},{"$f":"\nIF($F121=\"\",\"\",INDEX('Film Data'!F:F,MATCH($F121,'Film Data'!G:G,0)))","v":""},{"$f":"\nIF($F121=\"\",\"\",INDEX('Film Data'!E:E,MATCH($F121,'Film Data'!G:G,0)))","v":""},{"$f":"\nIF($F121=\"\",\"\",INDEX('Film Data'!H:H,MATCH($F121,'Film Data'!G:G,0)))","v":""},{"$f":"\nIF($F121=\"\",\"\",INDEX('Film Data'!I:I,MATCH($F121,'Film Data'!G:G,0)))","v":""},{"$f":"\nIF($F121=\"\",\"\",INDEX('Film Data'!J:J,MATCH($F121,'Film Data'!G:G,0)))","v":""},{"$f":"\nIF($F121=\"\",\"\",INDEX('Film Data'!K:K,MATCH($F121,'Film Data'!G:G,0)))","v":""},{"$f":"\nIF($F121=\"\",\"\",INDEX('Film Data'!Y:Y,MATCH($F121,'Film Data'!G:G,0)))","v":""},{"$f":"\nIF($F121=\"\",\"\",INDEX('Film Data'!Z:Z,MATCH($F121,'Film Data'!G:G,0)))","v":""},{"$f":"\nIF($F121=\"\",\"\",INDEX('Film Data'!L:L,MATCH($F121,'Film Data'!G:G,0)))","v":""},{"$f":"\nIF($F121=\"\",\"\",INDEX('Film Data'!M:M,MATCH($F121,'Film Data'!G:G,0)))","v":""},{"$f":"\nIF($F121=\"\",\"\",INDEX('Film Data'!N:N,MATCH($F121,'Film Data'!G:G,0)))","v":""},{"$f":"\nIF($F121=\"\",\"\",HYPERLINK(INDEX('Film Data'!T:T,MATCH($F121,'Film Data'!G:G,0))))","v":""}]
[null,null,null,null,{"$f":"\nIF(F122<>\"\",COUNTIF($F$7:F122,\"*\")&\".\",\"\")","v":""},null,"","","","",{"$f":"\nIF($F122=\"\",\"\",INDEX('Film Data'!D:D,MATCH($F122,'Film Data'!G:G,0)))","v":""},{"$f":"\nIF($F122=\"\",\"\",INDEX('Film Data'!Q:Q,MATCH($F122,'Film Data'!G:G,0)))","v":""},{"$f":"\nIF($F122=\"\",\"\",INDEX('Film Data'!D:D,MATCH($F122,'Film Data'!G:G,0)))","v":""},{"$f":"\nIF($F122=\"\",\"\",INDEX('Film Data'!F:F,MATCH($F122,'Film Data'!G:G,0)))","v":""},{"$f":"\nIF($F122=\"\",\"\",INDEX('Film Data'!E:E,MATCH($F122,'Film Data'!G:G,0)))","v":""},{"$f":"\nIF($F122=\"\",\"\",INDEX('Film Data'!H:H,MATCH($F122,'Film Data'!G:G,0)))","v":""},{"$f":"\nIF($F122=\"\",\"\",INDEX('Film Data'!I:I,MATCH($F122,'Film Data'!G:G,0)))","v":""},{"$f":"\nIF($F122=\"\",\"\",INDEX('Film Data'!J:J,MATCH($F122,'Film Data'!G:G,0)))","v":""},{"$f":"\nIF($F122=\"\",\"\",INDEX('Film Data'!K:K,MATCH($F122,'Film Data'!G:G,0)))","v":""},{"$f":"\nIF($F122=\"\",\"\",INDEX('Film Data'!Y:Y,MATCH($F122,'Film Data'!G:G,0)))","v":""},{"$f":"\nIF($F122=\"\",\"\",INDEX('Film Data'!Z:Z,MATCH($F122,'Film Data'!G:G,0)))","v":""},{"$f":"\nIF($F122=\"\",\"\",INDEX('Film Data'!L:L,MATCH($F122,'Film Data'!G:G,0)))","v":""},{"$f":"\nIF($F122=\"\",\"\",INDEX('Film Data'!M:M,MATCH($F122,'Film Data'!G:G,0)))","v":""},{"$f":"\nIF($F122=\"\",\"\",INDEX('Film Data'!N:N,MATCH($F122,'Film Data'!G:G,0)))","v":""},{"$f":"\nIF($F122=\"\",\"\",HYPERLINK(INDEX('Film Data'!T:T,MATCH($F122,'Film Data'!G:G,0))))","v":""}]
[null,null,null,null,{"$f":"\nIF(F123<>\"\",COUNTIF($F$7:F123,\"*\")&\".\",\"\")","v":""},null,"","","","",{"$f":"\nIF($F123=\"\",\"\",INDEX('Film Data'!D:D,MATCH($F123,'Film Data'!G:G,0)))","v":""},{"$f":"\nIF($F123=\"\",\"\",INDEX('Film Data'!Q:Q,MATCH($F123,'Film Data'!G:G,0)))","v":""},{"$f":"\nIF($F123=\"\",\"\",INDEX('Film Data'!D:D,MATCH($F123,'Film Data'!G:G,0)))","v":""},{"$f":"\nIF($F123=\"\",\"\",INDEX('Film Data'!F:F,MATCH($F123,'Film Data'!G:G,0)))","v":""},{"$f":"\nIF($F123=\"\",\"\",INDEX('Film Data'!E:E,MATCH($F123,'Film Data'!G:G,0)))","v":""},{"$f":"\nIF($F123=\"\",\"\",INDEX('Film Data'!H:H,MATCH($F123,'Film Data'!G:G,0)))","v":""},{"$f":"\nIF($F123=\"\",\"\",INDEX('Film Data'!I:I,MATCH($F123,'Film Data'!G:G,0)))","v":""},{"$f":"\nIF($F123=\"\",\"\",INDEX('Film Data'!J:J,MATCH($F123,'Film Data'!G:G,0)))","v":""},{"$f":"\nIF($F123=\"\",\"\",INDEX('Film Data'!K:K,MATCH($F123,'Film Data'!G:G,0)))","v":""},{"$f":"\nIF($F123=\"\",\"\",INDEX('Film Data'!Y:Y,MATCH($F123,'Film Data'!G:G,0)))","v":""},{"$f":"\nIF($F123=\"\",\"\",INDEX('Film Data'!Z:Z,MATCH($F123,'Film Data'!G:G,0)))","v":""},{"$f":"\nIF($F123=\"\",\"\",INDEX('Film Data'!L:L,MATCH($F123,'Film Data'!G:G,0)))","v":""},{"$f":"\nIF($F123=\"\",\"\",INDEX('Film Data'!M:M,MATCH($F123,'Film Data'!G:G,0)))","v":""},{"$f":"\nIF($F123=\"\",\"\",INDEX('Film Data'!N:N,MATCH($F123,'Film Data'!G:G,0)))","v":""},{"$f":"\nIF($F123=\"\",\"\",HYPERLINK(INDEX('Film Data'!T:T,MATCH($F123,'Film Data'!G:G,0))))","v":""}]
[null,null,null,null,{"$f":"\nIF(F124<>\"\",COUNTIF($F$7:F124,\"*\")&\".\",\"\")","v":""},null,"","","","",{"$f":"\nIF($F124=\"\",\"\",INDEX('Film Data'!D:D,MATCH($F124,'Film Data'!G:G,0)))","v":""},{"$f":"\nIF($F124=\"\",\"\",INDEX('Film Data'!Q:Q,MATCH($F124,'Film Data'!G:G,0)))","v":""},{"$f":"\nIF($F124=\"\",\"\",INDEX('Film Data'!D:D,MATCH($F124,'Film Data'!G:G,0)))","v":""},{"$f":"\nIF($F124=\"\",\"\",INDEX('Film Data'!F:F,MATCH($F124,'Film Data'!G:G,0)))","v":""},{"$f":"\nIF($F124=\"\",\"\",INDEX('Film Data'!E:E,MATCH($F124,'Film Data'!G:G,0)))","v":""},{"$f":"\nIF($F124=\"\",\"\",INDEX('Film Data'!H:H,MATCH($F124,'Film Data'!G:G,0)))","v":""},{"$f":"\nIF($F124=\"\",\"\",INDEX('Film Data'!I:I,MATCH($F124,'Film Data'!G:G,0)))","v":""},{"$f":"\nIF($F124=\"\",\"\",INDEX('Film Data'!J:J,MATCH($F124,'Film Data'!G:G,0)))","v":""},{"$f":"\nIF($F124=\"\",\"\",INDEX('Film Data'!K:K,MATCH($F124,'Film Data'!G:G,0)))","v":""},{"$f":"\nIF($F124=\"\",\"\",INDEX('Film Data'!Y:Y,MATCH($F124,'Film Data'!G:G,0)))","v":""},{"$f":"\nIF($F124=\"\",\"\",INDEX('Film Data'!Z:Z,MATCH($F124,'Film Data'!G:G,0)))","v":""},{"$f":"\nIF($F124=\"\",\"\",INDEX('Film Data'!L:L,MATCH($F124,'Film Data'!G:G,0)))","v":""},{"$f":"\nIF($F124=\"\",\"\",INDEX('Film Data'!M:M,MATCH($F124,'Film Data'!G:G,0)))","v":""},{"$f":"\nIF($F124=\"\",\"\",INDEX('Film Data'!N:N,MATCH($F124,'Film Data'!G:G,0)))","v":""},{"$f":"\nIF($F124=\"\",\"\",HYPERLINK(INDEX('Film Data'!T:T,MATCH($F124,'Film Data'!G:G,0))))","v":""}]
[null,null,null,null,{"$f":"\nIF(F125<>\"\",COUNTIF($F$7:F125,\"*\")&\".\",\"\")","v":""},null,"","","","",{"$f":"\nIF($F125=\"\",\"\",INDEX('Film Data'!D:D,MATCH($F125,'Film Data'!G:G,0)))","v":""},{"$f":"\nIF($F125=\"\",\"\",INDEX('Film Data'!Q:Q,MATCH($F125,'Film Data'!G:G,0)))","v":""},{"$f":"\nIF($F125=\"\",\"\",INDEX('Film Data'!D:D,MATCH($F125,'Film Data'!G:G,0)))","v":""},{"$f":"\nIF($F125=\"\",\"\",INDEX('Film Data'!F:F,MATCH($F125,'Film Data'!G:G,0)))","v":""},{"$f":"\nIF($F125=\"\",\"\",INDEX('Film Data'!E:E,MATCH($F125,'Film Data'!G:G,0)))","v":""},{"$f":"\nIF($F125=\"\",\"\",INDEX('Film Data'!H:H,MATCH($F125,'Film Data'!G:G,0)))","v":""},{"$f":"\nIF($F125=\"\",\"\",INDEX('Film Data'!I:I,MATCH($F125,'Film Data'!G:G,0)))","v":""},{"$f":"\nIF($F125=\"\",\"\",INDEX('Film Data'!J:J,MATCH($F125,'Film Data'!G:G,0)))","v":""},{"$f":"\nIF($F125=\"\",\"\",INDEX('Film Data'!K:K,MATCH($F125,'Film Data'!G:G,0)))","v":""},{"$f":"\nIF($F125=\"\",\"\",INDEX('Film Data'!Y:Y,MATCH($F125,'Film Data'!G:G,0)))","v":""},{"$f":"\nIF($F125=\"\",\"\",INDEX('Film Data'!Z:Z,MATCH($F125,'Film Data'!G:G,0)))","v":""},{"$f":"\nIF($F125=\"\",\"\",INDEX('Film Data'!L:L,MATCH($F125,'Film Data'!G:G,0)))","v":""},{"$f":"\nIF($F125=\"\",\"\",INDEX('Film Data'!M:M,MATCH($F125,'Film Data'!G:G,0)))","v":""},{"$f":"\nIF($F125=\"\",\"\",INDEX('Film Data'!N:N,MATCH($F125,'Film Data'!G:G,0)))","v":""},{"$f":"\nIF($F125=\"\",\"\",HYPERLINK(INDEX('Film Data'!T:T,MATCH($F125,'Film Data'!G:G,0))))","v":""}]
[null,null,null,null,{"$f":"\nIF(F126<>\"\",COUNTIF($F$7:F126,\"*\")&\".\",\"\")","v":""},null,"","","","",{"$f":"\nIF($F126=\"\",\"\",INDEX('Film Data'!D:D,MATCH($F126,'Film Data'!G:G,0)))","v":""},{"$f":"\nIF($F126=\"\",\"\",INDEX('Film Data'!Q:Q,MATCH($F126,'Film Data'!G:G,0)))","v":""},{"$f":"\nIF($F126=\"\",\"\",INDEX('Film Data'!D:D,MATCH($F126,'Film Data'!G:G,0)))","v":""},{"$f":"\nIF($F126=\"\",\"\",INDEX('Film Data'!F:F,MATCH($F126,'Film Data'!G:G,0)))","v":""},{"$f":"\nIF($F126=\"\",\"\",INDEX('Film Data'!E:E,MATCH($F126,'Film Data'!G:G,0)))","v":""},{"$f":"\nIF($F126=\"\",\"\",INDEX('Film Data'!H:H,MATCH($F126,'Film Data'!G:G,0)))","v":""},{"$f":"\nIF($F126=\"\",\"\",INDEX('Film Data'!I:I,MATCH($F126,'Film Data'!G:G,0)))","v":""},{"$f":"\nIF($F126=\"\",\"\",INDEX('Film Data'!J:J,MATCH($F126,'Film Data'!G:G,0)))","v":""},{"$f":"\nIF($F126=\"\",\"\",INDEX('Film Data'!K:K,MATCH($F126,'Film Data'!G:G,0)))","v":""},{"$f":"\nIF($F126=\"\",\"\",INDEX('Film Data'!Y:Y,MATCH($F126,'Film Data'!G:G,0)))","v":""},{"$f":"\nIF($F126=\"\",\"\",INDEX('Film Data'!Z:Z,MATCH($F126,'Film Data'!G:G,0)))","v":""},{"$f":"\nIF($F126=\"\",\"\",INDEX('Film Data'!L:L,MATCH($F126,'Film Data'!G:G,0)))","v":""},{"$f":"\nIF($F126=\"\",\"\",INDEX('Film Data'!M:M,MATCH($F126,'Film Data'!G:G,0)))","v":""},{"$f":"\nIF($F126=\"\",\"\",INDEX('Film Data'!N:N,MATCH($F126,'Film Data'!G:G,0)))","v":""},{"$f":"\nIF($F126=\"\",\"\",HYPERLINK(INDEX('Film Data'!T:T,MATCH($F126,'Film Data'!G:G,0))))","v":""}]
[null,null,null,null,{"$f":"\nIF(F127<>\"\",COUNTIF($F$7:F127,\"*\")&\".\",\"\")","v":""},null,"","","","",{"$f":"\nIF($F127=\"\",\"\",INDEX('Film Data'!D:D,MATCH($F127,'Film Data'!G:G,0)))","v":""},{"$f":"\nIF($F127=\"\",\"\",INDEX('Film Data'!Q:Q,MATCH($F127,'Film Data'!G:G,0)))","v":""},{"$f":"\nIF($F127=\"\",\"\",INDEX('Film Data'!D:D,MATCH($F127,'Film Data'!G:G,0)))","v":""},{"$f":"\nIF($F127=\"\",\"\",INDEX('Film Data'!F:F,MATCH($F127,'Film Data'!G:G,0)))","v":""},{"$f":"\nIF($F127=\"\",\"\",INDEX('Film Data'!E:E,MATCH($F127,'Film Data'!G:G,0)))","v":""},{"$f":"\nIF($F127=\"\",\"\",INDEX('Film Data'!H:H,MATCH($F127,'Film Data'!G:G,0)))","v":""},{"$f":"\nIF($F127=\"\",\"\",INDEX('Film Data'!I:I,MATCH($F127,'Film Data'!G:G,0)))","v":""},{"$f":"\nIF($F127=\"\",\"\",INDEX('Film Data'!J:J,MATCH($F127,'Film Data'!G:G,0)))","v":""},{"$f":"\nIF($F127=\"\",\"\",INDEX('Film Data'!K:K,MATCH($F127,'Film Data'!G:G,0)))","v":""},{"$f":"\nIF($F127=\"\",\"\",INDEX('Film Data'!Y:Y,MATCH($F127,'Film Data'!G:G,0)))","v":""},{"$f":"\nIF($F127=\"\",\"\",INDEX('Film Data'!Z:Z,MATCH($F127,'Film Data'!G:G,0)))","v":""},{"$f":"\nIF($F127=\"\",\"\",INDEX('Film Data'!L:L,MATCH($F127,'Film Data'!G:G,0)))","v":""},{"$f":"\nIF($F127=\"\",\"\",INDEX('Film Data'!M:M,MATCH($F127,'Film Data'!G:G,0)))","v":""},{"$f":"\nIF($F127=\"\",\"\",INDEX('Film Data'!N:N,MATCH($F127,'Film Data'!G:G,0)))","v":""},{"$f":"\nIF($F127=\"\",\"\",HYPERLINK(INDEX('Film Data'!T:T,MATCH($F127,'Film Data'!G:G,0))))","v":""}]
[null,null,null,null,{"$f":"\nIF(F128<>\"\",COUNTIF($F$7:F128,\"*\")&\".\",\"\")","v":""},null,"","","","",{"$f":"\nIF($F128=\"\",\"\",INDEX('Film Data'!D:D,MATCH($F128,'Film Data'!G:G,0)))","v":""},{"$f":"\nIF($F128=\"\",\"\",INDEX('Film Data'!Q:Q,MATCH($F128,'Film Data'!G:G,0)))","v":""},{"$f":"\nIF($F128=\"\",\"\",INDEX('Film Data'!D:D,MATCH($F128,'Film Data'!G:G,0)))","v":""},{"$f":"\nIF($F128=\"\",\"\",INDEX('Film Data'!F:F,MATCH($F128,'Film Data'!G:G,0)))","v":""},{"$f":"\nIF($F128=\"\",\"\",INDEX('Film Data'!E:E,MATCH($F128,'Film Data'!G:G,0)))","v":""},{"$f":"\nIF($F128=\"\",\"\",INDEX('Film Data'!H:H,MATCH($F128,'Film Data'!G:G,0)))","v":""},{"$f":"\nIF($F128=\"\",\"\",INDEX('Film Data'!I:I,MATCH($F128,'Film Data'!G:G,0)))","v":""},{"$f":"\nIF($F128=\"\",\"\",INDEX('Film Data'!J:J,MATCH($F128,'Film Data'!G:G,0)))","v":""},{"$f":"\nIF($F128=\"\",\"\",INDEX('Film Data'!K:K,MATCH($F128,'Film Data'!G:G,0)))","v":""},{"$f":"\nIF($F128=\"\",\"\",INDEX('Film Data'!Y:Y,MATCH($F128,'Film Data'!G:G,0)))","v":""},{"$f":"\nIF($F128=\"\",\"\",INDEX('Film Data'!Z:Z,MATCH($F128,'Film Data'!G:G,0)))","v":""},{"$f":"\nIF($F128=\"\",\"\",INDEX('Film Data'!L:L,MATCH($F128,'Film Data'!G:G,0)))","v":""},{"$f":"\nIF($F128=\"\",\"\",INDEX('Film Data'!M:M,MATCH($F128,'Film Data'!G:G,0)))","v":""},{"$f":"\nIF($F128=\"\",\"\",INDEX('Film Data'!N:N,MATCH($F128,'Film Data'!G:G,0)))","v":""},{"$f":"\nIF($F128=\"\",\"\",HYPERLINK(INDEX('Film Data'!T:T,MATCH($F128,'Film Data'!G:G,0))))","v":""}]
[null,null,null,null,{"$f":"\nIF(F129<>\"\",COUNTIF($F$7:F129,\"*\")&\".\",\"\")","v":""},null,"","","","",{"$f":"\nIF($F129=\"\",\"\",INDEX('Film Data'!D:D,MATCH($F129,'Film Data'!G:G,0)))","v":""},{"$f":"\nIF($F129=\"\",\"\",INDEX('Film Data'!Q:Q,MATCH($F129,'Film Data'!G:G,0)))","v":""},{"$f":"\nIF($F129=\"\",\"\",INDEX('Film Data'!D:D,MATCH($F129,'Film Data'!G:G,0)))","v":""},{"$f":"\nIF($F129=\"\",\"\",INDEX('Film Data'!F:F,MATCH($F129,'Film Data'!G:G,0)))","v":""},{"$f":"\nIF($F129=\"\",\"\",INDEX('Film Data'!E:E,MATCH($F129,'Film Data'!G:G,0)))","v":""},{"$f":"\nIF($F129=\"\",\"\",INDEX('Film Data'!H:H,MATCH($F129,'Film Data'!G:G,0)))","v":""},{"$f":"\nIF($F129=\"\",\"\",INDEX('Film Data'!I:I,MATCH($F129,'Film Data'!G:G,0)))","v":""},{"$f":"\nIF($F129=\"\",\"\",INDEX('Film Data'!J:J,MATCH($F129,'Film Data'!G:G,0)))","v":""},{"$f":"\nIF($F129=\"\",\"\",INDEX('Film Data'!K:K,MATCH($F129,'Film Data'!G:G,0)))","v":""},{"$f":"\nIF($F129=\"\",\"\",INDEX('Film Data'!Y:Y,MATCH($F129,'Film Data'!G:G,0)))","v":""},{"$f":"\nIF($F129=\"\",\"\",INDEX('Film Data'!Z:Z,MATCH($F129,'Film Data'!G:G,0)))","v":""},{"$f":"\nIF($F129=\"\",\"\",INDEX('Film Data'!L:L,MATCH($F129,'Film Data'!G:G,0)))","v":""},{"$f":"\nIF($F129=\"\",\"\",INDEX('Film Data'!M:M,MATCH($F129,'Film Data'!G:G,0)))","v":""},{"$f":"\nIF($F129=\"\",\"\",INDEX('Film Data'!N:N,MATCH($F129,'Film Data'!G:G,0)))","v":""},{"$f":"\nIF($F129=\"\",\"\",HYPERLINK(INDEX('Film Data'!T:T,MATCH($F129,'Film Data'!G:G,0))))","v":""}]
[null,null,null,null,{"$f":"\nIF(F130<>\"\",COUNTIF($F$7:F130,\"*\")&\".\",\"\")","v":""},null,"","","","",{"$f":"\nIF($F130=\"\",\"\",INDEX('Film Data'!D:D,MATCH($F130,'Film Data'!G:G,0)))","v":""},{"$f":"\nIF($F130=\"\",\"\",INDEX('Film Data'!Q:Q,MATCH($F130,'Film Data'!G:G,0)))","v":""},{"$f":"\nIF($F130=\"\",\"\",INDEX('Film Data'!D:D,MATCH($F130,'Film Data'!G:G,0)))","v":""},{"$f":"\nIF($F130=\"\",\"\",INDEX('Film Data'!F:F,MATCH($F130,'Film Data'!G:G,0)))","v":""},{"$f":"\nIF($F130=\"\",\"\",INDEX('Film Data'!E:E,MATCH($F130,'Film Data'!G:G,0)))","v":""},{"$f":"\nIF($F130=\"\",\"\",INDEX('Film Data'!H:H,MATCH($F130,'Film Data'!G:G,0)))","v":""},{"$f":"\nIF($F130=\"\",\"\",INDEX('Film Data'!I:I,MATCH($F130,'Film Data'!G:G,0)))","v":""},{"$f":"\nIF($F130=\"\",\"\",INDEX('Film Data'!J:J,MATCH($F130,'Film Data'!G:G,0)))","v":""},{"$f":"\nIF($F130=\"\",\"\",INDEX('Film Data'!K:K,MATCH($F130,'Film Data'!G:G,0)))","v":""},{"$f":"\nIF($F130=\"\",\"\",INDEX('Film Data'!Y:Y,MATCH($F130,'Film Data'!G:G,0)))","v":""},{"$f":"\nIF($F130=\"\",\"\",INDEX('Film Data'!Z:Z,MATCH($F130,'Film Data'!G:G,0)))","v":""},{"$f":"\nIF($F130=\"\",\"\",INDEX('Film Data'!L:L,MATCH($F130,'Film Data'!G:G,0)))","v":""},{"$f":"\nIF($F130=\"\",\"\",INDEX('Film Data'!M:M,MATCH($F130,'Film Data'!G:G,0)))","v":""},{"$f":"\nIF($F130=\"\",\"\",INDEX('Film Data'!N:N,MATCH($F130,'Film Data'!G:G,0)))","v":""},{"$f":"\nIF($F130=\"\",\"\",HYPERLINK(INDEX('Film Data'!T:T,MATCH($F130,'Film Data'!G:G,0))))","v":""}]
[null,null,null,null,{"$f":"\nIF(F131<>\"\",COUNTIF($F$7:F131,\"*\")&\".\",\"\")","v":""},null,"","","","",{"$f":"\nIF($F131=\"\",\"\",INDEX('Film Data'!D:D,MATCH($F131,'Film Data'!G:G,0)))","v":""},{"$f":"\nIF($F131=\"\",\"\",INDEX('Film Data'!Q:Q,MATCH($F131,'Film Data'!G:G,0)))","v":""},{"$f":"\nIF($F131=\"\",\"\",INDEX('Film Data'!D:D,MATCH($F131,'Film Data'!G:G,0)))","v":""},{"$f":"\nIF($F131=\"\",\"\",INDEX('Film Data'!F:F,MATCH($F131,'Film Data'!G:G,0)))","v":""},{"$f":"\nIF($F131=\"\",\"\",INDEX('Film Data'!E:E,MATCH($F131,'Film Data'!G:G,0)))","v":""},{"$f":"\nIF($F131=\"\",\"\",INDEX('Film Data'!H:H,MATCH($F131,'Film Data'!G:G,0)))","v":""},{"$f":"\nIF($F131=\"\",\"\",INDEX('Film Data'!I:I,MATCH($F131,'Film Data'!G:G,0)))","v":""},{"$f":"\nIF($F131=\"\",\"\",INDEX('Film Data'!J:J,MATCH($F131,'Film Data'!G:G,0)))","v":""},{"$f":"\nIF($F131=\"\",\"\",INDEX('Film Data'!K:K,MATCH($F131,'Film Data'!G:G,0)))","v":""},{"$f":"\nIF($F131=\"\",\"\",INDEX('Film Data'!Y:Y,MATCH($F131,'Film Data'!G:G,0)))","v":""},{"$f":"\nIF($F131=\"\",\"\",INDEX('Film Data'!Z:Z,MATCH($F131,'Film Data'!G:G,0)))","v":""},{"$f":"\nIF($F131=\"\",\"\",INDEX('Film Data'!L:L,MATCH($F131,'Film Data'!G:G,0)))","v":""},{"$f":"\nIF($F131=\"\",\"\",INDEX('Film Data'!M:M,MATCH($F131,'Film Data'!G:G,0)))","v":""},{"$f":"\nIF($F131=\"\",\"\",INDEX('Film Data'!N:N,MATCH($F131,'Film Data'!G:G,0)))","v":""},{"$f":"\nIF($F131=\"\",\"\",HYPERLINK(INDEX('Film Data'!T:T,MATCH($F131,'Film Data'!G:G,0))))","v":""}]
[null,null,null,null,{"$f":"\nIF(F132<>\"\",COUNTIF($F$7:F132,\"*\")&\".\",\"\")","v":""},null,"","","","",{"$f":"\nIF($F132=\"\",\"\",INDEX('Film Data'!D:D,MATCH($F132,'Film Data'!G:G,0)))","v":""},{"$f":"\nIF($F132=\"\",\"\",INDEX('Film Data'!Q:Q,MATCH($F132,'Film Data'!G:G,0)))","v":""},{"$f":"\nIF($F132=\"\",\"\",INDEX('Film Data'!D:D,MATCH($F132,'Film Data'!G:G,0)))","v":""},{"$f":"\nIF($F132=\"\",\"\",INDEX('Film Data'!F:F,MATCH($F132,'Film Data'!G:G,0)))","v":""},{"$f":"\nIF($F132=\"\",\"\",INDEX('Film Data'!E:E,MATCH($F132,'Film Data'!G:G,0)))","v":""},{"$f":"\nIF($F132=\"\",\"\",INDEX('Film Data'!H:H,MATCH($F132,'Film Data'!G:G,0)))","v":""},{"$f":"\nIF($F132=\"\",\"\",INDEX('Film Data'!I:I,MATCH($F132,'Film Data'!G:G,0)))","v":""},{"$f":"\nIF($F132=\"\",\"\",INDEX('Film Data'!J:J,MATCH($F132,'Film Data'!G:G,0)))","v":""},{"$f":"\nIF($F132=\"\",\"\",INDEX('Film Data'!K:K,MATCH($F132,'Film Data'!G:G,0)))","v":""},{"$f":"\nIF($F132=\"\",\"\",INDEX('Film Data'!Y:Y,MATCH($F132,'Film Data'!G:G,0)))","v":""},{"$f":"\nIF($F132=\"\",\"\",INDEX('Film Data'!Z:Z,MATCH($F132,'Film Data'!G:G,0)))","v":""},{"$f":"\nIF($F132=\"\",\"\",INDEX('Film Data'!L:L,MATCH($F132,'Film Data'!G:G,0)))","v":""},{"$f":"\nIF($F132=\"\",\"\",INDEX('Film Data'!M:M,MATCH($F132,'Film Data'!G:G,0)))","v":""},{"$f":"\nIF($F132=\"\",\"\",INDEX('Film Data'!N:N,MATCH($F132,'Film Data'!G:G,0)))","v":""},{"$f":"\nIF($F132=\"\",\"\",HYPERLINK(INDEX('Film Data'!T:T,MATCH($F132,'Film Data'!G:G,0))))","v":""}]
[null,null,null,null,{"$f":"\nIF(F133<>\"\",COUNTIF($F$7:F133,\"*\")&\".\",\"\")","v":""},null,"","","","",{"$f":"\nIF($F133=\"\",\"\",INDEX('Film Data'!D:D,MATCH($F133,'Film Data'!G:G,0)))","v":""},{"$f":"\nIF($F133=\"\",\"\",INDEX('Film Data'!Q:Q,MATCH($F133,'Film Data'!G:G,0)))","v":""},{"$f":"\nIF($F133=\"\",\"\",INDEX('Film Data'!D:D,MATCH($F133,'Film Data'!G:G,0)))","v":""},{"$f":"\nIF($F133=\"\",\"\",INDEX('Film Data'!F:F,MATCH($F133,'Film Data'!G:G,0)))","v":""},{"$f":"\nIF($F133=\"\",\"\",INDEX('Film Data'!E:E,MATCH($F133,'Film Data'!G:G,0)))","v":""},{"$f":"\nIF($F133=\"\",\"\",INDEX('Film Data'!H:H,MATCH($F133,'Film Data'!G:G,0)))","v":""},{"$f":"\nIF($F133=\"\",\"\",INDEX('Film Data'!I:I,MATCH($F133,'Film Data'!G:G,0)))","v":""},{"$f":"\nIF($F133=\"\",\"\",INDEX('Film Data'!J:J,MATCH($F133,'Film Data'!G:G,0)))","v":""},{"$f":"\nIF($F133=\"\",\"\",INDEX('Film Data'!K:K,MATCH($F133,'Film Data'!G:G,0)))","v":""},{"$f":"\nIF($F133=\"\",\"\",INDEX('Film Data'!Y:Y,MATCH($F133,'Film Data'!G:G,0)))","v":""},{"$f":"\nIF($F133=\"\",\"\",INDEX('Film Data'!Z:Z,MATCH($F133,'Film Data'!G:G,0)))","v":""},{"$f":"\nIF($F133=\"\",\"\",INDEX('Film Data'!L:L,MATCH($F133,'Film Data'!G:G,0)))","v":""},{"$f":"\nIF($F133=\"\",\"\",INDEX('Film Data'!M:M,MATCH($F133,'Film Data'!G:G,0)))","v":""},{"$f":"\nIF($F133=\"\",\"\",INDEX('Film Data'!N:N,MATCH($F133,'Film Data'!G:G,0)))","v":""},{"$f":"\nIF($F133=\"\",\"\",HYPERLINK(INDEX('Film Data'!T:T,MATCH($F133,'Film Data'!G:G,0))))","v":""}]
[null,null,null,null,{"$f":"\nIF(F134<>\"\",COUNTIF($F$7:F134,\"*\")&\".\",\"\")","v":""},null,"","","","",{"$f":"\nIF($F134=\"\",\"\",INDEX('Film Data'!D:D,MATCH($F134,'Film Data'!G:G,0)))","v":""},{"$f":"\nIF($F134=\"\",\"\",INDEX('Film Data'!Q:Q,MATCH($F134,'Film Data'!G:G,0)))","v":""},{"$f":"\nIF($F134=\"\",\"\",INDEX('Film Data'!D:D,MATCH($F134,'Film Data'!G:G,0)))","v":""},{"$f":"\nIF($F134=\"\",\"\",INDEX('Film Data'!F:F,MATCH($F134,'Film Data'!G:G,0)))","v":""},{"$f":"\nIF($F134=\"\",\"\",INDEX('Film Data'!E:E,MATCH($F134,'Film Data'!G:G,0)))","v":""},{"$f":"\nIF($F134=\"\",\"\",INDEX('Film Data'!H:H,MATCH($F134,'Film Data'!G:G,0)))","v":""},{"$f":"\nIF($F134=\"\",\"\",INDEX('Film Data'!I:I,MATCH($F134,'Film Data'!G:G,0)))","v":""},{"$f":"\nIF($F134=\"\",\"\",INDEX('Film Data'!J:J,MATCH($F134,'Film Data'!G:G,0)))","v":""},{"$f":"\nIF($F134=\"\",\"\",INDEX('Film Data'!K:K,MATCH($F134,'Film Data'!G:G,0)))","v":""},{"$f":"\nIF($F134=\"\",\"\",INDEX('Film Data'!Y:Y,MATCH($F134,'Film Data'!G:G,0)))","v":""},{"$f":"\nIF($F134=\"\",\"\",INDEX('Film Data'!Z:Z,MATCH($F134,'Film Data'!G:G,0)))","v":""},{"$f":"\nIF($F134=\"\",\"\",INDEX('Film Data'!L:L,MATCH($F134,'Film Data'!G:G,0)))","v":""},{"$f":"\nIF($F134=\"\",\"\",INDEX('Film Data'!M:M,MATCH($F134,'Film Data'!G:G,0)))","v":""},{"$f":"\nIF($F134=\"\",\"\",INDEX('Film Data'!N:N,MATCH($F134,'Film Data'!G:G,0)))","v":""},{"$f":"\nIF($F134=\"\",\"\",HYPERLINK(INDEX('Film Data'!T:T,MATCH($F134,'Film Data'!G:G,0))))","v":""}]
[null,null,null,null,{"$f":"\nIF(F135<>\"\",COUNTIF($F$7:F135,\"*\")&\".\",\"\")","v":""},null,{"$f":"\nIF(F135=\"\",\"\",CONCATENATE(P135,\"V\",Q135,\" \",R135,\"uF\"))","v":""},"","","",{"$f":"\nIF($F135=\"\",\"\",INDEX('Film Data'!D:D,MATCH($F135,'Film Data'!G:G,0)))","v":""},{"$f":"\nIF($F135=\"\",\"\",INDEX('Film Data'!Q:Q,MATCH($F135,'Film Data'!G:G,0)))","v":""},{"$f":"\nIF($F135=\"\",\"\",INDEX('Film Data'!D:D,MATCH($F135,'Film Data'!G:G,0)))","v":""},{"$f":"\nIF($F135=\"\",\"\",INDEX('Film Data'!F:F,MATCH($F135,'Film Data'!G:G,0)))","v":""},{"$f":"\nIF($F135=\"\",\"\",INDEX('Film Data'!E:E,MATCH($F135,'Film Data'!G:G,0)))","v":""},{"$f":"\nIF($F135=\"\",\"\",INDEX('Film Data'!H:H,MATCH($F135,'Film Data'!G:G,0)))","v":""},{"$f":"\nIF($F135=\"\",\"\",INDEX('Film Data'!I:I,MATCH($F135,'Film Data'!G:G,0)))","v":""},{"$f":"\nIF($F135=\"\",\"\",INDEX('Film Data'!J:J,MATCH($F135,'Film Data'!G:G,0)))","v":""},{"$f":"\nIF($F135=\"\",\"\",INDEX('Film Data'!K:K,MATCH($F135,'Film Data'!G:G,0)))","v":""},{"$f":"\nIF($F135=\"\",\"\",INDEX('Film Data'!Y:Y,MATCH($F135,'Film Data'!G:G,0)))","v":""},{"$f":"\nIF($F135=\"\",\"\",INDEX('Film Data'!Z:Z,MATCH($F135,'Film Data'!G:G,0)))","v":""},{"$f":"\nIF($F135=\"\",\"\",INDEX('Film Data'!L:L,MATCH($F135,'Film Data'!G:G,0)))","v":""},{"$f":"\nIF($F135=\"\",\"\",INDEX('Film Data'!M:M,MATCH($F135,'Film Data'!G:G,0)))","v":""},{"$f":"\nIF($F135=\"\",\"\",INDEX('Film Data'!N:N,MATCH($F135,'Film Data'!G:G,0)))","v":""},{"$f":"\nIF($F135=\"\",\"\",HYPERLINK(INDEX('Film Data'!T:T,MATCH($F135,'Film Data'!G:G,0))))","v":""}]
[null,null,null,null,{"$f":"\nIF(F136<>\"\",COUNTIF($F$7:F137,\"*\")&\".\",\"\")","v":""},null,"","","","",{"$f":"\nIF($F136=\"\",\"\",INDEX('Film Data'!D:D,MATCH($F136,'Film Data'!G:G,0)))","v":""},{"$f":"\nIF($F136=\"\",\"\",INDEX('Film Data'!Q:Q,MATCH($F136,'Film Data'!G:G,0)))","v":""},{"$f":"\nIF($F136=\"\",\"\",INDEX('Film Data'!D:D,MATCH($F136,'Film Data'!G:G,0)))","v":""},{"$f":"\nIF($F136=\"\",\"\",INDEX('Film Data'!F:F,MATCH($F136,'Film Data'!G:G,0)))","v":""},{"$f":"\nIF($F136=\"\",\"\",INDEX('Film Data'!E:E,MATCH($F136,'Film Data'!G:G,0)))","v":""},{"$f":"\nIF($F136=\"\",\"\",INDEX('Film Data'!H:H,MATCH($F136,'Film Data'!G:G,0)))","v":""},{"$f":"\nIF($F136=\"\",\"\",INDEX('Film Data'!I:I,MATCH($F136,'Film Data'!G:G,0)))","v":""},{"$f":"\nIF($F136=\"\",\"\",INDEX('Film Data'!J:J,MATCH($F136,'Film Data'!G:G,0)))","v":""},{"$f":"\nIF($F136=\"\",\"\",INDEX('Film Data'!K:K,MATCH($F136,'Film Data'!G:G,0)))","v":""},{"$f":"\nIF($F136=\"\",\"\",INDEX('Film Data'!Y:Y,MATCH($F136,'Film Data'!G:G,0)))","v":""},{"$f":"\nIF($F136=\"\",\"\",INDEX('Film Data'!Z:Z,MATCH($F136,'Film Data'!G:G,0)))","v":""},{"$f":"\nIF($F136=\"\",\"\",INDEX('Film Data'!L:L,MATCH($F136,'Film Data'!G:G,0)))","v":""},{"$f":"\nIF($F136=\"\",\"\",INDEX('Film Data'!M:M,MATCH($F136,'Film Data'!G:G,0)))","v":""},{"$f":"\nIF($F136=\"\",\"\",INDEX('Film Data'!N:N,MATCH($F136,'Film Data'!G:G,0)))","v":""},{"$f":"\nIF($F136=\"\",\"\",HYPERLINK(INDEX('Film Data'!T:T,MATCH($F136,'Film Data'!G:G,0))))","v":""}]
[null,null,null,null,{"$f":"\nIF(F137<>\"\",COUNTIF($F$7:F137,\"*\")&\".\",\"\")","v":""},null,"",{"$f":"\nIF(F137=\"\",\"\",CONCATENATE(\"Tol. \",S137,\"%\"))","v":""},"",{"$f":"\nIF(F137=\"\",\"\",CONCATENATE(\"L\"&V137,\"x W\",W137,\" x H\",X137))","v":""},{"$f":"\nIF($F137=\"\",\"\",INDEX('Film Data'!D:D,MATCH($F137,'Film Data'!G:G,0)))","v":""},{"$f":"\nIF($F137=\"\",\"\",INDEX('Film Data'!Q:Q,MATCH($F137,'Film Data'!G:G,0)))","v":""},{"$f":"\nIF($F137=\"\",\"\",INDEX('Film Data'!D:D,MATCH($F137,'Film Data'!G:G,0)))","v":""},{"$f":"\nIF($F137=\"\",\"\",INDEX('Film Data'!F:F,MATCH($F137,'Film Data'!G:G,0)))","v":""},{"$f":"\nIF($F137=\"\",\"\",INDEX('Film Data'!E:E,MATCH($F137,'Film Data'!G:G,0)))","v":""},{"$f":"\nIF($F137=\"\",\"\",INDEX('Film Data'!H:H,MATCH($F137,'Film Data'!G:G,0)))","v":""},{"$f":"\nIF($F137=\"\",\"\",INDEX('Film Data'!I:I,MATCH($F137,'Film Data'!G:G,0)))","v":""},{"$f":"\nIF($F137=\"\",\"\",INDEX('Film Data'!J:J,MATCH($F137,'Film Data'!G:G,0)))","v":""},{"$f":"\nIF($F137=\"\",\"\",INDEX('Film Data'!K:K,MATCH($F137,'Film Data'!G:G,0)))","v":""},{"$f":"\nIF($F137=\"\",\"\",INDEX('Film Data'!Y:Y,MATCH($F137,'Film Data'!G:G,0)))","v":""},{"$f":"\nIF($F137=\"\",\"\",INDEX('Film Data'!Z:Z,MATCH($F137,'Film Data'!G:G,0)))","v":""},{"$f":"\nIF($F137=\"\",\"\",INDEX('Film Data'!L:L,MATCH($F137,'Film Data'!G:G,0)))","v":""},{"$f":"\nIF($F137=\"\",\"\",INDEX('Film Data'!M:M,MATCH($F137,'Film Data'!G:G,0)))","v":""},{"$f":"\nIF($F137=\"\",\"\",INDEX('Film Data'!N:N,MATCH($F137,'Film Data'!G:G,0)))","v":""},{"$f":"\nIF($F137=\"\",\"\",HYPERLINK(INDEX('Film Data'!T:T,MATCH($F137,'Film Data'!G:G,0))))","v":""}]

{"sheet":"Film Data","index":3,"n_rows":7412,"n_cols":34,"rows_kept":2250,"cut":true,"hidden":true,"merged":[],"bounds":{"rows_first":1000,"rows_last":250,"rows_between":1000,"halvings":1}}
[null,"Film Capacitors"]
[]
[]
[]
[]
[]
[null,null,null,null,null,"Note: EZPV is automotive grade except ***TA / TB / TC."]
[null,null,null,null,null,"↓",null,null,null,null,null,null,null,null,null,null,null,null,null,null,null,null,null,null,null,null,null,"Not used"]
[null,"↓成型後データ(PBI出力)貼り付け",null,null,null,null,null,null,null,null,null,null,null,null,null,null,null,null,null,null,null,null,null,null,null,null,null,null,null,null,null,"SMD, Crimped, Straight","yes, no"]
["Check","Status","Type","Dielectric Material","Automotive grade","Series","PartNumber","Rated \nVoltage (V)","Voltage type","Capacitance\n(uF)","Tolerance on capacitance\n(%)","Body length / dia\n(mm)","Body width\n(mm)","Max\nHeight\n(mm)","Lead Space P1\n(mm)","Shape of lead wire","Category Temperature Range \n(°C)","Packaging Type","MOQ\n(pcs)","URL","Length [Rough] (mm)","Width [Rough] (mm)","Height [Rough] (mm)","L x W (mm)","Permissible Current (Arms)","ESR (mΩ)","Remark","Terminal length\n(mm)","Numbers of leads","lead Ø\n(mm)","Lead Space P2\n(mm)","Terminal style","Cut version","Tangent\nof Loss \nAngle\n(at 1kHz / 20°C)"]
[null,"Std","box","PP","Yes","EZPV","EZPV80905MTU",800,"DC",9,"±10",31,20.5,41.5,27.5,"Short cut lead wire type","-40 to 105 (85)","Other package",200,"https://industrial.panasonic.com/ww/products/pt/automotive-film-cap/models/EZPV80905MTU",{"$f":"IF(L11<=9.5,\"≤ \"&ROUNDUP(L11*1,0)/1,\"≤\"&ROUNDUP(L11*1,0)/1)","v":"≤31"},{"$f":"IF(M11<=9,\"≤ \"&ROUNDUP(M11*1,0)/1,\"≤\"&ROUNDUP(M11*1,0)/1)","v":"≤21"},{"$f":"IF(N11<=9.5,\"≤ \"&ROUNDUP(N11*2,0)/2,\"≤\"&ROUNDUP(N11*2,0)/2)","v":"≤41.5"},{"$f":"pana_film[[#This Row],[Body length / dia\n(mm)]]&\" x \"&pana_film[[#This Row],[Body width\n(mm)]]","v":"31 x 20.5"},{"$f":"INDEX('IR Data'!K:K,MATCH(pana_film[[#This Row],[PartNumber]],'IR Data'!I:I,0))","v":12.3},{"$f":"INDEX('IR Data'!L:L,MATCH(pana_film[[#This Row],[PartNumber]],'IR Data'!I:I,0))","v":12.6}]
[null,"Std","box","PP","No","EZPV","EZPV80905MTA",800,"DC",9,"±10",31,20.5,41.5,27.5,"Short cut lead wire type","-40 to 105 (85)","Other package",200,"https://industrial.panasonic.com/ww/products/pt/automotive-film-cap/models/EZPV80905MTA",{"$f":"IF(L12<=9.5,\"≤ \"&ROUNDUP(L12*1,0)/1,\"≤\"&ROUNDUP(L12*1,0)/1)","v":"≤31"},{"$f":"IF(M12<=9,\"≤ \"&ROUNDUP(M12*1,0)/1,\"≤\"&ROUNDUP(M12*1,0)/1)","v":"≤21"},{"$f":"IF(N12<=9.5,\"≤ \"&ROUNDUP(N12*2,0)/2,\"≤\"&ROUNDUP(N12*2,0)/2)","v":"≤41.5"},{"$f":"pana_film[[#This Row],[Body length / dia\n(mm)]]&\" x \"&pana_film[[#This Row],[Body width\n(mm)]]","v":"31 x 20.5"},{"$f":"INDEX('IR Data'!K:K,MATCH(pana_film[[#This Row],[PartNumber]],'IR Data'!I:I,0))","v":12.3},{"$f":"INDEX('IR Data'!L:L,MATCH(pana_film[[#This Row],[PartNumber]],'IR Data'!I:I,0))","v":12.6}]
[null,"Std","box","PP","Yes","EZPV","EZPV80905LTU",800,"DC",9,"±10",31,20.5,41.5,27.5,"Short cut lead wire type","-40 to 105 (85)","Other package",200,"https://industrial.panasonic.com/ww/products/pt/automotive-film-cap/models/EZPV80905LTU","≤31","≤21","≤41.5",{"$f":"pana_film[[#This Row],[Body length / dia\n(mm)]]&\" x \"&pana_film[[#This Row],[Body width\n(mm)]]","v":"31 x 20.5"},{"$f":"INDEX('IR Data'!K:K,MATCH(pana_film[[#This Row],[PartNumber]],'IR Data'!I:I,0))","v":12.3},{"$f":"INDEX('IR Data'!L:L,MATCH(pana_film[[#This Row],[PartNumber]],'IR Data'!I:I,0))","v":12.6}]
[null,"Std","box","PP","Yes","EZPV","EZPV80905LTT",800,"DC",9,"±10",41,17,34.5,37.5,"Short cut lead wire type","-40 to 105 (85)","Other package",300,"https://industrial.panasonic.com/ww/products/pt/automotive-film-cap/models/EZPV80905LTT","≤41","≤17","≤34.5",{"$f":"pana_film[[#This Row],[Body length / dia\n(mm)]]&\" x \"&pana_film[[#This Row],[Body width\n(mm)]]","v":"41 x 17"},{"$f":"INDEX('IR Data'!K:K,MATCH(pana_film[[#This Row],[PartNumber]],'IR Data'!I:I,0))","v":8.9},{"$f":"INDEX('IR Data'!L:L,MATCH(pana_film[[#This Row],[PartNumber]],'IR Data'!I:I,0))","v":15.6}]
[null,"Std","box","PP","No","EZPV","EZPV80905LTB",800,"DC",9,"±10",41,17,34.5,37.5,"Short cut lead wire type","-40 to 105 (85)","Other package",300,"https://industrial.panasonic.com/ww/products/pt/automotive-film-cap/models/EZPV80905LTB","≤41","≤17","≤34.5",{"$f":"pana_film[[#This Row],[Body length / dia\n(mm)]]&\" x \"&pana_film[[#This Row],[Body width\n(mm)]]","v":"41 x 17"},{"$f":"INDEX('IR Data'!K:K,MATCH(pana_film[[#This Row],[PartNumber]],'IR Data'!I:I,0))","v":8.9},{"$f":"INDEX('IR Data'!L:L,MATCH(pana_film[[#This Row],[PartNumber]],'IR Data'!I:I,0))","v":15.6}]
[null,"Std","box","PP","No","EZPV","EZPV80905LTA",800,"DC",9,"±10",31,20.5,41.5,27.5,"Short cut lead wire type","-40 to 105 (85)","Other package",200,"https://industrial.panasonic.com/ww/products/pt/automotive-film-cap/models/EZPV80905LTA","≤31","≤21","≤41.5",{"$f":"pana_film[[#This Row],[Body length / dia\n(mm)]]&\" x \"&pana_film[[#This Row],[Body width\n(mm)]]","v":"31 x 20.5"},{"$f":"INDEX('IR Data'!K:K,MATCH(pana_film[[#This Row],[PartNumber]],'IR Data'!I:I,0))","v":12.3},{"$f":"INDEX('IR Data'!L:L,MATCH(pana_film[[#This Row],[PartNumber]],'IR Data'!I:I,0))","v":12.6}]
[null,"Std","box","PP","Yes","EZPV","EZPV80805LTT",800,"DC",8,"±10",41,17,34.5,37.5,"Short cut lead wire type","-40 to 105 (85)","Other package",300,"https://industrial.panasonic.com/ww/products/pt/automotive-film-cap/models/EZPV80805LTT","≤41","≤17","≤34.5",{"$f":"pana_film[[#This Row],[Body length / dia\n(mm)]]&\" x \"&pana_film[[#This Row],[Body width\n(mm)]]","v":"41 x 17"},{"$f":"INDEX('IR Data'!K:K,MATCH(pana_film[[#This Row],[PartNumber]],'IR Data'!I:I,0))","v":8.1999999999999993},{"$f":"INDEX('IR Data'!L:L,MATCH(pana_film[[#This Row],[PartNumber]],'IR Data'!I:I,0))","v":17.100000000000001}]
[null,"Std","box","PP","No","EZPV","EZPV80805LTB",800,"DC",8,"±10",41,17,34.5,37.5,"Short cut lead wire type","-40 to 105 (85)","Other package",300,"https://industrial.panasonic.com/ww/products/pt/automotive-film-cap/models/EZPV80805LTB","≤41","≤17","≤34.5",{"$f":"pana_film[[#This Row],[Body length / dia\n(mm)]]&\" x \"&pana_film[[#This Row],[Body width\n(mm)]]","v":"41 x 17"},{"$f":"INDEX('IR Data'!K:K,MATCH(pana_film[[#This Row],[PartNumber]],'IR Data'!I:I,0))","v":8.1999999999999993},{"$f":"INDEX('IR Data'!L:L,MATCH(pana_film[[#This Row],[PartNumber]],'IR Data'!I:I,0))","v":17.100000000000001}]
[null,"Std","box","PP","Yes","EZPV","EZPV80656MTS",800,"DC",65,"±10",57.5,35,64.5,52.5,"Short cut lead wire type","-40 to 105 (85)","Other package",50,"https://industrial.panasonic.com/ww/products/pt/automotive-film-cap/models/EZPV80656MTS","≤58","≤35","≤64.5",{"$f":"pana_film[[#This Row],[Body length / dia\n(mm)]]&\" x \"&pana_film[[#This Row],[Body width\n(mm)]]","v":"57.5 x 35"},{"$f":"INDEX('IR Data'!K:K,MATCH(pana_film[[#This Row],[PartNumber]],'IR Data'!I:I,0))","v":29.3},{"$f":"INDEX('IR Data'!L:L,MATCH(pana_film[[#This Row],[PartNumber]],'IR Data'!I:I,0))","v":6.2}]
[null,"Std","box","PP","No","EZPV","EZPV80656MTC",800,"DC",65,"±10",57.5,35,64.5,52.5,"Short cut lead wire type","-40 to 105 (85)","Other package",50,"https://industrial.panasonic.com/ww/products/pt/automotive-film-cap/models/EZPV80656MTC","≤58","≤35","≤64.5",{"$f":"pana_film[[#This Row],[Body length / dia\n(mm)]]&\" x \"&pana_film[[#This Row],[Body width\n(mm)]]","v":"57.5 x 35"},{"$f":"INDEX('IR Data'!K:K,MATCH(pana_film[[#This Row],[PartNumber]],'IR Data'!I:I,0))","v":29.3},{"$f":"INDEX('IR Data'!L:L,MATCH(pana_film[[#This Row],[PartNumber]],'IR Data'!I:I,0))","v":6.2}]
[null,"Std","box","PP","Yes","EZPV","EZPV80606MTS",800,"DC",60,"±10",57.5,35,56,52.5,"Short cut lead wire type","-40 to 105 (85)","Other package",50,"https://industrial.panasonic.com/ww/products/pt/automotive-film-cap/models/EZPV80606MTS","≤58","≤35","≤56",{"$f":"pana_film[[#This Row],[Body length / dia\n(mm)]]&\" x \"&pana_film[[#This Row],[Body width\n(mm)]]","v":"57.5 x 35"},{"$f":"INDEX('IR Data'!K:K,MATCH(pana_film[[#This Row],[PartNumber]],'IR Data'!I:I,0))","v":27.8},{"$f":"INDEX('IR Data'!L:L,MATCH(pana_film[[#This Row],[PartNumber]],'IR Data'!I:I,0))","v":6.2}]
[null,"Std","box","PP","No","EZPV","EZPV80606MTC",800,"DC",60,"±10",57.5,35,56,52.5,"Short cut lead wire type","-40 to 105 (85)","Other package",50,"https://industrial.panasonic.com/ww/products/pt/automotive-film-cap/models/EZPV80606MTC","≤58","≤35","≤56",{"$f":"pana_film[[#This Row],[Body length / dia\n(mm)]]&\" x \"&pana_film[[#This Row],[Body width\n(mm)]]","v":"57.5 x 35"},{"$f":"INDEX('IR Data'!K:K,MATCH(pana_film[[#This Row],[PartNumber]],'IR Data'!I:I,0))","v":27.8},{"$f":"INDEX('IR Data'!L:L,MATCH(pana_film[[#This Row],[PartNumber]],'IR Data'!I:I,0))","v":6.2}]
[null,"Std","box","PP","Yes","EZPV","EZPV80556MTS",800,"DC",55,"±10",57.5,35,50,52.5,"Short cut lead wire type","-40 to 105 (85)","Other package",50,"https://industrial.panasonic.com/ww/products/pt/automotive-film-cap/models/EZPV80556MTS","≤58","≤35","≤50",{"$f":"pana_film[[#This Row],[Body length / dia\n(mm)]]&\" x \"&pana_film[[#This Row],[Body width\n(mm)]]","v":"57.5 x 35"},{"$f":"INDEX('IR Data'!K:K,MATCH(pana_film[[#This Row],[PartNumber]],'IR Data'!I:I,0))","v":26.2},{"$f":"INDEX('IR Data'!L:L,MATCH(pana_film[[#This Row],[PartNumber]],'IR Data'!I:I,0))","v":6.3}]
[null,"Std","box","PP","No","EZPV","EZPV80556MTC",800,"DC",55,"±10",57.5,35,50,52.5,"Short cut lead wire type","-40 to 105 (85)","Other package",50,"https://industrial.panasonic.com/ww/products/pt/automotive-film-cap/models/EZPV80556MTC","≤58","≤35","≤50",{"$f":"pana_film[[#This Row],[Body length / dia\n(mm)]]&\" x \"&pana_film[[#This Row],[Body width\n(mm)]]","v":"57.5 x 35"},{"$f":"INDEX('IR Data'!K:K,MATCH(pana_film[[#This Row],[PartNumber]],'IR Data'!I:I,0))","v":26.2},{"$f":"INDEX('IR Data'!L:L,MATCH(pana_film[[#This Row],[PartNumber]],'IR Data'!I:I,0))","v":6.3}]
[null,"Std","box","PP","Yes","EZPV","EZPV80506MTT",800,"DC",50,"±10",41,43,58,37.5,"Short cut lead wire type","-40 to 105 (85)","Other package",100,"https://industrial.panasonic.com/ww/products/pt/automotive-film-cap/models/EZPV80506MTT","≤41","≤43","≤58",{"$f":"pana_film[[#This Row],[Body length / dia\n(mm)]]&\" x \"&pana_film[[#This Row],[Body width\n(mm)]]","v":"41 x 43"},{"$f":"INDEX('IR Data'!K:K,MATCH(pana_film[[#This Row],[PartNumber]],'IR Data'!I:I,0))","v":28.2},{"$f":"INDEX('IR Data'!L:L,MATCH(pana_film[[#This Row],[PartNumber]],'IR Data'!I:I,0))","v":4.8}]
[null,"Std","box","PP","Yes","EZPV","EZPV80506MTS",800,"DC",50,"±10",57.5,30,51,52.5,"Short cut lead wire type","-40 to 105 (85)","Other package",50,"https://industrial.panasonic.com/ww/products/pt/automotive-film-cap/models/EZPV80506MTS","≤58","≤30","≤51",{"$f":"pana_film[[#This Row],[Body length / dia\n(mm)]]&\" x \"&pana_film[[#This Row],[Body width\n(mm)]]","v":"57.5 x 30"},{"$f":"INDEX('IR Data'!K:K,MATCH(pana_film[[#This Row],[PartNumber]],'IR Data'!I:I,0))","v":24.5},{"$f":"INDEX('IR Data'!L:L,MATCH(pana_film[[#This Row],[PartNumber]],'IR Data'!I:I,0))","v":6.8}]
[null,"Std","box","PP","No","EZPV","EZPV80506MTC",800,"DC",50,"±10",57.5,30,51,52.5,"Short cut lead wire type","-40 to 105 (85)","Other package",50,"https://industrial.panasonic.com/ww/products/pt/automotive-film-cap/models/EZPV80506MTC","≤58","≤30","≤51",{"$f":"pana_film[[#This Row],[Body length / dia\n(mm)]]&\" x \"&pana_film[[#This Row],[Body width\n(mm)]]","v":"57.5 x 30"},{"$f":"INDEX('IR Data'!K:K,MATCH(pana_film[[#This Row],[PartNumber]],'IR Data'!I:I,0))","v":24.5},{"$f":"INDEX('IR Data'!L:L,MATCH(pana_film[[#This Row],[PartNumber]],'IR Data'!I:I,0))","v":6.8}]
[null,"Std","box","PP","No","EZPV","EZPV80506MTB",800,"DC",50,"±10",41,43,58,37.5,"Short cut lead wire type","-40 to 105 (85)","Other package",100,"https://industrial.panasonic.com/ww/products/pt/automotive-film-cap/models/EZPV80506MTB","≤41","≤43","≤58",{"$f":"pana_film[[#This Row],[Body length / dia\n(mm)]]&\" x \"&pana_film[[#This Row],[Body width\n(mm)]]","v":"41 x 43"},{"$f":"INDEX('IR Data'!K:K,MATCH(pana_film[[#This Row],[PartNumber]],'IR Data'!I:I,0))","v":28.2},{"$f":"INDEX('IR Data'!L:L,MATCH(pana_film[[#This Row],[PartNumber]],'IR Data'!I:I,0))","v":4.8}]
[null,"Std","box","PP","Yes","EZPV","EZPV80456MTT",800,"DC",45,"±10",42,38,57,37.5,"Short cut lead wire type","-40 to 105 (85)","Other package",100,"https://industrial.panasonic.com/ww/products/pt/automotive-film-cap/models/EZPV80456MTT","≤42","≤38","≤57",{"$f":"pana_film[[#This Row],[Body length / dia\n(mm)]]&\" x \"&pana_film[[#This Row],[Body width\n(mm)]]","v":"42 x 38"},{"$f":"INDEX('IR Data'!K:K,MATCH(pana_film[[#This Row],[PartNumber]],'IR Data'!I:I,0))","v":26.4},{"$f":"INDEX('IR Data'!L:L,MATCH(pana_film[[#This Row],[PartNumber]],'IR Data'!I:I,0))","v":4.5}]
[null,"Std","box","PP","Yes","EZPV","EZPV80456MTS",800,"DC",45,"±10",57.5,30,51,52.5,"Short cut lead wire type","-40 to 105 (85)","Other package",50,"https://industrial.panasonic.com/ww/products/pt/automotive-film-cap/models/EZPV80456MTS","≤58","≤30","≤51",{"$f":"pana_film[[#This Row],[Body length / dia\n(mm)]]&\" x \"&pana_film[[#This Row],[Body width\n(mm)]]","v":"57.5 x 30"},{"$f":"INDEX('IR Data'!K:K,MATCH(pana_film[[#This Row],[PartNumber]],'IR Data'!I:I,0))","v":22.8},{"$f":"INDEX('IR Data'!L:L,MATCH(pana_film[[#This Row],[PartNumber]],'IR Data'!I:I,0))","v":7.9}]
[null,"Std","box","PP","No","EZPV","EZPV80456MTC",800,"DC",45,"±10",57.5,30,51,52.5,"Short cut lead wire type","-40 to 105 (85)","Other package",50,"https://industrial.panasonic.com/ww/products/pt/automotive-film-cap/models/EZPV80456MTC","≤58","≤30","≤51",{"$f":"pana_film[[#This Row],[Body length / dia\n(mm)]]&\" x \"&pana_film[[#This Row],[Body width\n(mm)]]","v":"57.5 x 30"},{"$f":"INDEX('IR Data'!K:K,MATCH(pana_film[[#This Row],[PartNumber]],'IR Data'!I:I,0))","v":22.8},{"$f":"INDEX('IR Data'!L:L,MATCH(pana_film[[#This Row],[PartNumber]],'IR Data'!I:I,0))","v":7.9}]
[null,"Std","box","PP","No","EZPV","EZPV80456MTB",800,"DC",45,"±10",42,38,57,37.5,"Short cut lead wire type","-40 to 105 (85)","Other package",100,"https://industrial.panasonic.com/ww/products/pt/automotive-film-cap/models/EZPV80456MTB","≤42","≤38","≤57",{"$f":"pana_film[[#This Row],[Body length / dia\n(mm)]]&\" x \"&pana_film[[#This Row],[Body width\n(mm)]]","v":"42 x 38"},{"$f":"INDEX('IR Data'!K:K,MATCH(pana_film[[#This Row],[PartNumber]],'IR Data'!I:I,0))","v":26.4},{"$f":"INDEX('IR Data'!L:L,MATCH(pana_film[[#This Row],[PartNumber]],'IR Data'!I:I,0))","v":4.5}]
[null,"Std","box","PP","Yes","EZPV","EZPV80406MTT",800,"DC",40,"±10",42,38,52.5,37.5,"Short cut lead wire type","-40 to 105 (85)","Other package",100,"https://industrial.panasonic.com/ww/products/pt/automotive-film-cap/models/EZPV80406MTT","≤42","≤38","≤52.5",{"$f":"pana_film[[#This Row],[Body length / dia\n(mm)]]&\" x \"&pana_film[[#This Row],[Body width\n(mm)]]","v":"42 x 38"},{"$f":"INDEX('IR Data'!K:K,MATCH(pana_film[[#This Row],[PartNumber]],'IR Data'!I:I,0))","v":24.6},{"$f":"INDEX('IR Data'!L:L,MATCH(pana_film[[#This Row],[PartNumber]],'IR Data'!I:I,0))","v":5.0999999999999996}]
[null,"Std","box","PP","Yes","EZPV","EZPV80406MTS",800,"DC",40,"±10",57.5,30,51,52.5,"Short cut lead wire type","-40 to 105 (85)","Other package",50,"https://industrial.panasonic.com/ww/products/pt/automotive-film-cap/models/EZPV80406MTS","≤58","≤30","≤51",{"$f":"pana_film[[#This Row],[Body length / dia\n(mm)]]&\" x \"&pana_film[[#This Row],[Body width\n(mm)]]","v":"57.5 x 30"},{"$f":"INDEX('IR Data'!K:K,MATCH(pana_film[[#This Row],[PartNumber]],'IR Data'!I:I,0))","v":20.9},{"$f":"INDEX('IR Data'!L:L,MATCH(pana_film[[#This Row],[PartNumber]],'IR Data'!I:I,0))","v":9.1}]
[null,"Std","box","PP","No","EZPV","EZPV80406MTC",800,"DC",40,"±10",57.5,30,51,52.5,"Short cut lead wire type","-40 to 105 (85)","Other package",50,"https://industrial.panasonic.com/ww/products/pt/automotive-film-cap/models/EZPV80406MTC","≤58","≤30","≤51",{"$f":"pana_film[[#This Row],[Body length / dia\n(mm)]]&\" x \"&pana_film[[#This Row],[Body width\n(mm)]]","v":"57.5 x 30"},{"$f":"INDEX('IR Data'!K:K,MATCH(pana_film[[#This Row],[PartNumber]],'IR Data'!I:I,0))","v":20.9},{"$f":"INDEX('IR Data'!L:L,MATCH(pana_film[[#This Row],[PartNumber]],'IR Data'!I:I,0))","v":9.1}]
[null,"Std","box","PP","No","EZPV","EZPV80406MTB",800,"DC",40,"±10",42,38,52.5,37.5,"Short cut lead wire type","-40 to 105 (85)","Other package",100,"https://industrial.panasonic.com/ww/products/pt/automotive-film-cap/models/EZPV80406MTB","≤42","≤38","≤52.5",{"$f":"pana_film[[#This Row],[Body length / dia\n(mm)]]&\" x \"&pana_film[[#This Row],[Body width\n(mm)]]","v":"42 x 38"},{"$f":"INDEX('IR Data'!K:K,MATCH(pana_film[[#This Row],[PartNumber]],'IR Data'!I:I,0))","v":24.6},{"$f":"INDEX('IR Data'!L:L,MATCH(pana_film[[#This Row],[PartNumber]],'IR Data'!I:I,0))","v":5.0999999999999996}]
[null,"Std","box","PP","Yes","EZPV","EZPV80356MTT",800,"DC",35,"±10",41.5,30,56,37.5,"Short cut lead wire type","-40 to 105 (85)","Other package",100,"https://industrial.panasonic.com/ww/products/pt/automotive-film-cap/models/EZPV80356MTT","≤42","≤30","≤56",{"$f":"pana_film[[#This Row],[Body length / dia\n(mm)]]&\" x \"&pana_film[[#This Row],[Body width\n(mm)]]","v":"41.5 x 30"},{"$f":"INDEX('IR Data'!K:K,MATCH(pana_film[[#This Row],[PartNumber]],'IR Data'!I:I,0))","v":22.7},{"$f":"INDEX('IR Data'!L:L,MATCH(pana_film[[#This Row],[PartNumber]],'IR Data'!I:I,0))","v":5.5}]
[null,"Std","box","PP","Yes","EZPV","EZPV80356MTS",800,"DC",35,"±10",57.5,30,51,52.5,"Short cut lead wire type","-40 to 105 (85)","Other package",50,"https://industrial.panasonic.com/ww/products/pt/automotive-film-cap/models/EZPV80356MTS","≤58","≤30","≤51",{"$f":"pana_film[[#This Row],[Body length / dia\n(mm)]]&\" x \"&pana_film[[#This Row],[Body width\n(mm)]]","v":"57.5 x 30"},{"$f":"INDEX('IR Data'!K:K,MATCH(pana_film[[#This Row],[PartNumber]],'IR Data'!I:I,0))","v":18.899999999999999},{"$f":"INDEX('IR Data'!L:L,MATCH(pana_film[[#This Row],[PartNumber]],'IR Data'!I:I,0))","v":10.199999999999999}]
[null,"Std","box","PP","No","EZPV","EZPV80356MTC",800,"DC",35,"±10",57.5,30,51,52.5,"Short cut lead wire type","-40 to 105 (85)","Other package",50,"https://industrial.panasonic.com/ww/products/pt/automotive-film-cap/models/EZPV80356MTC","≤58","≤30","≤51",{"$f":"pana_film[[#This Row],[Body length / dia\n(mm)]]&\" x \"&pana_film[[#This Row],[Body width\n(mm)]]","v":"57.5 x 30"},{"$f":"INDEX('IR Data'!K:K,MATCH(pana_film[[#This Row],[PartNumber]],'IR Data'!I:I,0))","v":18.899999999999999},{"$f":"INDEX('IR Data'!L:L,MATCH(pana_film[[#This Row],[PartNumber]],'IR Data'!I:I,0))","v":10.199999999999999}]
[null,"Std","box","PP","No","EZPV","EZPV80356MTB",800,"DC",35,"±10",41.5,30,56,37.5,"Short cut lead wire type","-40 to 105 (85)","Other package",100,"https://industrial.panasonic.com/ww/products/pt/automotive-film-cap/models/EZPV80356MTB","≤42","≤30","≤56",{"$f":"pana_film[[#This Row],[Body length / dia\n(mm)]]&\" x \"&pana_film[[#This Row],[Body width\n(mm)]]","v":"41.5 x 30"},{"$f":"INDEX('IR Data'!K:K,MATCH(pana_film[[#This Row],[PartNumber]],'IR Data'!I:I,0))","v":22.7},{"$f":"INDEX('IR Data'!L:L,MATCH(pana_film[[#This Row],[PartNumber]],'IR Data'!I:I,0))","v":5.5}]
[null,"Std","box","PP","Yes","EZPV","EZPV80306MTT",800,"DC",30,"±10",41,30,50.5,37.5,"Short cut lead wire type","-40 to 105 (85)","Other package",100,"https://industrial.panasonic.com/ww/products/pt/automotive-film-cap/models/EZPV80306MTT","≤41","≤30","≤50.5",{"$f":"pana_film[[#This Row],[Body length / dia\n(mm)]]&\" x \"&pana_film[[#This Row],[Body width\n(mm)]]","v":"41 x 30"},{"$f":"INDEX('IR Data'!K:K,MATCH(pana_film[[#This Row],[PartNumber]],'IR Data'!I:I,0))","v":20.6},{"$f":"INDEX('IR Data'!L:L,MATCH(pana_film[[#This Row],[PartNumber]],'IR Data'!I:I,0))","v":7.1}]
[null,"Std","box","PP","Yes","EZPV","EZPV80306MTS",800,"DC",30,"±10",57.5,30,51,52.5,"Short cut lead wire type","-40 to 105 (85)","Other package",50,"https://industrial.panasonic.com/ww/products/pt/automotive-film-cap/models/EZPV80306MTS","≤58","≤30","≤51",{"$f":"pana_film[[#This Row],[Body length / dia\n(mm)]]&\" x \"&pana_film[[#This Row],[Body width\n(mm)]]","v":"57.5 x 30"},{"$f":"INDEX('IR Data'!K:K,MATCH(pana_film[[#This Row],[PartNumber]],'IR Data'!I:I,0))","v":16.8},{"$f":"INDEX('IR Data'!L:L,MATCH(pana_film[[#This Row],[PartNumber]],'IR Data'!I:I,0))","v":11.6}]
[null,"Std","box","PP","No","EZPV","EZPV80306MTC",800,"DC",30,"±10",57.5,30,51,52.5,"Short cut lead wire type","-40 to 105 (85)","Other package",50,"https://industrial.panasonic.com/ww/products/pt/automotive-film-cap/models/EZPV80306MTC","≤58","≤30","≤51",{"$f":"pana_film[[#This Row],[Body length / dia\n(mm)]]&\" x \"&pana_film[[#This Row],[Body width\n(mm)]]","v":"57.5 x 30"},{"$f":"INDEX('IR Data'!K:K,MATCH(pana_film[[#This Row],[PartNumber]],'IR Data'!I:I,0))","v":16.8},{"$f":"INDEX('IR Data'!L:L,MATCH(pana_film[[#This Row],[PartNumber]],'IR Data'!I:I,0))","v":11.6}]
[null,"Std","box","PP","No","EZPV","EZPV80306MTB",800,"DC",30,"±10",41,30,50.5,37.5,"Short cut lead wire type","-40 to 105 (85)","Other package",100,"https://industrial.panasonic.com/ww/products/pt/automotive-film-cap/models/EZPV80306MTB","≤41","≤30","≤50.5",{"$f":"pana_film[[#This Row],[Body length / dia\n(mm)]]&\" x \"&pana_film[[#This Row],[Body width\n(mm)]]","v":"41 x 30"},{"$f":"INDEX('IR Data'!K:K,MATCH(pana_film[[#This Row],[PartNumber]],'IR Data'!I:I,0))","v":20.6},{"$f":"INDEX('IR Data'!L:L,MATCH(pana_film[[#This Row],[PartNumber]],'IR Data'!I:I,0))","v":7.1}]
[null,"Std","box","PP","Yes","EZPV","EZPV80256MTT",800,"DC",25,"±10",41,30,50.5,37.5,"Short cut lead wire type","-40 to 105 (85)","Other package",100,"https://industrial.panasonic.com/ww/products/pt/automotive-film-cap/models/EZPV80256MTT","≤41","≤30","≤50.5",{"$f":"pana_film[[#This Row],[Body length / dia\n(mm)]]&\" x \"&pana_film[[#This Row],[Body width\n(mm)]]","v":"41 x 30"},{"$f":"INDEX('IR Data'!K:K,MATCH(pana_film[[#This Row],[PartNumber]],'IR Data'!I:I,0))","v":18.3},{"$f":"INDEX('IR Data'!L:L,MATCH(pana_film[[#This Row],[PartNumber]],'IR Data'!I:I,0))","v":8.6999999999999993}]
[null,"Std","box","PP","Yes","EZPV","EZPV80256MTS",800,"DC",25,"±10",57,25,40,52.5,"Short cut lead wire type","-40 to 105 (85)","Other package",150,"https://industrial.panasonic.com/ww/products/pt/automotive-film-cap/models/EZPV80256MTS","≤57","≤25","≤40",{"$f":"pana_film[[#This Row],[Body length / dia\n(mm)]]&\" x \"&pana_film[[#This Row],[Body width\n(mm)]]","v":"57 x 25"},{"$f":"INDEX('IR Data'!K:K,MATCH(pana_film[[#This Row],[PartNumber]],'IR Data'!I:I,0))","v":14.4},{"$f":"INDEX('IR Data'!L:L,MATCH(pana_film[[#This Row],[PartNumber]],'IR Data'!I:I,0))","v":11.6}]
[null,"Std","box","PP","No","EZPV","EZPV80256MTC",800,"DC",25,"±10",57,25,40,52.5,"Short cut lead wire type","-40 to 105 (85)","Other package",150,"https://industrial.panasonic.com/ww/products/pt/automotive-film-cap/models/EZPV80256MTC","≤57","≤25","≤40",{"$f":"pana_film[[#This Row],[Body length / dia\n(mm)]]&\" x \"&pana_film[[#This Row],[Body width\n(mm)]]","v":"57 x 25"},{"$f":"INDEX('IR Data'!K:K,MATCH(pana_film[[#This Row],[PartNumber]],'IR Data'!I:I,0))","v":14.4},{"$f":"INDEX('IR Data'!L:L,MATCH(pana_film[[#This Row],[PartNumber]],'IR Data'!I:I,0))","v":11.6}]
[null,"Std","box","PP","No","EZPV","EZPV80256MTB",800,"DC",25,"±10",41,30,50.5,37.5,"Short cut lead wire type","-40 to 105 (85)","Other package",100,"https://industrial.panasonic.com/ww/products/pt/automotive-film-cap/models/EZPV80256MTB","≤41","≤30","≤50.5",{"$f":"pana_film[[#This Row],[Body length / dia\n(mm)]]&\" x \"&pana_film[[#This Row],[Body width\n(mm)]]","v":"41 x 30"},{"$f":"INDEX('IR Data'!K:K,MATCH(pana_film[[#This Row],[PartNumber]],'IR Data'!I:I,0))","v":18.3},{"$f":"INDEX('IR Data'!L:L,MATCH(pana_film[[#This Row],[PartNumber]],'IR Data'!I:I,0))","v":8.6999999999999993}]
[null,"Std","box","PP","Yes","EZPV","EZPV80206MTT",800,"DC",20,"±10",41,26,40.5,37.5,"Short cut lead wire type","-40 to 105 (85)","Other package",150,"https://industrial.panasonic.com/ww/products/pt/automotive-film-cap/models/EZPV80206MTT","≤41","≤26","≤40.5",{"$f":"pana_film[[#This Row],[Body length / dia\n(mm)]]&\" x \"&pana_film[[#This Row],[Body width\n(mm)]]","v":"41 x 26"},{"$f":"INDEX('IR Data'!K:K,MATCH(pana_film[[#This Row],[PartNumber]],'IR Data'!I:I,0))","v":15.8},{"$f":"INDEX('IR Data'!L:L,MATCH(pana_film[[#This Row],[PartNumber]],'IR Data'!I:I,0))","v":8.6999999999999993}]
[null,"Std","box","PP","No","EZPV","EZPV80206MTB",800,"DC",20,"±10",41,26,40.5,37.5,"Short cut lead wire type","-40 to 105 (85)","Other package",150,"https://industrial.panasonic.com/ww/products/pt/automotive-film-cap/models/EZPV80206MTB","≤41","≤26","≤40.5",{"$f":"pana_film[[#This Row],[Body length / dia\n(mm)]]&\" x \"&pana_film[[#This Row],[Body width\n(mm)]]","v":"41 x 26"},{"$f":"INDEX('IR Data'!K:K,MATCH(pana_film[[#This Row],[PartNumber]],'IR Data'!I:I,0))","v":15.8},{"$f":"INDEX('IR Data'!L:L,MATCH(pana_film[[#This Row],[PartNumber]],'IR Data'!I:I,0))","v":8.6999999999999993}]
[null,"Std","box","PP","Yes","EZPV","EZPV80186MTU",800,"DC",18,"±10",31,22,53.5,27.5,"Short cut lead wire type","-40 to 105 (85)","Other package",150,"https://industrial.panasonic.com/ww/products/pt/automotive-film-cap/models/EZPV80186MTU","≤31","≤22","≤53.5",{"$f":"pana_film[[#This Row],[Body length / dia\n(mm)]]&\" x \"&pana_film[[#This Row],[Body width\n(mm)]]","v":"31 x 22"},{"$f":"INDEX('IR Data'!K:K,MATCH(pana_film[[#This Row],[PartNumber]],'IR Data'!I:I,0))","v":17.3},{"$f":"INDEX('IR Data'!L:L,MATCH(pana_film[[#This Row],[PartNumber]],'IR Data'!I:I,0))","v":7.8}]
[null,"Std","box","PP","No","EZPV","EZPV80186MTA",800,"DC",18,"±10",31,22,53.5,27.5,"Short cut lead wire type","-40 to 105 (85)","Other package",150,"https://industrial.panasonic.com/ww/products/pt/automotive-film-cap/models/EZPV80186MTA","≤31","≤22","≤53.5",{"$f":"pana_film[[#This Row],[Body length / dia\n(mm)]]&\" x \"&pana_film[[#This Row],[Body width\n(mm)]]","v":"31 x 22"},{"$f":"INDEX('IR Data'!K:K,MATCH(pana_film[[#This Row],[PartNumber]],'IR Data'!I:I,0))","v":17.3},{"$f":"INDEX('IR Data'!L:L,MATCH(pana_film[[#This Row],[PartNumber]],'IR Data'!I:I,0))","v":7.8}]
[null,"Std","box","PP","Yes","EZPV","EZPV80186LTU",800,"DC",18,"±10",31,22,53.5,27.5,"Short cut lead wire type","-40 to 105 (85)","Other package",150,"https://industrial.panasonic.com/ww/products/pt/automotive-film-cap/models/EZPV80186LTU","≤31","≤22","≤53.5",{"$f":"pana_film[[#This Row],[Body length / dia\n(mm)]]&\" x \"&pana_film[[#This Row],[Body width\n(mm)]]","v":"31 x 22"},{"$f":"INDEX('IR Data'!K:K,MATCH(pana_film[[#This Row],[PartNumber]],'IR Data'!I:I,0))","v":17.3},{"$f":"INDEX('IR Data'!L:L,MATCH(pana_film[[#This Row],[PartNumber]],'IR Data'!I:I,0))","v":7.8}]
[null,"Std","box","PP","No","EZPV","EZPV80186LTA",800,"DC",18,"±10",31,22,53.5,27.5,"Short cut lead wire type","-40 to 105 (85)","Other package",150,"https://industrial.panasonic.com/ww/products/pt/automotive-film-cap/models/EZPV80186LTA","≤31","≤22","≤53.5",{"$f":"pana_film[[#This Row],[Body length / dia\n(mm)]]&\" x \"&pana_film[[#This Row],[Body width\n(mm)]]","v":"31 x 22"},{"$f":"INDEX('IR Data'!K:K,MATCH(pana_film[[#This Row],[PartNumber]],'IR Data'!I:I,0))","v":17.3},{"$f":"INDEX('IR Data'!L:L,MATCH(pana_film[[#This Row],[PartNumber]],'IR Data'!I:I,0))","v":7.8}]
[null,"Std","box","PP","Yes","EZPV","EZPV80156MTT",800,"DC",15,"±10",41,22,36,37.5,"Short cut lead wire type","-40 to 105 (85)","Other package",150,"https://industrial.panasonic.com/ww/products/pt/automotive-film-cap/models/EZPV80156MTT","≤41","≤22","≤36",{"$f":"pana_film[[#This Row],[Body length / dia\n(mm)]]&\" x \"&pana_film[[#This Row],[Body width\n(mm)]]","v":"41 x 22"},{"$f":"INDEX('IR Data'!K:K,MATCH(pana_film[[#This Row],[PartNumber]],'IR Data'!I:I,0))","v":13},{"$f":"INDEX('IR Data'!L:L,MATCH(pana_film[[#This Row],[PartNumber]],'IR Data'!I:I,0))","v":10.199999999999999}]
[null,"Std","box","PP","No","EZPV","EZPV80156MTB",800,"DC",15,"±10",41,22,36,37.5,"Short cut lead wire type","-40 to 105 (85)","Other package",150,"https://industrial.panasonic.com/ww/products/pt/automotive-film-cap/models/EZPV80156MTB","≤41","≤22","≤36",{"$f":"pana_film[[#This Row],[Body length / dia\n(mm)]]&\" x \"&pana_film[[#This Row],[Body width\n(mm)]]","v":"41 x 22"},{"$f":"INDEX('IR Data'!K:K,MATCH(pana_film[[#This Row],[PartNumber]],'IR Data'!I:I,0))","v":13},{"$f":"INDEX('IR Data'!L:L,MATCH(pana_film[[#This Row],[PartNumber]],'IR Data'!I:I,0))","v":10.199999999999999}]
[null,"Std","box","PP","Yes","EZPV","EZPV80146MTU",800,"DC",14,"±10",31,26,41,27.5,"Short cut lead wire type","-40 to 105 (85)","Other package",150,"https://industrial.panasonic.com/ww/products/pt/automotive-film-cap/models/EZPV80146MTU","≤31","≤26","≤41",{"$f":"pana_film[[#This Row],[Body length / dia\n(mm)]]&\" x \"&pana_film[[#This Row],[Body width\n(mm)]]","v":"31 x 26"},{"$f":"INDEX('IR Data'!K:K,MATCH(pana_film[[#This Row],[PartNumber]],'IR Data'!I:I,0))","v":15.3},{"$f":"INDEX('IR Data'!L:L,MATCH(pana_film[[#This Row],[PartNumber]],'IR Data'!I:I,0))","v":8.6999999999999993}]
[null,"Std","box","PP","No","EZPV","EZPV80146MTA",800,"DC",14,"±10",31,26,41,27.5,"Short cut lead wire type","-40 to 105 (85)","Other package",150,"https://industrial.panasonic.com/ww/products/pt/automotive-film-cap/models/EZPV80146MTA","≤31","≤26","≤41",{"$f":"pana_film[[#This Row],[Body length / dia\n(mm)]]&\" x \"&pana_film[[#This Row],[Body width\n(mm)]]","v":"31 x 26"},{"$f":"INDEX('IR Data'!K:K,MATCH(pana_film[[#This Row],[PartNumber]],'IR Data'!I:I,0))","v":15.3},{"$f":"INDEX('IR Data'!L:L,MATCH(pana_film[[#This Row],[PartNumber]],'IR Data'!I:I,0))","v":8.6999999999999993}]
[null,"Std","box","PP","Yes","EZPV","EZPV80146LTU",800,"DC",14,"±10",31,26,41,27.5,"Short cut lead wire type","-40 to 105 (85)","Other package",150,"https://industrial.panasonic.com/ww/products/pt/automotive-film-cap/models/EZPV80146LTU","≤31","≤26","≤41",{"$f":"pana_film[[#This Row],[Body length / dia\n(mm)]]&\" x \"&pana_film[[#This Row],[Body width\n(mm)]]","v":"31 x 26"},{"$f":"INDEX('IR Data'!K:K,MATCH(pana_film[[#This Row],[PartNumber]],'IR Data'!I:I,0))","v":15.3},{"$f":"INDEX('IR Data'!L:L,MATCH(pana_film[[#This Row],[PartNumber]],'IR Data'!I:I,0))","v":8.6999999999999993}]
[null,"Std","box","PP","No","EZPV","EZPV80146LTA",800,"DC",14,"±10",31,26,41,27.5,"Short cut lead wire type","-40 to 105 (85)","Other package",150,"https://industrial.panasonic.com/ww/products/pt/automotive-film-cap/models/EZPV80146LTA","≤31","≤26","≤41",{"$f":"pana_film[[#This Row],[Body length / dia\n(mm)]]&\" x \"&pana_film[[#This Row],[Body width\n(mm)]]","v":"31 x 26"},{"$f":"INDEX('IR Data'!K:K,MATCH(pana_film[[#This Row],[PartNumber]],'IR Data'!I:I,0))","v":15.3},{"$f":"INDEX('IR Data'!L:L,MATCH(pana_film[[#This Row],[PartNumber]],'IR Data'!I:I,0))","v":8.6999999999999993}]
[null,"Std","box","PP","Yes","EZPV","EZPV80136MTU",800,"DC",13,"±10",31,26,41,27.5,"Short cut lead wire type","-40 to 105 (85)","Other package",150,"https://industrial.panasonic.com/ww/products/pt/automotive-film-cap/models/EZPV80136MTU","≤31","≤26","≤41",{"$f":"pana_film[[#This Row],[Body length / dia\n(mm)]]&\" x \"&pana_film[[#This Row],[Body width\n(mm)]]","v":"31 x 26"},{"$f":"INDEX('IR Data'!K:K,MATCH(pana_film[[#This Row],[PartNumber]],'IR Data'!I:I,0))","v":14.7},{"$f":"INDEX('IR Data'!L:L,MATCH(pana_film[[#This Row],[PartNumber]],'IR Data'!I:I,0))","v":9.1999999999999993}]
[null,"Std","box","PP","No","EZPV","EZPV80136MTA",800,"DC",13,"±10",31,26,41,27.5,"Short cut lead wire type","-40 to 105 (85)","Other package",150,"https://industrial.panasonic.com/ww/products/pt/automotive-film-cap/models/EZPV80136MTA","≤31","≤26","≤41",{"$f":"pana_film[[#This Row],[Body length / dia\n(mm)]]&\" x \"&pana_film[[#This Row],[Body width\n(mm)]]","v":"31 x 26"},{"$f":"INDEX('IR Data'!K:K,MATCH(pana_film[[#This Row],[PartNumber]],'IR Data'!I:I,0))","v":14.7},{"$f":"INDEX('IR Data'!L:L,MATCH(pana_film[[#This Row],[PartNumber]],'IR Data'!I:I,0))","v":9.1999999999999993}]
[null,"Std","box","PP","Yes","EZPV","EZPV80136LTU",800,"DC",13,"±10",31,26,41,27.5,"Short cut lead wire type","-40 to 105 (85)","Other package",150,"https://industrial.panasonic.com/ww/products/pt/automotive-film-cap/models/EZPV80136LTU","≤31","≤26","≤41",{"$f":"pana_film[[#This Row],[Body length / dia\n(mm)]]&\" x \"&pana_film[[#This Row],[Body width\n(mm)]]","v":"31 x 26"},{"$f":"INDEX('IR Data'!K:K,MATCH(pana_film[[#This Row],[PartNumber]],'IR Data'!I:I,0))","v":14.7},{"$f":"INDEX('IR Data'!L:L,MATCH(pana_film[[#This Row],[PartNumber]],'IR Data'!I:I,0))","v":9.1999999999999993}]
[null,"Std","box","PP","No","EZPV","EZPV80136LTA",800,"DC",13,"±10",31,26,41,27.5,"Short cut lead wire type","-40 to 105 (85)","Other package",150,"https://industrial.panasonic.com/ww/products/pt/automotive-film-cap/models/EZPV80136LTA","≤31","≤26","≤41",{"$f":"pana_film[[#This Row],[Body length / dia\n(mm)]]&\" x \"&pana_film[[#This Row],[Body width\n(mm)]]","v":"31 x 26"},{"$f":"INDEX('IR Data'!K:K,MATCH(pana_film[[#This Row],[PartNumber]],'IR Data'!I:I,0))","v":14.7},{"$f":"INDEX('IR Data'!L:L,MATCH(pana_film[[#This Row],[PartNumber]],'IR Data'!I:I,0))","v":9.1999999999999993}]
[null,"Std","box","PP","Yes","EZPV","EZPV80126MTU",800,"DC",12,"±10",31,20.5,41.5,27.5,"Short cut lead wire type","-40 to 105 (85)","Other package",200,"https://industrial.panasonic.com/ww/products/pt/automotive-film-cap/models/EZPV80126MTU","≤31","≤21","≤41.5",{"$f":"pana_film[[#This Row],[Body length / dia\n(mm)]]&\" x \"&pana_film[[#This Row],[Body width\n(mm)]]","v":"31 x 20.5"},{"$f":"INDEX('IR Data'!K:K,MATCH(pana_film[[#This Row],[PartNumber]],'IR Data'!I:I,0))","v":14.2},{"$f":"INDEX('IR Data'!L:L,MATCH(pana_film[[#This Row],[PartNumber]],'IR Data'!I:I,0))","v":9.9}]
[null,"Std","box","PP","No","EZPV","EZPV80126MTA",800,"DC",12,"±10",31,20.5,41.5,27.5,"Short cut lead wire type","-40 to 105 (85)","Other package",200,"https://industrial.panasonic.com/ww/products/pt/automotive-film-cap/models/EZPV80126MTA","≤31","≤21","≤41.5",{"$f":"pana_film[[#This Row],[Body length / dia\n(mm)]]&\" x \"&pana_film[[#This Row],[Body width\n(mm)]]","v":"31 x 20.5"},{"$f":"INDEX('IR Data'!K:K,MATCH(pana_film[[#This Row],[PartNumber]],'IR Data'!I:I,0))","v":14.2},{"$f":"INDEX('IR Data'!L:L,MATCH(pana_film[[#This Row],[PartNumber]],'IR Data'!I:I,0))","v":9.9}]
[null,"Std","box","PP","Yes","EZPV","EZPV80126LTU",800,"DC",12,"±10",31,20.5,41.5,27.5,"Short cut lead wire type","-40 to 105 (85)","Other package",200,"https://industrial.panasonic.com/ww/products/pt/automotive-film-cap/models/EZPV80126LTU","≤31","≤21","≤41.5",{"$f":"pana_film[[#This Row],[Body length / dia\n(mm)]]&\" x \"&pana_film[[#This Row],[Body width\n(mm)]]","v":"31 x 20.5"},{"$f":"INDEX('IR Data'!K:K,MATCH(pana_film[[#This Row],[PartNumber]],'IR Data'!I:I,0))","v":14.2},{"$f":"INDEX('IR Data'!L:L,MATCH(pana_film[[#This Row],[PartNumber]],'IR Data'!I:I,0))","v":9.9}]
[null,"Std","box","PP","Yes","EZPV","EZPV80126LTT",800,"DC",12,"±10",41,22,36,37.5,"Short cut lead wire type","-40 to 105 (85)","Other package",150,"https://industrial.panasonic.com/ww/products/pt/automotive-film-cap/models/EZPV80126LTT","≤41","≤22","≤36",{"$f":"pana_film[[#This Row],[Body length / dia\n(mm)]]&\" x \"&pana_film[[#This Row],[Body width\n(mm)]]","v":"41 x 22"},{"$f":"INDEX('IR Data'!K:K,MATCH(pana_film[[#This Row],[PartNumber]],'IR Data'!I:I,0))","v":10.7},{"$f":"INDEX('IR Data'!L:L,MATCH(pana_film[[#This Row],[PartNumber]],'IR Data'!I:I,0))","v":12.5}]
[null,"Std","box","PP","No","EZPV","EZPV80126LTB",800,"DC",12,"±10",41,22,36,37.5,"Short cut lead wire type","-40 to 105 (85)","Other package",150,"https://industrial.panasonic.com/ww/products/pt/automotive-film-cap/models/EZPV80126LTB","≤41","≤22","≤36",{"$f":"pana_film[[#This Row],[Body length / dia\n(mm)]]&\" x \"&pana_film[[#This Row],[Body width\n(mm)]]","v":"41 x 22"},{"$f":"INDEX('IR Data'!K:K,MATCH(pana_film[[#This Row],[PartNumber]],'IR Data'!I:I,0))","v":10.7},{"$f":"INDEX('IR Data'!L:L,MATCH(pana_film[[#This Row],[PartNumber]],'IR Data'!I:I,0))","v":12.5}]
[null,"Std","box","PP","No","EZPV","EZPV80126LTA",800,"DC",12,"±10",31,20.5,41.5,27.5,"Short cut lead wire type","-40 to 105 (85)","Other package",200,"https://industrial.panasonic.com/ww/products/pt/automotive-film-cap/models/EZPV80126LTA","≤31","≤21","≤41.5",{"$f":"pana_film[[#This Row],[Body length / dia\n(mm)]]&\" x \"&pana_film[[#This Row],[Body width\n(mm)]]","v":"31 x 20.5"},{"$f":"INDEX('IR Data'!K:K,MATCH(pana_film[[#This Row],[PartNumber]],'IR Data'!I:I,0))","v":14.2},{"$f":"INDEX('IR Data'!L:L,MATCH(pana_film[[#This Row],[PartNumber]],'IR Data'!I:I,0))","v":9.9}]
[null,"Std","box","PP","Yes","EZPV","EZPV80116MTU",800,"DC",11,"±10",31,20.5,41.5,27.5,"Short cut lead wire type","-40 to 105 (85)","Other package",200,"https://industrial.panasonic.com/ww/products/pt/automotive-film-cap/models/EZPV80116MTU","≤31","≤21","≤41.5",{"$f":"pana_film[[#This Row],[Body length / dia\n(mm)]]&\" x \"&pana_film[[#This Row],[Body width\n(mm)]]","v":"31 x 20.5"},{"$f":"INDEX('IR Data'!K:K,MATCH(pana_film[[#This Row],[PartNumber]],'IR Data'!I:I,0))","v":13.6},{"$f":"INDEX('IR Data'!L:L,MATCH(pana_film[[#This Row],[PartNumber]],'IR Data'!I:I,0))","v":10.6}]
[null,"Std","box","PP","No","EZPV","EZPV80116MTA",800,"DC",11,"±10",31,20.5,41.5,27.5,"Short cut lead wire type","-40 to 105 (85)","Other package",200,"https://industrial.panasonic.com/ww/products/pt/automotive-film-cap/models/EZPV80116MTA","≤31","≤21","≤41.5",{"$f":"pana_film[[#This Row],[Body length / dia\n(mm)]]&\" x \"&pana_film[[#This Row],[Body width\n(mm)]]","v":"31 x 20.5"},{"$f":"INDEX('IR Data'!K:K,MATCH(pana_film[[#This Row],[PartNumber]],'IR Data'!I:I,0))","v":13.6},{"$f":"INDEX('IR Data'!L:L,MATCH(pana_film[[#This Row],[PartNumber]],'IR Data'!I:I,0))","v":10.6}]
[null,"Std","box","PP","Yes","EZPV","EZPV80116LTU",800,"DC",11,"±10",31,20.5,41.5,27.5,"Short cut lead wire type","-40 to 105 (85)","Other package",200,"https://industrial.panasonic.com/ww/products/pt/automotive-film-cap/models/EZPV80116LTU","≤31","≤21","≤41.5",{"$f":"pana_film[[#This Row],[Body length / dia\n(mm)]]&\" x \"&pana_film[[#This Row],[Body width\n(mm)]]","v":"31 x 20.5"},{"$f":"INDEX('IR Data'!K:K,MATCH(pana_film[[#This Row],[PartNumber]],'IR Data'!I:I,0))","v":13.6},{"$f":"INDEX('IR Data'!L:L,MATCH(pana_film[[#This Row],[PartNumber]],'IR Data'!I:I,0))","v":10.6}]
[null,"Std","box","PP","No","EZPV","EZPV80116LTA",800,"DC",11,"±10",31,20.5,41.5,27.5,"Short cut lead wire type","-40 to 105 (85)","Other package",200,"https://industrial.panasonic.com/ww/products/pt/automotive-film-cap/models/EZPV80116LTA","≤31","≤21","≤41.5",{"$f":"pana_film[[#This Row],[Body length / dia\n(mm)]]&\" x \"&pana_film[[#This Row],[Body width\n(mm)]]","v":"31 x 20.5"},{"$f":"INDEX('IR Data'!K:K,MATCH(pana_film[[#This Row],[PartNumber]],'IR Data'!I:I,0))","v":13.6},{"$f":"INDEX('IR Data'!L:L,MATCH(pana_film[[#This Row],[PartNumber]],'IR Data'!I:I,0))","v":10.6}]
[null,"Std","box","PP","Yes","EZPV","EZPV80106MTU",800,"DC",10,"±10",31,20.5,41.5,27.5,"Short cut lead wire type","-40 to 105 (85)","Other package",200,"https://industrial.panasonic.com/ww/products/pt/automotive-film-cap/models/EZPV80106MTU","≤31","≤21","≤41.5",{"$f":"pana_film[[#This Row],[Body length / dia\n(mm)]]&\" x \"&pana_film[[#This Row],[Body width\n(mm)]]","v":"31 x 20.5"},{"$f":"INDEX('IR Data'!K:K,MATCH(pana_film[[#This Row],[PartNumber]],'IR Data'!I:I,0))","v":12.9},{"$f":"INDEX('IR Data'!L:L,MATCH(pana_film[[#This Row],[PartNumber]],'IR Data'!I:I,0))","v":11.5}]
[null,"Std","box","PP","No","EZPV","EZPV80106MTA",800,"DC",10,"±10",31,20.5,41.5,27.5,"Short cut lead wire type","-40 to 105 (85)","Other package",200,"https://industrial.panasonic.com/ww/products/pt/automotive-film-cap/models/EZPV80106MTA",{"$f":"IF(L76<=9.5,\"≤ \"&ROUNDUP(L76*1,0)/1,\"≤\"&ROUNDUP(L76*1,0)/1)","v":"≤31"},{"$f":"IF(M76<=9,\"≤ \"&ROUNDUP(M76*1,0)/1,\"≤\"&ROUNDUP(M76*1,0)/1)","v":"≤21"},{"$f":"IF(N76<=9.5,\"≤ \"&ROUNDUP(N76*2,0)/2,\"≤\"&ROUNDUP(N76*2,0)/2)","v":"≤41.5"},{"$f":"pana_film[[#This Row],[Body length / dia\n(mm)]]&\" x \"&pana_film[[#This Row],[Body width\n(mm)]]","v":"31 x 20.5"},{"$f":"INDEX('IR Data'!K:K,MATCH(pana_film[[#This Row],[PartNumber]],'IR Data'!I:I,0))","v":12.9},{"$f":"INDEX('IR Data'!L:L,MATCH(pana_film[[#This Row],[PartNumber]],'IR Data'!I:I,0))","v":11.5}]
[null,"Std","box","PP","Yes","EZPV","EZPV80106LTU",800,"DC",10,"±10",31,20.5,41.5,27.5,"Short cut lead wire type","-40 to 105 (85)","Other package",200,"https://industrial.panasonic.com/ww/products/pt/automotive-film-cap/models/EZPV80106LTU","≤31","≤21","≤41.5",{"$f":"pana_film[[#This Row],[Body length / dia\n(mm)]]&\" x \"&pana_film[[#This Row],[Body width\n(mm)]]","v":"31 x 20.5"},{"$f":"INDEX('IR Data'!K:K,MATCH(pana_film[[#This Row],[PartNumber]],'IR Data'!I:I,0))","v":12.9},{"$f":"INDEX('IR Data'!L:L,MATCH(pana_film[[#This Row],[PartNumber]],'IR Data'!I:I,0))","v":11.5}]
[null,"Std","box","PP","Yes","EZPV","EZPV80106LTT",800,"DC",10,"±10",41,17,34.5,37.5,"Short cut lead wire type","-40 to 105 (85)","Other package",300,"https://industrial.panasonic.com/ww/products/pt/automotive-film-cap/models/EZPV80106LTT","≤41","≤17","≤34.5",{"$f":"pana_film[[#This Row],[Body length / dia\n(mm)]]&\" x \"&pana_film[[#This Row],[Body width\n(mm)]]","v":"41 x 17"},{"$f":"INDEX('IR Data'!K:K,MATCH(pana_film[[#This Row],[PartNumber]],'IR Data'!I:I,0))","v":9.5},{"$f":"INDEX('IR Data'!L:L,MATCH(pana_film[[#This Row],[PartNumber]],'IR Data'!I:I,0))","v":13.9}]
[null,"Std","box","PP","No","EZPV","EZPV80106LTB",800,"DC",10,"±10",41,17,34.5,37.5,"Short cut lead wire type","-40 to 105 (85)","Other package",300,"https://industrial.panasonic.com/ww/products/pt/automotive-film-cap/models/EZPV80106LTB","≤41","≤17","≤34.5",{"$f":"pana_film[[#This Row],[Body length / dia\n(mm)]]&\" x \"&pana_film[[#This Row],[Body width\n(mm)]]","v":"41 x 17"},{"$f":"INDEX('IR Data'!K:K,MATCH(pana_film[[#This Row],[PartNumber]],'IR Data'!I:I,0))","v":9.5},{"$f":"INDEX('IR Data'!L:L,MATCH(pana_film[[#This Row],[PartNumber]],'IR Data'!I:I,0))","v":13.9}]
[null,"Std","box","PP","No","EZPV","EZPV80106LTA",800,"DC",10,"±10",31,20.5,41.5,27.5,"Short cut lead wire type","-40 to 105 (85)","Other package",200,"https://industrial.panasonic.com/ww/products/pt/automotive-film-cap/models/EZPV80106LTA","≤31","≤21","≤41.5",{"$f":"pana_film[[#This Row],[Body length / dia\n(mm)]]&\" x \"&pana_film[[#This Row],[Body width\n(mm)]]","v":"31 x 20.5"},{"$f":"INDEX('IR Data'!K:K,MATCH(pana_film[[#This Row],[PartNumber]],'IR Data'!I:I,0))","v":12.9},{"$f":"INDEX('IR Data'!L:L,MATCH(pana_film[[#This Row],[PartNumber]],'IR Data'!I:I,0))","v":11.5}]
[null,"Std","box","PP","Yes","EZPV","EZPV70905MTU",700,"DC",9,"±10",31,20.5,41.5,27.5,"Short cut lead wire type","-40 to 105 (85)","Other package",200,"https://industrial.panasonic.com/ww/products/pt/automotive-film-cap/models/EZPV70905MTU","≤31","≤21","≤41.5",{"$f":"pana_film[[#This Row],[Body length / dia\n(mm)]]&\" x \"&pana_film[[#This Row],[Body width\n(mm)]]","v":"31 x 20.5"},{"$f":"INDEX('IR Data'!K:K,MATCH(pana_film[[#This Row],[PartNumber]],'IR Data'!I:I,0))","v":12.3},{"$f":"INDEX('IR Data'!L:L,MATCH(pana_film[[#This Row],[PartNumber]],'IR Data'!I:I,0))","v":12.6}]
[null,"Std","box","PP","No","EZPV","EZPV70905MTA",700,"DC",9,"±10",31,20.5,41.5,27.5,"Short cut lead wire type","-40 to 105 (85)","Other package",200,"https://industrial.panasonic.com/ww/products/pt/automotive-film-cap/models/EZPV70905MTA","≤31","≤21","≤41.5",{"$f":"pana_film[[#This Row],[Body length / dia\n(mm)]]&\" x \"&pana_film[[#This Row],[Body width\n(mm)]]","v":"31 x 20.5"},{"$f":"INDEX('IR Data'!K:K,MATCH(pana_film[[#This Row],[PartNumber]],'IR Data'!I:I,0))","v":12.3},{"$f":"INDEX('IR Data'!L:L,MATCH(pana_film[[#This Row],[PartNumber]],'IR Data'!I:I,0))","v":12.6}]
[null,"Std","box","PP","Yes","EZPV","EZPV70905LTU",700,"DC",9,"±10",31,20.5,41.5,27.5,"Short cut lead wire type","-40 to 105 (85)","Other package",200,"https://industrial.panasonic.com/ww/products/pt/automotive-film-cap/models/EZPV70905LTU","≤31","≤21","≤41.5",{"$f":"pana_film[[#This Row],[Body length / dia\n(mm)]]&\" x \"&pana_film[[#This Row],[Body width\n(mm)]]","v":"31 x 20.5"},{"$f":"INDEX('IR Data'!K:K,MATCH(pana_film[[#This Row],[PartNumber]],'IR Data'!I:I,0))","v":12.3},{"$f":"INDEX('IR Data'!L:L,MATCH(pana_film[[#This Row],[PartNumber]],'IR Data'!I:I,0))","v":12.6}]
[null,"Std","box","PP","Yes","EZPV","EZPV70905LTT",700,"DC",9,"±10",41,17,34.5,37.5,"Short cut lead wire type","-40 to 105 (85)","Other package",300,"https://industrial.panasonic.com/ww/products/pt/automotive-film-cap/models/EZPV70905LTT","≤41","≤17","≤34.5",{"$f":"pana_film[[#This Row],[Body length / dia\n(mm)]]&\" x \"&pana_film[[#This Row],[Body width\n(mm)]]","v":"41 x 17"},{"$f":"INDEX('IR Data'!K:K,MATCH(pana_film[[#This Row],[PartNumber]],'IR Data'!I:I,0))","v":8.9},{"$f":"INDEX('IR Data'!L:L,MATCH(pana_film[[#This Row],[PartNumber]],'IR Data'!I:I,0))","v":15.6}]
[null,"Std","box","PP","No","EZPV","EZPV70905LTB",700,"DC",9,"±10",41,17,34.5,37.5,"Short cut lead wire type","-40 to 105 (85)","Other package",300,"https://industrial.panasonic.com/ww/products/pt/automotive-film-cap/models/EZPV70905LTB","≤41","≤17","≤34.5",{"$f":"pana_film[[#This Row],[Body length / dia\n(mm)]]&\" x \"&pana_film[[#This Row],[Body width\n(mm)]]","v":"41 x 17"},{"$f":"INDEX('IR Data'!K:K,MATCH(pana_film[[#This Row],[PartNumber]],'IR Data'!I:I,0))","v":8.9},{"$f":"INDEX('IR Data'!L:L,MATCH(pana_film[[#This Row],[PartNumber]],'IR Data'!I:I,0))","v":15.6}]
[null,"Std","box","PP","No","EZPV","EZPV70905LTA",700,"DC",9,"±10",31,20.5,41.5,27.5,"Short cut lead wire type","-40 to 105 (85)","Other package",200,"https://industrial.panasonic.com/ww/products/pt/automotive-film-cap/models/EZPV70905LTA","≤31","≤21","≤41.5",{"$f":"pana_film[[#This Row],[Body length / dia\n(mm)]]&\" x \"&pana_film[[#This Row],[Body width\n(mm)]]","v":"31 x 20.5"},{"$f":"INDEX('IR Data'!K:K,MATCH(pana_film[[#This Row],[PartNumber]],'IR Data'!I:I,0))","v":12.3},{"$f":"INDEX('IR Data'!L:L,MATCH(pana_film[[#This Row],[PartNumber]],'IR Data'!I:I,0))","v":12.6}]
[null,"Std","box","PP","Yes","EZPV","EZPV70805LTT",700,"DC",8,"±10",41,17,34.5,37.5,"Short cut lead wire type","-40 to 105 (85)","Other package",300,"https://industrial.panasonic.com/ww/products/pt/automotive-film-cap/models/EZPV70805LTT","≤41","≤17","≤34.5",{"$f":"pana_film[[#This Row],[Body length / dia\n(mm)]]&\" x \"&pana_film[[#This Row],[Body width\n(mm)]]","v":"41 x 17"},{"$f":"INDEX('IR Data'!K:K,MATCH(pana_film[[#This Row],[PartNumber]],'IR Data'!I:I,0))","v":8.1999999999999993},{"$f":"INDEX('IR Data'!L:L,MATCH(pana_film[[#This Row],[PartNumber]],'IR Data'!I:I,0))","v":17.100000000000001}]
[null,"Std","box","PP","No","EZPV","EZPV70805LTB",700,"DC",8,"±10",41,17,34.5,37.5,"Short cut lead wire type","-40 to 105 (85)","Other package",300,"https://industrial.panasonic.com/ww/products/pt/automotive-film-cap/models/EZPV70805LTB","≤41","≤17","≤34.5",{"$f":"pana_film[[#This Row],[Body length / dia\n(mm)]]&\" x \"&pana_film[[#This Row],[Body width\n(mm)]]","v":"41 x 17"},{"$f":"INDEX('IR Data'!K:K,MATCH(pana_film[[#This Row],[PartNumber]],'IR Data'!I:I,0))","v":8.1999999999999993},{"$f":"INDEX('IR Data'!L:L,MATCH(pana_film[[#This Row],[PartNumber]],'IR Data'!I:I,0))","v":17.100000000000001}]
[null,"Std","box","PP","Yes","EZPV","EZPV70656MTS",700,"DC",65,"±10",57.5,35,64.5,52.5,"Short cut lead wire type","-40 to 105 (85)","Other package",50,"https://industrial.panasonic.com/ww/products/pt/automotive-film-cap/models/EZPV70656MTS","≤58","≤35","≤64.5",{"$f":"pana_film[[#This Row],[Body length / dia\n(mm)]]&\" x \"&pana_film[[#This Row],[Body width\n(mm)]]","v":"57.5 x 35"},{"$f":"INDEX('IR Data'!K:K,MATCH(pana_film[[#This Row],[PartNumber]],'IR Data'!I:I,0))","v":29.3},{"$f":"INDEX('IR Data'!L:L,MATCH(pana_film[[#This Row],[PartNumber]],'IR Data'!I:I,0))","v":6.2}]
[null,"Std","box","PP","No","EZPV","EZPV70656MTC",700,"DC",65,"±10",57.5,35,64.5,52.5,"Short cut lead wire type","-40 to 105 (85)","Other package",50,"https://industrial.panasonic.com/ww/products/pt/automotive-film-cap/models/EZPV70656MTC","≤58","≤35","≤64.5",{"$f":"pana_film[[#This Row],[Body length / dia\n(mm)]]&\" x \"&pana_film[[#This Row],[Body width\n(mm)]]","v":"57.5 x 35"},{"$f":"INDEX('IR Data'!K:K,MATCH(pana_film[[#This Row],[PartNumber]],'IR Data'!I:I,0))","v":29.3},{"$f":"INDEX('IR Data'!L:L,MATCH(pana_film[[#This Row],[PartNumber]],'IR Data'!I:I,0))","v":6.2}]
[null,"Std","box","PP","Yes","EZPV","EZPV70606MTS",700,"DC",60,"±10",57.5,35,56,52.5,"Short cut lead wire type","-40 to 105 (85)","Other package",50,"https://industrial.panasonic.com/ww/products/pt/automotive-film-cap/models/EZPV70606MTS","≤58","≤35","≤56",{"$f":"pana_film[[#This Row],[Body length / dia\n(mm)]]&\" x \"&pana_film[[#This Row],[Body width\n(mm)]]","v":"57.5 x 35"},{"$f":"INDEX('IR Data'!K:K,MATCH(pana_film[[#This Row],[PartNumber]],'IR Data'!I:I,0))","v":27.8},{"$f":"INDEX('IR Data'!L:L,MATCH(pana_film[[#This Row],[PartNumber]],'IR Data'!I:I,0))","v":6.2}]
[null,"Std","box","PP","No","EZPV","EZPV70606MTC",700,"DC",60,"±10",57.5,35,56,52.5,"Short cut lead wire type","-40 to 105 (85)","Other package",50,"https://industrial.panasonic.com/ww/products/pt/automotive-film-cap/models/EZPV70606MTC","≤58","≤35","≤56",{"$f":"pana_film[[#This Row],[Body length / dia\n(mm)]]&\" x \"&pana_film[[#This Row],[Body width\n(mm)]]","v":"57.5 x 35"},{"$f":"INDEX('IR Data'!K:K,MATCH(pana_film[[#This Row],[PartNumber]],'IR Data'!I:I,0))","v":27.8},{"$f":"INDEX('IR Data'!L:L,MATCH(pana_film[[#This Row],[PartNumber]],'IR Data'!I:I,0))","v":6.2}]
[null,"Std","box","PP","Yes","EZPV","EZPV70556MTS",700,"DC",55,"±10",57.5,35,50,52.5,"Short cut lead wire type","-40 to 105 (85)","Other package",50,"https://industrial.panasonic.com/ww/products/pt/automotive-film-cap/models/EZPV70556MTS","≤58","≤35","≤50",{"$f":"pana_film[[#This Row],[Body length / dia\n(mm)]]&\" x \"&pana_film[[#This Row],[Body width\n(mm)]]","v":"57.5 x 35"},{"$f":"INDEX('IR Data'!K:K,MATCH(pana_film[[#This Row],[PartNumber]],'IR Data'!I:I,0))","v":26.2},{"$f":"INDEX('IR Data'!L:L,MATCH(pana_film[[#This Row],[PartNumber]],'IR Data'!I:I,0))","v":6.3}]
[null,"Std","box","PP","No","EZPV","EZPV70556MTC",700,"DC",55,"±10",57.5,35,50,52.5,"Short cut lead wire type","-40 to 105 (85)","Other package",50,"https://industrial.panasonic.com/ww/products/pt/automotive-film-cap/models/EZPV70556MTC","≤58","≤35","≤50",{"$f":"pana_film[[#This Row],[Body length / dia\n(mm)]]&\" x \"&pana_film[[#This Row],[Body width\n(mm)]]","v":"57.5 x 35"},{"$f":"INDEX('IR Data'!K:K,MATCH(pana_film[[#This Row],[PartNumber]],'IR Data'!I:I,0))","v":26.2},{"$f":"INDEX('IR Data'!L:L,MATCH(pana_film[[#This Row],[PartNumber]],'IR Data'!I:I,0))","v":6.3}]
[null,"Std","box","PP","Yes","EZPV","EZPV70506MTT",700,"DC",50,"±10",41,43,58,37.5,"Short cut lead wire type","-40 to 105 (85)","Other package",100,"https://industrial.panasonic.com/ww/products/pt/automotive-film-cap/models/EZPV70506MTT","≤41","≤43","≤58",{"$f":"pana_film[[#This Row],[Body length / dia\n(mm)]]&\" x \"&pana_film[[#This Row],[Body width\n(mm)]]","v":"41 x 43"},{"$f":"INDEX('IR Data'!K:K,MATCH(pana_film[[#This Row],[PartNumber]],'IR Data'!I:I,0))","v":28.2},{"$f":"INDEX('IR Data'!L:L,MATCH(pana_film[[#This Row],[PartNumber]],'IR Data'!I:I,0))","v":4.8}]
[null,"Std","box","PP","Yes","EZPV","EZPV70506MTS",700,"DC",50,"±10",57.5,30,51,52.5,"Short cut lead wire type","-40 to 105 (85)","Other package",50,"https://industrial.panasonic.com/ww/products/pt/automotive-film-cap/models/EZPV70506MTS","≤58","≤30","≤51",{"$f":"pana_film[[#This Row],[Body length / dia\n(mm)]]&\" x \"&pana_film[[#This Row],[Body width\n(mm)]]","v":"57.5 x 30"},{"$f":"INDEX('IR Data'!K:K,MATCH(pana_film[[#This Row],[PartNumber]],'IR Data'!I:I,0))","v":24.5},{"$f":"INDEX('IR Data'!L:L,MATCH(pana_film[[#This Row],[PartNumber]],'IR Data'!I:I,0))","v":6.8}]
[null,"Std","box","PP","No","EZPV","EZPV70506MTC",700,"DC",50,"±10",57.5,30,51,52.5,"Short cut lead wire type","-40 to 105 (85)","Other package",50,"https://industrial.panasonic.com/ww/products/pt/automotive-film-cap/models/EZPV70506MTC","≤58","≤30","≤51",{"$f":"pana_film[[#This Row],[Body length / dia\n(mm)]]&\" x \"&pana_film[[#This Row],[Body width\n(mm)]]","v":"57.5 x 30"},{"$f":"INDEX('IR Data'!K:K,MATCH(pana_film[[#This Row],[PartNumber]],'IR Data'!I:I,0))","v":24.5},{"$f":"INDEX('IR Data'!L:L,MATCH(pana_film[[#This Row],[PartNumber]],'IR Data'!I:I,0))","v":6.8}]
[null,"Std","box","PP","No","EZPV","EZPV70506MTB",700,"DC",50,"±10",41,43,58,37.5,"Short cut lead wire type","-40 to 105 (85)","Other package",100,"https://industrial.panasonic.com/ww/products/pt/automotive-film-cap/models/EZPV70506MTB","≤41","≤43","≤58",{"$f":"pana_film[[#This Row],[Body length / dia\n(mm)]]&\" x \"&pana_film[[#This Row],[Body width\n(mm)]]","v":"41 x 43"},{"$f":"INDEX('IR Data'!K:K,MATCH(pana_film[[#This Row],[PartNumber]],'IR Data'!I:I,0))","v":28.2},{"$f":"INDEX('IR Data'!L:L,MATCH(pana_film[[#This Row],[PartNumber]],'IR Data'!I:I,0))","v":4.8}]
[null,"Std","box","PP","Yes","EZPV","EZPV70456MTT",700,"DC",45,"±10",42,38,57,37.5,"Short cut lead wire type","-40 to 105 (85)","Other package",100,"https://industrial.panasonic.com/ww/products/pt/automotive-film-cap/models/EZPV70456MTT","≤42","≤38","≤57",{"$f":"pana_film[[#This Row],[Body length / dia\n(mm)]]&\" x \"&pana_film[[#This Row],[Body width\n(mm)]]","v":"42 x 38"},{"$f":"INDEX('IR Data'!K:K,MATCH(pana_film[[#This Row],[PartNumber]],'IR Data'!I:I,0))","v":26.4},{"$f":"INDEX('IR Data'!L:L,MATCH(pana_film[[#This Row],[PartNumber]],'IR Data'!I:I,0))","v":4.5}]
[null,"Std","box","PP","Yes","EZPV","EZPV70456MTS",700,"DC",45,"±10",57.5,30,51,52.5,"Short cut lead wire type","-40 to 105 (85)","Other package",50,"https://industrial.panasonic.com/ww/products/pt/automotive-film-cap/models/EZPV70456MTS","≤58","≤30","≤51",{"$f":"pana_film[[#This Row],[Body length / dia\n(mm)]]&\" x \"&pana_film[[#This Row],[Body width\n(mm)]]","v":"57.5 x 30"},{"$f":"INDEX('IR Data'!K:K,MATCH(pana_film[[#This Row],[PartNumber]],'IR Data'!I:I,0))","v":22.8},{"$f":"INDEX('IR Data'!L:L,MATCH(pana_film[[#This Row],[PartNumber]],'IR Data'!I:I,0))","v":7.9}]
[null,"Std","box","PP","No","EZPV","EZPV70456MTC",700,"DC",45,"±10",57.5,30,51,52.5,"Short cut lead wire type","-40 to 105 (85)","Other package",50,"https://industrial.panasonic.com/ww/products/pt/automotive-film-cap/models/EZPV70456MTC","≤58","≤30","≤51",{"$f":"pana_film[[#This Row],[Body length / dia\n(mm)]]&\" x \"&pana_film[[#This Row],[Body width\n(mm)]]","v":"57.5 x 30"},{"$f":"INDEX('IR Data'!K:K,MATCH(pana_film[[#This Row],[PartNumber]],'IR Data'!I:I,0))","v":22.8},{"$f":"INDEX('IR Data'!L:L,MATCH(pana_film[[#This Row],[PartNumber]],'IR Data'!I:I,0))","v":7.9}]
[null,"Std","box","PP","No","EZPV","EZPV70456MTB",700,"DC",45,"±10",42,38,57,37.5,"Short cut lead wire type","-40 to 105 (85)","Other package",100,"https://industrial.panasonic.com/ww/products/pt/automotive-film-cap/models/EZPV70456MTB","≤42","≤38","≤57",{"$f":"pana_film[[#This Row],[Body length / dia\n(mm)]]&\" x \"&pana_film[[#This Row],[Body width\n(mm)]]","v":"42 x 38"},{"$f":"INDEX('IR Data'!K:K,MATCH(pana_film[[#This Row],[PartNumber]],'IR Data'!I:I,0))","v":26.4},{"$f":"INDEX('IR Data'!L:L,MATCH(pana_film[[#This Row],[PartNumber]],'IR Data'!I:I,0))","v":4.5}]
[null,"Std","box","PP","Yes","EZPV","EZPV70406MTT",700,"DC",40,"±10",42,38,52.5,37.5,"Short cut lead wire type","-40 to 105 (85)","Other package",100,"https://industrial.panasonic.com/ww/products/pt/automotive-film-cap/models/EZPV70406MTT","≤42","≤38","≤52.5",{"$f":"pana_film[[#This Row],[Body length / dia\n(mm)]]&\" x \"&pana_film[[#This Row],[Body width\n(mm)]]","v":"42 x 38"},{"$f":"INDEX('IR Data'!K:K,MATCH(pana_film[[#This Row],[PartNumber]],'IR Data'!I:I,0))","v":24.6},{"$f":"INDEX('IR Data'!L:L,MATCH(pana_film[[#This Row],[PartNumber]],'IR Data'!I:I,0))","v":5.0999999999999996}]
[null,"Std","box","PP","Yes","EZPV","EZPV70406MTS",700,"DC",40,"±10",57.5,30,51,52.5,"Short cut lead wire type","-40 to 105 (85)","Other package",50,"https://industrial.panasonic.com/ww/products/pt/automotive-film-cap/models/EZPV70406MTS","≤58","≤30","≤51",{"$f":"pana_film[[#This Row],[Body length / dia\n(mm)]]&\" x \"&pana_film[[#This Row],[Body width\n(mm)]]","v":"57.5 x 30"},{"$f":"INDEX('IR Data'!K:K,MATCH(pana_film[[#This Row],[PartNumber]],'IR Data'!I:I,0))","v":20.9},{"$f":"INDEX('IR Data'!L:L,MATCH(pana_film[[#This Row],[PartNumber]],'IR Data'!I:I,0))","v":9.1}]
[null,"Std","box","PP","No","EZPV","EZPV70406MTC",700,"DC",40,"±10",57.5,30,51,52.5,"Short cut lead wire type","-40 to 105 (85)","Other package",50,"https://industrial.panasonic.com/ww/products/pt/automotive-film-cap/models/EZPV70406MTC","≤58","≤30","≤51",{"$f":"pana_film[[#This Row],[Body length / dia\n(mm)]]&\" x \"&pana_film[[#This Row],[Body width\n(mm)]]","v":"57.5 x 30"},{"$f":"INDEX('IR Data'!K:K,MATCH(pana_film[[#This Row],[PartNumber]],'IR Data'!I:I,0))","v":20.9},{"$f":"INDEX('IR Data'!L:L,MATCH(pana_film[[#This Row],[PartNumber]],'IR Data'!I:I,0))","v":9.1}]
[null,"Std","box","PP","No","EZPV","EZPV70406MTB",700,"DC",40,"±10",42,38,52.5,37.5,"Short cut lead wire type","-40 to 105 (85)","Other package",100,"https://industrial.panasonic.com/ww/products/pt/automotive-film-cap/models/EZPV70406MTB","≤42","≤38","≤52.5",{"$f":"pana_film[[#This Row],[Body length / dia\n(mm)]]&\" x \"&pana_film[[#This Row],[Body width\n(mm)]]","v":"42 x 38"},{"$f":"INDEX('IR Data'!K:K,MATCH(pana_film[[#This Row],[PartNumber]],'IR Data'!I:I,0))","v":24.6},{"$f":"INDEX('IR Data'!L:L,MATCH(pana_film[[#This Row],[PartNumber]],'IR Data'!I:I,0))","v":5.0999999999999996}]
[null,"Std","box","PP","Yes","EZPV","EZPV70356MTT",700,"DC",35,"±10",41.5,30,56,37.5,"Short cut lead wire type","-40 to 105 (85)","Other package",100,"https://industrial.panasonic.com/ww/products/pt/automotive-film-cap/models/EZPV70356MTT","≤42","≤30","≤56",{"$f":"pana_film[[#This Row],[Body length / dia\n(mm)]]&\" x \"&pana_film[[#This Row],[Body width\n(mm)]]","v":"41.5 x 30"},{"$f":"INDEX('IR Data'!K:K,MATCH(pana_film[[#This Row],[PartNumber]],'IR Data'!I:I,0))","v":22.7},{"$f":"INDEX('IR Data'!L:L,MATCH(pana_film[[#This Row],[PartNumber]],'IR Data'!I:I,0))","v":5.5}]
[null,"Std","box","PP","Yes","EZPV","EZPV70356MTS",700,"DC",35,"±10",57.5,30,51,52.5,"Short cut lead wire type","-40 to 105 (85)","Other package",50,"https://industrial.panasonic.com/ww/products/pt/automotive-film-cap/models/EZPV70356MTS","≤58","≤30","≤51",{"$f":"pana_film[[#This Row],[Body length / dia\n(mm)]]&\" x \"&pana_film[[#This Row],[Body width\n(mm)]]","v":"57.5 x 30"},{"$f":"INDEX('IR Data'!K:K,MATCH(pana_film[[#This Row],[PartNumber]],'IR Data'!I:I,0))","v":18.899999999999999},{"$f":"INDEX('IR Data'!L:L,MATCH(pana_film[[#This Row],[PartNumber]],'IR Data'!I:I,0))","v":10.199999999999999}]
[null,"Std","box","PP","No","EZPV","EZPV70356MTC",700,"DC",35,"±10",57.5,30,51,52.5,"Short cut lead wire type","-40 to 105 (85)","Other package",50,"https://industrial.panasonic.com/ww/products/pt/automotive-film-cap/models/EZPV70356MTC","≤58","≤30","≤51",{"$f":"pana_film[[#This Row],[Body length / dia\n(mm)]]&\" x \"&pana_film[[#This Row],[Body width\n(mm)]]","v":"57.5 x 30"},{"$f":"INDEX('IR Data'!K:K,MATCH(pana_film[[#This Row],[PartNumber]],'IR Data'!I:I,0))","v":18.899999999999999},{"$f":"INDEX('IR Data'!L:L,MATCH(pana_film[[#This Row],[PartNumber]],'IR Data'!I:I,0))","v":10.199999999999999}]
[null,"Std","box","PP","No","EZPV","EZPV70356MTB",700,"DC",35,"±10",41.5,30,56,37.5,"Short cut lead wire type","-40 to 105 (85)","Other package",100,"https://industrial.panasonic.com/ww/products/pt/automotive-film-cap/models/EZPV70356MTB","≤42","≤30","≤56",{"$f":"pana_film[[#This Row],[Body length / dia\n(mm)]]&\" x \"&pana_film[[#This Row],[Body width\n(mm)]]","v":"41.5 x 30"},{"$f":"INDEX('IR Data'!K:K,MATCH(pana_film[[#This Row],[PartNumber]],'IR Data'!I:I,0))","v":22.7},{"$f":"INDEX('IR Data'!L:L,MATCH(pana_film[[#This Row],[PartNumber]],'IR Data'!I:I,0))","v":5.5}]
[null,"Std","box","PP","Yes","EZPV","EZPV70306MTT",700,"DC",30,"±10",41,30,50.5,37.5,"Short cut lead wire type","-40 to 105 (85)","Other package",100,"https://industrial.panasonic.com/ww/products/pt/automotive-film-cap/models/EZPV70306MTT","≤41","≤30","≤50.5",{"$f":"pana_film[[#This Row],[Body length / dia\n(mm)]]&\" x \"&pana_film[[#This Row],[Body width\n(mm)]]","v":"41 x 30"},{"$f":"INDEX('IR Data'!K:K,MATCH(pana_film[[#This Row],[PartNumber]],'IR Data'!I:I,0))","v":20.6},{"$f":"INDEX('IR Data'!L:L,MATCH(pana_film[[#This Row],[PartNumber]],'IR Data'!I:I,0))","v":7.1}]
[null,"Std","box","PP","Yes","EZPV","EZPV70306MTS",700,"DC",30,"±10",57.5,30,51,52.5,"Short cut lead wire type","-40 to 105 (85)","Other package",50,"https://industrial.panasonic.com/ww/products/pt/automotive-film-cap/models/EZPV70306MTS","≤58","≤30","≤51",{"$f":"pana_film[[#This Row],[Body length / dia\n(mm)]]&\" x \"&pana_film[[#This Row],[Body width\n(mm)]]","v":"57.5 x 30"},{"$f":"INDEX('IR Data'!K:K,MATCH(pana_film[[#This Row],[PartNumber]],'IR Data'!I:I,0))","v":16.8},{"$f":"INDEX('IR Data'!L:L,MATCH(pana_film[[#This Row],[PartNumber]],'IR Data'!I:I,0))","v":11.6}]
[null,"Std","box","PP","No","EZPV","EZPV70306MTC",700,"DC",30,"±10",57.5,30,51,52.5,"Short cut lead wire type","-40 to 105 (85)","Other package",50,"https://industrial.panasonic.com/ww/products/pt/automotive-film-cap/models/EZPV70306MTC","≤58","≤30","≤51",{"$f":"pana_film[[#This Row],[Body length / dia\n(mm)]]&\" x \"&pana_film[[#This Row],[Body width\n(mm)]]","v":"57.5 x 30"},{"$f":"INDEX('IR Data'!K:K,MATCH(pana_film[[#This Row],[PartNumber]],'IR Data'!I:I,0))","v":16.8},{"$f":"INDEX('IR Data'!L:L,MATCH(pana_film[[#This Row],[PartNumber]],'IR Data'!I:I,0))","v":11.6}]
[null,"Std","box","PP","No","EZPV","EZPV70306MTB",700,"DC",30,"±10",41,30,50.5,37.5,"Short cut lead wire type","-40 to 105 (85)","Other package",100,"https://industrial.panasonic.com/ww/products/pt/automotive-film-cap/models/EZPV70306MTB","≤41","≤30","≤50.5",{"$f":"pana_film[[#This Row],[Body length / dia\n(mm)]]&\" x \"&pana_film[[#This Row],[Body width\n(mm)]]","v":"41 x 30"},{"$f":"INDEX('IR Data'!K:K,MATCH(pana_film[[#This Row],[PartNumber]],'IR Data'!I:I,0))","v":20.6},{"$f":"INDEX('IR Data'!L:L,MATCH(pana_film[[#This Row],[PartNumber]],'IR Data'!I:I,0))","v":7.1}]
[null,"Std","box","PP","Yes","EZPV","EZPV70256MTT",700,"DC",25,"±10",41,30,50.5,37.5,"Short cut lead wire type","-40 to 105 (85)","Other package",100,"https://industrial.panasonic.com/ww/products/pt/automotive-film-cap/models/EZPV70256MTT","≤41","≤30","≤50.5",{"$f":"pana_film[[#This Row],[Body length / dia\n(mm)]]&\" x \"&pana_film[[#This Row],[Body width\n(mm)]]","v":"41 x 30"},{"$f":"INDEX('IR Data'!K:K,MATCH(pana_film[[#This Row],[PartNumber]],'IR Data'!I:I,0))","v":18.3},{"$f":"INDEX('IR Data'!L:L,MATCH(pana_film[[#This Row],[PartNumber]],'IR Data'!I:I,0))","v":8.6999999999999993}]
[null,"Std","box","PP","Yes","EZPV","EZPV70256MTS",700,"DC",25,"±10",57,25,40,52.5,"Short cut lead wire type","-40 to 105 (85)","Other package",150,"https://industrial.panasonic.com/ww/products/pt/automotive-film-cap/models/EZPV70256MTS","≤57","≤25","≤40",{"$f":"pana_film[[#This Row],[Body length / dia\n(mm)]]&\" x \"&pana_film[[#This Row],[Body width\n(mm)]]","v":"57 x 25"},{"$f":"INDEX('IR Data'!K:K,MATCH(pana_film[[#This Row],[PartNumber]],'IR Data'!I:I,0))","v":14.4},{"$f":"INDEX('IR Data'!L:L,MATCH(pana_film[[#This Row],[PartNumber]],'IR Data'!I:I,0))","v":11.6}]
[null,"Std","box","PP","No","EZPV","EZPV70256MTC",700,"DC",25,"±10",57,25,40,52.5,"Short cut lead wire type","-40 to 105 (85)","Other package",150,"https://industrial.panasonic.com/ww/products/pt/automotive-film-cap/models/EZPV70256MTC","≤57","≤25","≤40",{"$f":"pana_film[[#This Row],[Body length / dia\n(mm)]]&\" x \"&pana_film[[#This Row],[Body width\n(mm)]]","v":"57 x 25"},{"$f":"INDEX('IR Data'!K:K,MATCH(pana_film[[#This Row],[PartNumber]],'IR Data'!I:I,0))","v":14.4},{"$f":"INDEX('IR Data'!L:L,MATCH(pana_film[[#This Row],[PartNumber]],'IR Data'!I:I,0))","v":11.6}]
[null,"Std","box","PP","No","EZPV","EZPV70256MTB",700,"DC",25,"±10",41,30,50.5,37.5,"Short cut lead wire type","-40 to 105 (85)","Other package",100,"https://industrial.panasonic.com/ww/products/pt/automotive-film-cap/models/EZPV70256MTB","≤41","≤30","≤50.5",{"$f":"pana_film[[#This Row],[Body length / dia\n(mm)]]&\" x \"&pana_film[[#This Row],[Body width\n(mm)]]","v":"41 x 30"},{"$f":"INDEX('IR Data'!K:K,MATCH(pana_film[[#This Row],[PartNumber]],'IR Data'!I:I,0))","v":18.3},{"$f":"INDEX('IR Data'!L:L,MATCH(pana_film[[#This Row],[PartNumber]],'IR Data'!I:I,0))","v":8.6999999999999993}]
[null,"Std","box","PP","Yes","EZPV","EZPV70206MTT",700,"DC",20,"±10",41,26,40.5,37.5,"Short cut lead wire type","-40 to 105 (85)","Other package",150,"https://industrial.panasonic.com/ww/products/pt/automotive-film-cap/models/EZPV70206MTT","≤41","≤26","≤40.5",{"$f":"pana_film[[#This Row],[Body length / dia\n(mm)]]&\" x \"&pana_film[[#This Row],[Body width\n(mm)]]","v":"41 x 26"},{"$f":"INDEX('IR Data'!K:K,MATCH(pana_film[[#This Row],[PartNumber]],'IR Data'!I:I,0))","v":15.8},{"$f":"INDEX('IR Data'!L:L,MATCH(pana_film[[#This Row],[PartNumber]],'IR Data'!I:I,0))","v":8.6999999999999993}]
[null,"Std","box","PP","No","EZPV","EZPV70206MTB",700,"DC",20,"±10",41,26,40.5,37.5,"Short cut lead wire type","-40 to 105 (85)","Other package",150,"https://industrial.panasonic.com/ww/products/pt/automotive-film-cap/models/EZPV70206MTB","≤41","≤26","≤40.5",{"$f":"pana_film[[#This Row],[Body length / dia\n(mm)]]&\" x \"&pana_film[[#This Row],[Body width\n(mm)]]","v":"41 x 26"},{"$f":"INDEX('IR Data'!K:K,MATCH(pana_film[[#This Row],[PartNumber]],'IR Data'!I:I,0))","v":15.8},{"$f":"INDEX('IR Data'!L:L,MATCH(pana_film[[#This Row],[PartNumber]],'IR Data'!I:I,0))","v":8.6999999999999993}]
[null,"Std","box","PP","Yes","EZPV","EZPV70186MTU",700,"DC",18,"±10",31,22,53.5,27.5,"Short cut lead wire type","-40 to 105 (85)","Other package",150,"https://industrial.panasonic.com/ww/products/pt/automotive-film-cap/models/EZPV70186MTU","≤31","≤22","≤53.5",{"$f":"pana_film[[#This Row],[Body length / dia\n(mm)]]&\" x \"&pana_film[[#This Row],[Body width\n(mm)]]","v":"31 x 22"},{"$f":"INDEX('IR Data'!K:K,MATCH(pana_film[[#This Row],[PartNumber]],'IR Data'!I:I,0))","v":17.3},{"$f":"INDEX('IR Data'!L:L,MATCH(pana_film[[#This Row],[PartNumber]],'IR Data'!I:I,0))","v":7.8}]
[null,"Std","box","PP","No","EZPV","EZPV70186MTA",700,"DC",18,"±10",31,22,53.5,27.5,"Short cut lead wire type","-40 to 105 (85)","Other package",150,"https://industrial.panasonic.com/ww/products/pt/automotive-film-cap/models/EZPV70186MTA","≤31","≤22","≤53.5",{"$f":"pana_film[[#This Row],[Body length / dia\n(mm)]]&\" x \"&pana_film[[#This Row],[Body width\n(mm)]]","v":"31 x 22"},{"$f":"INDEX('IR Data'!K:K,MATCH(pana_film[[#This Row],[PartNumber]],'IR Data'!I:I,0))","v":17.3},{"$f":"INDEX('IR Data'!L:L,MATCH(pana_film[[#This Row],[PartNumber]],'IR Data'!I:I,0))","v":7.8}]
[null,"Std","box","PP","Yes","EZPV","EZPV70186LTU",700,"DC",18,"±10",31,22,53.5,27.5,"Short cut lead wire type","-40 to 105 (85)","Other package",150,"https://industrial.panasonic.com/ww/products/pt/automotive-film-cap/models/EZPV70186LTU","≤31","≤22","≤53.5",{"$f":"pana_film[[#This Row],[Body length / dia\n(mm)]]&\" x \"&pana_film[[#This Row],[Body width\n(mm)]]","v":"31 x 22"},{"$f":"INDEX('IR Data'!K:K,MATCH(pana_film[[#This Row],[PartNumber]],'IR Data'!I:I,0))","v":17.3},{"$f":"INDEX('IR Data'!L:L,MATCH(pana_film[[#This Row],[PartNumber]],'IR Data'!I:I,0))","v":7.8}]
[null,"Std","box","PP","No","EZPV","EZPV70186LTA",700,"DC",18,"±10",31,22,53.5,27.5,"Short cut lead wire type","-40 to 105 (85)","Other package",150,"https://industrial.panasonic.com/ww/products/pt/automotive-film-cap/models/EZPV70186LTA","≤31","≤22","≤53.5",{"$f":"pana_film[[#This Row],[Body length / dia\n(mm)]]&\" x \"&pana_film[[#This Row],[Body width\n(mm)]]","v":"31 x 22"},{"$f":"INDEX('IR Data'!K:K,MATCH(pana_film[[#This Row],[PartNumber]],'IR Data'!I:I,0))","v":17.3},{"$f":"INDEX('IR Data'!L:L,MATCH(pana_film[[#This Row],[PartNumber]],'IR Data'!I:I,0))","v":7.8}]
[null,"Std","box","PP","Yes","EZPV","EZPV70156MTT",700,"DC",15,"±10",41,22,36,37.5,"Short cut lead wire type","-40 to 105 (85)","Other package",150,"https://industrial.panasonic.com/ww/products/pt/automotive-film-cap/models/EZPV70156MTT","≤41","≤22","≤36",{"$f":"pana_film[[#This Row],[Body length / dia\n(mm)]]&\" x \"&pana_film[[#This Row],[Body width\n(mm)]]","v":"41 x 22"},{"$f":"INDEX('IR Data'!K:K,MATCH(pana_film[[#This Row],[PartNumber]],'IR Data'!I:I,0))","v":13},{"$f":"INDEX('IR Data'!L:L,MATCH(pana_film[[#This Row],[PartNumber]],'IR Data'!I:I,0))","v":10.199999999999999}]
[null,"Std","box","PP","No","EZPV","EZPV70156MTB",700,"DC",15,"±10",41,22,36,37.5,"Short cut lead wire type","-40 to 105 (85)","Other package",150,"https://industrial.panasonic.com/ww/products/pt/automotive-film-cap/models/EZPV70156MTB","≤41","≤22","≤36",{"$f":"pana_film[[#This Row],[Body length / dia\n(mm)]]&\" x \"&pana_film[[#This Row],[Body width\n(mm)]]","v":"41 x 22"},{"$f":"INDEX('IR Data'!K:K,MATCH(pana_film[[#This Row],[PartNumber]],'IR Data'!I:I,0))","v":13},{"$f":"INDEX('IR Data'!L:L,MATCH(pana_film[[#This Row],[PartNumber]],'IR Data'!I:I,0))","v":10.199999999999999}]
[null,"Std","box","PP","Yes","EZPV","EZPV70146MTU",700,"DC",14,"±10",31,26,41,27.5,"Short cut lead wire type","-40 to 105 (85)","Other package",150,"https://industrial.panasonic.com/ww/products/pt/automotive-film-cap/models/EZPV70146MTU","≤31","≤26","≤41",{"$f":"pana_film[[#This Row],[Body length / dia\n(mm)]]&\" x \"&pana_film[[#This Row],[Body width\n(mm)]]","v":"31 x 26"},{"$f":"INDEX('IR Data'!K:K,MATCH(pana_film[[#This Row],[PartNumber]],'IR Data'!I:I,0))","v":15.3},{"$f":"INDEX('IR Data'!L:L,MATCH(pana_film[[#This Row],[PartNumber]],'IR Data'!I:I,0))","v":8.6999999999999993}]
[null,"Std","box","PP","No","EZPV","EZPV70146MTA",700,"DC",14,"±10",31,26,41,27.5,"Short cut lead wire type","-40 to 105 (85)","Other package",150,"https://industrial.panasonic.com/ww/products/pt/automotive-film-cap/models/EZPV70146MTA","≤31","≤26","≤41",{"$f":"pana_film[[#This Row],[Body length / dia\n(mm)]]&\" x \"&pana_film[[#This Row],[Body width\n(mm)]]","v":"31 x 26"},{"$f":"INDEX('IR Data'!K:K,MATCH(pana_film[[#This Row],[PartNumber]],'IR Data'!I:I,0))","v":15.3},{"$f":"INDEX('IR Data'!L:L,MATCH(pana_film[[#This Row],[PartNumber]],'IR Data'!I:I,0))","v":8.6999999999999993}]
[null,"Std","box","PP","Yes","EZPV","EZPV70146LTU",700,"DC",14,"±10",31,26,41,27.5,"Short cut lead wire type","-40 to 105 (85)","Other package",150,"https://industrial.panasonic.com/ww/products/pt/automotive-film-cap/models/EZPV70146LTU","≤31","≤26","≤41",{"$f":"pana_film[[#This Row],[Body length / dia\n(mm)]]&\" x \"&pana_film[[#This Row],[Body width\n(mm)]]","v":"31 x 26"},{"$f":"INDEX('IR Data'!K:K,MATCH(pana_film[[#This Row],[PartNumber]],'IR Data'!I:I,0))","v":15.3},{"$f":"INDEX('IR Data'!L:L,MATCH(pana_film[[#This Row],[PartNumber]],'IR Data'!I:I,0))","v":8.6999999999999993}]
[null,"Std","box","PP","No","EZPV","EZPV70146LTA",700,"DC",14,"±10",31,26,41,27.5,"Short cut lead wire type","-40 to 105 (85)","Other package",150,"https://industrial.panasonic.com/ww/products/pt/automotive-film-cap/models/EZPV70146LTA","≤31","≤26","≤41",{"$f":"pana_film[[#This Row],[Body length / dia\n(mm)]]&\" x \"&pana_film[[#This Row],[Body width\n(mm)]]","v":"31 x 26"},{"$f":"INDEX('IR Data'!K:K,MATCH(pana_film[[#This Row],[PartNumber]],'IR Data'!I:I,0))","v":15.3},{"$f":"INDEX('IR Data'!L:L,MATCH(pana_film[[#This Row],[PartNumber]],'IR Data'!I:I,0))","v":8.6999999999999993}]
[null,"Std","box","PP","Yes","EZPV","EZPV70136MTU",700,"DC",13,"±10",31,26,41,27.5,"Short cut lead wire type","-40 to 105 (85)","Other package",150,"https://industrial.panasonic.com/ww/products/pt/automotive-film-cap/models/EZPV70136MTU","≤31","≤26","≤41",{"$f":"pana_film[[#This Row],[Body length / dia\n(mm)]]&\" x \"&pana_film[[#This Row],[Body width\n(mm)]]","v":"31 x 26"},{"$f":"INDEX('IR Data'!K:K,MATCH(pana_film[[#This Row],[PartNumber]],'IR Data'!I:I,0))","v":14.7},{"$f":"INDEX('IR Data'!L:L,MATCH(pana_film[[#This Row],[PartNumber]],'IR Data'!I:I,0))","v":9.1999999999999993}]
[null,"Std","box","PP","No","EZPV","EZPV70136MTA",700,"DC",13,"±10",31,26,41,27.5,"Short cut lead wire type","-40 to 105 (85)","Other package",150,"https://industrial.panasonic.com/ww/products/pt/automotive-film-cap/models/EZPV70136MTA","≤31","≤26","≤41",{"$f":"pana_film[[#This Row],[Body length / dia\n(mm)]]&\" x \"&pana_film[[#This Row],[Body width\n(mm)]]","v":"31 x 26"},{"$f":"INDEX('IR Data'!K:K,MATCH(pana_film[[#This Row],[PartNumber]],'IR Data'!I:I,0))","v":14.7},{"$f":"INDEX('IR Data'!L:L,MATCH(pana_film[[#This Row],[PartNumber]],'IR Data'!I:I,0))","v":9.1999999999999993}]
[null,"Std","box","PP","Yes","EZPV","EZPV70136LTU",700,"DC",13,"±10",31,26,41,27.5,"Short cut lead wire type","-40 to 105 (85)","Other package",150,"https://industrial.panasonic.com/ww/products/pt/automotive-film-cap/models/EZPV70136LTU","≤31","≤26","≤41",{"$f":"pana_film[[#This Row],[Body length / dia\n(mm)]]&\" x \"&pana_film[[#This Row],[Body width\n(mm)]]","v":"31 x 26"},{"$f":"INDEX('IR Data'!K:K,MATCH(pana_film[[#This Row],[PartNumber]],'IR Data'!I:I,0))","v":14.7},{"$f":"INDEX('IR Data'!L:L,MATCH(pana_film[[#This Row],[PartNumber]],'IR Data'!I:I,0))","v":9.1999999999999993}]
[null,"Std","box","PP","No","EZPV","EZPV70136LTA",700,"DC",13,"±10",31,26,41,27.5,"Short cut lead wire type","-40 to 105 (85)","Other package",150,"https://industrial.panasonic.com/ww/products/pt/automotive-film-cap/models/EZPV70136LTA","≤31","≤26","≤41",{"$f":"pana_film[[#This Row],[Body length / dia\n(mm)]]&\" x \"&pana_film[[#This Row],[Body width\n(mm)]]","v":"31 x 26"},{"$f":"INDEX('IR Data'!K:K,MATCH(pana_film[[#This Row],[PartNumber]],'IR Data'!I:I,0))","v":14.7},{"$f":"INDEX('IR Data'!L:L,MATCH(pana_film[[#This Row],[PartNumber]],'IR Data'!I:I,0))","v":9.1999999999999993}]
[null,"Std","box","PP","Yes","EZPV","EZPV70126MTU",700,"DC",12,"±10",31,20.5,41.5,27.5,"Short cut lead wire type","-40 to 105 (85)","Other package",200,"https://industrial.panasonic.com/ww/products/pt/automotive-film-cap/models/EZPV70126MTU","≤31","≤21","≤41.5",{"$f":"pana_film[[#This Row],[Body length / dia\n(mm)]]&\" x \"&pana_film[[#This Row],[Body width\n(mm)]]","v":"31 x 20.5"},{"$f":"INDEX('IR Data'!K:K,MATCH(pana_film[[#This Row],[PartNumber]],'IR Data'!I:I,0))","v":14.2},{"$f":"INDEX('IR Data'!L:L,MATCH(pana_film[[#This Row],[PartNumber]],'IR Data'!I:I,0))","v":9.9}]
[null,"Std","box","PP","No","EZPV","EZPV70126MTA",700,"DC",12,"±10",31,20.5,41.5,27.5,"Short cut lead wire type","-40 to 105 (85)","Other package",200,"https://industrial.panasonic.com/ww/products/pt/automotive-film-cap/models/EZPV70126MTA","≤31","≤21","≤41.5",{"$f":"pana_film[[#This Row],[Body length / dia\n(mm)]]&\" x \"&pana_film[[#This Row],[Body width\n(mm)]]","v":"31 x 20.5"},{"$f":"INDEX('IR Data'!K:K,MATCH(pana_film[[#This Row],[PartNumber]],'IR Data'!I:I,0))","v":14.2},{"$f":"INDEX('IR Data'!L:L,MATCH(pana_film[[#This Row],[PartNumber]],'IR Data'!I:I,0))","v":9.9}]
[null,"Std","box","PP","Yes","EZPV","EZPV70126LTU",700,"DC",12,"±10",31,20.5,41.5,27.5,"Short cut lead wire type","-40 to 105 (85)","Other package",200,"https://industrial.panasonic.com/ww/products/pt/automotive-film-cap/models/EZPV70126LTU","≤31","≤21","≤41.5",{"$f":"pana_film[[#This Row],[Body length / dia\n(mm)]]&\" x \"&pana_film[[#This Row],[Body width\n(mm)]]","v":"31 x 20.5"},{"$f":"INDEX('IR Data'!K:K,MATCH(pana_film[[#This Row],[PartNumber]],'IR Data'!I:I,0))","v":14.2},{"$f":"INDEX('IR Data'!L:L,MATCH(pana_film[[#This Row],[PartNumber]],'IR Data'!I:I,0))","v":9.9}]
[null,"Std","box","PP","Yes","EZPV","EZPV70126LTT",700,"DC",12,"±10",41,22,36,37.5,"Short cut lead wire type","-40 to 105 (85)","Other package",150,"https://industrial.panasonic.com/ww/products/pt/automotive-film-cap/models/EZPV70126LTT","≤41","≤22","≤36",{"$f":"pana_film[[#This Row],[Body length / dia\n(mm)]]&\" x \"&pana_film[[#This Row],[Body width\n(mm)]]","v":"41 x 22"},{"$f":"INDEX('IR Data'!K:K,MATCH(pana_film[[#This Row],[PartNumber]],'IR Data'!I:I,0))","v":10.7},{"$f":"INDEX('IR Data'!L:L,MATCH(pana_film[[#This Row],[PartNumber]],'IR Data'!I:I,0))","v":12.5}]
[null,"Std","box","PP","No","EZPV","EZPV70126LTB",700,"DC",12,"±10",41,22,36,37.5,"Short cut lead wire type","-40 to 105 (85)","Other package",150,"https://industrial.panasonic.com/ww/products/pt/automotive-film-cap/models/EZPV70126LTB","≤41","≤22","≤36",{"$f":"pana_film[[#This Row],[Body length / dia\n(mm)]]&\" x \"&pana_film[[#This Row],[Body width\n(mm)]]","v":"41 x 22"},{"$f":"INDEX('IR Data'!K:K,MATCH(pana_film[[#This Row],[PartNumber]],'IR Data'!I:I,0))","v":10.7},{"$f":"INDEX('IR Data'!L:L,MATCH(pana_film[[#This Row],[PartNumber]],'IR Data'!I:I,0))","v":12.5}]
[null,"Std","box","PP","No","EZPV","EZPV70126LTA",700,"DC",12,"±10",31,20.5,41.5,27.5,"Short cut lead wire type","-40 to 105 (85)","Other package",200,"https://industrial.panasonic.com/ww/products/pt/automotive-film-cap/models/EZPV70126LTA",{"$f":"IF(L140<=9.5,\"≤ \"&ROUNDUP(L140*1,0)/1,\"≤\"&ROUNDUP(L140*1,0)/1)","v":"≤31"},{"$f":"IF(M140<=9,\"≤ \"&ROUNDUP(M140*1,0)/1,\"≤\"&ROUNDUP(M140*1,0)/1)","v":"≤21"},{"$f":"IF(N140<=9.5,\"≤ \"&ROUNDUP(N140*2,0)/2,\"≤\"&ROUNDUP(N140*2,0)/2)","v":"≤41.5"},{"$f":"pana_film[[#This Row],[Body length / dia\n(mm)]]&\" x \"&pana_film[[#This Row],[Body width\n(mm)]]","v":"31 x 20.5"},{"$f":"INDEX('IR Data'!K:K,MATCH(pana_film[[#This Row],[PartNumber]],'IR Data'!I:I,0))","v":14.2},{"$f":"INDEX('IR Data'!L:L,MATCH(pana_film[[#This Row],[PartNumber]],'IR Data'!I:I,0))","v":9.9}]
[null,"Std","box","PP","Yes","EZPV","EZPV70116MTU",700,"DC",11,"±10",31,20.5,41.5,27.5,"Short cut lead wire type","-40 to 105 (85)","Other package",200,"https://industrial.panasonic.com/ww/products/pt/automotive-film-cap/models/EZPV70116MTU","≤31","≤21","≤41.5",{"$f":"pana_film[[#This Row],[Body length / dia\n(mm)]]&\" x \"&pana_film[[#This Row],[Body width\n(mm)]]","v":"31 x 20.5"},{"$f":"INDEX('IR Data'!K:K,MATCH(pana_film[[#This Row],[PartNumber]],'IR Data'!I:I,0))","v":13.6},{"$f":"INDEX('IR Data'!L:L,MATCH(pana_film[[#This Row],[PartNumber]],'IR Data'!I:I,0))","v":10.6}]
[null,"Std","box","PP","No","EZPV","EZPV70116MTA",700,"DC",11,"±10",31,20.5,41.5,27.5,"Short cut lead wire type","-40 to 105 (85)","Other package",200,"https://industrial.panasonic.com/ww/products/pt/automotive-film-cap/models/EZPV70116MTA","≤31","≤21","≤41.5",{"$f":"pana_film[[#This Row],[Body length / dia\n(mm)]]&\" x \"&pana_film[[#This Row],[Body width\n(mm)]]","v":"31 x 20.5"},{"$f":"INDEX('IR Data'!K:K,MATCH(pana_film[[#This Row],[PartNumber]],'IR Data'!I:I,0))","v":13.6},{"$f":"INDEX('IR Data'!L:L,MATCH(pana_film[[#This Row],[PartNumber]],'IR Data'!I:I,0))","v":10.6}]
[null,"Std","box","PP","Yes","EZPV","EZPV70116LTU",700,"DC",11,"±10",31,20.5,41.5,27.5,"Short cut lead wire type","-40 to 105 (85)","Other package",200,"https://industrial.panasonic.com/ww/products/pt/automotive-film-cap/models/EZPV70116LTU","≤31","≤21","≤41.5",{"$f":"pana_film[[#This Row],[Body length / dia\n(mm)]]&\" x \"&pana_film[[#This Row],[Body width\n(mm)]]","v":"31 x 20.5"},{"$f":"INDEX('IR Data'!K:K,MATCH(pana_film[[#This Row],[PartNumber]],'IR Data'!I:I,0))","v":13.6},{"$f":"INDEX('IR Data'!L:L,MATCH(pana_film[[#This Row],[PartNumber]],'IR Data'!I:I,0))","v":10.6}]
[null,"Std","box","PP","No","EZPV","EZPV70116LTA",700,"DC",11,"±10",31,20.5,41.5,27.5,"Short cut lead wire type","-40 to 105 (85)","Other package",200,"https://industrial.panasonic.com/ww/products/pt/automotive-film-cap/models/EZPV70116LTA","≤31","≤21","≤41.5",{"$f":"pana_film[[#This Row],[Body length / dia\n(mm)]]&\" x \"&pana_film[[#This Row],[Body width\n(mm)]]","v":"31 x 20.5"},{"$f":"INDEX('IR Data'!K:K,MATCH(pana_film[[#This Row],[PartNumber]],'IR Data'!I:I,0))","v":13.6},{"$f":"INDEX('IR Data'!L:L,MATCH(pana_film[[#This Row],[PartNumber]],'IR Data'!I:I,0))","v":10.6}]
[null,"Std","box","PP","Yes","EZPV","EZPV70106MTU",700,"DC",10,"±10",31,20.5,41.5,27.5,"Short cut lead wire type","-40 to 105 (85)","Other package",200,"https://industrial.panasonic.com/ww/products/pt/automotive-film-cap/models/EZPV70106MTU","≤31","≤21","≤41.5",{"$f":"pana_film[[#This Row],[Body length / dia\n(mm)]]&\" x \"&pana_film[[#This Row],[Body width\n(mm)]]","v":"31 x 20.5"},{"$f":"INDEX('IR Data'!K:K,MATCH(pana_film[[#This Row],[PartNumber]],'IR Data'!I:I,0))","v":12.9},{"$f":"INDEX('IR Data'!L:L,MATCH(pana_film[[#This Row],[PartNumber]],'IR Data'!I:I,0))","v":11.5}]
[null,"Std","box","PP","No","EZPV","EZPV70106MTA",700,"DC",10,"±10",31,20.5,41.5,27.5,"Short cut lead wire type","-40 to 105 (85)","Other package",200,"https://industrial.panasonic.com/ww/products/pt/automotive-film-cap/models/EZPV70106MTA","≤31","≤21","≤41.5",{"$f":"pana_film[[#This Row],[Body length / dia\n(mm)]]&\" x \"&pana_film[[#This Row],[Body width\n(mm)]]","v":"31 x 20.5"},{"$f":"INDEX('IR Data'!K:K,MATCH(pana_film[[#This Row],[PartNumber]],'IR Data'!I:I,0))","v":12.9},{"$f":"INDEX('IR Data'!L:L,MATCH(pana_film[[#This Row],[PartNumber]],'IR Data'!I:I,0))","v":11.5}]
[null,"Std","box","PP","Yes","EZPV","EZPV70106LTU",700,"DC",10,"±10",31,20.5,41.5,27.5,"Short cut lead wire type","-40 to 105 (85)","Other package",200,"https://industrial.panasonic.com/ww/products/pt/automotive-film-cap/models/EZPV70106LTU","≤31","≤21","≤41.5",{"$f":"pana_film[[#This Row],[Body length / dia\n(mm)]]&\" x \"&pana_film[[#This Row],[Body width\n(mm)]]","v":"31 x 20.5"},{"$f":"INDEX('IR Data'!K:K,MATCH(pana_film[[#This Row],[PartNumber]],'IR Data'!I:I,0))","v":12.9},{"$f":"INDEX('IR Data'!L:L,MATCH(pana_film[[#This Row],[PartNumber]],'IR Data'!I:I,0))","v":11.5}]
[null,"Std","box","PP","Yes","EZPV","EZPV70106LTT",700,"DC",10,"±10",41,17,34.5,37.5,"Short cut lead wire type","-40 to 105 (85)","Other package",300,"https://industrial.panasonic.com/ww/products/pt/automotive-film-cap/models/EZPV70106LTT","≤41","≤17","≤34.5",{"$f":"pana_film[[#This Row],[Body length / dia\n(mm)]]&\" x \"&pana_film[[#This Row],[Body width\n(mm)]]","v":"41 x 17"},{"$f":"INDEX('IR Data'!K:K,MATCH(pana_film[[#This Row],[PartNumber]],'IR Data'!I:I,0))","v":9.5},{"$f":"INDEX('IR Data'!L:L,MATCH(pana_film[[#This Row],[PartNumber]],'IR Data'!I:I,0))","v":13.9}]
[null,"Std","box","PP","No","EZPV","EZPV70106LTB",700,"DC",10,"±10",41,17,34.5,37.5,"Short cut lead wire type","-40 to 105 (85)","Other package",300,"https://industrial.panasonic.com/ww/products/pt/automotive-film-cap/models/EZPV70106LTB","≤41","≤17","≤34.5",{"$f":"pana_film[[#This Row],[Body length / dia\n(mm)]]&\" x \"&pana_film[[#This Row],[Body width\n(mm)]]","v":"41 x 17"},{"$f":"INDEX('IR Data'!K:K,MATCH(pana_film[[#This Row],[PartNumber]],'IR Data'!I:I,0))","v":9.5},{"$f":"INDEX('IR Data'!L:L,MATCH(pana_film[[#This Row],[PartNumber]],'IR Data'!I:I,0))","v":13.9}]
[null,"Std","box","PP","No","EZPV","EZPV70106LTA",700,"DC",10,"±10",31,20.5,41.5,27.5,"Short cut lead wire type","-40 to 105 (85)","Other package",200,"https://industrial.panasonic.com/ww/products/pt/automotive-film-cap/models/EZPV70106LTA","≤31","≤21","≤41.5",{"$f":"pana_film[[#This Row],[Body length / dia\n(mm)]]&\" x \"&pana_film[[#This Row],[Body width\n(mm)]]","v":"31 x 20.5"},{"$f":"INDEX('IR Data'!K:K,MATCH(pana_film[[#This Row],[PartNumber]],'IR Data'!I:I,0))","v":12.9},{"$f":"INDEX('IR Data'!L:L,MATCH(pana_film[[#This Row],[PartNumber]],'IR Data'!I:I,0))","v":11.5}]
[null,"Std","box","PP","Yes","EZPV","EZPV60956MTS",600,"DC",95,"±10",57.5,35,50,52.5,"Short cut lead wire type","-40 to 105 (85)","Other package",50,"https://industrial.panasonic.com/ww/products/pt/automotive-film-cap/models/EZPV60956MTS","≤58","≤35","≤50",{"$f":"pana_film[[#This Row],[Body length / dia\n(mm)]]&\" x \"&pana_film[[#This Row],[Body width\n(mm)]]","v":"57.5 x 35"},{"$f":"INDEX('IR Data'!K:K,MATCH(pana_film[[#This Row],[PartNumber]],'IR Data'!I:I,0))","v":26.8},{"$f":"INDEX('IR Data'!L:L,MATCH(pana_film[[#This Row],[PartNumber]],'IR Data'!I:I,0))","v":5.2}]
[null,"Std","box","PP","No","EZPV","EZPV60956MTC",600,"DC",95,"±10",57.5,35,50,52.5,"Short cut lead wire type","-40 to 105 (85)","Other package",50,"https://industrial.panasonic.com/ww/products/pt/automotive-film-cap/models/EZPV60956MTC","≤58","≤35","≤50",{"$f":"pana_film[[#This Row],[Body length / dia\n(mm)]]&\" x \"&pana_film[[#This Row],[Body width\n(mm)]]","v":"57.5 x 35"},{"$f":"INDEX('IR Data'!K:K,MATCH(pana_film[[#This Row],[PartNumber]],'IR Data'!I:I,0))","v":26.8},{"$f":"INDEX('IR Data'!L:L,MATCH(pana_film[[#This Row],[PartNumber]],'IR Data'!I:I,0))","v":5.2}]
[null,"Std","box","PP","Yes","EZPV","EZPV60906MTS",600,"DC",90,"±10",57.5,35,50,52.5,"Short cut lead wire type","-40 to 105 (85)","Other package",50,"https://industrial.panasonic.com/ww/products/pt/automotive-film-cap/models/EZPV60906MTS","≤58","≤35","≤50",{"$f":"pana_film[[#This Row],[Body length / dia\n(mm)]]&\" x \"&pana_film[[#This Row],[Body width\n(mm)]]","v":"57.5 x 35"},{"$f":"INDEX('IR Data'!K:K,MATCH(pana_film[[#This Row],[PartNumber]],'IR Data'!I:I,0))","v":26},{"$f":"INDEX('IR Data'!L:L,MATCH(pana_film[[#This Row],[PartNumber]],'IR Data'!I:I,0))","v":4.7}]
[null,"Std","box","PP","No","EZPV","EZPV60906MTC",600,"DC",90,"±10",57.5,35,50,52.5,"Short cut lead wire type","-40 to 105 (85)","Other package",50,"https://industrial.panasonic.com/ww/products/pt/automotive-film-cap/models/EZPV60906MTC","≤58","≤35","≤50",{"$f":"pana_film[[#This Row],[Body length / dia\n(mm)]]&\" x \"&pana_film[[#This Row],[Body width\n(mm)]]","v":"57.5 x 35"},{"$f":"INDEX('IR Data'!K:K,MATCH(pana_film[[#This Row],[PartNumber]],'IR Data'!I:I,0))","v":26},{"$f":"INDEX('IR Data'!L:L,MATCH(pana_film[[#This Row],[PartNumber]],'IR Data'!I:I,0))","v":4.7}]
[null,"Std","box","PP","Yes","EZPV","EZPV60856MTT",600,"DC",85,"±10",41,43,58,37.5,"Short cut lead wire type","-40 to 105 (85)","Other package",100,"https://industrial.panasonic.com/ww/products/pt/automotive-film-cap/models/EZPV60856MTT","≤41","≤43","≤58",{"$f":"pana_film[[#This Row],[Body length / dia\n(mm)]]&\" x \"&pana_film[[#This Row],[Body width\n(mm)]]","v":"41 x 43"},{"$f":"INDEX('IR Data'!K:K,MATCH(pana_film[[#This Row],[PartNumber]],'IR Data'!I:I,0))","v":24.7},{"$f":"INDEX('IR Data'!L:L,MATCH(pana_film[[#This Row],[PartNumber]],'IR Data'!I:I,0))","v":3.7}]
[null,"Std","box","PP","Yes","EZPV","EZPV60856MTS",600,"DC",85,"±10",57.5,30,51,52.5,"Short cut lead wire type","-40 to 105 (85)","Other package",50,"https://industrial.panasonic.com/ww/products/pt/automotive-film-cap/models/EZPV60856MTS","≤58","≤30","≤51",{"$f":"pana_film[[#This Row],[Body length / dia\n(mm)]]&\" x \"&pana_film[[#This Row],[Body width\n(mm)]]","v":"57.5 x 30"},{"$f":"INDEX('IR Data'!K:K,MATCH(pana_film[[#This Row],[PartNumber]],'IR Data'!I:I,0))","v":25.3},{"$f":"INDEX('IR Data'!L:L,MATCH(pana_film[[#This Row],[PartNumber]],'IR Data'!I:I,0))","v":4.5999999999999996}]
[null,"Std","box","PP","No","EZPV","EZPV60856MTC",600,"DC",85,"±10",57.5,30,51,52.5,"Short cut lead wire type","-40 to 105 (85)","Other package",50,"https://industrial.panasonic.com/ww/products/pt/automotive-film-cap/models/EZPV60856MTC","≤58","≤30","≤51",{"$f":"pana_film[[#This Row],[Body length / dia\n(mm)]]&\" x \"&pana_film[[#This Row],[Body width\n(mm)]]","v":"57.5 x 30"},{"$f":"INDEX('IR Data'!K:K,MATCH(pana_film[[#This Row],[PartNumber]],'IR Data'!I:I,0))","v":25.3},{"$f":"INDEX('IR Data'!L:L,MATCH(pana_film[[#This Row],[PartNumber]],'IR Data'!I:I,0))","v":4.5999999999999996}]
[null,"Std","box","PP","No","EZPV","EZPV60856MTB",600,"DC",85,"±10",41,43,58,37.5,"Short cut lead wire type","-40 to 105 (85)","Other package",100,"https://industrial.panasonic.com/ww/products/pt/automotive-film-cap/models/EZPV60856MTB","≤41","≤43","≤58",{"$f":"pana_film[[#This Row],[Body length / dia\n(mm)]]&\" x \"&pana_film[[#This Row],[Body width\n(mm)]]","v":"41 x 43"},{"$f":"INDEX('IR Data'!K:K,MATCH(pana_film[[#This Row],[PartNumber]],'IR Data'!I:I,0))","v":24.7},{"$f":"INDEX('IR Data'!L:L,MATCH(pana_film[[#This Row],[PartNumber]],'IR Data'!I:I,0))","v":3.7}]
[null,"Std","box","PP","Yes","EZPV","EZPV60806MTT",600,"DC",80,"±10",41,43,58,37.5,"Short cut lead wire type","-40 to 105 (85)","Other package",100,"https://industrial.panasonic.com/ww/products/pt/automotive-film-cap/models/EZPV60806MTT","≤41","≤43","≤58",{"$f":"pana_film[[#This Row],[Body length / dia\n(mm)]]&\" x \"&pana_film[[#This Row],[Body width\n(mm)]]","v":"41 x 43"},{"$f":"INDEX('IR Data'!K:K,MATCH(pana_film[[#This Row],[PartNumber]],'IR Data'!I:I,0))","v":24.3},{"$f":"INDEX('IR Data'!L:L,MATCH(pana_film[[#This Row],[PartNumber]],'IR Data'!I:I,0))","v":3.9}]
[null,"Std","box","PP","Yes","EZPV","EZPV60806MTS",600,"DC",80,"±10",57.5,30,51,52.5,"Short cut lead wire type","-40 to 105 (85)","Other package",50,"https://industrial.panasonic.com/ww/products/pt/automotive-film-cap/models/EZPV60806MTS","≤58","≤30","≤51",{"$f":"pana_film[[#This Row],[Body length / dia\n(mm)]]&\" x \"&pana_film[[#This Row],[Body width\n(mm)]]","v":"57.5 x 30"},{"$f":"INDEX('IR Data'!K:K,MATCH(pana_film[[#This Row],[PartNumber]],'IR Data'!I:I,0))","v":24.5},{"$f":"INDEX('IR Data'!L:L,MATCH(pana_film[[#This Row],[PartNumber]],'IR Data'!I:I,0))","v":4.9000000000000004}]
[null,"Std","box","PP","No","EZPV","EZPV60806MTC",600,"DC",80,"±10",57.5,30,51,52.5,"Short cut lead wire type","-40 to 105 (85)","Other package",50,"https://industrial.panasonic.com/ww/products/pt/automotive-film-cap/models/EZPV60806MTC","≤58","≤30","≤51",{"$f":"pana_film[[#This Row],[Body length / dia\n(mm)]]&\" x \"&pana_film[[#This Row],[Body width\n(mm)]]","v":"57.5 x 30"},{"$f":"INDEX('IR Data'!K:K,MATCH(pana_film[[#This Row],[PartNumber]],'IR Data'!I:I,0))","v":24.5},{"$f":"INDEX('IR Data'!L:L,MATCH(pana_film[[#This Row],[PartNumber]],'IR Data'!I:I,0))","v":4.9000000000000004}]
[null,"Std","box","PP","No","EZPV","EZPV60806MTB",600,"DC",80,"±10",41,43,58,37.5,"Short cut lead wire type","-40 to 105 (85)","Other package",100,"https://industrial.panasonic.com/ww/products/pt/automotive-film-cap/models/EZPV60806MTB","≤41","≤43","≤58",{"$f":"pana_film[[#This Row],[Body length / dia\n(mm)]]&\" x \"&pana_film[[#This Row],[Body width\n(mm)]]","v":"41 x 43"},{"$f":"INDEX('IR Data'!K:K,MATCH(pana_film[[#This Row],[PartNumber]],'IR Data'!I:I,0))","v":24.3},{"$f":"INDEX('IR Data'!L:L,MATCH(pana_film[[#This Row],[PartNumber]],'IR Data'!I:I,0))","v":3.9}]
[null,"Std","box","PP","Yes","EZPV","EZPV60756MTT",600,"DC",75,"±10",42,38,57,37.5,"Short cut lead wire type","-40 to 105 (85)","Other package",100,"https://industrial.panasonic.com/ww/products/pt/automotive-film-cap/models/EZPV60756MTT","≤42","≤38","≤57",{"$f":"pana_film[[#This Row],[Body length / dia\n(mm)]]&\" x \"&pana_film[[#This Row],[Body width\n(mm)]]","v":"42 x 38"},{"$f":"INDEX('IR Data'!K:K,MATCH(pana_film[[#This Row],[PartNumber]],'IR Data'!I:I,0))","v":23.8},{"$f":"INDEX('IR Data'!L:L,MATCH(pana_film[[#This Row],[PartNumber]],'IR Data'!I:I,0))","v":4.0999999999999996}]
[null,"Std","box","PP","Yes","EZPV","EZPV60756MTS",600,"DC",75,"±10",57.5,30,51,52.5,"Short cut lead wire type","-40 to 105 (85)","Other package",50,"https://industrial.panasonic.com/ww/products/pt/automotive-film-cap/models/EZPV60756MTS","≤58","≤30","≤51",{"$f":"pana_film[[#This Row],[Body length / dia\n(mm)]]&\" x \"&pana_film[[#This Row],[Body width\n(mm)]]","v":"57.5 x 30"},{"$f":"INDEX('IR Data'!K:K,MATCH(pana_film[[#This Row],[PartNumber]],'IR Data'!I:I,0))","v":23.6},{"$f":"INDEX('IR Data'!L:L,MATCH(pana_film[[#This Row],[PartNumber]],'IR Data'!I:I,0))","v":5.5}]
[null,"Std","box","PP","No","EZPV","EZPV60756MTC",600,"DC",75,"±10",57.5,30,51,52.5,"Short cut lead wire type","-40 to 105 (85)","Other package",50,"https://industrial.panasonic.com/ww/products/pt/automotive-film-cap/models/EZPV60756MTC","≤58","≤30","≤51",{"$f":"pana_film[[#This Row],[Body length / dia\n(mm)]]&\" x \"&pana_film[[#This Row],[Body width\n(mm)]]","v":"57.5 x 30"},{"$f":"INDEX('IR Data'!K:K,MATCH(pana_film[[#This Row],[PartNumber]],'IR Data'!I:I,0))","v":23.6},{"$f":"INDEX('IR Data'!L:L,MATCH(pana_film[[#This Row],[PartNumber]],'IR Data'!I:I,0))","v":5.5}]
[null,"Std","box","PP","No","EZPV","EZPV60756MTB",600,"DC",75,"±10",42,38,57,37.5,"Short cut lead wire type","-40 to 105 (85)","Other package",100,"https://industrial.panasonic.com/ww/products/pt/automotive-film-cap/models/EZPV60756MTB","≤42","≤38","≤57",{"$f":"pana_film[[#This Row],[Body length / dia\n(mm)]]&\" x \"&pana_film[[#This Row],[Body width\n(mm)]]","v":"42 x 38"},{"$f":"INDEX('IR Data'!K:K,MATCH(pana_film[[#This Row],[PartNumber]],'IR Data'!I:I,0))","v":23.8},{"$f":"INDEX('IR Data'!L:L,MATCH(pana_film[[#This Row],[PartNumber]],'IR Data'!I:I,0))","v":4.0999999999999996}]
[null,"Std","box","PP","Yes","EZPV","EZPV60706MTT",600,"DC",70,"±10",42,38,52.5,37.5,"Short cut lead wire type","-40 to 105 (85)","Other package",100,"https://industrial.panasonic.com/ww/products/pt/automotive-film-cap/models/EZPV60706MTT","≤42","≤38","≤52.5",{"$f":"pana_film[[#This Row],[Body length / dia\n(mm)]]&\" x \"&pana_film[[#This Row],[Body width\n(mm)]]","v":"42 x 38"},{"$f":"INDEX('IR Data'!K:K,MATCH(pana_film[[#This Row],[PartNumber]],'IR Data'!I:I,0))","v":23.4},{"$f":"INDEX('IR Data'!L:L,MATCH(pana_film[[#This Row],[PartNumber]],'IR Data'!I:I,0))","v":3.6}]
[null,"Std","box","PP","Yes","EZPV","EZPV60706MTS",600,"DC",70,"±10",57.5,30,51,52.5,"Short cut lead wire type","-40 to 105 (85)","Other package",50,"https://industrial.panasonic.com/ww/products/pt/automotive-film-cap/models/EZPV60706MTS","≤58","≤30","≤51",{"$f":"pana_film[[#This Row],[Body length / dia\n(mm)]]&\" x \"&pana_film[[#This Row],[Body width\n(mm)]]","v":"57.5 x 30"},{"$f":"INDEX('IR Data'!K:K,MATCH(pana_film[[#This Row],[PartNumber]],'IR Data'!I:I,0))","v":22.8},{"$f":"INDEX('IR Data'!L:L,MATCH(pana_film[[#This Row],[PartNumber]],'IR Data'!I:I,0))","v":6.6}]
[null,"Std","box","PP","No","EZPV","EZPV60706MTC",600,"DC",70,"±10",57.5,30,51,52.5,"Short cut lead wire type","-40 to 105 (85)","Other package",50,"https://industrial.panasonic.com/ww/products/pt/automotive-film-cap/models/EZPV60706MTC","≤58","≤30","≤51",{"$f":"pana_film[[#This Row],[Body length / dia\n(mm)]]&\" x \"&pana_film[[#This Row],[Body width\n(mm)]]","v":"57.5 x 30"},{"$f":"INDEX('IR Data'!K:K,MATCH(pana_film[[#This Row],[PartNumber]],'IR Data'!I:I,0))","v":22.8},{"$f":"INDEX('IR Data'!L:L,MATCH(pana_film[[#This Row],[PartNumber]],'IR Data'!I:I,0))","v":6.6}]
[null,"Std","box","PP","No","EZPV","EZPV60706MTB",600,"DC",70,"±10",42,38,52.5,37.5,"Short cut lead wire type","-40 to 105 (85)","Other package",100,"https://industrial.panasonic.com/ww/products/pt/automotive-film-cap/models/EZPV60706MTB","≤42","≤38","≤52.5",{"$f":"pana_film[[#This Row],[Body length / dia\n(mm)]]&\" x \"&pana_film[[#This Row],[Body width\n(mm)]]","v":"42 x 38"},{"$f":"INDEX('IR Data'!K:K,MATCH(pana_film[[#This Row],[PartNumber]],'IR Data'!I:I,0))","v":23.4},{"$f":"INDEX('IR Data'!L:L,MATCH(pana_film[[#This Row],[PartNumber]],'IR Data'!I:I,0))","v":3.6}]
[null,"Std","box","PP","Yes","EZPV","EZPV60656MTT",600,"DC",65,"±10",41.5,30,56,37.5,"Short cut lead wire type","-40 to 105 (85)","Other package",100,"https://industrial.panasonic.com/ww/products/pt/automotive-film-cap/models/EZPV60656MTT","≤42","≤30","≤56",{"$f":"pana_film[[#This Row],[Body length / dia\n(mm)]]&\" x \"&pana_film[[#This Row],[Body width\n(mm)]]","v":"41.5 x 30"},{"$f":"INDEX('IR Data'!K:K,MATCH(pana_film[[#This Row],[PartNumber]],'IR Data'!I:I,0))","v":23},{"$f":"INDEX('IR Data'!L:L,MATCH(pana_film[[#This Row],[PartNumber]],'IR Data'!I:I,0))","v":3.6}]
[null,"Std","box","PP","Yes","EZPV","EZPV60656MTS",600,"DC",65,"±10",57.5,30,51,52.5,"Short cut lead wire type","-40 to 105 (85)","Other package",50,"https://industrial.panasonic.com/ww/products/pt/automotive-film-cap/models/EZPV60656MTS","≤58","≤30","≤51",{"$f":"pana_film[[#This Row],[Body length / dia\n(mm)]]&\" x \"&pana_film[[#This Row],[Body width\n(mm)]]","v":"57.5 x 30"},{"$f":"INDEX('IR Data'!K:K,MATCH(pana_film[[#This Row],[PartNumber]],'IR Data'!I:I,0))","v":21.9},{"$f":"INDEX('IR Data'!L:L,MATCH(pana_film[[#This Row],[PartNumber]],'IR Data'!I:I,0))","v":7}]
[null,"Std","box","PP","No","EZPV","EZPV60656MTC",600,"DC",65,"±10",57.5,30,51,52.5,"Short cut lead wire type","-40 to 105 (85)","Other package",50,"https://industrial.panasonic.com/ww/products/pt/automotive-film-cap/models/EZPV60656MTC","≤58","≤30","≤51",{"$f":"pana_film[[#This Row],[Body length / dia\n(mm)]]&\" x \"&pana_film[[#This Row],[Body width\n(mm)]]","v":"57.5 x 30"},{"$f":"INDEX('IR Data'!K:K,MATCH(pana_film[[#This Row],[PartNumber]],'IR Data'!I:I,0))","v":21.9},{"$f":"INDEX('IR Data'!L:L,MATCH(pana_film[[#This Row],[PartNumber]],'IR Data'!I:I,0))","v":7}]
[null,"Std","box","PP","No","EZPV","EZPV60656MTB",600,"DC",65,"±10",41.5,30,56,37.5,"Short cut lead wire type","-40 to 105 (85)","Other package",100,"https://industrial.panasonic.com/ww/products/pt/automotive-film-cap/models/EZPV60656MTB","≤42","≤30","≤56",{"$f":"pana_film[[#This Row],[Body length / dia\n(mm)]]&\" x \"&pana_film[[#This Row],[Body width\n(mm)]]","v":"41.5 x 30"},{"$f":"INDEX('IR Data'!K:K,MATCH(pana_film[[#This Row],[PartNumber]],'IR Data'!I:I,0))","v":23},{"$f":"INDEX('IR Data'!L:L,MATCH(pana_film[[#This Row],[PartNumber]],'IR Data'!I:I,0))","v":3.6}]
[null,"Std","box","PP","Yes","EZPV","EZPV60606MTT",600,"DC",60,"±10",41.5,30,56,37.5,"Short cut lead wire type","-40 to 105 (85)","Other package",100,"https://industrial.panasonic.com/ww/products/pt/automotive-film-cap/models/EZPV60606MTT","≤42","≤30","≤56",{"$f":"pana_film[[#This Row],[Body length / dia\n(mm)]]&\" x \"&pana_film[[#This Row],[Body width\n(mm)]]","v":"41.5 x 30"},{"$f":"INDEX('IR Data'!K:K,MATCH(pana_film[[#This Row],[PartNumber]],'IR Data'!I:I,0))","v":22.5},{"$f":"INDEX('IR Data'!L:L,MATCH(pana_film[[#This Row],[PartNumber]],'IR Data'!I:I,0))","v":4.0999999999999996}]
[null,"Std","box","PP","Yes","EZPV","EZPV60606MTS",600,"DC",60,"±10",57.5,30,51,52.5,"Short cut lead wire type","-40 to 105 (85)","Other package",50,"https://industrial.panasonic.com/ww/products/pt/automotive-film-cap/models/EZPV60606MTS","≤58","≤30","≤51",{"$f":"pana_film[[#This Row],[Body length / dia\n(mm)]]&\" x \"&pana_film[[#This Row],[Body width\n(mm)]]","v":"57.5 x 30"},{"$f":"INDEX('IR Data'!K:K,MATCH(pana_film[[#This Row],[PartNumber]],'IR Data'!I:I,0))","v":21},{"$f":"INDEX('IR Data'!L:L,MATCH(pana_film[[#This Row],[PartNumber]],'IR Data'!I:I,0))","v":7.5}]
[null,"Std","box","PP","No","EZPV","EZPV60606MTC",600,"DC",60,"±10",57.5,30,51,52.5,"Short cut lead wire type","-40 to 105 (85)","Other package",50,"https://industrial.panasonic.com/ww/products/pt/automotive-film-cap/models/EZPV60606MTC","≤58","≤30","≤51",{"$f":"pana_film[[#This Row],[Body length / dia\n(mm)]]&\" x \"&pana_film[[#This Row],[Body width\n(mm)]]","v":"57.5 x 30"},{"$f":"INDEX('IR Data'!K:K,MATCH(pana_film[[#This Row],[PartNumber]],'IR Data'!I:I,0))","v":21},{"$f":"INDEX('IR Data'!L:L,MATCH(pana_film[[#This Row],[PartNumber]],'IR Data'!I:I,0))","v":7.5}]
[null,"Std","box","PP","No","EZPV","EZPV60606MTB",600,"DC",60,"±10",41.5,30,56,37.5,"Short cut lead wire type","-40 to 105 (85)","Other package",100,"https://industrial.panasonic.com/ww/products/pt/automotive-film-cap/models/EZPV60606MTB","≤42","≤30","≤56",{"$f":"pana_film[[#This Row],[Body length / dia\n(mm)]]&\" x \"&pana_film[[#This Row],[Body width\n(mm)]]","v":"41.5 x 30"},{"$f":"INDEX('IR Data'!K:K,MATCH(pana_film[[#This Row],[PartNumber]],'IR Data'!I:I,0))","v":22.5},{"$f":"INDEX('IR Data'!L:L,MATCH(pana_film[[#This Row],[PartNumber]],'IR Data'!I:I,0))","v":4.0999999999999996}]
[null,"Std","box","PP","Yes","EZPV","EZPV60556MTT",600,"DC",55,"±10",41,30,50.5,37.5,"Short cut lead wire type","-40 to 105 (85)","Other package",100,"https://industrial.panasonic.com/ww/products/pt/automotive-film-cap/models/EZPV60556MTT","≤41","≤30","≤50.5",{"$f":"pana_film[[#This Row],[Body length / dia\n(mm)]]&\" x \"&pana_film[[#This Row],[Body width\n(mm)]]","v":"41 x 30"},{"$f":"INDEX('IR Data'!K:K,MATCH(pana_film[[#This Row],[PartNumber]],'IR Data'!I:I,0))","v":22},{"$f":"INDEX('IR Data'!L:L,MATCH(pana_film[[#This Row],[PartNumber]],'IR Data'!I:I,0))","v":4.5}]
[null,"Std","box","PP","Yes","EZPV","EZPV60556MTS",600,"DC",55,"±10",57.5,30,51,52.5,"Short cut lead wire type","-40 to 105 (85)","Other package",50,"https://industrial.panasonic.com/ww/products/pt/automotive-film-cap/models/EZPV60556MTS","≤58","≤30","≤51",{"$f":"pana_film[[#This Row],[Body length / dia\n(mm)]]&\" x \"&pana_film[[#This Row],[Body width\n(mm)]]","v":"57.5 x 30"},{"$f":"INDEX('IR Data'!K:K,MATCH(pana_film[[#This Row],[PartNumber]],'IR Data'!I:I,0))","v":20.100000000000001},{"$f":"INDEX('IR Data'!L:L,MATCH(pana_film[[#This Row],[PartNumber]],'IR Data'!I:I,0))","v":8}]
[null,"Std","box","PP","No","EZPV","EZPV60556MTC",600,"DC",55,"±10",57.5,30,51,52.5,"Short cut lead wire type","-40 to 105 (85)","Other package",50,"https://industrial.panasonic.com/ww/products/pt/automotive-film-cap/models/EZPV60556MTC","≤58","≤30","≤51",{"$f":"pana_film[[#This Row],[Body length / dia\n(mm)]]&\" x \"&pana_film[[#This Row],[Body width\n(mm)]]","v":"57.5 x 30"},{"$f":"INDEX('IR Data'!K:K,MATCH(pana_film[[#This Row],[PartNumber]],'IR Data'!I:I,0))","v":20.100000000000001},{"$f":"INDEX('IR Data'!L:L,MATCH(pana_film[[#This Row],[PartNumber]],'IR Data'!I:I,0))","v":8}]
[null,"Std","box","PP","No","EZPV","EZPV60556MTB",600,"DC",55,"±10",41,30,50.5,37.5,"Short cut lead wire type","-40 to 105 (85)","Other package",100,"https://industrial.panasonic.com/ww/products/pt/automotive-film-cap/models/EZPV60556MTB","≤41","≤30","≤50.5",{"$f":"pana_film[[#This Row],[Body length / dia\n(mm)]]&\" x \"&pana_film[[#This Row],[Body width\n(mm)]]","v":"41 x 30"},{"$f":"INDEX('IR Data'!K:K,MATCH(pana_film[[#This Row],[PartNumber]],'IR Data'!I:I,0))","v":22},{"$f":"INDEX('IR Data'!L:L,MATCH(pana_film[[#This Row],[PartNumber]],'IR Data'!I:I,0))","v":4.5}]
[null,"Std","box","PP","Yes","EZPV","EZPV60506MTT",600,"DC",50,"±10",41,30,50.5,37.5,"Short cut lead wire type","-40 to 105 (85)","Other package",100,"https://industrial.panasonic.com/ww/products/pt/automotive-film-cap/models/EZPV60506MTT","≤41","≤30","≤50.5",{"$f":"pana_film[[#This Row],[Body length / dia\n(mm)]]&\" x \"&pana_film[[#This Row],[Body width\n(mm)]]","v":"41 x 30"},{"$f":"INDEX('IR Data'!K:K,MATCH(pana_film[[#This Row],[PartNumber]],'IR Data'!I:I,0))","v":21.5},{"$f":"INDEX('IR Data'!L:L,MATCH(pana_film[[#This Row],[PartNumber]],'IR Data'!I:I,0))","v":5.3}]
[null,"Std","box","PP","Yes","EZPV","EZPV60506MTS",600,"DC",50,"±10",57,25,40,52.5,"Short cut lead wire type","-40 to 105 (85)","Other package",150,"https://industrial.panasonic.com/ww/products/pt/automotive-film-cap/models/EZPV60506MTS","≤57","≤25","≤40",{"$f":"pana_film[[#This Row],[Body length / dia\n(mm)]]&\" x \"&pana_film[[#This Row],[Body width\n(mm)]]","v":"57 x 25"},{"$f":"INDEX('IR Data'!K:K,MATCH(pana_film[[#This Row],[PartNumber]],'IR Data'!I:I,0))","v":19.100000000000001},{"$f":"INDEX('IR Data'!L:L,MATCH(pana_film[[#This Row],[PartNumber]],'IR Data'!I:I,0))","v":6.8}]
[null,"Std","box","PP","No","EZPV","EZPV60506MTC",600,"DC",50,"±10",57,25,40,52.5,"Short cut lead wire type","-40 to 105 (85)","Other package",150,"https://industrial.panasonic.com/ww/products/pt/automotive-film-cap/models/EZPV60506MTC","≤57","≤25","≤40",{"$f":"pana_film[[#This Row],[Body length / dia\n(mm)]]&\" x \"&pana_film[[#This Row],[Body width\n(mm)]]","v":"57 x 25"},{"$f":"INDEX('IR Data'!K:K,MATCH(pana_film[[#This Row],[PartNumber]],'IR Data'!I:I,0))","v":19.100000000000001},{"$f":"INDEX('IR Data'!L:L,MATCH(pana_film[[#This Row],[PartNumber]],'IR Data'!I:I,0))","v":6.8}]
[null,"Std","box","PP","No","EZPV","EZPV60506MTB",600,"DC",50,"±10",41,30,50.5,37.5,"Short cut lead wire type","-40 to 105 (85)","Other package",100,"https://industrial.panasonic.com/ww/products/pt/automotive-film-cap/models/EZPV60506MTB","≤41","≤30","≤50.5",{"$f":"pana_film[[#This Row],[Body length / dia\n(mm)]]&\" x \"&pana_film[[#This Row],[Body width\n(mm)]]","v":"41 x 30"},{"$f":"INDEX('IR Data'!K:K,MATCH(pana_film[[#This Row],[PartNumber]],'IR Data'!I:I,0))","v":21.5},{"$f":"INDEX('IR Data'!L:L,MATCH(pana_film[[#This Row],[PartNumber]],'IR Data'!I:I,0))","v":5.3}]
[null,"Std","box","PP","Yes","EZPV","EZPV60456MTT",600,"DC",45,"±10",41,30,50.5,37.5,"Short cut lead wire type","-40 to 105 (85)","Other package",100,"https://industrial.panasonic.com/ww/products/pt/automotive-film-cap/models/EZPV60456MTT","≤41","≤30","≤50.5",{"$f":"pana_film[[#This Row],[Body length / dia\n(mm)]]&\" x \"&pana_film[[#This Row],[Body width\n(mm)]]","v":"41 x 30"},{"$f":"INDEX('IR Data'!K:K,MATCH(pana_film[[#This Row],[PartNumber]],'IR Data'!I:I,0))","v":20.100000000000001},{"$f":"INDEX('IR Data'!L:L,MATCH(pana_film[[#This Row],[PartNumber]],'IR Data'!I:I,0))","v":6.2}]
[null,"Std","box","PP","Yes","EZPV","EZPV60456MTS",600,"DC",45,"±10",57,25,40,52.5,"Short cut lead wire type","-40 to 105 (85)","Other package",150,"https://industrial.panasonic.com/ww/products/pt/automotive-film-cap/models/EZPV60456MTS","≤57","≤25","≤40",{"$f":"pana_film[[#This Row],[Body length / dia\n(mm)]]&\" x \"&pana_film[[#This Row],[Body width\n(mm)]]","v":"57 x 25"},{"$f":"INDEX('IR Data'!K:K,MATCH(pana_film[[#This Row],[PartNumber]],'IR Data'!I:I,0))","v":18},{"$f":"INDEX('IR Data'!L:L,MATCH(pana_film[[#This Row],[PartNumber]],'IR Data'!I:I,0))","v":7.6}]
[null,"Std","box","PP","No","EZPV","EZPV60456MTC",600,"DC",45,"±10",57,25,40,52.5,"Short cut lead wire type","-40 to 105 (85)","Other package",150,"https://industrial.panasonic.com/ww/products/pt/automotive-film-cap/models/EZPV60456MTC","≤57","≤25","≤40",{"$f":"pana_film[[#This Row],[Body length / dia\n(mm)]]&\" x \"&pana_film[[#This Row],[Body width\n(mm)]]","v":"57 x 25"},{"$f":"INDEX('IR Data'!K:K,MATCH(pana_film[[#This Row],[PartNumber]],'IR Data'!I:I,0))","v":18},{"$f":"INDEX('IR Data'!L:L,MATCH(pana_film[[#This Row],[PartNumber]],'IR Data'!I:I,0))","v":7.6}]
[null,"Std","box","PP","No","EZPV","EZPV60456MTB",600,"DC",45,"±10",41,30,50.5,37.5,"Short cut lead wire type","-40 to 105 (85)","Other package",100,"https://industrial.panasonic.com/ww/products/pt/automotive-film-cap/models/EZPV60456MTB","≤41","≤30","≤50.5",{"$f":"pana_film[[#This Row],[Body length / dia\n(mm)]]&\" x \"&pana_film[[#This Row],[Body width\n(mm)]]","v":"41 x 30"},{"$f":"INDEX('IR Data'!K:K,MATCH(pana_film[[#This Row],[PartNumber]],'IR Data'!I:I,0))","v":20.100000000000001},{"$f":"INDEX('IR Data'!L:L,MATCH(pana_film[[#This Row],[PartNumber]],'IR Data'!I:I,0))","v":6.2}]
[null,"Std","box","PP","Yes","EZPV","EZPV60406MTT",600,"DC",40,"±10",41.5,27.5,42,37.5,"Short cut lead wire type","-40 to 105 (85)","Other package",150,"https://industrial.panasonic.com/ww/products/pt/automotive-film-cap/models/EZPV60406MTT","≤42","≤28","≤42",{"$f":"pana_film[[#This Row],[Body length / dia\n(mm)]]&\" x \"&pana_film[[#This Row],[Body width\n(mm)]]","v":"41.5 x 27.5"},{"$f":"INDEX('IR Data'!K:K,MATCH(pana_film[[#This Row],[PartNumber]],'IR Data'!I:I,0))","v":18.7},{"$f":"INDEX('IR Data'!L:L,MATCH(pana_film[[#This Row],[PartNumber]],'IR Data'!I:I,0))","v":6.5}]
[null,"Std","box","PP","Yes","EZPV","EZPV60406MTS",600,"DC",40,"±10",57,25,40,52.5,"Short cut lead wire type","-40 to 105 (85)","Other package",150,"https://industrial.panasonic.com/ww/products/pt/automotive-film-cap/models/EZPV60406MTS","≤57","≤25","≤40",{"$f":"pana_film[[#This Row],[Body length / dia\n(mm)]]&\" x \"&pana_film[[#This Row],[Body width\n(mm)]]","v":"57 x 25"},{"$f":"INDEX('IR Data'!K:K,MATCH(pana_film[[#This Row],[PartNumber]],'IR Data'!I:I,0))","v":16.899999999999999},{"$f":"INDEX('IR Data'!L:L,MATCH(pana_film[[#This Row],[PartNumber]],'IR Data'!I:I,0))","v":8.4}]
[null,"Std","box","PP","No","EZPV","EZPV60406MTC",600,"DC",40,"±10",57,25,40,52.5,"Short cut lead wire type","-40 to 105 (85)","Other package",150,"https://industrial.panasonic.com/ww/products/pt/automotive-film-cap/models/EZPV60406MTC","≤57","≤25","≤40",{"$f":"pana_film[[#This Row],[Body length / dia\n(mm)]]&\" x \"&pana_film[[#This Row],[Body width\n(mm)]]","v":"57 x 25"},{"$f":"INDEX('IR Data'!K:K,MATCH(pana_film[[#This Row],[PartNumber]],'IR Data'!I:I,0))","v":16.899999999999999},{"$f":"INDEX('IR Data'!L:L,MATCH(pana_film[[#This Row],[PartNumber]],'IR Data'!I:I,0))","v":8.4}]
[null,"Std","box","PP","No","EZPV","EZPV60406MTB",600,"DC",40,"±10",41.5,27.5,42,37.5,"Short cut lead wire type","-40 to 105 (85)","Other package",150,"https://industrial.panasonic.com/ww/products/pt/automotive-film-cap/models/EZPV60406MTB","≤42","≤28","≤42",{"$f":"pana_film[[#This Row],[Body length / dia\n(mm)]]&\" x \"&pana_film[[#This Row],[Body width\n(mm)]]","v":"41.5 x 27.5"},{"$f":"INDEX('IR Data'!K:K,MATCH(pana_film[[#This Row],[PartNumber]],'IR Data'!I:I,0))","v":18.7},{"$f":"INDEX('IR Data'!L:L,MATCH(pana_film[[#This Row],[PartNumber]],'IR Data'!I:I,0))","v":6.5}]
[null,"Std","box","PP","Yes","EZPV","EZPV60356MTT",600,"DC",35,"±10",41,26,40.5,37.5,"Short cut lead wire type","-40 to 105 (85)","Other package",150,"https://industrial.panasonic.com/ww/products/pt/automotive-film-cap/models/EZPV60356MTT","≤41","≤26","≤40.5",{"$f":"pana_film[[#This Row],[Body length / dia\n(mm)]]&\" x \"&pana_film[[#This Row],[Body width\n(mm)]]","v":"41 x 26"},{"$f":"INDEX('IR Data'!K:K,MATCH(pana_film[[#This Row],[PartNumber]],'IR Data'!I:I,0))","v":17.2},{"$f":"INDEX('IR Data'!L:L,MATCH(pana_film[[#This Row],[PartNumber]],'IR Data'!I:I,0))","v":7.1}]
[null,"Std","box","PP","No","EZPV","EZPV60356MTB",600,"DC",35,"±10",41,26,40.5,37.5,"Short cut lead wire type","-40 to 105 (85)","Other package",150,"https://industrial.panasonic.com/ww/products/pt/automotive-film-cap/models/EZPV60356MTB","≤41","≤26","≤40.5",{"$f":"pana_film[[#This Row],[Body length / dia\n(mm)]]&\" x \"&pana_film[[#This Row],[Body width\n(mm)]]","v":"41 x 26"},{"$f":"INDEX('IR Data'!K:K,MATCH(pana_film[[#This Row],[PartNumber]],'IR Data'!I:I,0))","v":17.2},{"$f":"INDEX('IR Data'!L:L,MATCH(pana_film[[#This Row],[PartNumber]],'IR Data'!I:I,0))","v":7.1}]
[null,"Std","box","PP","Yes","EZPV","EZPV60306MTT",600,"DC",30,"±10",41,26,40.5,37.5,"Short cut lead wire type","-40 to 105 (85)","Other package",150,"https://industrial.panasonic.com/ww/products/pt/automotive-film-cap/models/EZPV60306MTT","≤41","≤26","≤40.5",{"$f":"pana_film[[#This Row],[Body length / dia\n(mm)]]&\" x \"&pana_film[[#This Row],[Body width\n(mm)]]","v":"41 x 26"},{"$f":"INDEX('IR Data'!K:K,MATCH(pana_film[[#This Row],[PartNumber]],'IR Data'!I:I,0))","v":15.6},{"$f":"INDEX('IR Data'!L:L,MATCH(pana_film[[#This Row],[PartNumber]],'IR Data'!I:I,0))","v":8.1999999999999993}]
[null,"Std","box","PP","No","EZPV","EZPV60306MTB",600,"DC",30,"±10",41,26,40.5,37.5,"Short cut lead wire type","-40 to 105 (85)","Other package",150,"https://industrial.panasonic.com/ww/products/pt/automotive-film-cap/models/EZPV60306MTB","≤41","≤26","≤40.5",{"$f":"pana_film[[#This Row],[Body length / dia\n(mm)]]&\" x \"&pana_film[[#This Row],[Body width\n(mm)]]","v":"41 x 26"},{"$f":"INDEX('IR Data'!K:K,MATCH(pana_film[[#This Row],[PartNumber]],'IR Data'!I:I,0))","v":15.6},{"$f":"INDEX('IR Data'!L:L,MATCH(pana_film[[#This Row],[PartNumber]],'IR Data'!I:I,0))","v":8.1999999999999993}]
[null,"Std","box","PP","Yes","EZPV","EZPV60256MTT",600,"DC",25,"±10",41,22,36,37.5,"Short cut lead wire type","-40 to 105 (85)","Other package",150,"https://industrial.panasonic.com/ww/products/pt/automotive-film-cap/models/EZPV60256MTT","≤41","≤22","≤36",{"$f":"pana_film[[#This Row],[Body length / dia\n(mm)]]&\" x \"&pana_film[[#This Row],[Body width\n(mm)]]","v":"41 x 22"},{"$f":"INDEX('IR Data'!K:K,MATCH(pana_film[[#This Row],[PartNumber]],'IR Data'!I:I,0))","v":13.8},{"$f":"INDEX('IR Data'!L:L,MATCH(pana_film[[#This Row],[PartNumber]],'IR Data'!I:I,0))","v":8.6}]
[null,"Std","box","PP","No","EZPV","EZPV60256MTB",600,"DC",25,"±10",41,22,36,37.5,"Short cut lead wire type","-40 to 105 (85)","Other package",150,"https://industrial.panasonic.com/ww/products/pt/automotive-film-cap/models/EZPV60256MTB","≤41","≤22","≤36",{"$f":"pana_film[[#This Row],[Body length / dia\n(mm)]]&\" x \"&pana_film[[#This Row],[Body width\n(mm)]]","v":"41 x 22"},{"$f":"INDEX('IR Data'!K:K,MATCH(pana_film[[#This Row],[PartNumber]],'IR Data'!I:I,0))","v":13.8},{"$f":"INDEX('IR Data'!L:L,MATCH(pana_film[[#This Row],[PartNumber]],'IR Data'!I:I,0))","v":8.6}]
[null,"Std","box","PP","Yes","EZPV","EZPV60226MTT",600,"DC",22,"±10",41,22,36,37.5,"Short cut lead wire type","-40 to 105 (85)","Other package",150,"https://industrial.panasonic.com/ww/products/pt/automotive-film-cap/models/EZPV60226MTT","≤41","≤22","≤36",{"$f":"pana_film[[#This Row],[Body length / dia\n(mm)]]&\" x \"&pana_film[[#This Row],[Body width\n(mm)]]","v":"41 x 22"},{"$f":"INDEX('IR Data'!K:K,MATCH(pana_film[[#This Row],[PartNumber]],'IR Data'!I:I,0))","v":12.7},{"$f":"INDEX('IR Data'!L:L,MATCH(pana_film[[#This Row],[PartNumber]],'IR Data'!I:I,0))","v":9.6}]
[null,"Std","box","PP","No","EZPV","EZPV60226MTB",600,"DC",22,"±10",41,22,36,37.5,"Short cut lead wire type","-40 to 105 (85)","Other package",150,"https://industrial.panasonic.com/ww/products/pt/automotive-film-cap/models/EZPV60226MTB","≤41","≤22","≤36",{"$f":"pana_film[[#This Row],[Body length / dia\n(mm)]]&\" x \"&pana_film[[#This Row],[Body width\n(mm)]]","v":"41 x 22"},{"$f":"INDEX('IR Data'!K:K,MATCH(pana_film[[#This Row],[PartNumber]],'IR Data'!I:I,0))","v":12.7},{"$f":"INDEX('IR Data'!L:L,MATCH(pana_film[[#This Row],[PartNumber]],'IR Data'!I:I,0))","v":9.6}]
[null,"Std","box","PP","Yes","EZPV","EZPV60206MTT",600,"DC",20,"±10",41,22,36,37.5,"Short cut lead wire type","-40 to 105 (85)","Other package",150,"https://industrial.panasonic.com/ww/products/pt/automotive-film-cap/models/EZPV60206MTT","≤41","≤22","≤36",{"$f":"pana_film[[#This Row],[Body length / dia\n(mm)]]&\" x \"&pana_film[[#This Row],[Body width\n(mm)]]","v":"41 x 22"},{"$f":"INDEX('IR Data'!K:K,MATCH(pana_film[[#This Row],[PartNumber]],'IR Data'!I:I,0))","v":11.9},{"$f":"INDEX('IR Data'!L:L,MATCH(pana_film[[#This Row],[PartNumber]],'IR Data'!I:I,0))","v":10.4}]
[null,"Std","box","PP","No","EZPV","EZPV60206MTB",600,"DC",20,"±10",41,22,36,37.5,"Short cut lead wire type","-40 to 105 (85)","Other package",150,"https://industrial.panasonic.com/ww/products/pt/automotive-film-cap/models/EZPV60206MTB",{"$f":"IF(L204<=9.5,\"≤ \"&ROUNDUP(L204*1,0)/1,\"≤\"&ROUNDUP(L204*1,0)/1)","v":"≤41"},{"$f":"IF(M204<=9,\"≤ \"&ROUNDUP(M204*1,0)/1,\"≤\"&ROUNDUP(M204*1,0)/1)","v":"≤22"},{"$f":"IF(N204<=9.5,\"≤ \"&ROUNDUP(N204*2,0)/2,\"≤\"&ROUNDUP(N204*2,0)/2)","v":"≤36"},{"$f":"pana_film[[#This Row],[Body length / dia\n(mm)]]&\" x \"&pana_film[[#This Row],[Body width\n(mm)]]","v":"41 x 22"},{"$f":"INDEX('IR Data'!K:K,MATCH(pana_film[[#This Row],[PartNumber]],'IR Data'!I:I,0))","v":11.9},{"$f":"INDEX('IR Data'!L:L,MATCH(pana_film[[#This Row],[PartNumber]],'IR Data'!I:I,0))","v":10.4}]
[null,"Std","box","PP","Yes","EZPV","EZPV60156LTT",600,"DC",15,"±10",41,17,34.5,37.5,"Short cut lead wire type","-40 to 105 (85)","Other package",300,"https://industrial.panasonic.com/ww/products/pt/automotive-film-cap/models/EZPV60156LTT","≤41","≤17","≤34.5",{"$f":"pana_film[[#This Row],[Body length / dia\n(mm)]]&\" x \"&pana_film[[#This Row],[Body width\n(mm)]]","v":"41 x 17"},{"$f":"INDEX('IR Data'!K:K,MATCH(pana_film[[#This Row],[PartNumber]],'IR Data'!I:I,0))","v":10},{"$f":"INDEX('IR Data'!L:L,MATCH(pana_film[[#This Row],[PartNumber]],'IR Data'!I:I,0))","v":12.8}]
[null,"Std","box","PP","No","EZPV","EZPV60156LTB",600,"DC",15,"±10",41,17,34.5,37.5,"Short cut lead wire type","-40 to 105 (85)","Other package",300,"https://industrial.panasonic.com/ww/products/pt/automotive-film-cap/models/EZPV60156LTB","≤41","≤17","≤34.5",{"$f":"pana_film[[#This Row],[Body length / dia\n(mm)]]&\" x \"&pana_film[[#This Row],[Body width\n(mm)]]","v":"41 x 17"},{"$f":"INDEX('IR Data'!K:K,MATCH(pana_film[[#This Row],[PartNumber]],'IR Data'!I:I,0))","v":10},{"$f":"INDEX('IR Data'!L:L,MATCH(pana_film[[#This Row],[PartNumber]],'IR Data'!I:I,0))","v":12.8}]
[null,"Std","box","PP","Yes","EZPV","EZPV60126LTT",600,"DC",12,"±10",41,15,29,37.5,"Short cut lead wire type","-40 to 105 (85)","Other package",300,"https://industrial.panasonic.com/ww/products/pt/automotive-film-cap/models/EZPV60126LTT","≤41","≤15","≤29",{"$f":"pana_film[[#This Row],[Body length / dia\n(mm)]]&\" x \"&pana_film[[#This Row],[Body width\n(mm)]]","v":"41 x 15"},{"$f":"INDEX('IR Data'!K:K,MATCH(pana_film[[#This Row],[PartNumber]],'IR Data'!I:I,0))","v":9.1999999999999993},{"$f":"INDEX('IR Data'!L:L,MATCH(pana_film[[#This Row],[PartNumber]],'IR Data'!I:I,0))","v":14.3}]
[null,"Std","box","PP","No","EZPV","EZPV60126LTB",600,"DC",12,"±10",41,15,29,37.5,"Short cut lead wire type","-40 to 105 (85)","Other package",300,"https://industrial.panasonic.com/ww/products/pt/automotive-film-cap/models/EZPV60126LTB","≤41","≤15","≤29",{"$f":"pana_film[[#This Row],[Body length / dia\n(mm)]]&\" x \"&pana_film[[#This Row],[Body width\n(mm)]]","v":"41 x 15"},{"$f":"INDEX('IR Data'!K:K,MATCH(pana_film[[#This Row],[PartNumber]],'IR Data'!I:I,0))","v":9.1999999999999993},{"$f":"INDEX('IR Data'!L:L,MATCH(pana_film[[#This Row],[PartNumber]],'IR Data'!I:I,0))","v":14.3}]
[null,"Std","box","PP","Yes","EZPV","EZPV60117MTS",600,"DC",110,"±10",57.5,35,56,52.5,"Short cut lead wire type","-40 to 105 (85)","Other package",50,"https://industrial.panasonic.com/ww/products/pt/automotive-film-cap/models/EZPV60117MTS","≤58","≤35","≤56",{"$f":"pana_film[[#This Row],[Body length / dia\n(mm)]]&\" x \"&pana_film[[#This Row],[Body width\n(mm)]]","v":"57.5 x 35"},{"$f":"INDEX('IR Data'!K:K,MATCH(pana_film[[#This Row],[PartNumber]],'IR Data'!I:I,0))","v":28.9},{"$f":"INDEX('IR Data'!L:L,MATCH(pana_film[[#This Row],[PartNumber]],'IR Data'!I:I,0))","v":4.8}]
[null,"Std","box","PP","No","EZPV","EZPV60117MTC",600,"DC",110,"±10",57.5,35,56,52.5,"Short cut lead wire type","-40 to 105 (85)","Other package",50,"https://industrial.panasonic.com/ww/products/pt/automotive-film-cap/models/EZPV60117MTC","≤58","≤35","≤56",{"$f":"pana_film[[#This Row],[Body length / dia\n(mm)]]&\" x \"&pana_film[[#This Row],[Body width\n(mm)]]","v":"57.5 x 35"},{"$f":"INDEX('IR Data'!K:K,MATCH(pana_film[[#This Row],[PartNumber]],'IR Data'!I:I,0))","v":28.9},{"$f":"INDEX('IR Data'!L:L,MATCH(pana_film[[#This Row],[PartNumber]],'IR Data'!I:I,0))","v":4.8}]
[null,"Std","box","PP","Yes","EZPV","EZPV60107MTS",600,"DC",100,"±10",57,40,51.5,52.5,"Short cut lead wire type","-40 to 105 (85)","Other package",50,"https://industrial.panasonic.com/ww/products/pt/automotive-film-cap/models/EZPV60107MTS","≤57","≤40","≤51.5",{"$f":"pana_film[[#This Row],[Body length / dia\n(mm)]]&\" x \"&pana_film[[#This Row],[Body width\n(mm)]]","v":"57 x 40"},{"$f":"INDEX('IR Data'!K:K,MATCH(pana_film[[#This Row],[PartNumber]],'IR Data'!I:I,0))","v":27.5},{"$f":"INDEX('IR Data'!L:L,MATCH(pana_film[[#This Row],[PartNumber]],'IR Data'!I:I,0))","v":5.0999999999999996}]
[null,"Std","box","PP","No","EZPV","EZPV60107MTC",600,"DC",100,"±10",57,40,51.5,52.5,"Short cut lead wire type","-40 to 105 (85)","Other package",50,"https://industrial.panasonic.com/ww/products/pt/automotive-film-cap/models/EZPV60107MTC","≤57","≤40","≤51.5",{"$f":"pana_film[[#This Row],[Body length / dia\n(mm)]]&\" x \"&pana_film[[#This Row],[Body width\n(mm)]]","v":"57 x 40"},{"$f":"INDEX('IR Data'!K:K,MATCH(pana_film[[#This Row],[PartNumber]],'IR Data'!I:I,0))","v":27.5},{"$f":"INDEX('IR Data'!L:L,MATCH(pana_film[[#This Row],[PartNumber]],'IR Data'!I:I,0))","v":5.0999999999999996}]
[null,"Std","box","PP","Yes","EZPV","EZPV60106LTT",600,"DC",10,"±10",41,15,29,37.5,"Short cut lead wire type","-40 to 105 (85)","Other package",300,"https://industrial.panasonic.com/ww/products/pt/automotive-film-cap/models/EZPV60106LTT","≤41","≤15","≤29",{"$f":"pana_film[[#This Row],[Body length / dia\n(mm)]]&\" x \"&pana_film[[#This Row],[Body width\n(mm)]]","v":"41 x 15"},{"$f":"INDEX('IR Data'!K:K,MATCH(pana_film[[#This Row],[PartNumber]],'IR Data'!I:I,0))","v":8.6},{"$f":"INDEX('IR Data'!L:L,MATCH(pana_film[[#This Row],[PartNumber]],'IR Data'!I:I,0))","v":16.899999999999999}]
[null,"Std","box","PP","No","EZPV","EZPV60106LTB",600,"DC",10,"±10",41,15,29,37.5,"Short cut lead wire type","-40 to 105 (85)","Other package",300,"https://industrial.panasonic.com/ww/products/pt/automotive-film-cap/models/EZPV60106LTB","≤41","≤15","≤29",{"$f":"pana_film[[#This Row],[Body length / dia\n(mm)]]&\" x \"&pana_film[[#This Row],[Body width\n(mm)]]","v":"41 x 15"},{"$f":"INDEX('IR Data'!K:K,MATCH(pana_film[[#This Row],[PartNumber]],'IR Data'!I:I,0))","v":8.6},{"$f":"INDEX('IR Data'!L:L,MATCH(pana_film[[#This Row],[PartNumber]],'IR Data'!I:I,0))","v":16.899999999999999}]
[null,"Std","box","PP","Yes","EZPV","EZPV1B905MTT",1100,"DC",9,"±10",41,22,36,37.5,"Short cut lead wire type","-40 to 105 (85)","Other package",150,"https://industrial.panasonic.com/ww/products/pt/automotive-film-cap/models/EZPV1B905MTT","≤41","≤22","≤36",{"$f":"pana_film[[#This Row],[Body length / dia\n(mm)]]&\" x \"&pana_film[[#This Row],[Body width\n(mm)]]","v":"41 x 22"},{"$f":"INDEX('IR Data'!K:K,MATCH(pana_film[[#This Row],[PartNumber]],'IR Data'!I:I,0))","v":10.4},{"$f":"INDEX('IR Data'!L:L,MATCH(pana_film[[#This Row],[PartNumber]],'IR Data'!I:I,0))","v":12.4}]
[null,"Std","box","PP","No","EZPV","EZPV1B905MTB",1100,"DC",9,"±10",41,22,36,37.5,"Short cut lead wire type","-40 to 105 (85)","Other package",150,"https://industrial.panasonic.com/ww/products/pt/automotive-film-cap/models/EZPV1B905MTB","≤41","≤22","≤36",{"$f":"pana_film[[#This Row],[Body length / dia\n(mm)]]&\" x \"&pana_film[[#This Row],[Body width\n(mm)]]","v":"41 x 22"},{"$f":"INDEX('IR Data'!K:K,MATCH(pana_film[[#This Row],[PartNumber]],'IR Data'!I:I,0))","v":10.4},{"$f":"INDEX('IR Data'!L:L,MATCH(pana_film[[#This Row],[PartNumber]],'IR Data'!I:I,0))","v":12.4}]
[null,"Std","box","PP","Yes","EZPV","EZPV1B805MTT",1100,"DC",8,"±10",41,22,36,37.5,"Short cut lead wire type","-40 to 105 (85)","Other package",150,"https://industrial.panasonic.com/ww/products/pt/automotive-film-cap/models/EZPV1B805MTT","≤41","≤22","≤36",{"$f":"pana_film[[#This Row],[Body length / dia\n(mm)]]&\" x \"&pana_film[[#This Row],[Body width\n(mm)]]","v":"41 x 22"},{"$f":"INDEX('IR Data'!K:K,MATCH(pana_film[[#This Row],[PartNumber]],'IR Data'!I:I,0))","v":9.5},{"$f":"INDEX('IR Data'!L:L,MATCH(pana_film[[#This Row],[PartNumber]],'IR Data'!I:I,0))","v":13.7}]
[null,"Std","box","PP","No","EZPV","EZPV1B805MTB",1100,"DC",8,"±10",41,22,36,37.5,"Short cut lead wire type","-40 to 105 (85)","Other package",150,"https://industrial.panasonic.com/ww/products/pt/automotive-film-cap/models/EZPV1B805MTB","≤41","≤22","≤36",{"$f":"pana_film[[#This Row],[Body length / dia\n(mm)]]&\" x \"&pana_film[[#This Row],[Body width\n(mm)]]","v":"41 x 22"},{"$f":"INDEX('IR Data'!K:K,MATCH(pana_film[[#This Row],[PartNumber]],'IR Data'!I:I,0))","v":9.5},{"$f":"INDEX('IR Data'!L:L,MATCH(pana_film[[#This Row],[PartNumber]],'IR Data'!I:I,0))","v":13.7}]
[null,"Std","box","PP","Yes","EZPV","EZPV1B705MTT",1100,"DC",7,"±10",41,22,36,37.5,"Short cut lead wire type","-40 to 105 (85)","Other package",150,"https://industrial.panasonic.com/ww/products/pt/automotive-film-cap/models/EZPV1B705MTT","≤41","≤22","≤36",{"$f":"pana_film[[#This Row],[Body length / dia\n(mm)]]&\" x \"&pana_film[[#This Row],[Body width\n(mm)]]","v":"41 x 22"},{"$f":"INDEX('IR Data'!K:K,MATCH(pana_film[[#This Row],[PartNumber]],'IR Data'!I:I,0))","v":8.5},{"$f":"INDEX('IR Data'!L:L,MATCH(pana_film[[#This Row],[PartNumber]],'IR Data'!I:I,0))","v":15.5}]
[null,"Std","box","PP","No","EZPV","EZPV1B705MTB",1100,"DC",7,"±10",41,22,36,37.5,"Short cut lead wire type","-40 to 105 (85)","Other package",150,"https://industrial.panasonic.com/ww/products/pt/automotive-film-cap/models/EZPV1B705MTB","≤41","≤22","≤36",{"$f":"pana_film[[#This Row],[Body length / dia\n(mm)]]&\" x \"&pana_film[[#This Row],[Body width\n(mm)]]","v":"41 x 22"},{"$f":"INDEX('IR Data'!K:K,MATCH(pana_film[[#This Row],[PartNumber]],'IR Data'!I:I,0))","v":8.5},{"$f":"INDEX('IR Data'!L:L,MATCH(pana_film[[#This Row],[PartNumber]],'IR Data'!I:I,0))","v":15.5}]
[null,"Std","box","PP","Yes","EZPV","EZPV1B605LTT",1100,"DC",6,"±10",41,17,34.5,37.5,"Short cut lead wire type","-40 to 105 (85)","Other package",300,"https://industrial.panasonic.com/ww/products/pt/automotive-film-cap/models/EZPV1B605LTT","≤41","≤17","≤34.5",{"$f":"pana_film[[#This Row],[Body length / dia\n(mm)]]&\" x \"&pana_film[[#This Row],[Body width\n(mm)]]","v":"41 x 17"},{"$f":"INDEX('IR Data'!K:K,MATCH(pana_film[[#This Row],[PartNumber]],'IR Data'!I:I,0))","v":7.3},{"$f":"INDEX('IR Data'!L:L,MATCH(pana_film[[#This Row],[PartNumber]],'IR Data'!I:I,0))","v":17.5}]
[null,"Std","box","PP","No","EZPV","EZPV1B605LTB",1100,"DC",6,"±10",41,17,34.5,37.5,"Short cut lead wire type","-40 to 105 (85)","Other package",300,"https://industrial.panasonic.com/ww/products/pt/automotive-film-cap/models/EZPV1B605LTB","≤41","≤17","≤34.5",{"$f":"pana_film[[#This Row],[Body length / dia\n(mm)]]&\" x \"&pana_film[[#This Row],[Body width\n(mm)]]","v":"41 x 17"},{"$f":"INDEX('IR Data'!K:K,MATCH(pana_film[[#This Row],[PartNumber]],'IR Data'!I:I,0))","v":7.3},{"$f":"INDEX('IR Data'!L:L,MATCH(pana_film[[#This Row],[PartNumber]],'IR Data'!I:I,0))","v":17.5}]
[null,"Std","box","PP","Yes","EZPV","EZPV1B505LTT",1100,"DC",5,"±10",41,17,34.5,37.5,"Short cut lead wire type","-40 to 105 (85)","Other package",300,"https://industrial.panasonic.com/ww/products/pt/automotive-film-cap/models/EZPV1B505LTT","≤41","≤17","≤34.5",{"$f":"pana_film[[#This Row],[Body length / dia\n(mm)]]&\" x \"&pana_film[[#This Row],[Body width\n(mm)]]","v":"41 x 17"},{"$f":"INDEX('IR Data'!K:K,MATCH(pana_film[[#This Row],[PartNumber]],'IR Data'!I:I,0))","v":6.5},{"$f":"INDEX('IR Data'!L:L,MATCH(pana_film[[#This Row],[PartNumber]],'IR Data'!I:I,0))","v":20.399999999999999}]
[null,"Std","box","PP","No","EZPV","EZPV1B505LTB",1100,"DC",5,"±10",41,17,34.5,37.5,"Short cut lead wire type","-40 to 105 (85)","Other package",300,"https://industrial.panasonic.com/ww/products/pt/automotive-film-cap/models/EZPV1B505LTB","≤41","≤17","≤34.5",{"$f":"pana_film[[#This Row],[Body length / dia\n(mm)]]&\" x \"&pana_film[[#This Row],[Body width\n(mm)]]","v":"41 x 17"},{"$f":"INDEX('IR Data'!K:K,MATCH(pana_film[[#This Row],[PartNumber]],'IR Data'!I:I,0))","v":6.5},{"$f":"INDEX('IR Data'!L:L,MATCH(pana_film[[#This Row],[PartNumber]],'IR Data'!I:I,0))","v":20.399999999999999}]
[null,"Std","box","PP","Yes","EZPV","EZPV1B475LTT",1100,"DC",4.7,"±10",41,17,34.5,37.5,"Short cut lead wire type","-40 to 105 (85)","Other package",300,"https://industrial.panasonic.com/ww/products/pt/automotive-film-cap/models/EZPV1B475LTT","≤41","≤17","≤34.5",{"$f":"pana_film[[#This Row],[Body length / dia\n(mm)]]&\" x \"&pana_film[[#This Row],[Body width\n(mm)]]","v":"41 x 17"},{"$f":"INDEX('IR Data'!K:K,MATCH(pana_film[[#This Row],[PartNumber]],'IR Data'!I:I,0))","v":6.2},{"$f":"INDEX('IR Data'!L:L,MATCH(pana_film[[#This Row],[PartNumber]],'IR Data'!I:I,0))","v":21.7}]
[null,"Std","box","PP","No","EZPV","EZPV1B475LTB",1100,"DC",4.7,"±10",41,17,34.5,37.5,"Short cut lead wire type","-40 to 105 (85)","Other package",300,"https://industrial.panasonic.com/ww/products/pt/automotive-film-cap/models/EZPV1B475LTB","≤41","≤17","≤34.5",{"$f":"pana_film[[#This Row],[Body length / dia\n(mm)]]&\" x \"&pana_film[[#This Row],[Body width\n(mm)]]","v":"41 x 17"},{"$f":"INDEX('IR Data'!K:K,MATCH(pana_film[[#This Row],[PartNumber]],'IR Data'!I:I,0))","v":6.2},{"$f":"INDEX('IR Data'!L:L,MATCH(pana_film[[#This Row],[PartNumber]],'IR Data'!I:I,0))","v":21.7}]
[null,"Std","box","PP","Yes","EZPV","EZPV1B406MTS",1100,"DC",40,"±10",57.5,35,56,52.5,"Short cut lead wire type","-40 to 105 (85)","Other package",50,"https://industrial.panasonic.com/ww/products/pt/automotive-film-cap/models/EZPV1B406MTS","≤58","≤35","≤56",{"$f":"pana_film[[#This Row],[Body length / dia\n(mm)]]&\" x \"&pana_film[[#This Row],[Body width\n(mm)]]","v":"57.5 x 35"},{"$f":"INDEX('IR Data'!K:K,MATCH(pana_film[[#This Row],[PartNumber]],'IR Data'!I:I,0))","v":17.2},{"$f":"INDEX('IR Data'!L:L,MATCH(pana_film[[#This Row],[PartNumber]],'IR Data'!I:I,0))","v":7.8}]
[null,"Std","box","PP","No","EZPV","EZPV1B406MTC",1100,"DC",40,"±10",57.5,35,56,52.5,"Short cut lead wire type","-40 to 105 (85)","Other package",50,"https://industrial.panasonic.com/ww/products/pt/automotive-film-cap/models/EZPV1B406MTC","≤58","≤35","≤56",{"$f":"pana_film[[#This Row],[Body length / dia\n(mm)]]&\" x \"&pana_film[[#This Row],[Body width\n(mm)]]","v":"57.5 x 35"},{"$f":"INDEX('IR Data'!K:K,MATCH(pana_film[[#This Row],[PartNumber]],'IR Data'!I:I,0))","v":17.2},{"$f":"INDEX('IR Data'!L:L,MATCH(pana_film[[#This Row],[PartNumber]],'IR Data'!I:I,0))","v":7.8}]
[null,"Std","box","PP","Yes","EZPV","EZPV1B405LTT",1100,"DC",4,"±10",41,15,29,37.5,"Short cut lead wire type","-40 to 105 (85)","Other package",300,"https://industrial.panasonic.com/ww/products/pt/automotive-film-cap/models/EZPV1B405LTT","≤41","≤15","≤29",{"$f":"pana_film[[#This Row],[Body length / dia\n(mm)]]&\" x \"&pana_film[[#This Row],[Body width\n(mm)]]","v":"41 x 15"},{"$f":"INDEX('IR Data'!K:K,MATCH(pana_film[[#This Row],[PartNumber]],'IR Data'!I:I,0))","v":5.5},{"$f":"INDEX('IR Data'!L:L,MATCH(pana_film[[#This Row],[PartNumber]],'IR Data'!I:I,0))","v":23.5}]
[null,"Std","box","PP","No","EZPV","EZPV1B405LTB",1100,"DC",4,"±10",41,15,29,37.5,"Short cut lead wire type","-40 to 105 (85)","Other package",300,"https://industrial.panasonic.com/ww/products/pt/automotive-film-cap/models/EZPV1B405LTB","≤41","≤15","≤29",{"$f":"pana_film[[#This Row],[Body length / dia\n(mm)]]&\" x \"&pana_film[[#This Row],[Body width\n(mm)]]","v":"41 x 15"},{"$f":"INDEX('IR Data'!K:K,MATCH(pana_film[[#This Row],[PartNumber]],'IR Data'!I:I,0))","v":5.5},{"$f":"INDEX('IR Data'!L:L,MATCH(pana_film[[#This Row],[PartNumber]],'IR Data'!I:I,0))","v":23.5}]
[null,"Std","box","PP","Yes","EZPV","EZPV1B356MTS",1100,"DC",35,"±10",57.5,35,56,52.5,"Short cut lead wire type","-40 to 105 (85)","Other package",50,"https://industrial.panasonic.com/ww/products/pt/automotive-film-cap/models/EZPV1B356MTS","≤58","≤35","≤56",{"$f":"pana_film[[#This Row],[Body length / dia\n(mm)]]&\" x \"&pana_film[[#This Row],[Body width\n(mm)]]","v":"57.5 x 35"},{"$f":"INDEX('IR Data'!K:K,MATCH(pana_film[[#This Row],[PartNumber]],'IR Data'!I:I,0))","v":16.100000000000001},{"$f":"INDEX('IR Data'!L:L,MATCH(pana_film[[#This Row],[PartNumber]],'IR Data'!I:I,0))","v":9.1999999999999993}]
[null,"Std","box","PP","No","EZPV","EZPV1B356MTC",1100,"DC",35,"±10",57.5,35,56,52.5,"Short cut lead wire type","-40 to 105 (85)","Other package",50,"https://industrial.panasonic.com/ww/products/pt/automotive-film-cap/models/EZPV1B356MTC","≤58","≤35","≤56",{"$f":"pana_film[[#This Row],[Body length / dia\n(mm)]]&\" x \"&pana_film[[#This Row],[Body width\n(mm)]]","v":"57.5 x 35"},{"$f":"INDEX('IR Data'!K:K,MATCH(pana_film[[#This Row],[PartNumber]],'IR Data'!I:I,0))","v":16.100000000000001},{"$f":"INDEX('IR Data'!L:L,MATCH(pana_film[[#This Row],[PartNumber]],'IR Data'!I:I,0))","v":9.1999999999999993}]
[null,"Std","box","PP","Yes","EZPV","EZPV1B306MTT",1100,"DC",30,"±10",41,43,58,37.5,"Short cut lead wire type","-40 to 105 (85)","Other package",100,"https://industrial.panasonic.com/ww/products/pt/automotive-film-cap/models/EZPV1B306MTT","≤41","≤43","≤58",{"$f":"pana_film[[#This Row],[Body length / dia\n(mm)]]&\" x \"&pana_film[[#This Row],[Body width\n(mm)]]","v":"41 x 43"},{"$f":"INDEX('IR Data'!K:K,MATCH(pana_film[[#This Row],[PartNumber]],'IR Data'!I:I,0))","v":23.4},{"$f":"INDEX('IR Data'!L:L,MATCH(pana_film[[#This Row],[PartNumber]],'IR Data'!I:I,0))","v":5.7}]
[null,"Std","box","PP","Yes","EZPV","EZPV1B306MTS",1100,"DC",30,"±10",57.5,35,50,52.5,"Short cut lead wire type","-40 to 105 (85)","Other package",50,"https://industrial.panasonic.com/ww/products/pt/automotive-film-cap/models/EZPV1B306MTS","≤58","≤35","≤50",{"$f":"pana_film[[#This Row],[Body length / dia\n(mm)]]&\" x \"&pana_film[[#This Row],[Body width\n(mm)]]","v":"57.5 x 35"},{"$f":"INDEX('IR Data'!K:K,MATCH(pana_film[[#This Row],[PartNumber]],'IR Data'!I:I,0))","v":14.9},{"$f":"INDEX('IR Data'!L:L,MATCH(pana_film[[#This Row],[PartNumber]],'IR Data'!I:I,0))","v":9.9}]
[null,"Std","box","PP","No","EZPV","EZPV1B306MTC",1100,"DC",30,"±10",57.5,35,50,52.5,"Short cut lead wire type","-40 to 105 (85)","Other package",50,"https://industrial.panasonic.com/ww/products/pt/automotive-film-cap/models/EZPV1B306MTC","≤58","≤35","≤50",{"$f":"pana_film[[#This Row],[Body length / dia\n(mm)]]&\" x \"&pana_film[[#This Row],[Body width\n(mm)]]","v":"57.5 x 35"},{"$f":"INDEX('IR Data'!K:K,MATCH(pana_film[[#This Row],[PartNumber]],'IR Data'!I:I,0))","v":14.9},{"$f":"INDEX('IR Data'!L:L,MATCH(pana_film[[#This Row],[PartNumber]],'IR Data'!I:I,0))","v":9.9}]
[null,"Std","box","PP","No","EZPV","EZPV1B306MTB",1100,"DC",30,"±10",41,43,58,37.5,"Short cut lead wire type","-40 to 105 (85)","Other package",100,"https://industrial.panasonic.com/ww/products/pt/automotive-film-cap/models/EZPV1B306MTB","≤41","≤43","≤58",{"$f":"pana_film[[#This Row],[Body length / dia\n(mm)]]&\" x \"&pana_film[[#This Row],[Body width\n(mm)]]","v":"41 x 43"},{"$f":"INDEX('IR Data'!K:K,MATCH(pana_film[[#This Row],[PartNumber]],'IR Data'!I:I,0))","v":23.4},{"$f":"INDEX('IR Data'!L:L,MATCH(pana_film[[#This Row],[PartNumber]],'IR Data'!I:I,0))","v":5.7}]
[null,"Std","box","PP","Yes","EZPV","EZPV1B305LTT",1100,"DC",3,"±10",41,15,29,37.5,"Short cut lead wire type","-40 to 105 (85)","Other package",300,"https://industrial.panasonic.com/ww/products/pt/automotive-film-cap/models/EZPV1B305LTT","≤41","≤15","≤29",{"$f":"pana_film[[#This Row],[Body length / dia\n(mm)]]&\" x \"&pana_film[[#This Row],[Body width\n(mm)]]","v":"41 x 15"},{"$f":"INDEX('IR Data'!K:K,MATCH(pana_film[[#This Row],[PartNumber]],'IR Data'!I:I,0))","v":4.4000000000000004},{"$f":"INDEX('IR Data'!L:L,MATCH(pana_film[[#This Row],[PartNumber]],'IR Data'!I:I,0))","v":30.8}]
[null,"Std","box","PP","No","EZPV","EZPV1B305LTB",1100,"DC",3,"±10",41,15,29,37.5,"Short cut lead wire type","-40 to 105 (85)","Other package",300,"https://industrial.panasonic.com/ww/products/pt/automotive-film-cap/models/EZPV1B305LTB","≤41","≤15","≤29",{"$f":"pana_film[[#This Row],[Body length / dia\n(mm)]]&\" x \"&pana_film[[#This Row],[Body width\n(mm)]]","v":"41 x 15"},{"$f":"INDEX('IR Data'!K:K,MATCH(pana_film[[#This Row],[PartNumber]],'IR Data'!I:I,0))","v":4.4000000000000004},{"$f":"INDEX('IR Data'!L:L,MATCH(pana_film[[#This Row],[PartNumber]],'IR Data'!I:I,0))","v":30.8}]
[null,"Std","box","PP","Yes","EZPV","EZPV1B256MTT",1100,"DC",25,"±10",42,38,52.5,37.5,"Short cut lead wire type","-40 to 105 (85)","Other package",100,"https://industrial.panasonic.com/ww/products/pt/automotive-film-cap/models/EZPV1B256MTT","≤42","≤38","≤52.5",{"$f":"pana_film[[#This Row],[Body length / dia\n(mm)]]&\" x \"&pana_film[[#This Row],[Body width\n(mm)]]","v":"42 x 38"},{"$f":"INDEX('IR Data'!K:K,MATCH(pana_film[[#This Row],[PartNumber]],'IR Data'!I:I,0))","v":20.9},{"$f":"INDEX('IR Data'!L:L,MATCH(pana_film[[#This Row],[PartNumber]],'IR Data'!I:I,0))","v":5.9}]
[null,"Std","box","PP","Yes","EZPV","EZPV1B256MTS",1100,"DC",25,"±10",57.5,35.5,45.5,52.5,"Short cut lead wire type","-40 to 105 (85)","Other package",50,"https://industrial.panasonic.com/ww/products/pt/automotive-film-cap/models/EZPV1B256MTS","≤58","≤36","≤45.5",{"$f":"pana_film[[#This Row],[Body length / dia\n(mm)]]&\" x \"&pana_film[[#This Row],[Body width\n(mm)]]","v":"57.5 x 35.5"},{"$f":"INDEX('IR Data'!K:K,MATCH(pana_film[[#This Row],[PartNumber]],'IR Data'!I:I,0))","v":13.6},{"$f":"INDEX('IR Data'!L:L,MATCH(pana_film[[#This Row],[PartNumber]],'IR Data'!I:I,0))","v":9.1}]
[null,"Std","box","PP","No","EZPV","EZPV1B256MTC",1100,"DC",25,"±10",57.5,35.5,45.5,52.5,"Short cut lead wire type","-40 to 105 (85)","Other package",50,"https://industrial.panasonic.com/ww/products/pt/automotive-film-cap/models/EZPV1B256MTC","≤58","≤36","≤45.5",{"$f":"pana_film[[#This Row],[Body length / dia\n(mm)]]&\" x \"&pana_film[[#This Row],[Body width\n(mm)]]","v":"57.5 x 35.5"},{"$f":"INDEX('IR Data'!K:K,MATCH(pana_film[[#This Row],[PartNumber]],'IR Data'!I:I,0))","v":13.6},{"$f":"INDEX('IR Data'!L:L,MATCH(pana_film[[#This Row],[PartNumber]],'IR Data'!I:I,0))","v":9.1}]
[null,"Std","box","PP","No","EZPV","EZPV1B256MTB",1100,"DC",25,"±10",42,38,52.5,37.5,"Short cut lead wire type","-40 to 105 (85)","Other package",100,"https://industrial.panasonic.com/ww/products/pt/automotive-film-cap/models/EZPV1B256MTB","≤42","≤38","≤52.5",{"$f":"pana_film[[#This Row],[Body length / dia\n(mm)]]&\" x \"&pana_film[[#This Row],[Body width\n(mm)]]","v":"42 x 38"},{"$f":"INDEX('IR Data'!K:K,MATCH(pana_film[[#This Row],[PartNumber]],'IR Data'!I:I,0))","v":20.9},{"$f":"INDEX('IR Data'!L:L,MATCH(pana_film[[#This Row],[PartNumber]],'IR Data'!I:I,0))","v":5.9}]
[null,"Std","box","PP","Yes","EZPV","EZPV1B206MTT",1100,"DC",20,"±10",41.5,30,56,37.5,"Short cut lead wire type","-40 to 105 (85)","Other package",100,"https://industrial.panasonic.com/ww/products/pt/automotive-film-cap/models/EZPV1B206MTT","≤42","≤30","≤56",{"$f":"pana_film[[#This Row],[Body length / dia\n(mm)]]&\" x \"&pana_film[[#This Row],[Body width\n(mm)]]","v":"41.5 x 30"},{"$f":"INDEX('IR Data'!K:K,MATCH(pana_film[[#This Row],[PartNumber]],'IR Data'!I:I,0))","v":18.100000000000001},{"$f":"INDEX('IR Data'!L:L,MATCH(pana_film[[#This Row],[PartNumber]],'IR Data'!I:I,0))","v":7.2}]
[null,"Std","box","PP","Yes","EZPV","EZPV1B206MTS",1100,"DC",20,"±10",57.5,35.5,45.5,52.5,"Short cut lead wire type","-40 to 105 (85)","Other package",50,"https://industrial.panasonic.com/ww/products/pt/automotive-film-cap/models/EZPV1B206MTS","≤58","≤36","≤45.5",{"$f":"pana_film[[#This Row],[Body length / dia\n(mm)]]&\" x \"&pana_film[[#This Row],[Body width\n(mm)]]","v":"57.5 x 35.5"},{"$f":"INDEX('IR Data'!K:K,MATCH(pana_film[[#This Row],[PartNumber]],'IR Data'!I:I,0))","v":12.2},{"$f":"INDEX('IR Data'!L:L,MATCH(pana_film[[#This Row],[PartNumber]],'IR Data'!I:I,0))","v":11.2}]
[null,"Std","box","PP","No","EZPV","EZPV1B206MTC",1100,"DC",20,"±10",57.5,35.5,45.5,52.5,"Short cut lead wire type","-40 to 105 (85)","Other package",50,"https://industrial.panasonic.com/ww/products/pt/automotive-film-cap/models/EZPV1B206MTC","≤58","≤36","≤45.5",{"$f":"pana_film[[#This Row],[Body length / dia\n(mm)]]&\" x \"&pana_film[[#This Row],[Body width\n(mm)]]","v":"57.5 x 35.5"},{"$f":"INDEX('IR Data'!K:K,MATCH(pana_film[[#This Row],[PartNumber]],'IR Data'!I:I,0))","v":12.2},{"$f":"INDEX('IR Data'!L:L,MATCH(pana_film[[#This Row],[PartNumber]],'IR Data'!I:I,0))","v":11.2}]
[null,"Std","box","PP","No","EZPV","EZPV1B206MTB",1100,"DC",20,"±10",41.5,30,56,37.5,"Short cut lead wire type","-40 to 105 (85)","Other package",100,"https://industrial.panasonic.com/ww/products/pt/automotive-film-cap/models/EZPV1B206MTB","≤42","≤30","≤56",{"$f":"pana_film[[#This Row],[Body length / dia\n(mm)]]&\" x \"&pana_film[[#This Row],[Body width\n(mm)]]","v":"41.5 x 30"},{"$f":"INDEX('IR Data'!K:K,MATCH(pana_film[[#This Row],[PartNumber]],'IR Data'!I:I,0))","v":18.100000000000001},{"$f":"INDEX('IR Data'!L:L,MATCH(pana_film[[#This Row],[PartNumber]],'IR Data'!I:I,0))","v":7.2}]
[null,"Std","box","PP","Yes","EZPV","EZPV1B186MTT",1100,"DC",18,"±10",41,30,50.5,37.5,"Short cut lead wire type","-40 to 105 (85)","Other package",100,"https://industrial.panasonic.com/ww/products/pt/automotive-film-cap/models/EZPV1B186MTT","≤41","≤30","≤50.5",{"$f":"pana_film[[#This Row],[Body length / dia\n(mm)]]&\" x \"&pana_film[[#This Row],[Body width\n(mm)]]","v":"41 x 30"},{"$f":"INDEX('IR Data'!K:K,MATCH(pana_film[[#This Row],[PartNumber]],'IR Data'!I:I,0))","v":16.899999999999999},{"$f":"INDEX('IR Data'!L:L,MATCH(pana_film[[#This Row],[PartNumber]],'IR Data'!I:I,0))","v":8.5}]
[null,"Std","box","PP","No","EZPV","EZPV1B186MTB",1100,"DC",18,"±10",41,30,50.5,37.5,"Short cut lead wire type","-40 to 105 (85)","Other package",100,"https://industrial.panasonic.com/ww/products/pt/automotive-film-cap/models/EZPV1B186MTB","≤41","≤30","≤50.5",{"$f":"pana_film[[#This Row],[Body length / dia\n(mm)]]&\" x \"&pana_film[[#This Row],[Body width\n(mm)]]","v":"41 x 30"},{"$f":"INDEX('IR Data'!K:K,MATCH(pana_film[[#This Row],[PartNumber]],'IR Data'!I:I,0))","v":16.899999999999999},{"$f":"INDEX('IR Data'!L:L,MATCH(pana_film[[#This Row],[PartNumber]],'IR Data'!I:I,0))","v":8.5}]
[null,"Std","box","PP","Yes","EZPV","EZPV1B156MTT",1100,"DC",15,"±10",41,30,50.5,37.5,"Short cut lead wire type","-40 to 105 (85)","Other package",100,"https://industrial.panasonic.com/ww/products/pt/automotive-film-cap/models/EZPV1B156MTT","≤41","≤30","≤50.5",{"$f":"pana_film[[#This Row],[Body length / dia\n(mm)]]&\" x \"&pana_film[[#This Row],[Body width\n(mm)]]","v":"41 x 30"},{"$f":"INDEX('IR Data'!K:K,MATCH(pana_film[[#This Row],[PartNumber]],'IR Data'!I:I,0))","v":15},{"$f":"INDEX('IR Data'!L:L,MATCH(pana_film[[#This Row],[PartNumber]],'IR Data'!I:I,0))","v":10.4}]
[null,"Std","box","PP","Yes","EZPV","EZPV1B156MTS",1100,"DC",15,"±10",57,25,40,52.5,"Short cut lead wire type","-40 to 105 (85)","Other package",150,"https://industrial.panasonic.com/ww/products/pt/automotive-film-cap/models/EZPV1B156MTS","≤57","≤25","≤40",{"$f":"pana_film[[#This Row],[Body length / dia\n(mm)]]&\" x \"&pana_film[[#This Row],[Body width\n(mm)]]","v":"57 x 25"},{"$f":"INDEX('IR Data'!K:K,MATCH(pana_film[[#This Row],[PartNumber]],'IR Data'!I:I,0))","v":10.6},{"$f":"INDEX('IR Data'!L:L,MATCH(pana_film[[#This Row],[PartNumber]],'IR Data'!I:I,0))","v":13.7}]
[null,"Std","box","PP","No","EZPV","EZPV1B156MTC",1100,"DC",15,"±10",57,25,40,52.5,"Short cut lead wire type","-40 to 105 (85)","Other package",150,"https://industrial.panasonic.com/ww/products/pt/automotive-film-cap/models/EZPV1B156MTC","≤57","≤25","≤40",{"$f":"pana_film[[#This Row],[Body length / dia\n(mm)]]&\" x \"&pana_film[[#This Row],[Body width\n(mm)]]","v":"57 x 25"},{"$f":"INDEX('IR Data'!K:K,MATCH(pana_film[[#This Row],[PartNumber]],'IR Data'!I:I,0))","v":10.6},{"$f":"INDEX('IR Data'!L:L,MATCH(pana_film[[#This Row],[PartNumber]],'IR Data'!I:I,0))","v":13.7}]
[null,"Std","box","PP","No","EZPV","EZPV1B156MTB",1100,"DC",15,"±10",41,30,50.5,37.5,"Short cut lead wire type","-40 to 105 (85)","Other package",100,"https://industrial.panasonic.com/ww/products/pt/automotive-film-cap/models/EZPV1B156MTB","≤41","≤30","≤50.5",{"$f":"pana_film[[#This Row],[Body length / dia\n(mm)]]&\" x \"&pana_film[[#This Row],[Body width\n(mm)]]","v":"41 x 30"},{"$f":"INDEX('IR Data'!K:K,MATCH(pana_film[[#This Row],[PartNumber]],'IR Data'!I:I,0))","v":15},{"$f":"INDEX('IR Data'!L:L,MATCH(pana_film[[#This Row],[PartNumber]],'IR Data'!I:I,0))","v":10.4}]
[null,"Std","box","PP","Yes","EZPV","EZPV1B126MTT",1100,"DC",12,"±10",41,26,40.5,37.5,"Short cut lead wire type","-40 to 105 (85)","Other package",150,"https://industrial.panasonic.com/ww/products/pt/automotive-film-cap/models/EZPV1B126MTT","≤41","≤26","≤40.5",{"$f":"pana_film[[#This Row],[Body length / dia\n(mm)]]&\" x \"&pana_film[[#This Row],[Body width\n(mm)]]","v":"41 x 26"},{"$f":"INDEX('IR Data'!K:K,MATCH(pana_film[[#This Row],[PartNumber]],'IR Data'!I:I,0))","v":12.8},{"$f":"INDEX('IR Data'!L:L,MATCH(pana_film[[#This Row],[PartNumber]],'IR Data'!I:I,0))","v":10.4}]
[null,"Std","box","PP","No","EZPV","EZPV1B126MTB",1100,"DC",12,"±10",41,26,40.5,37.5,"Short cut lead wire type","-40 to 105 (85)","Other package",150,"https://industrial.panasonic.com/ww/products/pt/automotive-film-cap/models/EZPV1B126MTB","≤41","≤26","≤40.5",{"$f":"pana_film[[#This Row],[Body length / dia\n(mm)]]&\" x \"&pana_film[[#This Row],[Body width\n(mm)]]","v":"41 x 26"},{"$f":"INDEX('IR Data'!K:K,MATCH(pana_film[[#This Row],[PartNumber]],'IR Data'!I:I,0))","v":12.8},{"$f":"INDEX('IR Data'!L:L,MATCH(pana_film[[#This Row],[PartNumber]],'IR Data'!I:I,0))","v":10.4}]
[null,"Std","box","PP","Yes","EZPV","EZPV1B106MTT",1100,"DC",10,"±10",41.5,23.5,43.5,37.5,"Short cut lead wire type","-40 to 105 (85)","Other package",100,"https://industrial.panasonic.com/ww/products/pt/automotive-film-cap/models/EZPV1B106MTT","≤42","≤24","≤43.5",{"$f":"pana_film[[#This Row],[Body length / dia\n(mm)]]&\" x \"&pana_film[[#This Row],[Body width\n(mm)]]","v":"41.5 x 23.5"},{"$f":"INDEX('IR Data'!K:K,MATCH(pana_film[[#This Row],[PartNumber]],'IR Data'!I:I,0))","v":11.2},{"$f":"INDEX('IR Data'!L:L,MATCH(pana_film[[#This Row],[PartNumber]],'IR Data'!I:I,0))","v":12.7}]
[null,"Std","box","PP","No","EZPV","EZPV1B106MTB",1100,"DC",10,"±10",41.5,23.5,43.5,37.5,"Short cut lead wire type","-40 to 105 (85)","Other package",100,"https://industrial.panasonic.com/ww/products/pt/automotive-film-cap/models/EZPV1B106MTB","≤42","≤24","≤43.5",{"$f":"pana_film[[#This Row],[Body length / dia\n(mm)]]&\" x \"&pana_film[[#This Row],[Body width\n(mm)]]","v":"41.5 x 23.5"},{"$f":"INDEX('IR Data'!K:K,MATCH(pana_film[[#This Row],[PartNumber]],'IR Data'!I:I,0))","v":11.2},{"$f":"INDEX('IR Data'!L:L,MATCH(pana_film[[#This Row],[PartNumber]],'IR Data'!I:I,0))","v":12.7}]
[null,"Std","box","PP","Yes","EZPV","EZPV1A905MTT",1000,"DC",9,"±10",41,22,36,37.5,"Short cut lead wire type","-40 to 105 (85)","Other package",150,"https://industrial.panasonic.com/ww/products/pt/automotive-film-cap/models/EZPV1A905MTT","≤41","≤22","≤36",{"$f":"pana_film[[#This Row],[Body length / dia\n(mm)]]&\" x \"&pana_film[[#This Row],[Body width\n(mm)]]","v":"41 x 22"},{"$f":"INDEX('IR Data'!K:K,MATCH(pana_film[[#This Row],[PartNumber]],'IR Data'!I:I,0))","v":10.4},{"$f":"INDEX('IR Data'!L:L,MATCH(pana_film[[#This Row],[PartNumber]],'IR Data'!I:I,0))","v":12.4}]
[null,"Std","box","PP","No","EZPV","EZPV1A905MTB",1000,"DC",9,"±10",41,22,36,37.5,"Short cut lead wire type","-40 to 105 (85)","Other package",150,"https://industrial.panasonic.com/ww/products/pt/automotive-film-cap/models/EZPV1A905MTB","≤41","≤22","≤36",{"$f":"pana_film[[#This Row],[Body length / dia\n(mm)]]&\" x \"&pana_film[[#This Row],[Body width\n(mm)]]","v":"41 x 22"},{"$f":"INDEX('IR Data'!K:K,MATCH(pana_film[[#This Row],[PartNumber]],'IR Data'!I:I,0))","v":10.4},{"$f":"INDEX('IR Data'!L:L,MATCH(pana_film[[#This Row],[PartNumber]],'IR Data'!I:I,0))","v":12.4}]
[null,"Std","box","PP","Yes","EZPV","EZPV1A805MTT",1000,"DC",8,"±10",41,22,36,37.5,"Short cut lead wire type","-40 to 105 (85)","Other package",150,"https://industrial.panasonic.com/ww/products/pt/automotive-film-cap/models/EZPV1A805MTT","≤41","≤22","≤36",{"$f":"pana_film[[#This Row],[Body length / dia\n(mm)]]&\" x \"&pana_film[[#This Row],[Body width\n(mm)]]","v":"41 x 22"},{"$f":"INDEX('IR Data'!K:K,MATCH(pana_film[[#This Row],[PartNumber]],'IR Data'!I:I,0))","v":9.5},{"$f":"INDEX('IR Data'!L:L,MATCH(pana_film[[#This Row],[PartNumber]],'IR Data'!I:I,0))","v":13.7}]
[null,"Std","box","PP","No","EZPV","EZPV1A805MTB",1000,"DC",8,"±10",41,22,36,37.5,"Short cut lead wire type","-40 to 105 (85)","Other package",150,"https://industrial.panasonic.com/ww/products/pt/automotive-film-cap/models/EZPV1A805MTB","≤41","≤22","≤36",{"$f":"pana_film[[#This Row],[Body length / dia\n(mm)]]&\" x \"&pana_film[[#This Row],[Body width\n(mm)]]","v":"41 x 22"},{"$f":"INDEX('IR Data'!K:K,MATCH(pana_film[[#This Row],[PartNumber]],'IR Data'!I:I,0))","v":9.5},{"$f":"INDEX('IR Data'!L:L,MATCH(pana_film[[#This Row],[PartNumber]],'IR Data'!I:I,0))","v":13.7}]
[null,"Std","box","PP","Yes","EZPV","EZPV1A705MTT",1000,"DC",7,"±10",41,22,36,37.5,"Short cut lead wire type","-40 to 105 (85)","Other package",150,"https://industrial.panasonic.com/ww/products/pt/automotive-film-cap/models/EZPV1A705MTT","≤41","≤22","≤36",{"$f":"pana_film[[#This Row],[Body length / dia\n(mm)]]&\" x \"&pana_film[[#This Row],[Body width\n(mm)]]","v":"41 x 22"},{"$f":"INDEX('IR Data'!K:K,MATCH(pana_film[[#This Row],[PartNumber]],'IR Data'!I:I,0))","v":8.5},{"$f":"INDEX('IR Data'!L:L,MATCH(pana_film[[#This Row],[PartNumber]],'IR Data'!I:I,0))","v":15.5}]
[null,"Std","box","PP","No","EZPV","EZPV1A705MTB",1000,"DC",7,"±10",41,22,36,37.5,"Short cut lead wire type","-40 to 105 (85)","Other package",150,"https://industrial.panasonic.com/ww/products/pt/automotive-film-cap/models/EZPV1A705MTB","≤41","≤22","≤36",{"$f":"pana_film[[#This Row],[Body length / dia\n(mm)]]&\" x \"&pana_film[[#This Row],[Body width\n(mm)]]","v":"41 x 22"},{"$f":"INDEX('IR Data'!K:K,MATCH(pana_film[[#This Row],[PartNumber]],'IR Data'!I:I,0))","v":8.5},{"$f":"INDEX('IR Data'!L:L,MATCH(pana_film[[#This Row],[PartNumber]],'IR Data'!I:I,0))","v":15.5}]
[null,"Std","box","PP","Yes","EZPV","EZPV1A605LTT",1000,"DC",6,"±10",41,17,34.5,37.5,"Short cut lead wire type","-40 to 105 (85)","Other package",300,"https://industrial.panasonic.com/ww/products/pt/automotive-film-cap/models/EZPV1A605LTT","≤41","≤17","≤34.5",{"$f":"pana_film[[#This Row],[Body length / dia\n(mm)]]&\" x \"&pana_film[[#This Row],[Body width\n(mm)]]","v":"41 x 17"},{"$f":"INDEX('IR Data'!K:K,MATCH(pana_film[[#This Row],[PartNumber]],'IR Data'!I:I,0))","v":7.3},{"$f":"INDEX('IR Data'!L:L,MATCH(pana_film[[#This Row],[PartNumber]],'IR Data'!I:I,0))","v":17.5}]
[null,"Std","box","PP","No","EZPV","EZPV1A605LTB",1000,"DC",6,"±10",41,17,34.5,37.5,"Short cut lead wire type","-40 to 105 (85)","Other package",300,"https://industrial.panasonic.com/ww/products/pt/automotive-film-cap/models/EZPV1A605LTB","≤41","≤17","≤34.5",{"$f":"pana_film[[#This Row],[Body length / dia\n(mm)]]&\" x \"&pana_film[[#This Row],[Body width\n(mm)]]","v":"41 x 17"},{"$f":"INDEX('IR Data'!K:K,MATCH(pana_film[[#This Row],[PartNumber]],'IR Data'!I:I,0))","v":7.3},{"$f":"INDEX('IR Data'!L:L,MATCH(pana_film[[#This Row],[PartNumber]],'IR Data'!I:I,0))","v":17.5}]
[null,"Std","box","PP","Yes","EZPV","EZPV1A505LTT",1000,"DC",5,"±10",41,17,34.5,37.5,"Short cut lead wire type","-40 to 105 (85)","Other package",300,"https://industrial.panasonic.com/ww/products/pt/automotive-film-cap/models/EZPV1A505LTT","≤41","≤17","≤34.5",{"$f":"pana_film[[#This Row],[Body length / dia\n(mm)]]&\" x \"&pana_film[[#This Row],[Body width\n(mm)]]","v":"41 x 17"},{"$f":"INDEX('IR Data'!K:K,MATCH(pana_film[[#This Row],[PartNumber]],'IR Data'!I:I,0))","v":6.5},{"$f":"INDEX('IR Data'!L:L,MATCH(pana_film[[#This Row],[PartNumber]],'IR Data'!I:I,0))","v":20.399999999999999}]
[null,"Std","box","PP","No","EZPV","EZPV1A505LTB",1000,"DC",5,"±10",41,17,34.5,37.5,"Short cut lead wire type","-40 to 105 (85)","Other package",300,"https://industrial.panasonic.com/ww/products/pt/automotive-film-cap/models/EZPV1A505LTB","≤41","≤17","≤34.5",{"$f":"pana_film[[#This Row],[Body length / dia\n(mm)]]&\" x \"&pana_film[[#This Row],[Body width\n(mm)]]","v":"41 x 17"},{"$f":"INDEX('IR Data'!K:K,MATCH(pana_film[[#This Row],[PartNumber]],'IR Data'!I:I,0))","v":6.5},{"$f":"INDEX('IR Data'!L:L,MATCH(pana_film[[#This Row],[PartNumber]],'IR Data'!I:I,0))","v":20.399999999999999}]
[null,"Std","box","PP","Yes","EZPV","EZPV1A475LTT",1000,"DC",4.7,"±10",41,17,34.5,37.5,"Short cut lead wire type","-40 to 105 (85)","Other package",300,"https://industrial.panasonic.com/ww/products/pt/automotive-film-cap/models/EZPV1A475LTT","≤41","≤17","≤34.5",{"$f":"pana_film[[#This Row],[Body length / dia\n(mm)]]&\" x \"&pana_film[[#This Row],[Body width\n(mm)]]","v":"41 x 17"},{"$f":"INDEX('IR Data'!K:K,MATCH(pana_film[[#This Row],[PartNumber]],'IR Data'!I:I,0))","v":6.2},{"$f":"INDEX('IR Data'!L:L,MATCH(pana_film[[#This Row],[PartNumber]],'IR Data'!I:I,0))","v":21.7}]
[null,"Std","box","PP","No","EZPV","EZPV1A475LTB",1000,"DC",4.7,"±10",41,17,34.5,37.5,"Short cut lead wire type","-40 to 105 (85)","Other package",300,"https://industrial.panasonic.com/ww/products/pt/automotive-film-cap/models/EZPV1A475LTB",{"$f":"IF(L268<=9.5,\"≤ \"&ROUNDUP(L268*1,0)/1,\"≤\"&ROUNDUP(L268*1,0)/1)","v":"≤41"},{"$f":"IF(M268<=9,\"≤ \"&ROUNDUP(M268*1,0)/1,\"≤\"&ROUNDUP(M268*1,0)/1)","v":"≤17"},{"$f":"IF(N268<=9.5,\"≤ \"&ROUNDUP(N268*2,0)/2,\"≤\"&ROUNDUP(N268*2,0)/2)","v":"≤34.5"},{"$f":"pana_film[[#This Row],[Body length / dia\n(mm)]]&\" x \"&pana_film[[#This Row],[Body width\n(mm)]]","v":"41 x 17"},{"$f":"INDEX('IR Data'!K:K,MATCH(pana_film[[#This Row],[PartNumber]],'IR Data'!I:I,0))","v":6.2},{"$f":"INDEX('IR Data'!L:L,MATCH(pana_film[[#This Row],[PartNumber]],'IR Data'!I:I,0))","v":21.7}]
[null,"Std","box","PP","Yes","EZPV","EZPV1A406MTS",1000,"DC",40,"±10",57.5,35,56,52.5,"Short cut lead wire type","-40 to 105 (85)","Other package",50,"https://industrial.panasonic.com/ww/products/pt/automotive-film-cap/models/EZPV1A406MTS","≤58","≤35","≤56",{"$f":"pana_film[[#This Row],[Body length / dia\n(mm)]]&\" x \"&pana_film[[#This Row],[Body width\n(mm)]]","v":"57.5 x 35"},{"$f":"INDEX('IR Data'!K:K,MATCH(pana_film[[#This Row],[PartNumber]],'IR Data'!I:I,0))","v":17.2},{"$f":"INDEX('IR Data'!L:L,MATCH(pana_film[[#This Row],[PartNumber]],'IR Data'!I:I,0))","v":7.8}]
[null,"Std","box","PP","No","EZPV","EZPV1A406MTC",1000,"DC",40,"±10",57.5,35,56,52.5,"Short cut lead wire type","-40 to 105 (85)","Other package",50,"https://industrial.panasonic.com/ww/products/pt/automotive-film-cap/models/EZPV1A406MTC","≤58","≤35","≤56",{"$f":"pana_film[[#This Row],[Body length / dia\n(mm)]]&\" x \"&pana_film[[#This Row],[Body width\n(mm)]]","v":"57.5 x 35"},{"$f":"INDEX('IR Data'!K:K,MATCH(pana_film[[#This Row],[PartNumber]],'IR Data'!I:I,0))","v":17.2},{"$f":"INDEX('IR Data'!L:L,MATCH(pana_film[[#This Row],[PartNumber]],'IR Data'!I:I,0))","v":7.8}]
[null,"Std","box","PP","Yes","EZPV","EZPV1A405LTT",1000,"DC",4,"±10",41,15,29,37.5,"Short cut lead wire type","-40 to 105 (85)","Other package",300,"https://industrial.panasonic.com/ww/products/pt/automotive-film-cap/models/EZPV1A405LTT","≤41","≤15","≤29",{"$f":"pana_film[[#This Row],[Body length / dia\n(mm)]]&\" x \"&pana_film[[#This Row],[Body width\n(mm)]]","v":"41 x 15"},{"$f":"INDEX('IR Data'!K:K,MATCH(pana_film[[#This Row],[PartNumber]],'IR Data'!I:I,0))","v":5.5},{"$f":"INDEX('IR Data'!L:L,MATCH(pana_film[[#This Row],[PartNumber]],'IR Data'!I:I,0))","v":23.5}]
[null,"Std","box","PP","No","EZPV","EZPV1A405LTB",1000,"DC",4,"±10",41,15,29,37.5,"Short cut lead wire type","-40 to 105 (85)","Other package",300,"https://industrial.panasonic.com/ww/products/pt/automotive-film-cap/models/EZPV1A405LTB","≤41","≤15","≤29",{"$f":"pana_film[[#This Row],[Body length / dia\n(mm)]]&\" x \"&pana_film[[#This Row],[Body width\n(mm)]]","v":"41 x 15"},{"$f":"INDEX('IR Data'!K:K,MATCH(pana_film[[#This Row],[PartNumber]],'IR Data'!I:I,0))","v":5.5},{"$f":"INDEX('IR Data'!L:L,MATCH(pana_film[[#This Row],[PartNumber]],'IR Data'!I:I,0))","v":23.5}]
[null,"Std","box","PP","Yes","EZPV","EZPV1A356MTS",1000,"DC",35,"±10",57.5,35,56,52.5,"Short cut lead wire type","-40 to 105 (85)","Other package",50,"https://industrial.panasonic.com/ww/products/pt/automotive-film-cap/models/EZPV1A356MTS","≤58","≤35","≤56",{"$f":"pana_film[[#This Row],[Body length / dia\n(mm)]]&\" x \"&pana_film[[#This Row],[Body width\n(mm)]]","v":"57.5 x 35"},{"$f":"INDEX('IR Data'!K:K,MATCH(pana_film[[#This Row],[PartNumber]],'IR Data'!I:I,0))","v":16.100000000000001},{"$f":"INDEX('IR Data'!L:L,MATCH(pana_film[[#This Row],[PartNumber]],'IR Data'!I:I,0))","v":9.1999999999999993}]
[null,"Std","box","PP","No","EZPV","EZPV1A356MTC",1000,"DC",35,"±10",57.5,35,56,52.5,"Short cut lead wire type","-40 to 105 (85)","Other package",50,"https://industrial.panasonic.com/ww/products/pt/automotive-film-cap/models/EZPV1A356MTC","≤58","≤35","≤56",{"$f":"pana_film[[#This Row],[Body length / dia\n(mm)]]&\" x \"&pana_film[[#This Row],[Body width\n(mm)]]","v":"57.5 x 35"},{"$f":"INDEX('IR Data'!K:K,MATCH(pana_film[[#This Row],[PartNumber]],'IR Data'!I:I,0))","v":16.100000000000001},{"$f":"INDEX('IR Data'!L:L,MATCH(pana_film[[#This Row],[PartNumber]],'IR Data'!I:I,0))","v":9.1999999999999993}]
[null,"Std","box","PP","Yes","EZPV","EZPV1A306MTT",1000,"DC",30,"±10",41,43,58,37.5,"Short cut lead wire type","-40 to 105 (85)","Other package",100,"https://industrial.panasonic.com/ww/products/pt/automotive-film-cap/models/EZPV1A306MTT","≤41","≤43","≤58",{"$f":"pana_film[[#This Row],[Body length / dia\n(mm)]]&\" x \"&pana_film[[#This Row],[Body width\n(mm)]]","v":"41 x 43"},{"$f":"INDEX('IR Data'!K:K,MATCH(pana_film[[#This Row],[PartNumber]],'IR Data'!I:I,0))","v":23.4},{"$f":"INDEX('IR Data'!L:L,MATCH(pana_film[[#This Row],[PartNumber]],'IR Data'!I:I,0))","v":5.7}]
[null,"Std","box","PP","Yes","EZPV","EZPV1A306MTS",1000,"DC",30,"±10",57.5,35,50,52.5,"Short cut lead wire type","-40 to 105 (85)","Other package",50,"https://industrial.panasonic.com/ww/products/pt/automotive-film-cap/models/EZPV1A306MTS","≤58","≤35","≤50",{"$f":"pana_film[[#This Row],[Body length / dia\n(mm)]]&\" x \"&pana_film[[#This Row],[Body width\n(mm)]]","v":"57.5 x 35"},{"$f":"INDEX('IR Data'!K:K,MATCH(pana_film[[#This Row],[PartNumber]],'IR Data'!I:I,0))","v":14.9},{"$f":"INDEX('IR Data'!L:L,MATCH(pana_film[[#This Row],[PartNumber]],'IR Data'!I:I,0))","v":9.9}]
[null,"Std","box","PP","No","EZPV","EZPV1A306MTC",1000,"DC",30,"±10",57.5,35,50,52.5,"Short cut lead wire type","-40 to 105 (85)","Other package",50,"https://industrial.panasonic.com/ww/products/pt/automotive-film-cap/models/EZPV1A306MTC","≤58","≤35","≤50",{"$f":"pana_film[[#This Row],[Body length / dia\n(mm)]]&\" x \"&pana_film[[#This Row],[Body width\n(mm)]]","v":"57.5 x 35"},{"$f":"INDEX('IR Data'!K:K,MATCH(pana_film[[#This Row],[PartNumber]],'IR Data'!I:I,0))","v":14.9},{"$f":"INDEX('IR Data'!L:L,MATCH(pana_film[[#This Row],[PartNumber]],'IR Data'!I:I,0))","v":9.9}]
[null,"Std","box","PP","No","EZPV","EZPV1A306MTB",1000,"DC",30,"±10",41,43,58,37.5,"Short cut lead wire type","-40 to 105 (85)","Other package",100,"https://industrial.panasonic.com/ww/products/pt/automotive-film-cap/models/EZPV1A306MTB","≤41","≤43","≤58",{"$f":"pana_film[[#This Row],[Body length / dia\n(mm)]]&\" x \"&pana_film[[#This Row],[Body width\n(mm)]]","v":"41 x 43"},{"$f":"INDEX('IR Data'!K:K,MATCH(pana_film[[#This Row],[PartNumber]],'IR Data'!I:I,0))","v":23.4},{"$f":"INDEX('IR Data'!L:L,MATCH(pana_film[[#This Row],[PartNumber]],'IR Data'!I:I,0))","v":5.7}]
[null,"Std","box","PP","Yes","EZPV","EZPV1A305LTT",1000,"DC",3,"±10",41,15,29,37.5,"Short cut lead wire type","-40 to 105 (85)","Other package",300,"https://industrial.panasonic.com/ww/products/pt/automotive-film-cap/models/EZPV1A305LTT","≤41","≤15","≤29",{"$f":"pana_film[[#This Row],[Body length / dia\n(mm)]]&\" x \"&pana_film[[#This Row],[Body width\n(mm)]]","v":"41 x 15"},{"$f":"INDEX('IR Data'!K:K,MATCH(pana_film[[#This Row],[PartNumber]],'IR Data'!I:I,0))","v":4.4000000000000004},{"$f":"INDEX('IR Data'!L:L,MATCH(pana_film[[#This Row],[PartNumber]],'IR Data'!I:I,0))","v":30.8}]
[null,"Std","box","PP","No","EZPV","EZPV1A305LTB",1000,"DC",3,"±10",41,15,29,37.5,"Short cut lead wire type","-40 to 105 (85)","Other package",300,"https://industrial.panasonic.com/ww/products/pt/automotive-film-cap/models/EZPV1A305LTB","≤41","≤15","≤29",{"$f":"pana_film[[#This Row],[Body length / dia\n(mm)]]&\" x \"&pana_film[[#This Row],[Body width\n(mm)]]","v":"41 x 15"},{"$f":"INDEX('IR Data'!K:K,MATCH(pana_film[[#This Row],[PartNumber]],'IR Data'!I:I,0))","v":4.4000000000000004},{"$f":"INDEX('IR Data'!L:L,MATCH(pana_film[[#This Row],[PartNumber]],'IR Data'!I:I,0))","v":30.8}]
[null,"Std","box","PP","Yes","EZPV","EZPV1A256MTT",1000,"DC",25,"±10",42,38,52.5,37.5,"Short cut lead wire type","-40 to 105 (85)","Other package",100,"https://industrial.panasonic.com/ww/products/pt/automotive-film-cap/models/EZPV1A256MTT","≤42","≤38","≤52.5",{"$f":"pana_film[[#This Row],[Body length / dia\n(mm)]]&\" x \"&pana_film[[#This Row],[Body width\n(mm)]]","v":"42 x 38"},{"$f":"INDEX('IR Data'!K:K,MATCH(pana_film[[#This Row],[PartNumber]],'IR Data'!I:I,0))","v":20.9},{"$f":"INDEX('IR Data'!L:L,MATCH(pana_film[[#This Row],[PartNumber]],'IR Data'!I:I,0))","v":5.9}]
[null,"Std","box","PP","Yes","EZPV","EZPV1A256MTS",1000,"DC",25,"±10",57.5,35.5,45.5,52.5,"Short cut lead wire type","-40 to 105 (85)","Other package",50,"https://industrial.panasonic.com/ww/products/pt/automotive-film-cap/models/EZPV1A256MTS","≤58","≤36","≤45.5",{"$f":"pana_film[[#This Row],[Body length / dia\n(mm)]]&\" x \"&pana_film[[#This Row],[Body width\n(mm)]]","v":"57.5 x 35.5"},{"$f":"INDEX('IR Data'!K:K,MATCH(pana_film[[#This Row],[PartNumber]],'IR Data'!I:I,0))","v":13.6},{"$f":"INDEX('IR Data'!L:L,MATCH(pana_film[[#This Row],[PartNumber]],'IR Data'!I:I,0))","v":9.1}]
[null,"Std","box","PP","No","EZPV","EZPV1A256MTC",1000,"DC",25,"±10",57.5,35.5,45.5,52.5,"Short cut lead wire type","-40 to 105 (85)","Other package",50,"https://industrial.panasonic.com/ww/products/pt/automotive-film-cap/models/EZPV1A256MTC","≤58","≤36","≤45.5",{"$f":"pana_film[[#This Row],[Body length / dia\n(mm)]]&\" x \"&pana_film[[#This Row],[Body width\n(mm)]]","v":"57.5 x 35.5"},{"$f":"INDEX('IR Data'!K:K,MATCH(pana_film[[#This Row],[PartNumber]],'IR Data'!I:I,0))","v":13.6},{"$f":"INDEX('IR Data'!L:L,MATCH(pana_film[[#This Row],[PartNumber]],'IR Data'!I:I,0))","v":9.1}]
[null,"Std","box","PP","No","EZPV","EZPV1A256MTB",1000,"DC",25,"±10",42,38,52.5,37.5,"Short cut lead wire type","-40 to 105 (85)","Other package",100,"https://industrial.panasonic.com/ww/products/pt/automotive-film-cap/models/EZPV1A256MTB","≤42","≤38","≤52.5",{"$f":"pana_film[[#This Row],[Body length / dia\n(mm)]]&\" x \"&pana_film[[#This Row],[Body width\n(mm)]]","v":"42 x 38"},{"$f":"INDEX('IR Data'!K:K,MATCH(pana_film[[#This Row],[PartNumber]],'IR Data'!I:I,0))","v":20.9},{"$f":"INDEX('IR Data'!L:L,MATCH(pana_film[[#This Row],[PartNumber]],'IR Data'!I:I,0))","v":5.9}]
[null,"Std","box","PP","Yes","EZPV","EZPV1A206MTT",1000,"DC",20,"±10",41.5,30,56,37.5,"Short cut lead wire type","-40 to 105 (85)","Other package",100,"https://industrial.panasonic.com/ww/products/pt/automotive-film-cap/models/EZPV1A206MTT","≤42","≤30","≤56",{"$f":"pana_film[[#This Row],[Body length / dia\n(mm)]]&\" x \"&pana_film[[#This Row],[Body width\n(mm)]]","v":"41.5 x 30"},{"$f":"INDEX('IR Data'!K:K,MATCH(pana_film[[#This Row],[PartNumber]],'IR Data'!I:I,0))","v":18.100000000000001},{"$f":"INDEX('IR Data'!L:L,MATCH(pana_film[[#This Row],[PartNumber]],'IR Data'!I:I,0))","v":7.2}]
[null,"Std","box","PP","Yes","EZPV","EZPV1A206MTS",1000,"DC",20,"±10",57.5,35.5,45.5,52.5,"Short cut lead wire type","-40 to 105 (85)","Other package",50,"https://industrial.panasonic.com/ww/products/pt/automotive-film-cap/models/EZPV1A206MTS","≤58","≤36","≤45.5",{"$f":"pana_film[[#This Row],[Body length / dia\n(mm)]]&\" x \"&pana_film[[#This Row],[Body width\n(mm)]]","v":"57.5 x 35.5"},{"$f":"INDEX('IR Data'!K:K,MATCH(pana_film[[#This Row],[PartNumber]],'IR Data'!I:I,0))","v":12.2},{"$f":"INDEX('IR Data'!L:L,MATCH(pana_film[[#This Row],[PartNumber]],'IR Data'!I:I,0))","v":11.2}]
[null,"Std","box","PP","No","EZPV","EZPV1A206MTC",1000,"DC",20,"±10",57.5,35.5,45.5,52.5,"Short cut lead wire type","-40 to 105 (85)","Other package",50,"https://industrial.panasonic.com/ww/products/pt/automotive-film-cap/models/EZPV1A206MTC","≤58","≤36","≤45.5",{"$f":"pana_film[[#This Row],[Body length / dia\n(mm)]]&\" x \"&pana_film[[#This Row],[Body width\n(mm)]]","v":"57.5 x 35.5"},{"$f":"INDEX('IR Data'!K:K,MATCH(pana_film[[#This Row],[PartNumber]],'IR Data'!I:I,0))","v":12.2},{"$f":"INDEX('IR Data'!L:L,MATCH(pana_film[[#This Row],[PartNumber]],'IR Data'!I:I,0))","v":11.2}]
[null,"Std","box","PP","No","EZPV","EZPV1A206MTB",1000,"DC",20,"±10",41.5,30,56,37.5,"Short cut lead wire type","-40 to 105 (85)","Other package",100,"https://industrial.panasonic.com/ww/products/pt/automotive-film-cap/models/EZPV1A206MTB","≤42","≤30","≤56",{"$f":"pana_film[[#This Row],[Body length / dia\n(mm)]]&\" x \"&pana_film[[#This Row],[Body width\n(mm)]]","v":"41.5 x 30"},{"$f":"INDEX('IR Data'!K:K,MATCH(pana_film[[#This Row],[PartNumber]],'IR Data'!I:I,0))","v":18.100000000000001},{"$f":"INDEX('IR Data'!L:L,MATCH(pana_film[[#This Row],[PartNumber]],'IR Data'!I:I,0))","v":7.2}]
[null,"Std","box","PP","Yes","EZPV","EZPV1A186MTT",1000,"DC",18,"±10",41,30,50.5,37.5,"Short cut lead wire type","-40 to 105 (85)","Other package",100,"https://industrial.panasonic.com/ww/products/pt/automotive-film-cap/models/EZPV1A186MTT","≤41","≤30","≤50.5",{"$f":"pana_film[[#This Row],[Body length / dia\n(mm)]]&\" x \"&pana_film[[#This Row],[Body width\n(mm)]]","v":"41 x 30"},{"$f":"INDEX('IR Data'!K:K,MATCH(pana_film[[#This Row],[PartNumber]],'IR Data'!I:I,0))","v":16.899999999999999},{"$f":"INDEX('IR Data'!L:L,MATCH(pana_film[[#This Row],[PartNumber]],'IR Data'!I:I,0))","v":8.5}]
[null,"Std","box","PP","No","EZPV","EZPV1A186MTB",1000,"DC",18,"±10",41,30,50.5,37.5,"Short cut lead wire type","-40 to 105 (85)","Other package",100,"https://industrial.panasonic.com/ww/products/pt/automotive-film-cap/models/EZPV1A186MTB","≤41","≤30","≤50.5",{"$f":"pana_film[[#This Row],[Body length / dia\n(mm)]]&\" x \"&pana_film[[#This Row],[Body width\n(mm)]]","v":"41 x 30"},{"$f":"INDEX('IR Data'!K:K,MATCH(pana_film[[#This Row],[PartNumber]],'IR Data'!I:I,0))","v":16.899999999999999},{"$f":"INDEX('IR Data'!L:L,MATCH(pana_film[[#This Row],[PartNumber]],'IR Data'!I:I,0))","v":8.5}]
[null,"Std","box","PP","Yes","EZPV","EZPV1A156MTT",1000,"DC",15,"±10",41,30,50.5,37.5,"Short cut lead wire type","-40 to 105 (85)","Other package",100,"https://industrial.panasonic.com/ww/products/pt/automotive-film-cap/models/EZPV1A156MTT","≤41","≤30","≤50.5",{"$f":"pana_film[[#This Row],[Body length / dia\n(mm)]]&\" x \"&pana_film[[#This Row],[Body width\n(mm)]]","v":"41 x 30"},{"$f":"INDEX('IR Data'!K:K,MATCH(pana_film[[#This Row],[PartNumber]],'IR Data'!I:I,0))","v":15},{"$f":"INDEX('IR Data'!L:L,MATCH(pana_film[[#This Row],[PartNumber]],'IR Data'!I:I,0))","v":10.4}]
[null,"Std","box","PP","Yes","EZPV","EZPV1A156MTS",1000,"DC",15,"±10",57,25,40,52.5,"Short cut lead wire type","-40 to 105 (85)","Other package",150,"https://industrial.panasonic.com/ww/products/pt/automotive-film-cap/models/EZPV1A156MTS","≤57","≤25","≤40",{"$f":"pana_film[[#This Row],[Body length / dia\n(mm)]]&\" x \"&pana_film[[#This Row],[Body width\n(mm)]]","v":"57 x 25"},{"$f":"INDEX('IR Data'!K:K,MATCH(pana_film[[#This Row],[PartNumber]],'IR Data'!I:I,0))","v":10.6},{"$f":"INDEX('IR Data'!L:L,MATCH(pana_film[[#This Row],[PartNumber]],'IR Data'!I:I,0))","v":13.7}]
[null,"Std","box","PP","No","EZPV","EZPV1A156MTC",1000,"DC",15,"±10",57,25,40,52.5,"Short cut lead wire type","-40 to 105 (85)","Other package",150,"https://industrial.panasonic.com/ww/products/pt/automotive-film-cap/models/EZPV1A156MTC","≤57","≤25","≤40",{"$f":"pana_film[[#This Row],[Body length / dia\n(mm)]]&\" x \"&pana_film[[#This Row],[Body width\n(mm)]]","v":"57 x 25"},{"$f":"INDEX('IR Data'!K:K,MATCH(pana_film[[#This Row],[PartNumber]],'IR Data'!I:I,0))","v":10.6},{"$f":"INDEX('IR Data'!L:L,MATCH(pana_film[[#This Row],[PartNumber]],'IR Data'!I:I,0))","v":13.7}]
[null,"Std","box","PP","No","EZPV","EZPV1A156MTB",1000,"DC",15,"±10",41,30,50.5,37.5,"Short cut lead wire type","-40 to 105 (85)","Other package",100,"https://industrial.panasonic.com/ww/products/pt/automotive-film-cap/models/EZPV1A156MTB","≤41","≤30","≤50.5",{"$f":"pana_film[[#This Row],[Body length / dia\n(mm)]]&\" x \"&pana_film[[#This Row],[Body width\n(mm)]]","v":"41 x 30"},{"$f":"INDEX('IR Data'!K:K,MATCH(pana_film[[#This Row],[PartNumber]],'IR Data'!I:I,0))","v":15},{"$f":"INDEX('IR Data'!L:L,MATCH(pana_film[[#This Row],[PartNumber]],'IR Data'!I:I,0))","v":10.4}]
[null,"Std","box","PP","Yes","EZPV","EZPV1A126MTT",1000,"DC",12,"±10",41,26,40.5,37.5,"Short cut lead wire type","-40 to 105 (85)","Other package",150,"https://industrial.panasonic.com/ww/products/pt/automotive-film-cap/models/EZPV1A126MTT","≤41","≤26","≤40.5",{"$f":"pana_film[[#This Row],[Body length / dia\n(mm)]]&\" x \"&pana_film[[#This Row],[Body width\n(mm)]]","v":"41 x 26"},{"$f":"INDEX('IR Data'!K:K,MATCH(pana_film[[#This Row],[PartNumber]],'IR Data'!I:I,0))","v":12.8},{"$f":"INDEX('IR Data'!L:L,MATCH(pana_film[[#This Row],[PartNumber]],'IR Data'!I:I,0))","v":10.4}]
[null,"Std","box","PP","No","EZPV","EZPV1A126MTB",1000,"DC",12,"±10",41,26,40.5,37.5,"Short cut lead wire type","-40 to 105 (85)","Other package",150,"https://industrial.panasonic.com/ww/products/pt/automotive-film-cap/models/EZPV1A126MTB","≤41","≤26","≤40.5",{"$f":"pana_film[[#This Row],[Body length / dia\n(mm)]]&\" x \"&pana_film[[#This Row],[Body width\n(mm)]]","v":"41 x 26"},{"$f":"INDEX('IR Data'!K:K,MATCH(pana_film[[#This Row],[PartNumber]],'IR Data'!I:I,0))","v":12.8},{"$f":"INDEX('IR Data'!L:L,MATCH(pana_film[[#This Row],[PartNumber]],'IR Data'!I:I,0))","v":10.4}]
[null,"Std","box","PP","Yes","EZPV","EZPV1A106MTT",1000,"DC",10,"±10",41.5,23.5,43.5,37.5,"Short cut lead wire type","-40 to 105 (85)","Other package",100,"https://industrial.panasonic.com/ww/products/pt/automotive-film-cap/models/EZPV1A106MTT","≤42","≤24","≤43.5",{"$f":"pana_film[[#This Row],[Body length / dia\n(mm)]]&\" x \"&pana_film[[#This Row],[Body width\n(mm)]]","v":"41.5 x 23.5"},{"$f":"INDEX('IR Data'!K:K,MATCH(pana_film[[#This Row],[PartNumber]],'IR Data'!I:I,0))","v":11.2},{"$f":"INDEX('IR Data'!L:L,MATCH(pana_film[[#This Row],[PartNumber]],'IR Data'!I:I,0))","v":12.7}]
[null,"Std","box","PP","No","EZPV","EZPV1A106MTB",1000,"DC",10,"±10",41.5,23.5,43.5,37.5,"Short cut lead wire type","-40 to 105 (85)","Other package",100,"https://industrial.panasonic.com/ww/products/pt/automotive-film-cap/models/EZPV1A106MTB","≤42","≤24","≤43.5",{"$f":"pana_film[[#This Row],[Body length / dia\n(mm)]]&\" x \"&pana_film[[#This Row],[Body width\n(mm)]]","v":"41.5 x 23.5"},{"$f":"INDEX('IR Data'!K:K,MATCH(pana_film[[#This Row],[PartNumber]],'IR Data'!I:I,0))","v":11.2},{"$f":"INDEX('IR Data'!L:L,MATCH(pana_film[[#This Row],[PartNumber]],'IR Data'!I:I,0))","v":12.7}]
[null,"Std","box","PP","No","EZPQ","EZPQ60705MTD",600,"AC",7,"±10",57.5,30,51,52.5,"Short cut lead wire type","-40 to 105 (85)","Other package",50,"https://industrial.panasonic.com/ww/products/pt/automotive-film-cap/models/EZPQ60705MTD","≤58","≤30","≤51",{"$f":"pana_film[[#This Row],[Body length / dia\n(mm)]]&\" x \"&pana_film[[#This Row],[Body width\n(mm)]]","v":"57.5 x 30"},{"$f":"INDEX('IR Data'!K:K,MATCH(pana_film[[#This Row],[PartNumber]],'IR Data'!I:I,0))","v":13},{"$f":"INDEX('IR Data'!L:L,MATCH(pana_film[[#This Row],[PartNumber]],'IR Data'!I:I,0))","v":5.6}]
[null,"Std","box","PP","No","EZPQ","EZPQ60685MTD",600,"AC",6.8,"±10",57.5,30,51,52.5,"Short cut lead wire type","-40 to 105 (85)","Other package",50,"https://industrial.panasonic.com/ww/products/pt/automotive-film-cap/models/EZPQ60685MTD","≤58","≤30","≤51",{"$f":"pana_film[[#This Row],[Body length / dia\n(mm)]]&\" x \"&pana_film[[#This Row],[Body width\n(mm)]]","v":"57.5 x 30"},{"$f":"INDEX('IR Data'!K:K,MATCH(pana_film[[#This Row],[PartNumber]],'IR Data'!I:I,0))","v":12.8},{"$f":"INDEX('IR Data'!L:L,MATCH(pana_film[[#This Row],[PartNumber]],'IR Data'!I:I,0))","v":5.9}]
[null,"Std","box","PP","No","EZPQ","EZPQ60475MTE",600,"AC",4.7,"±10",57.5,30,51,52.5,"Short cut lead wire type","-40 to 105 (85)","Other package",50,"https://industrial.panasonic.com/ww/products/pt/automotive-film-cap/models/EZPQ60475MTE","≤58","≤30","≤51",{"$f":"pana_film[[#This Row],[Body length / dia\n(mm)]]&\" x \"&pana_film[[#This Row],[Body width\n(mm)]]","v":"57.5 x 30"},{"$f":"INDEX('IR Data'!K:K,MATCH(pana_film[[#This Row],[PartNumber]],'IR Data'!I:I,0))","v":10.6},{"$f":"INDEX('IR Data'!L:L,MATCH(pana_film[[#This Row],[PartNumber]],'IR Data'!I:I,0))","v":7}]
[null,"Std","box","PP","No","EZPQ","EZPQ60475MTD",600,"AC",4.7,"±10",42.5,35.5,50.5,37.5,"Short cut lead wire type","-40 to 105 (85)","Other package",100,"https://industrial.panasonic.com/ww/products/pt/automotive-film-cap/models/EZPQ60475MTD","≤43","≤36","≤50.5",{"$f":"pana_film[[#This Row],[Body length / dia\n(mm)]]&\" x \"&pana_film[[#This Row],[Body width\n(mm)]]","v":"42.5 x 35.5"},{"$f":"INDEX('IR Data'!K:K,MATCH(pana_film[[#This Row],[PartNumber]],'IR Data'!I:I,0))","v":14},{"$f":"INDEX('IR Data'!L:L,MATCH(pana_film[[#This Row],[PartNumber]],'IR Data'!I:I,0))","v":3.8}]
[null,"Std","box","PP","No","EZPQ","EZPQ60335MTD",600,"AC",3.3,"±10",41.5,27.5,42,37.5,"Short cut lead wire type","-40 to 105 (85)","Other package",150,"https://industrial.panasonic.com/ww/products/pt/automotive-film-cap/models/EZPQ60335MTD","≤42","≤28","≤42",{"$f":"pana_film[[#This Row],[Body length / dia\n(mm)]]&\" x \"&pana_film[[#This Row],[Body width\n(mm)]]","v":"41.5 x 27.5"},{"$f":"INDEX('IR Data'!K:K,MATCH(pana_film[[#This Row],[PartNumber]],'IR Data'!I:I,0))","v":11.8},{"$f":"INDEX('IR Data'!L:L,MATCH(pana_film[[#This Row],[PartNumber]],'IR Data'!I:I,0))","v":5.7}]
[null,"Std","box","PP","No","EZPQ","EZPQ60225LTD",600,"AC",2.2000000000000002,"±10",41.5,26,40.5,37.5,"Short cut lead wire type","-40 to 105 (85)","Other package",150,"https://industrial.panasonic.com/ww/products/pt/automotive-film-cap/models/EZPQ60225LTD","≤42","≤26","≤40.5",{"$f":"pana_film[[#This Row],[Body length / dia\n(mm)]]&\" x \"&pana_film[[#This Row],[Body width\n(mm)]]","v":"41.5 x 26"},{"$f":"INDEX('IR Data'!K:K,MATCH(pana_film[[#This Row],[PartNumber]],'IR Data'!I:I,0))","v":9.6},{"$f":"INDEX('IR Data'!L:L,MATCH(pana_film[[#This Row],[PartNumber]],'IR Data'!I:I,0))","v":8.8000000000000007}]
[null,"Std","box","PP","No","EZPQ","EZPQ60155LTD",600,"AC",1.5,"±10",41.5,17,34.5,37.5,"Short cut lead wire type","-40 to 105 (85)","Other package",300,"https://industrial.panasonic.com/ww/products/pt/automotive-film-cap/models/EZPQ60155LTD","≤42","≤17","≤34.5",{"$f":"pana_film[[#This Row],[Body length / dia\n(mm)]]&\" x \"&pana_film[[#This Row],[Body width\n(mm)]]","v":"41.5 x 17"},{"$f":"INDEX('IR Data'!K:K,MATCH(pana_film[[#This Row],[PartNumber]],'IR Data'!I:I,0))","v":7.9},{"$f":"INDEX('IR Data'!L:L,MATCH(pana_film[[#This Row],[PartNumber]],'IR Data'!I:I,0))","v":11.2}]
[null,"Std","box","PP","No","EZPQ","EZPQ60126MTD",600,"AC",12,"±10",57.5,45,62,52.5,"Short cut lead wire type","-40 to 105 (85)","Other package",50,"https://industrial.panasonic.com/ww/products/pt/automotive-film-cap/models/EZPQ60126MTD","≤58","≤45","≤62",{"$f":"pana_film[[#This Row],[Body length / dia\n(mm)]]&\" x \"&pana_film[[#This Row],[Body width\n(mm)]]","v":"57.5 x 45"},{"$f":"INDEX('IR Data'!K:K,MATCH(pana_film[[#This Row],[PartNumber]],'IR Data'!I:I,0))","v":17},{"$f":"INDEX('IR Data'!L:L,MATCH(pana_film[[#This Row],[PartNumber]],'IR Data'!I:I,0))","v":3.9}]
[null,"Std","box","PP","No","EZPQ","EZPQ60106MTD",600,"AC",10,"±10",57.5,35,64.5,52.5,"Short cut lead wire type","-40 to 105 (85)","Other package",50,"https://industrial.panasonic.com/ww/products/pt/automotive-film-cap/models/EZPQ60106MTD","≤58","≤35","≤64.5",{"$f":"pana_film[[#This Row],[Body length / dia\n(mm)]]&\" x \"&pana_film[[#This Row],[Body width\n(mm)]]","v":"57.5 x 35"},{"$f":"INDEX('IR Data'!K:K,MATCH(pana_film[[#This Row],[PartNumber]],'IR Data'!I:I,0))","v":15.5},{"$f":"INDEX('IR Data'!L:L,MATCH(pana_film[[#This Row],[PartNumber]],'IR Data'!I:I,0))","v":4.5999999999999996}]
[null,"Std","box","PP","No","EZPQ","EZPQ60105LTD",600,"AC",1,"±10",41.5,15,29,37.5,"Short cut lead wire type","-40 to 105 (85)","Other package",300,"https://industrial.panasonic.com/ww/products/pt/automotive-film-cap/models/EZPQ60105LTD","≤42","≤15","≤29",{"$f":"pana_film[[#This Row],[Body length / dia\n(mm)]]&\" x \"&pana_film[[#This Row],[Body width\n(mm)]]","v":"41.5 x 15"},{"$f":"INDEX('IR Data'!K:K,MATCH(pana_film[[#This Row],[PartNumber]],'IR Data'!I:I,0))","v":6.5},{"$f":"INDEX('IR Data'!L:L,MATCH(pana_film[[#This Row],[PartNumber]],'IR Data'!I:I,0))","v":13.7}]
[null,"Std","box","PP","No","EZPQ","EZPQ38955MTA",380,"AC",9.5,"± 5",41,30,50.5,37.5,"Short cut lead wire type","-40 to 105 (85)","Other package",100,"https://industrial.panasonic.com/ww/products/pt/automotive-film-cap/models/EZPQ38955MTA","≤41","≤30","≤50.5",{"$f":"pana_film[[#This Row],[Body length / dia\n(mm)]]&\" x \"&pana_film[[#This Row],[Body width\n(mm)]]","v":"41 x 30"},{"$f":"INDEX('IR Data'!K:K,MATCH(pana_film[[#This Row],[PartNumber]],'IR Data'!I:I,0))","v":10.1},{"$f":"INDEX('IR Data'!L:L,MATCH(pana_film[[#This Row],[PartNumber]],'IR Data'!I:I,0))","v":11}]
[null,"Std","box","PP","No","EZPQ","EZPQ38955LTA",380,"AC",9.5,"± 5",41,30,50.5,37.5,"Short cut lead wire type","-40 to 105 (85)","Other package",100,"https://industrial.panasonic.com/ww/products/pt/automotive-film-cap/models/EZPQ38955LTA","≤41","≤30","≤50.5",{"$f":"pana_film[[#This Row],[Body length / dia\n(mm)]]&\" x \"&pana_film[[#This Row],[Body width\n(mm)]]","v":"41 x 30"},{"$f":"INDEX('IR Data'!K:K,MATCH(pana_film[[#This Row],[PartNumber]],'IR Data'!I:I,0))","v":10.1},{"$f":"INDEX('IR Data'!L:L,MATCH(pana_film[[#This Row],[PartNumber]],'IR Data'!I:I,0))","v":11}]
[null,"Std","box","PP","No","EZPQ","EZPQ38905MTA",380,"AC",9,"± 5",41,30,50.5,37.5,"Short cut lead wire type","-40 to 105 (85)","Other package",100,"https://industrial.panasonic.com/ww/products/pt/automotive-film-cap/models/EZPQ38905MTA","≤41","≤30","≤50.5",{"$f":"pana_film[[#This Row],[Body length / dia\n(mm)]]&\" x \"&pana_film[[#This Row],[Body width\n(mm)]]","v":"41 x 30"},{"$f":"INDEX('IR Data'!K:K,MATCH(pana_film[[#This Row],[PartNumber]],'IR Data'!I:I,0))","v":9.8000000000000007},{"$f":"INDEX('IR Data'!L:L,MATCH(pana_film[[#This Row],[PartNumber]],'IR Data'!I:I,0))","v":11.4}]
[null,"Std","box","PP","No","EZPQ","EZPQ38905LTA",380,"AC",9,"± 5",41,30,50.5,37.5,"Short cut lead wire type","-40 to 105 (85)","Other package",100,"https://industrial.panasonic.com/ww/products/pt/automotive-film-cap/models/EZPQ38905LTA","≤41","≤30","≤50.5",{"$f":"pana_film[[#This Row],[Body length / dia\n(mm)]]&\" x \"&pana_film[[#This Row],[Body width\n(mm)]]","v":"41 x 30"},{"$f":"INDEX('IR Data'!K:K,MATCH(pana_film[[#This Row],[PartNumber]],'IR Data'!I:I,0))","v":9.8000000000000007},{"$f":"INDEX('IR Data'!L:L,MATCH(pana_film[[#This Row],[PartNumber]],'IR Data'!I:I,0))","v":11.4}]
[null,"Std","box","PP","No","EZPQ","EZPQ38855MTA",380,"AC",8.5,"± 5",41,30,50.5,37.5,"Short cut lead wire type","-40 to 105 (85)","Other package",100,"https://industrial.panasonic.com/ww/products/pt/automotive-film-cap/models/EZPQ38855MTA","≤41","≤30","≤50.5",{"$f":"pana_film[[#This Row],[Body length / dia\n(mm)]]&\" x \"&pana_film[[#This Row],[Body width\n(mm)]]","v":"41 x 30"},{"$f":"INDEX('IR Data'!K:K,MATCH(pana_film[[#This Row],[PartNumber]],'IR Data'!I:I,0))","v":9.5},{"$f":"INDEX('IR Data'!L:L,MATCH(pana_film[[#This Row],[PartNumber]],'IR Data'!I:I,0))","v":11.7}]
[null,"Std","box","PP","No","EZPQ","EZPQ38855LTA",380,"AC",8.5,"± 5",41,30,50.5,37.5,"Short cut lead wire type","-40 to 105 (85)","Other package",100,"https://industrial.panasonic.com/ww/products/pt/automotive-film-cap/models/EZPQ38855LTA","≤41","≤30","≤50.5",{"$f":"pana_film[[#This Row],[Body length / dia\n(mm)]]&\" x \"&pana_film[[#This Row],[Body width\n(mm)]]","v":"41 x 30"},{"$f":"INDEX('IR Data'!K:K,MATCH(pana_film[[#This Row],[PartNumber]],'IR Data'!I:I,0))","v":9.5},{"$f":"INDEX('IR Data'!L:L,MATCH(pana_film[[#This Row],[PartNumber]],'IR Data'!I:I,0))","v":11.7}]
[null,"Std","box","PP","No","EZPQ","EZPQ38805MTA",380,"AC",8,"± 5",41.5,27.5,42,37.5,"Short cut lead wire type","-40 to 105 (85)","Other package",150,"https://industrial.panasonic.com/ww/products/pt/automotive-film-cap/models/EZPQ38805MTA","≤42","≤28","≤42",{"$f":"pana_film[[#This Row],[Body length / dia\n(mm)]]&\" x \"&pana_film[[#This Row],[Body width\n(mm)]]","v":"41.5 x 27.5"},{"$f":"INDEX('IR Data'!K:K,MATCH(pana_film[[#This Row],[PartNumber]],'IR Data'!I:I,0))","v":9.1999999999999993},{"$f":"INDEX('IR Data'!L:L,MATCH(pana_film[[#This Row],[PartNumber]],'IR Data'!I:I,0))","v":11.9}]
[null,"Std","box","PP","No","EZPQ","EZPQ38805LTD",380,"AC",8,"± 5",41.5,27.5,42,37.5,"Short cut lead wire type","-40 to 105 (85)","Other package",150,"https://industrial.panasonic.com/ww/products/pt/automotive-film-cap/models/EZPQ38805LTD","≤42","≤28","≤42",{"$f":"pana_film[[#This Row],[Body length / dia\n(mm)]]&\" x \"&pana_film[[#This Row],[Body width\n(mm)]]","v":"41.5 x 27.5"},{"$f":"INDEX('IR Data'!K:K,MATCH(pana_film[[#This Row],[PartNumber]],'IR Data'!I:I,0))","v":9.1999999999999993},{"$f":"INDEX('IR Data'!L:L,MATCH(pana_film[[#This Row],[PartNumber]],'IR Data'!I:I,0))","v":11.9}]
[null,"Std","box","PP","No","EZPQ","EZPQ38805LTC",380,"AC",8,"± 5",41.5,26.5,41.5,37.5,"Short cut lead wire type","-40 to 105 (85)","Other package",100,"https://industrial.panasonic.com/ww/products/pt/automotive-film-cap/models/EZPQ38805LTC","≤42","≤27","≤41.5",{"$f":"pana_film[[#This Row],[Body length / dia\n(mm)]]&\" x \"&pana_film[[#This Row],[Body width\n(mm)]]","v":"41.5 x 26.5"},{"$f":"INDEX('IR Data'!K:K,MATCH(pana_film[[#This Row],[PartNumber]],'IR Data'!I:I,0))","v":10},{"$f":"INDEX('IR Data'!L:L,MATCH(pana_film[[#This Row],[PartNumber]],'IR Data'!I:I,0))","v":11.9}]
[null,"Std","box","PP","No","EZPQ","EZPQ38755LTA",380,"AC",7.5,"± 5",41.5,26.5,41.5,37.5,"Short cut lead wire type","-40 to 105 (85)","Other package",100,"https://industrial.panasonic.com/ww/products/pt/automotive-film-cap/models/EZPQ38755LTA","≤42","≤27","≤41.5",{"$f":"pana_film[[#This Row],[Body length / dia\n(mm)]]&\" x \"&pana_film[[#This Row],[Body width\n(mm)]]","v":"41.5 x 26.5"},{"$f":"INDEX('IR Data'!K:K,MATCH(pana_film[[#This Row],[PartNumber]],'IR Data'!I:I,0))","v":9.1},{"$f":"INDEX('IR Data'!L:L,MATCH(pana_film[[#This Row],[PartNumber]],'IR Data'!I:I,0))","v":11.8}]
[null,"Std","box","PP","No","EZPQ","EZPQ38705LTA",380,"AC",7,"± 5",41,26,40.5,37.5,"Short cut lead wire type","-40 to 105 (85)","Other package",150,"https://industrial.panasonic.com/ww/products/pt/automotive-film-cap/models/EZPQ38705LTA","≤41","≤26","≤40.5",{"$f":"pana_film[[#This Row],[Body length / dia\n(mm)]]&\" x \"&pana_film[[#This Row],[Body width\n(mm)]]","v":"41 x 26"},{"$f":"INDEX('IR Data'!K:K,MATCH(pana_film[[#This Row],[PartNumber]],'IR Data'!I:I,0))","v":8.6999999999999993},{"$f":"INDEX('IR Data'!L:L,MATCH(pana_film[[#This Row],[PartNumber]],'IR Data'!I:I,0))","v":12.2}]
[null,"Std","box","PP","No","EZPQ","EZPQ38605LTA",380,"AC",6,"± 5",41,26,40.5,37.5,"Short cut lead wire type","-40 to 105 (85)","Other package",150,"https://industrial.panasonic.com/ww/products/pt/automotive-film-cap/models/EZPQ38605LTA","≤41","≤26","≤40.5",{"$f":"pana_film[[#This Row],[Body length / dia\n(mm)]]&\" x \"&pana_film[[#This Row],[Body width\n(mm)]]","v":"41 x 26"},{"$f":"INDEX('IR Data'!K:K,MATCH(pana_film[[#This Row],[PartNumber]],'IR Data'!I:I,0))","v":7.8},{"$f":"INDEX('IR Data'!L:L,MATCH(pana_film[[#This Row],[PartNumber]],'IR Data'!I:I,0))","v":13.7}]
[null,"Std","box","PP","No","EZPQ","EZPQ38555LTA",380,"AC",5.5,"± 5",41,26,40.5,37.5,"Short cut lead wire type","-40 to 105 (85)","Other package",150,"https://industrial.panasonic.com/ww/products/pt/automotive-film-cap/models/EZPQ38555LTA","≤41","≤26","≤40.5",{"$f":"pana_film[[#This Row],[Body length / dia\n(mm)]]&\" x \"&pana_film[[#This Row],[Body width\n(mm)]]","v":"41 x 26"},{"$f":"INDEX('IR Data'!K:K,MATCH(pana_film[[#This Row],[PartNumber]],'IR Data'!I:I,0))","v":7.4},{"$f":"INDEX('IR Data'!L:L,MATCH(pana_film[[#This Row],[PartNumber]],'IR Data'!I:I,0))","v":14.4}]
[null,"Std","box","PP","No","EZPQ","EZPQ38505LTA",380,"AC",5,"± 5",41,22,36,37.5,"Short cut lead wire type","-40 to 105 (85)","Other package",150,"https://industrial.panasonic.com/ww/products/pt/automotive-film-cap/models/EZPQ38505LTA","≤41","≤22","≤36",{"$f":"pana_film[[#This Row],[Body length / dia\n(mm)]]&\" x \"&pana_film[[#This Row],[Body width\n(mm)]]","v":"41 x 22"},{"$f":"INDEX('IR Data'!K:K,MATCH(pana_film[[#This Row],[PartNumber]],'IR Data'!I:I,0))","v":7.1},{"$f":"INDEX('IR Data'!L:L,MATCH(pana_film[[#This Row],[PartNumber]],'IR Data'!I:I,0))","v":15.1}]
[null,"Std","box","PP","No","EZPQ","EZPQ38475LTA",380,"AC",4.7,"± 5",41,22,36,37.5,"Short cut lead wire type","-40 to 105 (85)","Other package",150,"https://industrial.panasonic.com/ww/products/pt/automotive-film-cap/models/EZPQ38475LTA","≤41","≤22","≤36",{"$f":"pana_film[[#This Row],[Body length / dia\n(mm)]]&\" x \"&pana_film[[#This Row],[Body width\n(mm)]]","v":"41 x 22"},{"$f":"INDEX('IR Data'!K:K,MATCH(pana_film[[#This Row],[PartNumber]],'IR Data'!I:I,0))","v":6.7},{"$f":"INDEX('IR Data'!L:L,MATCH(pana_film[[#This Row],[PartNumber]],'IR Data'!I:I,0))","v":16}]
[null,"Std","box","PP","No","EZPQ","EZPQ38455LTA",380,"AC",4.5,"± 5",41,22,36,37.5,"Short cut lead wire type","-40 to 105 (85)","Other package",150,"https://industrial.panasonic.com/ww/products/pt/automotive-film-cap/models/EZPQ38455LTA","≤41","≤22","≤36",{"$f":"pana_film[[#This Row],[Body length / dia\n(mm)]]&\" x \"&pana_film[[#This Row],[Body width\n(mm)]]","v":"41 x 22"},{"$f":"INDEX('IR Data'!K:K,MATCH(pana_film[[#This Row],[PartNumber]],'IR Data'!I:I,0))","v":6.5},{"$f":"INDEX('IR Data'!L:L,MATCH(pana_film[[#This Row],[PartNumber]],'IR Data'!I:I,0))","v":16.7}]
[null,"Std","box","PP","No","EZPQ","EZPQ38405LTA",380,"AC",4,"± 5",41,22,36,37.5,"Short cut lead wire type","-40 to 105 (85)","Other package",150,"https://industrial.panasonic.com/ww/products/pt/automotive-film-cap/models/EZPQ38405LTA","≤41","≤22","≤36",{"$f":"pana_film[[#This Row],[Body length / dia\n(mm)]]&\" x \"&pana_film[[#This Row],[Body width\n(mm)]]","v":"41 x 22"},{"$f":"INDEX('IR Data'!K:K,MATCH(pana_film[[#This Row],[PartNumber]],'IR Data'!I:I,0))","v":6},{"$f":"INDEX('IR Data'!L:L,MATCH(pana_film[[#This Row],[PartNumber]],'IR Data'!I:I,0))","v":18.3}]
[null,"Std","box","PP","No","EZPQ","EZPQ38355LTA",380,"AC",3.5,"± 5",41,17,34.5,37.5,"Short cut lead wire type","-40 to 105 (85)","Other package",300,"https://industrial.panasonic.com/ww/products/pt/automotive-film-cap/models/EZPQ38355LTA","≤41","≤17","≤34.5",{"$f":"pana_film[[#This Row],[Body length / dia\n(mm)]]&\" x \"&pana_film[[#This Row],[Body width\n(mm)]]","v":"41 x 17"},{"$f":"INDEX('IR Data'!K:K,MATCH(pana_film[[#This Row],[PartNumber]],'IR Data'!I:I,0))","v":5.4},{"$f":"INDEX('IR Data'!L:L,MATCH(pana_film[[#This Row],[PartNumber]],'IR Data'!I:I,0))","v":20.9}]
[null,"Std","box","PP","No","EZPQ","EZPQ38336MTA",380,"AC",33,"± 5",57.5,45,62,52.5,"Short cut lead wire type","-40 to 105 (85)","Other package",50,"https://industrial.panasonic.com/ww/products/pt/automotive-film-cap/models/EZPQ38336MTA","≤58","≤45","≤62",{"$f":"pana_film[[#This Row],[Body length / dia\n(mm)]]&\" x \"&pana_film[[#This Row],[Body width\n(mm)]]","v":"57.5 x 45"},{"$f":"INDEX('IR Data'!K:K,MATCH(pana_film[[#This Row],[PartNumber]],'IR Data'!I:I,0))","v":15},{"$f":"INDEX('IR Data'!L:L,MATCH(pana_film[[#This Row],[PartNumber]],'IR Data'!I:I,0))","v":6.2}]
[null,"Std","box","PP","No","EZPQ","EZPQ38335LTA",380,"AC",3.3,"± 5",41,17,34.5,37.5,"Short cut lead wire type","-40 to 105 (85)","Other package",300,"https://industrial.panasonic.com/ww/products/pt/automotive-film-cap/models/EZPQ38335LTA","≤41","≤17","≤34.5",{"$f":"pana_film[[#This Row],[Body length / dia\n(mm)]]&\" x \"&pana_film[[#This Row],[Body width\n(mm)]]","v":"41 x 17"},{"$f":"INDEX('IR Data'!K:K,MATCH(pana_film[[#This Row],[PartNumber]],'IR Data'!I:I,0))","v":5.2},{"$f":"INDEX('IR Data'!L:L,MATCH(pana_film[[#This Row],[PartNumber]],'IR Data'!I:I,0))","v":22.1}]
[null,"Std","box","PP","No","EZPQ","EZPQ38306MTA",380,"AC",30,"± 5",57.5,45,62,52.5,"Short cut lead wire type","-40 to 105 (85)","Other package",50,"https://industrial.panasonic.com/ww/products/pt/automotive-film-cap/models/EZPQ38306MTA","≤58","≤45","≤62",{"$f":"pana_film[[#This Row],[Body length / dia\n(mm)]]&\" x \"&pana_film[[#This Row],[Body width\n(mm)]]","v":"57.5 x 45"},{"$f":"INDEX('IR Data'!K:K,MATCH(pana_film[[#This Row],[PartNumber]],'IR Data'!I:I,0))","v":14.2},{"$f":"INDEX('IR Data'!L:L,MATCH(pana_film[[#This Row],[PartNumber]],'IR Data'!I:I,0))","v":6.6}]
[null,"Std","box","PP","No","EZPQ","EZPQ38305LTA",380,"AC",3,"± 5",41,17,34.5,37.5,"Short cut lead wire type","-40 to 105 (85)","Other package",300,"https://industrial.panasonic.com/ww/products/pt/automotive-film-cap/models/EZPQ38305LTA","≤41","≤17","≤34.5",{"$f":"pana_film[[#This Row],[Body length / dia\n(mm)]]&\" x \"&pana_film[[#This Row],[Body width\n(mm)]]","v":"41 x 17"},{"$f":"INDEX('IR Data'!K:K,MATCH(pana_film[[#This Row],[PartNumber]],'IR Data'!I:I,0))","v":4.8},{"$f":"INDEX('IR Data'!L:L,MATCH(pana_film[[#This Row],[PartNumber]],'IR Data'!I:I,0))","v":24.4}]
[null,"Std","box","PP","No","EZPQ","EZPQ38255LTB",380,"AC",2.5,"± 5",41,15,29,37.5,"Short cut lead wire type","-40 to 105 (85)","Other package",300,"https://industrial.panasonic.com/ww/products/pt/automotive-film-cap/models/EZPQ38255LTB","≤41","≤15","≤29",{"$f":"pana_film[[#This Row],[Body length / dia\n(mm)]]&\" x \"&pana_film[[#This Row],[Body width\n(mm)]]","v":"41 x 15"},{"$f":"INDEX('IR Data'!K:K,MATCH(pana_film[[#This Row],[PartNumber]],'IR Data'!I:I,0))","v":4.0999999999999996},{"$f":"INDEX('IR Data'!L:L,MATCH(pana_film[[#This Row],[PartNumber]],'IR Data'!I:I,0))","v":29.2}]
[null,"Std","box","PP","No","EZPQ","EZPQ38246MTC",380,"AC",24,"± 5",57.5,35,64.5,52.5,"Short cut lead wire type","-40 to 105 (85)","Other package",50,"https://industrial.panasonic.com/ww/products/pt/automotive-film-cap/models/EZPQ38246MTC",{"$f":"IF(L332<=9.5,\"≤ \"&ROUNDUP(L332*1,0)/1,\"≤\"&ROUNDUP(L332*1,0)/1)","v":"≤58"},{"$f":"IF(M332<=9,\"≤ \"&ROUNDUP(M332*1,0)/1,\"≤\"&ROUNDUP(M332*1,0)/1)","v":"≤35"},{"$f":"IF(N332<=9.5,\"≤ \"&ROUNDUP(N332*2,0)/2,\"≤\"&ROUNDUP(N332*2,0)/2)","v":"≤64.5"},{"$f":"pana_film[[#This Row],[Body length / dia\n(mm)]]&\" x \"&pana_film[[#This Row],[Body width\n(mm)]]","v":"57.5 x 35"},{"$f":"INDEX('IR Data'!K:K,MATCH(pana_film[[#This Row],[PartNumber]],'IR Data'!I:I,0))","v":12.2},{"$f":"INDEX('IR Data'!L:L,MATCH(pana_film[[#This Row],[PartNumber]],'IR Data'!I:I,0))","v":7.6}]
[null,"Std","box","PP","No","EZPQ","EZPQ38226MTA",380,"AC",22,"± 5",57.5,35,56,52.5,"Short cut lead wire type","-40 to 105 (85)","Other package",50,"https://industrial.panasonic.com/ww/products/pt/automotive-film-cap/models/EZPQ38226MTA","≤58","≤35","≤56",{"$f":"pana_film[[#This Row],[Body length / dia\n(mm)]]&\" x \"&pana_film[[#This Row],[Body width\n(mm)]]","v":"57.5 x 35"},{"$f":"INDEX('IR Data'!K:K,MATCH(pana_film[[#This Row],[PartNumber]],'IR Data'!I:I,0))","v":11.9},{"$f":"INDEX('IR Data'!L:L,MATCH(pana_film[[#This Row],[PartNumber]],'IR Data'!I:I,0))","v":7.5}]
[null,"Std","box","PP","No","EZPQ","EZPQ38225LTB",380,"AC",2.2000000000000002,"± 5",41,15,29,37.5,"Short cut lead wire type","-40 to 105 (85)","Other package",300,"https://industrial.panasonic.com/ww/products/pt/automotive-film-cap/models/EZPQ38225LTB","≤41","≤15","≤29",{"$f":"pana_film[[#This Row],[Body length / dia\n(mm)]]&\" x \"&pana_film[[#This Row],[Body width\n(mm)]]","v":"41 x 15"},{"$f":"INDEX('IR Data'!K:K,MATCH(pana_film[[#This Row],[PartNumber]],'IR Data'!I:I,0))","v":3.8},{"$f":"INDEX('IR Data'!L:L,MATCH(pana_film[[#This Row],[PartNumber]],'IR Data'!I:I,0))","v":33.200000000000003}]
[null,"Std","box","PP","No","EZPQ","EZPQ38206MTA",380,"AC",20,"± 5",57.5,35,50,52.5,"Short cut lead wire type","-40 to 105 (85)","Other package",50,"https://industrial.panasonic.com/ww/products/pt/automotive-film-cap/models/EZPQ38206MTA","≤58","≤35","≤50",{"$f":"pana_film[[#This Row],[Body length / dia\n(mm)]]&\" x \"&pana_film[[#This Row],[Body width\n(mm)]]","v":"57.5 x 35"},{"$f":"INDEX('IR Data'!K:K,MATCH(pana_film[[#This Row],[PartNumber]],'IR Data'!I:I,0))","v":11.7},{"$f":"INDEX('IR Data'!L:L,MATCH(pana_film[[#This Row],[PartNumber]],'IR Data'!I:I,0))","v":7.5}]
[null,"Std","box","PP","No","EZPQ","EZPQ38205LTA",380,"AC",2,"± 5",41,15,29,37.5,"Short cut lead wire type","-40 to 105 (85)","Other package",300,"https://industrial.panasonic.com/ww/products/pt/automotive-film-cap/models/EZPQ38205LTA","≤41","≤15","≤29",{"$f":"pana_film[[#This Row],[Body length / dia\n(mm)]]&\" x \"&pana_film[[#This Row],[Body width\n(mm)]]","v":"41 x 15"},{"$f":"INDEX('IR Data'!K:K,MATCH(pana_film[[#This Row],[PartNumber]],'IR Data'!I:I,0))","v":3.5},{"$f":"INDEX('IR Data'!L:L,MATCH(pana_film[[#This Row],[PartNumber]],'IR Data'!I:I,0))","v":36.6}]
[null,"Std","box","PP","No","EZPQ","EZPQ38186MTA",380,"AC",18,"± 5",57.5,30,51,52.5,"Short cut lead wire type","-40 to 105 (85)","Other package",50,"https://industrial.panasonic.com/ww/products/pt/automotive-film-cap/models/EZPQ38186MTA","≤58","≤30","≤51",{"$f":"pana_film[[#This Row],[Body length / dia\n(mm)]]&\" x \"&pana_film[[#This Row],[Body width\n(mm)]]","v":"57.5 x 30"},{"$f":"INDEX('IR Data'!K:K,MATCH(pana_film[[#This Row],[PartNumber]],'IR Data'!I:I,0))","v":10.8},{"$f":"INDEX('IR Data'!L:L,MATCH(pana_film[[#This Row],[PartNumber]],'IR Data'!I:I,0))","v":8.1}]
[null,"Std","box","PP","No","EZPQ","EZPQ38166MTA",380,"AC",16,"± 5",57.5,30,51,52.5,"Short cut lead wire type","-40 to 105 (85)","Other package",50,"https://industrial.panasonic.com/ww/products/pt/automotive-film-cap/models/EZPQ38166MTA","≤58","≤30","≤51",{"$f":"pana_film[[#This Row],[Body length / dia\n(mm)]]&\" x \"&pana_film[[#This Row],[Body width\n(mm)]]","v":"57.5 x 30"},{"$f":"INDEX('IR Data'!K:K,MATCH(pana_film[[#This Row],[PartNumber]],'IR Data'!I:I,0))","v":9.9},{"$f":"INDEX('IR Data'!L:L,MATCH(pana_film[[#This Row],[PartNumber]],'IR Data'!I:I,0))","v":8.9}]
[null,"Std","box","PP","No","EZPQ","EZPQ38156MTC",380,"AC",15,"± 5",57.5,30,51,52.5,"Short cut lead wire type","-40 to 105 (85)","Other package",50,"https://industrial.panasonic.com/ww/products/pt/automotive-film-cap/models/EZPQ38156MTC","≤58","≤30","≤51",{"$f":"pana_film[[#This Row],[Body length / dia\n(mm)]]&\" x \"&pana_film[[#This Row],[Body width\n(mm)]]","v":"57.5 x 30"},{"$f":"INDEX('IR Data'!K:K,MATCH(pana_film[[#This Row],[PartNumber]],'IR Data'!I:I,0))","v":9.5},{"$f":"INDEX('IR Data'!L:L,MATCH(pana_film[[#This Row],[PartNumber]],'IR Data'!I:I,0))","v":9.3000000000000007}]
[null,"Std","box","PP","No","EZPQ","EZPQ38156MTB",380,"AC",15,"± 5",42,38,57.5,37.5,"Short cut lead wire type","-40 to 105 (85)","Other package",100,"https://industrial.panasonic.com/ww/products/pt/automotive-film-cap/models/EZPQ38156MTB","≤42","≤38","≤57.5",{"$f":"pana_film[[#This Row],[Body length / dia\n(mm)]]&\" x \"&pana_film[[#This Row],[Body width\n(mm)]]","v":"42 x 38"},{"$f":"INDEX('IR Data'!K:K,MATCH(pana_film[[#This Row],[PartNumber]],'IR Data'!I:I,0))","v":14.6},{"$f":"INDEX('IR Data'!L:L,MATCH(pana_film[[#This Row],[PartNumber]],'IR Data'!I:I,0))","v":7.1}]
[null,"Std","box","PP","No","EZPQ","EZPQ38156LTB",380,"AC",15,"± 5",57.5,30,51,52.5,"Short cut lead wire type","-40 to 105 (85)","Other package",50,"https://industrial.panasonic.com/ww/products/pt/automotive-film-cap/models/EZPQ38156LTB","≤58","≤30","≤51",{"$f":"pana_film[[#This Row],[Body length / dia\n(mm)]]&\" x \"&pana_film[[#This Row],[Body width\n(mm)]]","v":"57.5 x 30"},{"$f":"INDEX('IR Data'!K:K,MATCH(pana_film[[#This Row],[PartNumber]],'IR Data'!I:I,0))","v":9.5},{"$f":"INDEX('IR Data'!L:L,MATCH(pana_film[[#This Row],[PartNumber]],'IR Data'!I:I,0))","v":9.3000000000000007}]
[null,"Std","box","PP","No","EZPQ","EZPQ38156LTA",380,"AC",15,"± 5",42,38,57.5,37.5,"Short cut lead wire type","-40 to 105 (85)","Other package",100,"https://industrial.panasonic.com/ww/products/pt/automotive-film-cap/models/EZPQ38156LTA","≤42","≤38","≤57.5",{"$f":"pana_film[[#This Row],[Body length / dia\n(mm)]]&\" x \"&pana_film[[#This Row],[Body width\n(mm)]]","v":"42 x 38"},{"$f":"INDEX('IR Data'!K:K,MATCH(pana_film[[#This Row],[PartNumber]],'IR Data'!I:I,0))","v":14.6},{"$f":"INDEX('IR Data'!L:L,MATCH(pana_film[[#This Row],[PartNumber]],'IR Data'!I:I,0))","v":7.1}]
[null,"Std","box","PP","No","EZPQ","EZPQ38155LTA",380,"AC",1.5,"± 5",41,15,29,37.5,"Short cut lead wire type","-40 to 105 (85)","Other package",300,"https://industrial.panasonic.com/ww/products/pt/automotive-film-cap/models/EZPQ38155LTA","≤41","≤15","≤29",{"$f":"pana_film[[#This Row],[Body length / dia\n(mm)]]&\" x \"&pana_film[[#This Row],[Body width\n(mm)]]","v":"41 x 15"},{"$f":"INDEX('IR Data'!K:K,MATCH(pana_film[[#This Row],[PartNumber]],'IR Data'!I:I,0))","v":2.8},{"$f":"INDEX('IR Data'!L:L,MATCH(pana_film[[#This Row],[PartNumber]],'IR Data'!I:I,0))","v":48.8}]
[null,"Std","box","PP","No","EZPQ","EZPQ38126MTA",380,"AC",12,"± 5",41.5,30,56,37.5,"Short cut lead wire type","-40 to 105 (85)","Other package",100,"https://industrial.panasonic.com/ww/products/pt/automotive-film-cap/models/EZPQ38126MTA","≤42","≤30","≤56",{"$f":"pana_film[[#This Row],[Body length / dia\n(mm)]]&\" x \"&pana_film[[#This Row],[Body width\n(mm)]]","v":"41.5 x 30"},{"$f":"INDEX('IR Data'!K:K,MATCH(pana_film[[#This Row],[PartNumber]],'IR Data'!I:I,0))","v":12.7},{"$f":"INDEX('IR Data'!L:L,MATCH(pana_film[[#This Row],[PartNumber]],'IR Data'!I:I,0))","v":8}]
[null,"Std","box","PP","No","EZPQ","EZPQ38126LTB",380,"AC",12,"± 5",57.5,30,51,52.5,"Short cut lead wire type","-40 to 105 (85)","Other package",50,"https://industrial.panasonic.com/ww/products/pt/automotive-film-cap/models/EZPQ38126LTB","≤58","≤30","≤51",{"$f":"pana_film[[#This Row],[Body length / dia\n(mm)]]&\" x \"&pana_film[[#This Row],[Body width\n(mm)]]","v":"57.5 x 30"},{"$f":"INDEX('IR Data'!K:K,MATCH(pana_film[[#This Row],[PartNumber]],'IR Data'!I:I,0))","v":8.1},{"$f":"INDEX('IR Data'!L:L,MATCH(pana_film[[#This Row],[PartNumber]],'IR Data'!I:I,0))","v":11.4}]
[null,"Std","box","PP","No","EZPQ","EZPQ38126LTA",380,"AC",12,"± 5",41.5,30,56,37.5,"Short cut lead wire type","-40 to 105 (85)","Other package",100,"https://industrial.panasonic.com/ww/products/pt/automotive-film-cap/models/EZPQ38126LTA","≤42","≤30","≤56",{"$f":"pana_film[[#This Row],[Body length / dia\n(mm)]]&\" x \"&pana_film[[#This Row],[Body width\n(mm)]]","v":"41.5 x 30"},{"$f":"INDEX('IR Data'!K:K,MATCH(pana_film[[#This Row],[PartNumber]],'IR Data'!I:I,0))","v":12.7},{"$f":"INDEX('IR Data'!L:L,MATCH(pana_film[[#This Row],[PartNumber]],'IR Data'!I:I,0))","v":8}]
[null,"Std","box","PP","No","EZPQ","EZPQ38116LTA",380,"AC",11,"± 5",57.5,30,51,52.5,"Short cut lead wire type","-40 to 105 (85)","Other package",50,"https://industrial.panasonic.com/ww/products/pt/automotive-film-cap/models/EZPQ38116LTA","≤58","≤30","≤51",{"$f":"pana_film[[#This Row],[Body length / dia\n(mm)]]&\" x \"&pana_film[[#This Row],[Body width\n(mm)]]","v":"57.5 x 30"},{"$f":"INDEX('IR Data'!K:K,MATCH(pana_film[[#This Row],[PartNumber]],'IR Data'!I:I,0))","v":7.6},{"$f":"INDEX('IR Data'!L:L,MATCH(pana_film[[#This Row],[PartNumber]],'IR Data'!I:I,0))","v":12.2}]
[null,"Std","box","PP","No","EZPQ","EZPQ38106MTA",380,"AC",10,"± 5",41,30,50.5,37.5,"Short cut lead wire type","-40 to 105 (85)","Other package",100,"https://industrial.panasonic.com/ww/products/pt/automotive-film-cap/models/EZPQ38106MTA","≤41","≤30","≤50.5",{"$f":"pana_film[[#This Row],[Body length / dia\n(mm)]]&\" x \"&pana_film[[#This Row],[Body width\n(mm)]]","v":"41 x 30"},{"$f":"INDEX('IR Data'!K:K,MATCH(pana_film[[#This Row],[PartNumber]],'IR Data'!I:I,0))","v":10.4},{"$f":"INDEX('IR Data'!L:L,MATCH(pana_film[[#This Row],[PartNumber]],'IR Data'!I:I,0))","v":10.8}]
[null,"Std","box","PP","No","EZPQ","EZPQ38106LTB",380,"AC",10,"± 5",57.5,25,40,52.5,"Short cut lead wire type","-40 to 105 (85)","Other package",150,"https://industrial.panasonic.com/ww/products/pt/automotive-film-cap/models/EZPQ38106LTB","≤58","≤25","≤40",{"$f":"pana_film[[#This Row],[Body length / dia\n(mm)]]&\" x \"&pana_film[[#This Row],[Body width\n(mm)]]","v":"57.5 x 25"},{"$f":"INDEX('IR Data'!K:K,MATCH(pana_film[[#This Row],[PartNumber]],'IR Data'!I:I,0))","v":7.1},{"$f":"INDEX('IR Data'!L:L,MATCH(pana_film[[#This Row],[PartNumber]],'IR Data'!I:I,0))","v":13.3}]
[null,"Std","box","PP","No","EZPQ","EZPQ38106LTA",380,"AC",10,"± 5",41,30,50.5,37.5,"Short cut lead wire type","-40 to 105 (85)","Other package",100,"https://industrial.panasonic.com/ww/products/pt/automotive-film-cap/models/EZPQ38106LTA","≤41","≤30","≤50.5",{"$f":"pana_film[[#This Row],[Body length / dia\n(mm)]]&\" x \"&pana_film[[#This Row],[Body width\n(mm)]]","v":"41 x 30"},{"$f":"INDEX('IR Data'!K:K,MATCH(pana_film[[#This Row],[PartNumber]],'IR Data'!I:I,0))","v":10.4},{"$f":"INDEX('IR Data'!L:L,MATCH(pana_film[[#This Row],[PartNumber]],'IR Data'!I:I,0))","v":10.8}]
[null,"Std","box","PP","No","EZPQ","EZPQ38105LTA",380,"AC",1,"± 5",41,15,29,37.5,"Short cut lead wire type","-40 to 105 (85)","Other package",300,"https://industrial.panasonic.com/ww/products/pt/automotive-film-cap/models/EZPQ38105LTA","≤41","≤15","≤29",{"$f":"pana_film[[#This Row],[Body length / dia\n(mm)]]&\" x \"&pana_film[[#This Row],[Body width\n(mm)]]","v":"41 x 15"},{"$f":"INDEX('IR Data'!K:K,MATCH(pana_film[[#This Row],[PartNumber]],'IR Data'!I:I,0))","v":2.1},{"$f":"INDEX('IR Data'!L:L,MATCH(pana_film[[#This Row],[PartNumber]],'IR Data'!I:I,0))","v":71.599999999999994}]
[null,"Std","box","PP","No","EZPQ","EZPQ33905LTA",330,"AC",9,"± 5",41.5,26.5,41.5,37.5,"Short cut lead wire type","-40 to 105 (85)","Other package",100,"https://industrial.panasonic.com/ww/products/pt/automotive-film-cap/models/EZPQ33905LTA","≤42","≤27","≤41.5",{"$f":"pana_film[[#This Row],[Body length / dia\n(mm)]]&\" x \"&pana_film[[#This Row],[Body width\n(mm)]]","v":"41.5 x 26.5"},{"$f":"INDEX('IR Data'!K:K,MATCH(pana_film[[#This Row],[PartNumber]],'IR Data'!I:I,0))","v":10.3},{"$f":"INDEX('IR Data'!L:L,MATCH(pana_film[[#This Row],[PartNumber]],'IR Data'!I:I,0))","v":10.6}]
[null,"Std","box","PP","No","EZPQ","EZPQ33805LTA",330,"AC",8,"± 5",41,26,40.5,37.5,"Short cut lead wire type","-40 to 105 (85)","Other package",150,"https://industrial.panasonic.com/ww/products/pt/automotive-film-cap/models/EZPQ33805LTA","≤41","≤26","≤40.5",{"$f":"pana_film[[#This Row],[Body length / dia\n(mm)]]&\" x \"&pana_film[[#This Row],[Body width\n(mm)]]","v":"41 x 26"},{"$f":"INDEX('IR Data'!K:K,MATCH(pana_film[[#This Row],[PartNumber]],'IR Data'!I:I,0))","v":9.5},{"$f":"INDEX('IR Data'!L:L,MATCH(pana_film[[#This Row],[PartNumber]],'IR Data'!I:I,0))","v":11.3}]
[null,"Std","box","PP","No","EZPQ","EZPQ33705LTA",330,"AC",7,"± 5",41,26,40.5,37.5,"Short cut lead wire type","-40 to 105 (85)","Other package",150,"https://industrial.panasonic.com/ww/products/pt/automotive-film-cap/models/EZPQ33705LTA","≤41","≤26","≤40.5",{"$f":"pana_film[[#This Row],[Body length / dia\n(mm)]]&\" x \"&pana_film[[#This Row],[Body width\n(mm)]]","v":"41 x 26"},{"$f":"INDEX('IR Data'!K:K,MATCH(pana_film[[#This Row],[PartNumber]],'IR Data'!I:I,0))","v":8.8000000000000007},{"$f":"INDEX('IR Data'!L:L,MATCH(pana_film[[#This Row],[PartNumber]],'IR Data'!I:I,0))","v":12.2}]
[null,"Std","box","PP","No","EZPQ","EZPQ33685LTA",330,"AC",6.8,"± 5",41,26,40.5,37.5,"Short cut lead wire type","-40 to 105 (85)","Other package",150,"https://industrial.panasonic.com/ww/products/pt/automotive-film-cap/models/EZPQ33685LTA","≤41","≤26","≤40.5",{"$f":"pana_film[[#This Row],[Body length / dia\n(mm)]]&\" x \"&pana_film[[#This Row],[Body width\n(mm)]]","v":"41 x 26"},{"$f":"INDEX('IR Data'!K:K,MATCH(pana_film[[#This Row],[PartNumber]],'IR Data'!I:I,0))","v":8.6},{"$f":"INDEX('IR Data'!L:L,MATCH(pana_film[[#This Row],[PartNumber]],'IR Data'!I:I,0))","v":12.6}]
[null,"Std","box","PP","No","EZPQ","EZPQ33605LTA",330,"AC",6,"± 5",41,22,36,37.5,"Short cut lead wire type","-40 to 105 (85)","Other package",150,"https://industrial.panasonic.com/ww/products/pt/automotive-film-cap/models/EZPQ33605LTA","≤41","≤22","≤36",{"$f":"pana_film[[#This Row],[Body length / dia\n(mm)]]&\" x \"&pana_film[[#This Row],[Body width\n(mm)]]","v":"41 x 22"},{"$f":"INDEX('IR Data'!K:K,MATCH(pana_film[[#This Row],[PartNumber]],'IR Data'!I:I,0))","v":8},{"$f":"INDEX('IR Data'!L:L,MATCH(pana_film[[#This Row],[PartNumber]],'IR Data'!I:I,0))","v":13.5}]
[null,"Std","box","PP","No","EZPQ","EZPQ33505LTA",330,"AC",5,"± 5",41,22,36,37.5,"Short cut lead wire type","-40 to 105 (85)","Other package",150,"https://industrial.panasonic.com/ww/products/pt/automotive-film-cap/models/EZPQ33505LTA","≤41","≤22","≤36",{"$f":"pana_film[[#This Row],[Body length / dia\n(mm)]]&\" x \"&pana_film[[#This Row],[Body width\n(mm)]]","v":"41 x 22"},{"$f":"INDEX('IR Data'!K:K,MATCH(pana_film[[#This Row],[PartNumber]],'IR Data'!I:I,0))","v":7.1},{"$f":"INDEX('IR Data'!L:L,MATCH(pana_film[[#This Row],[PartNumber]],'IR Data'!I:I,0))","v":15.2}]
[null,"Std","box","PP","No","EZPQ","EZPQ33475LTA",330,"AC",4.7,"± 5",41,22,36,37.5,"Short cut lead wire type","-40 to 105 (85)","Other package",150,"https://industrial.panasonic.com/ww/products/pt/automotive-film-cap/models/EZPQ33475LTA","≤41","≤22","≤36",{"$f":"pana_film[[#This Row],[Body length / dia\n(mm)]]&\" x \"&pana_film[[#This Row],[Body width\n(mm)]]","v":"41 x 22"},{"$f":"INDEX('IR Data'!K:K,MATCH(pana_film[[#This Row],[PartNumber]],'IR Data'!I:I,0))","v":6.8},{"$f":"INDEX('IR Data'!L:L,MATCH(pana_film[[#This Row],[PartNumber]],'IR Data'!I:I,0))","v":16.2}]
[null,"Std","box","PP","No","EZPQ","EZPQ33455LTA",330,"AC",4.5,"± 5",41,17,34.5,37.5,"Short cut lead wire type","-40 to 105 (85)","Other package",300,"https://industrial.panasonic.com/ww/products/pt/automotive-film-cap/models/EZPQ33455LTA","≤41","≤17","≤34.5",{"$f":"pana_film[[#This Row],[Body length / dia\n(mm)]]&\" x \"&pana_film[[#This Row],[Body width\n(mm)]]","v":"41 x 17"},{"$f":"INDEX('IR Data'!K:K,MATCH(pana_film[[#This Row],[PartNumber]],'IR Data'!I:I,0))","v":6.8},{"$f":"INDEX('IR Data'!L:L,MATCH(pana_film[[#This Row],[PartNumber]],'IR Data'!I:I,0))","v":15.9}]
[null,"Std","box","PP","No","EZPQ","EZPQ33405LTA",330,"AC",4,"± 5",41,17,34.5,37.5,"Short cut lead wire type","-40 to 105 (85)","Other package",300,"https://industrial.panasonic.com/ww/products/pt/automotive-film-cap/models/EZPQ33405LTA","≤41","≤17","≤34.5",{"$f":"pana_film[[#This Row],[Body length / dia\n(mm)]]&\" x \"&pana_film[[#This Row],[Body width\n(mm)]]","v":"41 x 17"},{"$f":"INDEX('IR Data'!K:K,MATCH(pana_film[[#This Row],[PartNumber]],'IR Data'!I:I,0))","v":6.2},{"$f":"INDEX('IR Data'!L:L,MATCH(pana_film[[#This Row],[PartNumber]],'IR Data'!I:I,0))","v":17.5}]
[null,"Std","box","PP","No","EZPQ","EZPQ33356MTA",330,"AC",35,"± 5",57.5,45,62,52.5,"Short cut lead wire type","-40 to 105 (85)","Other package",50,"https://industrial.panasonic.com/ww/products/pt/automotive-film-cap/models/EZPQ33356MTA","≤58","≤45","≤62",{"$f":"pana_film[[#This Row],[Body length / dia\n(mm)]]&\" x \"&pana_film[[#This Row],[Body width\n(mm)]]","v":"57.5 x 45"},{"$f":"INDEX('IR Data'!K:K,MATCH(pana_film[[#This Row],[PartNumber]],'IR Data'!I:I,0))","v":14.4},{"$f":"INDEX('IR Data'!L:L,MATCH(pana_film[[#This Row],[PartNumber]],'IR Data'!I:I,0))","v":6.2}]
[null,"Std","box","PP","No","EZPQ","EZPQ33355LTA",330,"AC",3.5,"± 5",41,17,34.5,37.5,"Short cut lead wire type","-40 to 105 (85)","Other package",300,"https://industrial.panasonic.com/ww/products/pt/automotive-film-cap/models/EZPQ33355LTA","≤41","≤17","≤34.5",{"$f":"pana_film[[#This Row],[Body length / dia\n(mm)]]&\" x \"&pana_film[[#This Row],[Body width\n(mm)]]","v":"41 x 17"},{"$f":"INDEX('IR Data'!K:K,MATCH(pana_film[[#This Row],[PartNumber]],'IR Data'!I:I,0))","v":5.6},{"$f":"INDEX('IR Data'!L:L,MATCH(pana_film[[#This Row],[PartNumber]],'IR Data'!I:I,0))","v":20}]
[null,"Std","box","PP","No","EZPQ","EZPQ33335LTA",330,"AC",3.3,"± 5",41,17,34.5,37.5,"Short cut lead wire type","-40 to 105 (85)","Other package",300,"https://industrial.panasonic.com/ww/products/pt/automotive-film-cap/models/EZPQ33335LTA","≤41","≤17","≤34.5",{"$f":"pana_film[[#This Row],[Body length / dia\n(mm)]]&\" x \"&pana_film[[#This Row],[Body width\n(mm)]]","v":"41 x 17"},{"$f":"INDEX('IR Data'!K:K,MATCH(pana_film[[#This Row],[PartNumber]],'IR Data'!I:I,0))","v":5.3},{"$f":"INDEX('IR Data'!L:L,MATCH(pana_film[[#This Row],[PartNumber]],'IR Data'!I:I,0))","v":21.2}]
[null,"Std","box","PP","No","EZPQ","EZPQ33306MTB",330,"AC",30,"± 5",57.5,45,62,52.5,"Short cut lead wire type","-40 to 105 (85)","Other package",50,"https://industrial.panasonic.com/ww/products/pt/automotive-film-cap/models/EZPQ33306MTB","≤58","≤45","≤62",{"$f":"pana_film[[#This Row],[Body length / dia\n(mm)]]&\" x \"&pana_film[[#This Row],[Body width\n(mm)]]","v":"57.5 x 45"},{"$f":"INDEX('IR Data'!K:K,MATCH(pana_film[[#This Row],[PartNumber]],'IR Data'!I:I,0))","v":13.3},{"$f":"INDEX('IR Data'!L:L,MATCH(pana_film[[#This Row],[PartNumber]],'IR Data'!I:I,0))","v":6.6}]
[null,"Std","box","PP","No","EZPQ","EZPQ33305LTA",330,"AC",3,"± 5",41,17,34.5,37.5,"Short cut lead wire type","-40 to 105 (85)","Other package",300,"https://industrial.panasonic.com/ww/products/pt/automotive-film-cap/models/EZPQ33305LTA","≤41","≤17","≤34.5",{"$f":"pana_film[[#This Row],[Body length / dia\n(mm)]]&\" x \"&pana_film[[#This Row],[Body width\n(mm)]]","v":"41 x 17"},{"$f":"INDEX('IR Data'!K:K,MATCH(pana_film[[#This Row],[PartNumber]],'IR Data'!I:I,0))","v":5},{"$f":"INDEX('IR Data'!L:L,MATCH(pana_film[[#This Row],[PartNumber]],'IR Data'!I:I,0))","v":23}]
[null,"Std","box","PP","No","EZPQ","EZPQ33286MTA",330,"AC",28,"± 5",57.5,35,64.5,52.5,"Short cut lead wire type","-40 to 105 (85)","Other package",50,"https://industrial.panasonic.com/ww/products/pt/automotive-film-cap/models/EZPQ33286MTA","≤58","≤35","≤64.5",{"$f":"pana_film[[#This Row],[Body length / dia\n(mm)]]&\" x \"&pana_film[[#This Row],[Body width\n(mm)]]","v":"57.5 x 35"},{"$f":"INDEX('IR Data'!K:K,MATCH(pana_film[[#This Row],[PartNumber]],'IR Data'!I:I,0))","v":12.6},{"$f":"INDEX('IR Data'!L:L,MATCH(pana_film[[#This Row],[PartNumber]],'IR Data'!I:I,0))","v":6.9}]
[null,"Std","box","PP","No","EZPQ","EZPQ33256MTB",330,"AC",25,"± 5",57.5,40,51.5,52.5,"Short cut lead wire type","-40 to 105 (85)","Other package",50,"https://industrial.panasonic.com/ww/products/pt/automotive-film-cap/models/EZPQ33256MTB","≤58","≤40","≤51.5",{"$f":"pana_film[[#This Row],[Body length / dia\n(mm)]]&\" x \"&pana_film[[#This Row],[Body width\n(mm)]]","v":"57.5 x 40"},{"$f":"INDEX('IR Data'!K:K,MATCH(pana_film[[#This Row],[PartNumber]],'IR Data'!I:I,0))","v":12.2},{"$f":"INDEX('IR Data'!L:L,MATCH(pana_film[[#This Row],[PartNumber]],'IR Data'!I:I,0))","v":7}]
[null,"Std","box","PP","No","EZPQ","EZPQ33226MTA",330,"AC",22,"± 5",57.5,35,50,52.5,"Short cut lead wire type","-40 to 105 (85)","Other package",50,"https://industrial.panasonic.com/ww/products/pt/automotive-film-cap/models/EZPQ33226MTA","≤58","≤35","≤50",{"$f":"pana_film[[#This Row],[Body length / dia\n(mm)]]&\" x \"&pana_film[[#This Row],[Body width\n(mm)]]","v":"57.5 x 35"},{"$f":"INDEX('IR Data'!K:K,MATCH(pana_film[[#This Row],[PartNumber]],'IR Data'!I:I,0))","v":11.6},{"$f":"INDEX('IR Data'!L:L,MATCH(pana_film[[#This Row],[PartNumber]],'IR Data'!I:I,0))","v":7}]
[null,"Std","box","PP","No","EZPQ","EZPQ33206MTB",330,"AC",20,"± 5",57.5,30,51,52.5,"Short cut lead wire type","-40 to 105 (85)","Other package",50,"https://industrial.panasonic.com/ww/products/pt/automotive-film-cap/models/EZPQ33206MTB","≤58","≤30","≤51",{"$f":"pana_film[[#This Row],[Body length / dia\n(mm)]]&\" x \"&pana_film[[#This Row],[Body width\n(mm)]]","v":"57.5 x 30"},{"$f":"INDEX('IR Data'!K:K,MATCH(pana_film[[#This Row],[PartNumber]],'IR Data'!I:I,0))","v":10.8},{"$f":"INDEX('IR Data'!L:L,MATCH(pana_film[[#This Row],[PartNumber]],'IR Data'!I:I,0))","v":7.6}]
[null,"Std","box","PP","No","EZPQ","EZPQ33206MTA",330,"AC",20,"± 5",41,43,58,37.5,"Short cut lead wire type","-40 to 105 (85)","Other package",100,"https://industrial.panasonic.com/ww/products/pt/automotive-film-cap/models/EZPQ33206MTA","≤41","≤43","≤58",{"$f":"pana_film[[#This Row],[Body length / dia\n(mm)]]&\" x \"&pana_film[[#This Row],[Body width\n(mm)]]","v":"41 x 43"},{"$f":"INDEX('IR Data'!K:K,MATCH(pana_film[[#This Row],[PartNumber]],'IR Data'!I:I,0))","v":17.899999999999999},{"$f":"INDEX('IR Data'!L:L,MATCH(pana_film[[#This Row],[PartNumber]],'IR Data'!I:I,0))","v":5.9}]
[null,"Std","box","PP","No","EZPQ","EZPQ33206LTB",330,"AC",20,"± 5",41,43,58,37.5,"Short cut lead wire type","-40 to 105 (85)","Other package",100,"https://industrial.panasonic.com/ww/products/pt/automotive-film-cap/models/EZPQ33206LTB","≤41","≤43","≤58",{"$f":"pana_film[[#This Row],[Body length / dia\n(mm)]]&\" x \"&pana_film[[#This Row],[Body width\n(mm)]]","v":"41 x 43"},{"$f":"INDEX('IR Data'!K:K,MATCH(pana_film[[#This Row],[PartNumber]],'IR Data'!I:I,0))","v":17.899999999999999},{"$f":"INDEX('IR Data'!L:L,MATCH(pana_film[[#This Row],[PartNumber]],'IR Data'!I:I,0))","v":5.9}]
[null,"Std","box","PP","No","EZPQ","EZPQ33186MTA",330,"AC",18,"± 5",57.5,30,51,52.5,"Short cut lead wire type","-40 to 105 (85)","Other package",50,"https://industrial.panasonic.com/ww/products/pt/automotive-film-cap/models/EZPQ33186MTA","≤58","≤30","≤51",{"$f":"pana_film[[#This Row],[Body length / dia\n(mm)]]&\" x \"&pana_film[[#This Row],[Body width\n(mm)]]","v":"57.5 x 30"},{"$f":"INDEX('IR Data'!K:K,MATCH(pana_film[[#This Row],[PartNumber]],'IR Data'!I:I,0))","v":10},{"$f":"INDEX('IR Data'!L:L,MATCH(pana_film[[#This Row],[PartNumber]],'IR Data'!I:I,0))","v":8.4}]
[null,"Std","box","PP","No","EZPQ","EZPQ33156MTA",330,"AC",15,"± 5",42.5,35.5,50.5,37.5,"Short cut lead wire type","-40 to 105 (85)","Other package",100,"https://industrial.panasonic.com/ww/products/pt/automotive-film-cap/models/EZPQ33156MTA","≤43","≤36","≤50.5",{"$f":"pana_film[[#This Row],[Body length / dia\n(mm)]]&\" x \"&pana_film[[#This Row],[Body width\n(mm)]]","v":"42.5 x 35.5"},{"$f":"INDEX('IR Data'!K:K,MATCH(pana_film[[#This Row],[PartNumber]],'IR Data'!I:I,0))","v":14.9},{"$f":"INDEX('IR Data'!L:L,MATCH(pana_film[[#This Row],[PartNumber]],'IR Data'!I:I,0))","v":7}]
[null,"Std","box","PP","No","EZPQ","EZPQ33156LTB",330,"AC",15,"± 5",57.5,30,51,52.5,"Short cut lead wire type","-40 to 105 (85)","Other package",50,"https://industrial.panasonic.com/ww/products/pt/automotive-film-cap/models/EZPQ33156LTB","≤58","≤30","≤51",{"$f":"pana_film[[#This Row],[Body length / dia\n(mm)]]&\" x \"&pana_film[[#This Row],[Body width\n(mm)]]","v":"57.5 x 30"},{"$f":"INDEX('IR Data'!K:K,MATCH(pana_film[[#This Row],[PartNumber]],'IR Data'!I:I,0))","v":9},{"$f":"INDEX('IR Data'!L:L,MATCH(pana_film[[#This Row],[PartNumber]],'IR Data'!I:I,0))","v":9.3000000000000007}]
[null,"Std","box","PP","No","EZPQ","EZPQ33156LTA",330,"AC",15,"± 5",42.5,35.5,50.5,37.5,"Short cut lead wire type","-40 to 105 (85)","Other package",100,"https://industrial.panasonic.com/ww/products/pt/automotive-film-cap/models/EZPQ33156LTA","≤43","≤36","≤50.5",{"$f":"pana_film[[#This Row],[Body length / dia\n(mm)]]&\" x \"&pana_film[[#This Row],[Body width\n(mm)]]","v":"42.5 x 35.5"},{"$f":"INDEX('IR Data'!K:K,MATCH(pana_film[[#This Row],[PartNumber]],'IR Data'!I:I,0))","v":14.9},{"$f":"INDEX('IR Data'!L:L,MATCH(pana_film[[#This Row],[PartNumber]],'IR Data'!I:I,0))","v":7}]
[null,"Std","box","PP","No","EZPQ","EZPQ33146MTA",330,"AC",14,"± 5",42.5,35.5,50.5,37.5,"Short cut lead wire type","-40 to 105 (85)","Other package",100,"https://industrial.panasonic.com/ww/products/pt/automotive-film-cap/models/EZPQ33146MTA","≤43","≤36","≤50.5",{"$f":"pana_film[[#This Row],[Body length / dia\n(mm)]]&\" x \"&pana_film[[#This Row],[Body width\n(mm)]]","v":"42.5 x 35.5"},{"$f":"INDEX('IR Data'!K:K,MATCH(pana_film[[#This Row],[PartNumber]],'IR Data'!I:I,0))","v":14.4},{"$f":"INDEX('IR Data'!L:L,MATCH(pana_film[[#This Row],[PartNumber]],'IR Data'!I:I,0))","v":7.1}]
[null,"Std","box","PP","No","EZPQ","EZPQ33146LTA",330,"AC",14,"± 5",42.5,35.5,50.5,37.5,"Short cut lead wire type","-40 to 105 (85)","Other package",100,"https://industrial.panasonic.com/ww/products/pt/automotive-film-cap/models/EZPQ33146LTA","≤43","≤36","≤50.5",{"$f":"pana_film[[#This Row],[Body length / dia\n(mm)]]&\" x \"&pana_film[[#This Row],[Body width\n(mm)]]","v":"42.5 x 35.5"},{"$f":"INDEX('IR Data'!K:K,MATCH(pana_film[[#This Row],[PartNumber]],'IR Data'!I:I,0))","v":14.4},{"$f":"INDEX('IR Data'!L:L,MATCH(pana_film[[#This Row],[PartNumber]],'IR Data'!I:I,0))","v":7.1}]
[null,"Std","box","PP","No","EZPQ","EZPQ33126MTA",330,"AC",12,"± 5",41,30,50.5,37.5,"Short cut lead wire type","-40 to 105 (85)","Other package",100,"https://industrial.panasonic.com/ww/products/pt/automotive-film-cap/models/EZPQ33126MTA","≤41","≤30","≤50.5",{"$f":"pana_film[[#This Row],[Body length / dia\n(mm)]]&\" x \"&pana_film[[#This Row],[Body width\n(mm)]]","v":"41 x 30"},{"$f":"INDEX('IR Data'!K:K,MATCH(pana_film[[#This Row],[PartNumber]],'IR Data'!I:I,0))","v":11.5},{"$f":"INDEX('IR Data'!L:L,MATCH(pana_film[[#This Row],[PartNumber]],'IR Data'!I:I,0))","v":10}]
[null,"Std","box","PP","No","EZPQ","EZPQ33126LTA",330,"AC",12,"± 5",41,30,50.5,37.5,"Short cut lead wire type","-40 to 105 (85)","Other package",100,"https://industrial.panasonic.com/ww/products/pt/automotive-film-cap/models/EZPQ33126LTA","≤41","≤30","≤50.5",{"$f":"pana_film[[#This Row],[Body length / dia\n(mm)]]&\" x \"&pana_film[[#This Row],[Body width\n(mm)]]","v":"41 x 30"},{"$f":"INDEX('IR Data'!K:K,MATCH(pana_film[[#This Row],[PartNumber]],'IR Data'!I:I,0))","v":11.5},{"$f":"INDEX('IR Data'!L:L,MATCH(pana_film[[#This Row],[PartNumber]],'IR Data'!I:I,0))","v":10}]
[null,"Std","box","PP","No","EZPQ","EZPQ33106MTA",330,"AC",10,"± 5",41,30,50.5,37.5,"Short cut lead wire type","-40 to 105 (85)","Other package",100,"https://industrial.panasonic.com/ww/products/pt/automotive-film-cap/models/EZPQ33106MTA","≤41","≤30","≤50.5",{"$f":"pana_film[[#This Row],[Body length / dia\n(mm)]]&\" x \"&pana_film[[#This Row],[Body width\n(mm)]]","v":"41 x 30"},{"$f":"INDEX('IR Data'!K:K,MATCH(pana_film[[#This Row],[PartNumber]],'IR Data'!I:I,0))","v":10.4},{"$f":"INDEX('IR Data'!L:L,MATCH(pana_film[[#This Row],[PartNumber]],'IR Data'!I:I,0))","v":10.9}]
[null,"Std","box","PP","No","EZPQ","EZPQ33106LTC",330,"AC",10,"± 5",41,30,50.5,37.5,"Short cut lead wire type","-40 to 105 (85)","Other package",100,"https://industrial.panasonic.com/ww/products/pt/automotive-film-cap/models/EZPQ33106LTC","≤41","≤30","≤50.5",{"$f":"pana_film[[#This Row],[Body length / dia\n(mm)]]&\" x \"&pana_film[[#This Row],[Body width\n(mm)]]","v":"41 x 30"},{"$f":"INDEX('IR Data'!K:K,MATCH(pana_film[[#This Row],[PartNumber]],'IR Data'!I:I,0))","v":12.1},{"$f":"INDEX('IR Data'!L:L,MATCH(pana_film[[#This Row],[PartNumber]],'IR Data'!I:I,0))","v":8.1}]
[null,"Std","box","PP","No","EZPQ","EZPQ33106LTB",330,"AC",10,"± 5",41,30,50.5,37.5,"Short cut lead wire type","-40 to 105 (85)","Other package",100,"https://industrial.panasonic.com/ww/products/pt/automotive-film-cap/models/EZPQ33106LTB","≤41","≤30","≤50.5",{"$f":"pana_film[[#This Row],[Body length / dia\n(mm)]]&\" x \"&pana_film[[#This Row],[Body width\n(mm)]]","v":"41 x 30"},{"$f":"INDEX('IR Data'!K:K,MATCH(pana_film[[#This Row],[PartNumber]],'IR Data'!I:I,0))","v":10.4},{"$f":"INDEX('IR Data'!L:L,MATCH(pana_film[[#This Row],[PartNumber]],'IR Data'!I:I,0))","v":10.9}]
[null,"Std","box","PP","No","EZPQ","EZPQ33106LTA",330,"AC",10,"± 5",42.5,35.5,50.5,37.5,"Short cut lead wire type","-40 to 105 (85)","Other package",100,"https://industrial.panasonic.com/ww/products/pt/automotive-film-cap/models/EZPQ33106LTA","≤43","≤36","≤50.5",{"$f":"pana_film[[#This Row],[Body length / dia\n(mm)]]&\" x \"&pana_film[[#This Row],[Body width\n(mm)]]","v":"42.5 x 35.5"},"-","-"]
[null,"Std","box","PP","No","EZPQ","EZPQ25366LTA",250,"AC",36,"±10",57.5,35,56,52.5,"Short cut lead wire type","-25 to 85","Other package",50,"https://industrial.panasonic.com/ww/products/pt/automotive-film-cap/models/EZPQ25366LTA","≤58","≤35","≤56",{"$f":"pana_film[[#This Row],[Body length / dia\n(mm)]]&\" x \"&pana_film[[#This Row],[Body width\n(mm)]]","v":"57.5 x 35"},{"$f":"INDEX('IR Data'!K:K,MATCH(pana_film[[#This Row],[PartNumber]],'IR Data'!I:I,0))","v":"-"},{"$f":"INDEX('IR Data'!L:L,MATCH(pana_film[[#This Row],[PartNumber]],'IR Data'!I:I,0))","v":"-"}]
[null,"Std","box","PP","No","EZPQ","EZPQ25226LTA",250,"AC",22,"±10",57.5,30,45,52.5,"Short cut lead wire type","-25 to 85","Other package",50,"https://industrial.panasonic.com/ww/products/pt/automotive-film-cap/models/EZPQ25226LTA","≤58","≤30","≤45",{"$f":"pana_film[[#This Row],[Body length / dia\n(mm)]]&\" x \"&pana_film[[#This Row],[Body width\n(mm)]]","v":"57.5 x 30"},{"$f":"INDEX('IR Data'!K:K,MATCH(pana_film[[#This Row],[PartNumber]],'IR Data'!I:I,0))","v":"-"},{"$f":"INDEX('IR Data'!L:L,MATCH(pana_film[[#This Row],[PartNumber]],'IR Data'!I:I,0))","v":"-"}]
[null,"Std","box","PP","No","EZPQ","EZPQ25126LTA",250,"AC",12,"±10",48.5,22,36,45.6,"Short cut lead wire type","-25 to 85","Other package",200,"https://industrial.panasonic.com/ww/products/pt/automotive-film-cap/models/EZPQ25126LTA","≤49","≤22","≤36",{"$f":"pana_film[[#This Row],[Body length / dia\n(mm)]]&\" x \"&pana_film[[#This Row],[Body width\n(mm)]]","v":"48.5 x 22"},{"$f":"INDEX('IR Data'!K:K,MATCH(pana_film[[#This Row],[PartNumber]],'IR Data'!I:I,0))","v":"-"},{"$f":"INDEX('IR Data'!L:L,MATCH(pana_film[[#This Row],[PartNumber]],'IR Data'!I:I,0))","v":"-"}]
[null,"Std","box","PP","No","EZPE","EZPE80606MTA",800,"DC",60,"±10",57.5,35,56,52.5,"Short cut lead wire type","-25 to 70","Other package",50,"https://industrial.panasonic.com/ww/products/pt/automotive-film-cap/models/EZPE80606MTA","≤58","≤35","≤56",{"$f":"pana_film[[#This Row],[Body length / dia\n(mm)]]&\" x \"&pana_film[[#This Row],[Body width\n(mm)]]","v":"57.5 x 35"},{"$f":"INDEX('IR Data'!K:K,MATCH(pana_film[[#This Row],[PartNumber]],'IR Data'!I:I,0))","v":17},{"$f":"INDEX('IR Data'!L:L,MATCH(pana_film[[#This Row],[PartNumber]],'IR Data'!I:I,0))","v":5.6}]
[null,"Std","box","PP","No","EZPE","EZPE80556MTA",800,"DC",55,"±10",57.5,35,56,52.5,"Short cut lead wire type","-25 to 70","Other package",50,"https://industrial.panasonic.com/ww/products/pt/automotive-film-cap/models/EZPE80556MTA","≤58","≤35","≤56",{"$f":"pana_film[[#This Row],[Body length / dia\n(mm)]]&\" x \"&pana_film[[#This Row],[Body width\n(mm)]]","v":"57.5 x 35"},{"$f":"INDEX('IR Data'!K:K,MATCH(pana_film[[#This Row],[PartNumber]],'IR Data'!I:I,0))","v":16},{"$f":"INDEX('IR Data'!L:L,MATCH(pana_film[[#This Row],[PartNumber]],'IR Data'!I:I,0))","v":5.9}]
[null,"Std","box","PP","No","EZPE","EZPE80506MTA",800,"DC",50,"±10",57.5,35,56,52.5,"Short cut lead wire type","-25 to 70","Other package",50,"https://industrial.panasonic.com/ww/products/pt/automotive-film-cap/models/EZPE80506MTA","≤58","≤35","≤56",{"$f":"pana_film[[#This Row],[Body length / dia\n(mm)]]&\" x \"&pana_film[[#This Row],[Body width\n(mm)]]","v":"57.5 x 35"},{"$f":"INDEX('IR Data'!K:K,MATCH(pana_film[[#This Row],[PartNumber]],'IR Data'!I:I,0))","v":15},{"$f":"INDEX('IR Data'!L:L,MATCH(pana_film[[#This Row],[PartNumber]],'IR Data'!I:I,0))","v":6.3}]
[null,"Std","box","PP","No","EZPE","EZPE80456MTA",800,"DC",45,"±10",57.5,30,51,52.5,"Short cut lead wire type","-25 to 70","Other package",50,"https://industrial.panasonic.com/ww/products/pt/automotive-film-cap/models/EZPE80456MTA","≤58","≤30","≤51",{"$f":"pana_film[[#This Row],[Body length / dia\n(mm)]]&\" x \"&pana_film[[#This Row],[Body width\n(mm)]]","v":"57.5 x 30"},{"$f":"INDEX('IR Data'!K:K,MATCH(pana_film[[#This Row],[PartNumber]],'IR Data'!I:I,0))","v":14},{"$f":"INDEX('IR Data'!L:L,MATCH(pana_film[[#This Row],[PartNumber]],'IR Data'!I:I,0))","v":7}]
[null,"Std","box","PP","No","EZPE","EZPE80406MTA",800,"DC",40,"±10",57.5,30,51,52.5,"Short cut lead wire type","-25 to 70","Other package",50,"https://industrial.panasonic.com/ww/products/pt/automotive-film-cap/models/EZPE80406MTA","≤58","≤30","≤51",{"$f":"pana_film[[#This Row],[Body length / dia\n(mm)]]&\" x \"&pana_film[[#This Row],[Body width\n(mm)]]","v":"57.5 x 30"},{"$f":"INDEX('IR Data'!K:K,MATCH(pana_film[[#This Row],[PartNumber]],'IR Data'!I:I,0))","v":13},{"$f":"INDEX('IR Data'!L:L,MATCH(pana_film[[#This Row],[PartNumber]],'IR Data'!I:I,0))","v":8.3000000000000007}]
[null,"Std","box","PP","No","EZPE","EZPE80356MTA",800,"DC",35,"±10",57.5,30,51,52.5,"Short cut lead wire type","-25 to 70","Other package",50,"https://industrial.panasonic.com/ww/products/pt/automotive-film-cap/models/EZPE80356MTA","≤58","≤30","≤51",{"$f":"pana_film[[#This Row],[Body length / dia\n(mm)]]&\" x \"&pana_film[[#This Row],[Body width\n(mm)]]","v":"57.5 x 30"},{"$f":"INDEX('IR Data'!K:K,MATCH(pana_film[[#This Row],[PartNumber]],'IR Data'!I:I,0))","v":12},{"$f":"INDEX('IR Data'!L:L,MATCH(pana_film[[#This Row],[PartNumber]],'IR Data'!I:I,0))","v":9.6999999999999993}]
[null,"Std","box","PP","No","EZPE","EZPE80306MTA",800,"DC",30,"±10",41.5,30,51,37.5,"Short cut lead wire type","-25 to 70","Other package",100,"https://industrial.panasonic.com/ww/products/pt/automotive-film-cap/models/EZPE80306MTA","≤42","≤30","≤51",{"$f":"pana_film[[#This Row],[Body length / dia\n(mm)]]&\" x \"&pana_film[[#This Row],[Body width\n(mm)]]","v":"41.5 x 30"},{"$f":"INDEX('IR Data'!K:K,MATCH(pana_film[[#This Row],[PartNumber]],'IR Data'!I:I,0))","v":15},{"$f":"INDEX('IR Data'!L:L,MATCH(pana_film[[#This Row],[PartNumber]],'IR Data'!I:I,0))","v":5.3}]
[null,"Std","box","PP","No","EZPE","EZPE80256MTA",800,"DC",25,"±10",41.5,30,51,37.5,"Short cut lead wire type","-25 to 70","Other package",100,"https://industrial.panasonic.com/ww/products/pt/automotive-film-cap/models/EZPE80256MTA","≤42","≤30","≤51",{"$f":"pana_film[[#This Row],[Body length / dia\n(mm)]]&\" x \"&pana_film[[#This Row],[Body width\n(mm)]]","v":"41.5 x 30"},{"$f":"INDEX('IR Data'!K:K,MATCH(pana_film[[#This Row],[PartNumber]],'IR Data'!I:I,0))","v":13},{"$f":"INDEX('IR Data'!L:L,MATCH(pana_film[[#This Row],[PartNumber]],'IR Data'!I:I,0))","v":6.8}]
[null,"Std","box","PP","No","EZPE","EZPE80206MTA",800,"DC",20,"±10",41.5,30,51,37.5,"Short cut lead wire type","-25 to 70","Other package",100,"https://industrial.panasonic.com/ww/products/pt/automotive-film-cap/models/EZPE80206MTA","≤42","≤30","≤51",{"$f":"pana_film[[#This Row],[Body length / dia\n(mm)]]&\" x \"&pana_film[[#This Row],[Body width\n(mm)]]","v":"41.5 x 30"},{"$f":"INDEX('IR Data'!K:K,MATCH(pana_film[[#This Row],[PartNumber]],'IR Data'!I:I,0))","v":11},{"$f":"INDEX('IR Data'!L:L,MATCH(pana_film[[#This Row],[PartNumber]],'IR Data'!I:I,0))","v":7.7}]
[null,"Std","box","PP","No","EZPE","EZPE80156MTA",800,"DC",15,"±10",41.5,20,42,37.5,"Short cut lead wire type","-25 to 70","Other package",150,"https://industrial.panasonic.com/ww/products/pt/automotive-film-cap/models/EZPE80156MTA",{"$f":"IF(L396<=9.5,\"≤ \"&ROUNDUP(L396*1,0)/1,\"≤\"&ROUNDUP(L396*1,0)/1)","v":"≤42"},{"$f":"IF(M396<=9,\"≤ \"&ROUNDUP(M396*1,0)/1,\"≤\"&ROUNDUP(M396*1,0)/1)","v":"≤20"},{"$f":"IF(N396<=9.5,\"≤ \"&ROUNDUP(N396*2,0)/2,\"≤\"&ROUNDUP(N396*2,0)/2)","v":"≤42"},{"$f":"pana_film[[#This Row],[Body length / dia\n(mm)]]&\" x \"&pana_film[[#This Row],[Body width\n(mm)]]","v":"41.5 x 20"},{"$f":"INDEX('IR Data'!K:K,MATCH(pana_film[[#This Row],[PartNumber]],'IR Data'!I:I,0))","v":9},{"$f":"INDEX('IR Data'!L:L,MATCH(pana_film[[#This Row],[PartNumber]],'IR Data'!I:I,0))","v":10.5}]
[null,"Std","box","PP","No","EZPE","EZPE80106LTA",800,"DC",10,"±10",41.5,20,42,37.5,"Short cut lead wire type","-25 to 70","Other package",150,"https://industrial.panasonic.com/ww/products/pt/automotive-film-cap/models/EZPE80106LTA","≤42","≤20","≤42",{"$f":"pana_film[[#This Row],[Body length / dia\n(mm)]]&\" x \"&pana_film[[#This Row],[Body width\n(mm)]]","v":"41.5 x 20"},{"$f":"INDEX('IR Data'!K:K,MATCH(pana_film[[#This Row],[PartNumber]],'IR Data'!I:I,0))","v":7},{"$f":"INDEX('IR Data'!L:L,MATCH(pana_film[[#This Row],[PartNumber]],'IR Data'!I:I,0))","v":15.8}]
[null,"Std","box","PP","No","EZPE [Low profile]","EZPE63106LTB",630,"DC",10,"±15",41.5,24.5,19.5,37.5,"Short cut lead wire type","-25 to 70","Other package",200,"https://industrial.panasonic.com/ww/products/pt/automotive-film-cap/models/EZPE63106LTB","≤42","≤25","≤19.5",{"$f":"pana_film[[#This Row],[Body length / dia\n(mm)]]&\" x \"&pana_film[[#This Row],[Body width\n(mm)]]","v":"41.5 x 24.5"},{"$f":"INDEX('IR Data'!K:K,MATCH(pana_film[[#This Row],[PartNumber]],'IR Data'!I:I,0))","v":3},{"$f":"INDEX('IR Data'!L:L,MATCH(pana_film[[#This Row],[PartNumber]],'IR Data'!I:I,0))","v":22}]
[null,"Std","box","PP","No","EZPE [Low profile]","EZPE57126LTB",575,"DC",12,"±15",41.5,24.5,19.5,37.5,"Short cut lead wire type","-25 to 70","Other package",200,"https://industrial.panasonic.com/ww/products/pt/automotive-film-cap/models/EZPE57126LTB","≤42","≤25","≤19.5",{"$f":"pana_film[[#This Row],[Body length / dia\n(mm)]]&\" x \"&pana_film[[#This Row],[Body width\n(mm)]]","v":"41.5 x 24.5"},{"$f":"INDEX('IR Data'!K:K,MATCH(pana_film[[#This Row],[PartNumber]],'IR Data'!I:I,0))","v":5},{"$f":"INDEX('IR Data'!L:L,MATCH(pana_film[[#This Row],[PartNumber]],'IR Data'!I:I,0))","v":22}]
[null,"Std","box","PP","No","EZPE [Low profile]","EZPE52296MTB",525,"DC",29,"±15",37,48.5,23.5,34,"Short cut lead wire type","-25 to 70","Other package",100,"https://industrial.panasonic.com/ww/products/pt/automotive-film-cap/models/EZPE52296MTB","≤37","≤49","≤23.5",{"$f":"pana_film[[#This Row],[Body length / dia\n(mm)]]&\" x \"&pana_film[[#This Row],[Body width\n(mm)]]","v":"37 x 48.5"},{"$f":"INDEX('IR Data'!K:K,MATCH(pana_film[[#This Row],[PartNumber]],'IR Data'!I:I,0))","v":3},{"$f":"INDEX('IR Data'!L:L,MATCH(pana_film[[#This Row],[PartNumber]],'IR Data'!I:I,0))","v":7}]
[null,"Std","box","PP","No","EZPE","EZPE50956MTA",500,"DC",95,"±10",57.5,35,56,52.5,"Short cut lead wire type","-25 to 70","Other package",50,"https://industrial.panasonic.com/ww/products/pt/automotive-film-cap/models/EZPE50956MTA","≤58","≤35","≤56",{"$f":"pana_film[[#This Row],[Body length / dia\n(mm)]]&\" x \"&pana_film[[#This Row],[Body width\n(mm)]]","v":"57.5 x 35"},{"$f":"INDEX('IR Data'!K:K,MATCH(pana_film[[#This Row],[PartNumber]],'IR Data'!I:I,0))","v":17.5},{"$f":"INDEX('IR Data'!L:L,MATCH(pana_film[[#This Row],[PartNumber]],'IR Data'!I:I,0))","v":4.9000000000000004}]
[null,"Std","box","PP","No","EZPE","EZPE50906MTA",500,"DC",90,"±10",57.5,35,56,52.5,"Short cut lead wire type","-25 to 70","Other package",50,"https://industrial.panasonic.com/ww/products/pt/automotive-film-cap/models/EZPE50906MTA","≤58","≤35","≤56",{"$f":"pana_film[[#This Row],[Body length / dia\n(mm)]]&\" x \"&pana_film[[#This Row],[Body width\n(mm)]]","v":"57.5 x 35"},{"$f":"INDEX('IR Data'!K:K,MATCH(pana_film[[#This Row],[PartNumber]],'IR Data'!I:I,0))","v":17},{"$f":"INDEX('IR Data'!L:L,MATCH(pana_film[[#This Row],[PartNumber]],'IR Data'!I:I,0))","v":5.0999999999999996}]
[null,"Std","box","PP","No","EZPE","EZPE50856MTA",500,"DC",85,"±10",57.5,35,56,52.5,"Short cut lead wire type","-25 to 70","Other package",50,"https://industrial.panasonic.com/ww/products/pt/automotive-film-cap/models/EZPE50856MTA","≤58","≤35","≤56",{"$f":"pana_film[[#This Row],[Body length / dia\n(mm)]]&\" x \"&pana_film[[#This Row],[Body width\n(mm)]]","v":"57.5 x 35"},{"$f":"INDEX('IR Data'!K:K,MATCH(pana_film[[#This Row],[PartNumber]],'IR Data'!I:I,0))","v":16.7},{"$f":"INDEX('IR Data'!L:L,MATCH(pana_film[[#This Row],[PartNumber]],'IR Data'!I:I,0))","v":5.4}]
[null,"Std","box","PP","No","EZPE","EZPE50806MTA",500,"DC",80,"±10",57.5,30,51,52.5,"Short cut lead wire type","-25 to 70","Other package",50,"https://industrial.panasonic.com/ww/products/pt/automotive-film-cap/models/EZPE50806MTA","≤58","≤30","≤51",{"$f":"pana_film[[#This Row],[Body length / dia\n(mm)]]&\" x \"&pana_film[[#This Row],[Body width\n(mm)]]","v":"57.5 x 30"},{"$f":"INDEX('IR Data'!K:K,MATCH(pana_film[[#This Row],[PartNumber]],'IR Data'!I:I,0))","v":16.5},{"$f":"INDEX('IR Data'!L:L,MATCH(pana_film[[#This Row],[PartNumber]],'IR Data'!I:I,0))","v":5.7}]
[null,"Std","box","PP","No","EZPE","EZPE50756MTA",500,"DC",75,"±10",57.5,30,51,52.5,"Short cut lead wire type","-25 to 70","Other package",50,"https://industrial.panasonic.com/ww/products/pt/automotive-film-cap/models/EZPE50756MTA","≤58","≤30","≤51",{"$f":"pana_film[[#This Row],[Body length / dia\n(mm)]]&\" x \"&pana_film[[#This Row],[Body width\n(mm)]]","v":"57.5 x 30"},{"$f":"INDEX('IR Data'!K:K,MATCH(pana_film[[#This Row],[PartNumber]],'IR Data'!I:I,0))","v":16},{"$f":"INDEX('IR Data'!L:L,MATCH(pana_film[[#This Row],[PartNumber]],'IR Data'!I:I,0))","v":6}]
[null,"Std","box","PP","No","EZPE","EZPE50706MTA",500,"DC",70,"±10",57.5,30,51,52.5,"Short cut lead wire type","-25 to 70","Other package",50,"https://industrial.panasonic.com/ww/products/pt/automotive-film-cap/models/EZPE50706MTA","≤58","≤30","≤51",{"$f":"pana_film[[#This Row],[Body length / dia\n(mm)]]&\" x \"&pana_film[[#This Row],[Body width\n(mm)]]","v":"57.5 x 30"},{"$f":"INDEX('IR Data'!K:K,MATCH(pana_film[[#This Row],[PartNumber]],'IR Data'!I:I,0))","v":15.5},{"$f":"INDEX('IR Data'!L:L,MATCH(pana_film[[#This Row],[PartNumber]],'IR Data'!I:I,0))","v":6.5}]
[null,"Std","box","PP","No","EZPE","EZPE50656MTA",500,"DC",65,"±10",57.5,30,51,52.5,"Short cut lead wire type","-25 to 70","Other package",50,"https://industrial.panasonic.com/ww/products/pt/automotive-film-cap/models/EZPE50656MTA","≤58","≤30","≤51",{"$f":"pana_film[[#This Row],[Body length / dia\n(mm)]]&\" x \"&pana_film[[#This Row],[Body width\n(mm)]]","v":"57.5 x 30"},{"$f":"INDEX('IR Data'!K:K,MATCH(pana_film[[#This Row],[PartNumber]],'IR Data'!I:I,0))","v":15},{"$f":"INDEX('IR Data'!L:L,MATCH(pana_film[[#This Row],[PartNumber]],'IR Data'!I:I,0))","v":6.8}]
[null,"Std","box","PP","No","EZPE","EZPE50606MTA",500,"DC",60,"±10",41.5,30,51,37.5,"Short cut lead wire type","-25 to 70","Other package",100,"https://industrial.panasonic.com/ww/products/pt/automotive-film-cap/models/EZPE50606MTA","≤42","≤30","≤51",{"$f":"pana_film[[#This Row],[Body length / dia\n(mm)]]&\" x \"&pana_film[[#This Row],[Body width\n(mm)]]","v":"41.5 x 30"},{"$f":"INDEX('IR Data'!K:K,MATCH(pana_film[[#This Row],[PartNumber]],'IR Data'!I:I,0))","v":16.5},{"$f":"INDEX('IR Data'!L:L,MATCH(pana_film[[#This Row],[PartNumber]],'IR Data'!I:I,0))","v":3.9}]
[null,"Std","box","PP","No","EZPE","EZPE50556MTA",500,"DC",55,"±10",41.5,30,51,37.5,"Short cut lead wire type","-25 to 70","Other package",100,"https://industrial.panasonic.com/ww/products/pt/automotive-film-cap/models/EZPE50556MTA","≤42","≤30","≤51",{"$f":"pana_film[[#This Row],[Body length / dia\n(mm)]]&\" x \"&pana_film[[#This Row],[Body width\n(mm)]]","v":"41.5 x 30"},{"$f":"INDEX('IR Data'!K:K,MATCH(pana_film[[#This Row],[PartNumber]],'IR Data'!I:I,0))","v":16.3},{"$f":"INDEX('IR Data'!L:L,MATCH(pana_film[[#This Row],[PartNumber]],'IR Data'!I:I,0))","v":4}]
[null,"Std","box","PP","No","EZPE","EZPE50506MTA",500,"DC",50,"±10",41.5,30,51,37.5,"Short cut lead wire type","-25 to 70","Other package",100,"https://industrial.panasonic.com/ww/products/pt/automotive-film-cap/models/EZPE50506MTA","≤42","≤30","≤51",{"$f":"pana_film[[#This Row],[Body length / dia\n(mm)]]&\" x \"&pana_film[[#This Row],[Body width\n(mm)]]","v":"41.5 x 30"},{"$f":"INDEX('IR Data'!K:K,MATCH(pana_film[[#This Row],[PartNumber]],'IR Data'!I:I,0))","v":16},{"$f":"INDEX('IR Data'!L:L,MATCH(pana_film[[#This Row],[PartNumber]],'IR Data'!I:I,0))","v":4.4000000000000004}]
[null,"Std","box","PP","No","EZPE","EZPE50456MTA",500,"DC",45,"±10",41.5,30,51,37.5,"Short cut lead wire type","-25 to 70","Other package",100,"https://industrial.panasonic.com/ww/products/pt/automotive-film-cap/models/EZPE50456MTA","≤42","≤30","≤51",{"$f":"pana_film[[#This Row],[Body length / dia\n(mm)]]&\" x \"&pana_film[[#This Row],[Body width\n(mm)]]","v":"41.5 x 30"},{"$f":"INDEX('IR Data'!K:K,MATCH(pana_film[[#This Row],[PartNumber]],'IR Data'!I:I,0))","v":15.2},{"$f":"INDEX('IR Data'!L:L,MATCH(pana_film[[#This Row],[PartNumber]],'IR Data'!I:I,0))","v":4.9000000000000004}]
[null,"Std","box","PP","No","EZPE","EZPE50406MTA",500,"DC",40,"±10",41.5,30,51,37.5,"Short cut lead wire type","-25 to 70","Other package",100,"https://industrial.panasonic.com/ww/products/pt/automotive-film-cap/models/EZPE50406MTA","≤42","≤30","≤51",{"$f":"pana_film[[#This Row],[Body length / dia\n(mm)]]&\" x \"&pana_film[[#This Row],[Body width\n(mm)]]","v":"41.5 x 30"},{"$f":"INDEX('IR Data'!K:K,MATCH(pana_film[[#This Row],[PartNumber]],'IR Data'!I:I,0))","v":14.5},{"$f":"INDEX('IR Data'!L:L,MATCH(pana_film[[#This Row],[PartNumber]],'IR Data'!I:I,0))","v":5.4}]
[null,"Std","box","PP","No","EZPE","EZPE50356MTA",500,"DC",35,"±10",41.5,30,51,37.5,"Short cut lead wire type","-25 to 70","Other package",100,"https://industrial.panasonic.com/ww/products/pt/automotive-film-cap/models/EZPE50356MTA","≤42","≤30","≤51",{"$f":"pana_film[[#This Row],[Body length / dia\n(mm)]]&\" x \"&pana_film[[#This Row],[Body width\n(mm)]]","v":"41.5 x 30"},{"$f":"INDEX('IR Data'!K:K,MATCH(pana_film[[#This Row],[PartNumber]],'IR Data'!I:I,0))","v":13.5},{"$f":"INDEX('IR Data'!L:L,MATCH(pana_film[[#This Row],[PartNumber]],'IR Data'!I:I,0))","v":6.2}]
[null,"Std","box","PP","No","EZPE","EZPE50306MTA",500,"DC",30,"±10",41.5,20,42,37.5,"Short cut lead wire type","-25 to 70","Other package",150,"https://industrial.panasonic.com/ww/products/pt/automotive-film-cap/models/EZPE50306MTA","≤42","≤20","≤42",{"$f":"pana_film[[#This Row],[Body length / dia\n(mm)]]&\" x \"&pana_film[[#This Row],[Body width\n(mm)]]","v":"41.5 x 20"},{"$f":"INDEX('IR Data'!K:K,MATCH(pana_film[[#This Row],[PartNumber]],'IR Data'!I:I,0))","v":12.5},{"$f":"INDEX('IR Data'!L:L,MATCH(pana_film[[#This Row],[PartNumber]],'IR Data'!I:I,0))","v":7}]
[null,"Std","box","PP","No","EZPE","EZPE50256LTA",500,"DC",25,"±10",41.5,20,42,37.5,"Short cut lead wire type","-25 to 70","Other package",150,"https://industrial.panasonic.com/ww/products/pt/automotive-film-cap/models/EZPE50256LTA","≤42","≤20","≤42",{"$f":"pana_film[[#This Row],[Body length / dia\n(mm)]]&\" x \"&pana_film[[#This Row],[Body width\n(mm)]]","v":"41.5 x 20"},{"$f":"INDEX('IR Data'!K:K,MATCH(pana_film[[#This Row],[PartNumber]],'IR Data'!I:I,0))","v":11},{"$f":"INDEX('IR Data'!L:L,MATCH(pana_film[[#This Row],[PartNumber]],'IR Data'!I:I,0))","v":8.8000000000000007}]
[null,"Std","box","PP","No","EZPE","EZPE50206LTA",500,"DC",20,"±10",41.5,20,42,37.5,"Short cut lead wire type","-25 to 70","Other package",150,"https://industrial.panasonic.com/ww/products/pt/automotive-film-cap/models/EZPE50206LTA","≤42","≤20","≤42",{"$f":"pana_film[[#This Row],[Body length / dia\n(mm)]]&\" x \"&pana_film[[#This Row],[Body width\n(mm)]]","v":"41.5 x 20"},{"$f":"INDEX('IR Data'!K:K,MATCH(pana_film[[#This Row],[PartNumber]],'IR Data'!I:I,0))","v":9.5},{"$f":"INDEX('IR Data'!L:L,MATCH(pana_film[[#This Row],[PartNumber]],'IR Data'!I:I,0))","v":11}]
[null,"Std","box","PP","No","EZPE","EZPE50156LTA",500,"DC",15,"±10",41.5,20,42,37.5,"Short cut lead wire type","-25 to 70","Other package",150,"https://industrial.panasonic.com/ww/products/pt/automotive-film-cap/models/EZPE50156LTA","≤42","≤20","≤42",{"$f":"pana_film[[#This Row],[Body length / dia\n(mm)]]&\" x \"&pana_film[[#This Row],[Body width\n(mm)]]","v":"41.5 x 20"},{"$f":"INDEX('IR Data'!K:K,MATCH(pana_film[[#This Row],[PartNumber]],'IR Data'!I:I,0))","v":7.5},{"$f":"INDEX('IR Data'!L:L,MATCH(pana_film[[#This Row],[PartNumber]],'IR Data'!I:I,0))","v":14.8}]
[null,"Std","box","PP","No","EZPE","EZPE50117MTA",500,"DC",110,"±10",57.5,35,56,52.5,"Short cut lead wire type","-25 to 70","Other package",50,"https://industrial.panasonic.com/ww/products/pt/automotive-film-cap/models/EZPE50117MTA","≤58","≤35","≤56",{"$f":"pana_film[[#This Row],[Body length / dia\n(mm)]]&\" x \"&pana_film[[#This Row],[Body width\n(mm)]]","v":"57.5 x 35"},{"$f":"INDEX('IR Data'!K:K,MATCH(pana_film[[#This Row],[PartNumber]],'IR Data'!I:I,0))","v":18.5},{"$f":"INDEX('IR Data'!L:L,MATCH(pana_film[[#This Row],[PartNumber]],'IR Data'!I:I,0))","v":4.4000000000000004}]
[null,"Std","box","PP","No","EZPE","EZPE50107MTA",500,"DC",100,"±10",57.5,35,56,52.5,"Short cut lead wire type","-25 to 70","Other package",50,"https://industrial.panasonic.com/ww/products/pt/automotive-film-cap/models/EZPE50107MTA","≤58","≤35","≤56",{"$f":"pana_film[[#This Row],[Body length / dia\n(mm)]]&\" x \"&pana_film[[#This Row],[Body width\n(mm)]]","v":"57.5 x 35"},{"$f":"INDEX('IR Data'!K:K,MATCH(pana_film[[#This Row],[PartNumber]],'IR Data'!I:I,0))","v":18},{"$f":"INDEX('IR Data'!L:L,MATCH(pana_film[[#This Row],[PartNumber]],'IR Data'!I:I,0))","v":4.7}]
[null,"Std","box","PP","No","EZPE","EZPE50106LTA",500,"DC",10,"±10",41.5,20,42,37.5,"Short cut lead wire type","-25 to 70","Other package",150,"https://industrial.panasonic.com/ww/products/pt/automotive-film-cap/models/EZPE50106LTA","≤42","≤20","≤42",{"$f":"pana_film[[#This Row],[Body length / dia\n(mm)]]&\" x \"&pana_film[[#This Row],[Body width\n(mm)]]","v":"41.5 x 20"},{"$f":"INDEX('IR Data'!K:K,MATCH(pana_film[[#This Row],[PartNumber]],'IR Data'!I:I,0))","v":5},{"$f":"INDEX('IR Data'!L:L,MATCH(pana_film[[#This Row],[PartNumber]],'IR Data'!I:I,0))","v":22}]
[null,"Std","box","PP","No","EZPE [Low profile]","EZPE45666MTB",450,"DC",66,"±15",32.5,90,24,27.5,"Short cut lead wire type","-25 to 70","Other package",50,"https://industrial.panasonic.com/ww/products/pt/automotive-film-cap/models/EZPE45666MTB","≤33","≤90","≤24",{"$f":"pana_film[[#This Row],[Body length / dia\n(mm)]]&\" x \"&pana_film[[#This Row],[Body width\n(mm)]]","v":"32.5 x 90"},{"$f":"INDEX('IR Data'!K:K,MATCH(pana_film[[#This Row],[PartNumber]],'IR Data'!I:I,0))","v":15},{"$f":"INDEX('IR Data'!L:L,MATCH(pana_film[[#This Row],[PartNumber]],'IR Data'!I:I,0))","v":5}]
[null,"Std","box","PP","No","EZPE","EZPE1D256MTA",1300,"DC",25,"±10",57.5,35,56,52.5,"Short cut lead wire type","-25 to 70","Other package",50,"https://industrial.panasonic.com/ww/products/pt/automotive-film-cap/models/EZPE1D256MTA","≤58","≤35","≤56",{"$f":"pana_film[[#This Row],[Body length / dia\n(mm)]]&\" x \"&pana_film[[#This Row],[Body width\n(mm)]]","v":"57.5 x 35"},{"$f":"INDEX('IR Data'!K:K,MATCH(pana_film[[#This Row],[PartNumber]],'IR Data'!I:I,0))","v":17},{"$f":"INDEX('IR Data'!L:L,MATCH(pana_film[[#This Row],[PartNumber]],'IR Data'!I:I,0))","v":8.5}]
[null,"Std","box","PP","No","EZPE","EZPE1D206MTA",1300,"DC",20,"±10",57.5,30,51,52.5,"Short cut lead wire type","-25 to 70","Other package",50,"https://industrial.panasonic.com/ww/products/pt/automotive-film-cap/models/EZPE1D206MTA","≤58","≤30","≤51",{"$f":"pana_film[[#This Row],[Body length / dia\n(mm)]]&\" x \"&pana_film[[#This Row],[Body width\n(mm)]]","v":"57.5 x 30"},{"$f":"INDEX('IR Data'!K:K,MATCH(pana_film[[#This Row],[PartNumber]],'IR Data'!I:I,0))","v":14},{"$f":"INDEX('IR Data'!L:L,MATCH(pana_film[[#This Row],[PartNumber]],'IR Data'!I:I,0))","v":11.1}]
[null,"Std","box","PP","No","EZPE","EZPE1D156MTA",1300,"DC",15,"±10",57.5,30,51,52.5,"Short cut lead wire type","-25 to 70","Other package",50,"https://industrial.panasonic.com/ww/products/pt/automotive-film-cap/models/EZPE1D156MTA","≤58","≤30","≤51",{"$f":"pana_film[[#This Row],[Body length / dia\n(mm)]]&\" x \"&pana_film[[#This Row],[Body width\n(mm)]]","v":"57.5 x 30"},{"$f":"INDEX('IR Data'!K:K,MATCH(pana_film[[#This Row],[PartNumber]],'IR Data'!I:I,0))","v":10},{"$f":"INDEX('IR Data'!L:L,MATCH(pana_film[[#This Row],[PartNumber]],'IR Data'!I:I,0))","v":14.5}]
[null,"Std","box","PP","No","EZPE","EZPE1D106MTA",1300,"DC",10,"±10",41.5,30,51,37.5,"Short cut lead wire type","-25 to 70","Other package",100,"https://industrial.panasonic.com/ww/products/pt/automotive-film-cap/models/EZPE1D106MTA","≤42","≤30","≤51",{"$f":"pana_film[[#This Row],[Body length / dia\n(mm)]]&\" x \"&pana_film[[#This Row],[Body width\n(mm)]]","v":"41.5 x 30"},{"$f":"INDEX('IR Data'!K:K,MATCH(pana_film[[#This Row],[PartNumber]],'IR Data'!I:I,0))","v":12},{"$f":"INDEX('IR Data'!L:L,MATCH(pana_film[[#This Row],[PartNumber]],'IR Data'!I:I,0))","v":10}]
[null,"Std","box","PP","No","EZPE","EZPE1B406MTA",1100,"DC",40,"±10",57.5,35,56,52.5,"Short cut lead wire type","-25 to 70","Other package",50,"https://industrial.panasonic.com/ww/products/pt/automotive-film-cap/models/EZPE1B406MTA","≤58","≤35","≤56",{"$f":"pana_film[[#This Row],[Body length / dia\n(mm)]]&\" x \"&pana_film[[#This Row],[Body width\n(mm)]]","v":"57.5 x 35"},{"$f":"INDEX('IR Data'!K:K,MATCH(pana_film[[#This Row],[PartNumber]],'IR Data'!I:I,0))","v":11},{"$f":"INDEX('IR Data'!L:L,MATCH(pana_film[[#This Row],[PartNumber]],'IR Data'!I:I,0))","v":6.5}]
[null,"Std","box","PP","No","EZPE","EZPE1B356MTA",1100,"DC",35,"±10",57.5,35,56,52.5,"Short cut lead wire type","-25 to 70","Other package",50,"https://industrial.panasonic.com/ww/products/pt/automotive-film-cap/models/EZPE1B356MTA","≤58","≤35","≤56",{"$f":"pana_film[[#This Row],[Body length / dia\n(mm)]]&\" x \"&pana_film[[#This Row],[Body width\n(mm)]]","v":"57.5 x 35"},{"$f":"INDEX('IR Data'!K:K,MATCH(pana_film[[#This Row],[PartNumber]],'IR Data'!I:I,0))","v":10},{"$f":"INDEX('IR Data'!L:L,MATCH(pana_film[[#This Row],[PartNumber]],'IR Data'!I:I,0))","v":7.2}]
[null,"Std","box","PP","No","EZPE","EZPE1B306MTA",1100,"DC",30,"±10",57.5,30,51,52.5,"Short cut lead wire type","-25 to 70","Other package",50,"https://industrial.panasonic.com/ww/products/pt/automotive-film-cap/models/EZPE1B306MTA","≤58","≤30","≤51",{"$f":"pana_film[[#This Row],[Body length / dia\n(mm)]]&\" x \"&pana_film[[#This Row],[Body width\n(mm)]]","v":"57.5 x 30"},{"$f":"INDEX('IR Data'!K:K,MATCH(pana_film[[#This Row],[PartNumber]],'IR Data'!I:I,0))","v":9},{"$f":"INDEX('IR Data'!L:L,MATCH(pana_film[[#This Row],[PartNumber]],'IR Data'!I:I,0))","v":8.5}]
[null,"Std","box","PP","No","EZPE","EZPE1B256MTA",1100,"DC",25,"±10",57.5,30,51,52.5,"Short cut lead wire type","-25 to 70","Other package",50,"https://industrial.panasonic.com/ww/products/pt/automotive-film-cap/models/EZPE1B256MTA","≤58","≤30","≤51",{"$f":"pana_film[[#This Row],[Body length / dia\n(mm)]]&\" x \"&pana_film[[#This Row],[Body width\n(mm)]]","v":"57.5 x 30"},{"$f":"INDEX('IR Data'!K:K,MATCH(pana_film[[#This Row],[PartNumber]],'IR Data'!I:I,0))","v":8},{"$f":"INDEX('IR Data'!L:L,MATCH(pana_film[[#This Row],[PartNumber]],'IR Data'!I:I,0))","v":10.7}]
[null,"Std","box","PP","No","EZPE","EZPE1B206MTA",1100,"DC",20,"±10",41.5,30,51,37.5,"Short cut lead wire type","-25 to 70","Other package",100,"https://industrial.panasonic.com/ww/products/pt/automotive-film-cap/models/EZPE1B206MTA","≤42","≤30","≤51",{"$f":"pana_film[[#This Row],[Body length / dia\n(mm)]]&\" x \"&pana_film[[#This Row],[Body width\n(mm)]]","v":"41.5 x 30"},{"$f":"INDEX('IR Data'!K:K,MATCH(pana_film[[#This Row],[PartNumber]],'IR Data'!I:I,0))","v":10},{"$f":"INDEX('IR Data'!L:L,MATCH(pana_film[[#This Row],[PartNumber]],'IR Data'!I:I,0))","v":6.3}]
[null,"Std","box","PP","No","EZPE","EZPE1B156MTA",1100,"DC",15,"±10",41.5,30,51,37.5,"Short cut lead wire type","-25 to 70","Other package",100,"https://industrial.panasonic.com/ww/products/pt/automotive-film-cap/models/EZPE1B156MTA","≤42","≤30","≤51",{"$f":"pana_film[[#This Row],[Body length / dia\n(mm)]]&\" x \"&pana_film[[#This Row],[Body width\n(mm)]]","v":"41.5 x 30"},{"$f":"INDEX('IR Data'!K:K,MATCH(pana_film[[#This Row],[PartNumber]],'IR Data'!I:I,0))","v":8.5},{"$f":"INDEX('IR Data'!L:L,MATCH(pana_film[[#This Row],[PartNumber]],'IR Data'!I:I,0))","v":8.1999999999999993}]
[null,"Std","box","PP","No","EZPE","EZPE1B106MTA",1100,"DC",10,"±10",41.5,20,42,37.5,"Short cut lead wire type","-25 to 70","Other package",150,"https://industrial.panasonic.com/ww/products/pt/automotive-film-cap/models/EZPE1B106MTA","≤42","≤20","≤42",{"$f":"pana_film[[#This Row],[Body length / dia\n(mm)]]&\" x \"&pana_film[[#This Row],[Body width\n(mm)]]","v":"41.5 x 20"},{"$f":"INDEX('IR Data'!K:K,MATCH(pana_film[[#This Row],[PartNumber]],'IR Data'!I:I,0))","v":7},{"$f":"INDEX('IR Data'!L:L,MATCH(pana_film[[#This Row],[PartNumber]],'IR Data'!I:I,0))","v":12.3}]
[null,"Std","dip","PP","No","ECWH(C)","ECWHC3F822JQ",3000,"DC",8.2000000000000007E-3,"± 5",25.8,7.5,22.3,23,"Crimped lead wire type (Style D)","-40 to 105 (85)","Bulk (Bag packing)",1000,"https://industrial.panasonic.com/ww/products/pt/film-cap-electroequip/models/ECWHC3F822JQ",{"$f":"IF(L433<=9.5,\"≤ \"&ROUNDUP(L433*1,0)/1,\"≤\"&ROUNDUP(L433*1,0)/1)","v":"≤26"},{"$f":"IF(M433<=9,\"≤ \"&ROUNDUP(M433*1,0)/1,\"≤\"&ROUNDUP(M433*1,0)/1)","v":"≤ 8"},{"$f":"IF(N433<=9.5,\"≤ \"&ROUNDUP(N433*2,0)/2,\"≤\"&ROUNDUP(N433*2,0)/2)","v":"≤22.5"},{"$f":"pana_film[[#This Row],[Body length / dia\n(mm)]]&\" x \"&pana_film[[#This Row],[Body width\n(mm)]]","v":"25.8 x 7.5"},"-","-"]
[null,"Std","dip","PP","No","ECWH(C)","ECWHC3F822JD",3000,"DC",8.2000000000000007E-3,"± 5",25.8,7.5,15.3,22.5,"Short cut lead wire type","-40 to 105 (85)","Bulk (Bag packing)",1000,"https://industrial.panasonic.com/ww/products/pt/film-cap-electroequip/models/ECWHC3F822JD","≤26","≤ 8","≤15.5",{"$f":"pana_film[[#This Row],[Body length / dia\n(mm)]]&\" x \"&pana_film[[#This Row],[Body width\n(mm)]]","v":"25.8 x 7.5"},"-","-"]
[null,"Std","dip","PP","No","ECWH(C)","ECWHC3F822J",3000,"DC",8.2000000000000007E-3,"± 5",25.8,7.5,15.3,22.5,"Straight lead wire type","-40 to 105 (85)","Bulk (Bag packing)",1000,"https://industrial.panasonic.com/ww/products/pt/film-cap-electroequip/models/ECWHC3F822J","≤26","≤ 8","≤15.5",{"$f":"pana_film[[#This Row],[Body length / dia\n(mm)]]&\" x \"&pana_film[[#This Row],[Body width\n(mm)]]","v":"25.8 x 7.5"},"-","-"]
[null,"Std","dip","PP","No","ECWH(C)","ECWHC3F562JQ",3000,"DC",5.5999999999999999E-3,"± 5",25.8,7.3,19,23,"Crimped lead wire type (Style D)","-40 to 105 (85)","Bulk (Bag packing)",1000,"https://industrial.panasonic.com/ww/products/pt/film-cap-electroequip/models/ECWHC3F562JQ","≤26","≤ 8","≤19",{"$f":"pana_film[[#This Row],[Body length / dia\n(mm)]]&\" x \"&pana_film[[#This Row],[Body width\n(mm)]]","v":"25.8 x 7.3"},"-","-"]
[null,"Std","dip","PP","No","ECWH(C)","ECWHC3F562JD",3000,"DC",5.5999999999999999E-3,"± 5",25.8,7.3,12,22.5,"Short cut lead wire type","-40 to 105 (85)","Bulk (Bag packing)",1000,"https://industrial.panasonic.com/ww/products/pt/film-cap-electroequip/models/ECWHC3F562JD","≤26","≤ 8","≤12",{"$f":"pana_film[[#This Row],[Body length / dia\n(mm)]]&\" x \"&pana_film[[#This Row],[Body width\n(mm)]]","v":"25.8 x 7.3"},"-","-"]
[null,"Std","dip","PP","No","ECWH(C)","ECWHC3F562J",3000,"DC",5.5999999999999999E-3,"± 5",25.8,7.3,12,22.5,"Straight lead wire type","-40 to 105 (85)","Bulk (Bag packing)",1000,"https://industrial.panasonic.com/ww/products/pt/film-cap-electroequip/models/ECWHC3F562J","≤26","≤ 8","≤12",{"$f":"pana_film[[#This Row],[Body length / dia\n(mm)]]&\" x \"&pana_film[[#This Row],[Body width\n(mm)]]","v":"25.8 x 7.3"},"-","-"]
[null,"Std","dip","PP","No","ECWH(C)","ECWHC3F432JQ",3000,"DC",4.3E-3,"± 5",25.8,6.5,18.2,23,"Crimped lead wire type (Style D)","-40 to 105 (85)","Bulk (Bag packing)",1000,"https://industrial.panasonic.com/ww/products/pt/film-cap-electroequip/models/ECWHC3F432JQ","≤26","≤ 7","≤18.5",{"$f":"pana_film[[#This Row],[Body length / dia\n(mm)]]&\" x \"&pana_film[[#This Row],[Body width\n(mm)]]","v":"25.8 x 6.5"},"-","-"]
[null,"Std","dip","PP","No","ECWH(C)","ECWHC3F432JD",3000,"DC",4.3E-3,"± 5",25.8,6.5,11.2,22.5,"Short cut lead wire type","-40 to 105 (85)","Bulk (Bag packing)",1000,"https://industrial.panasonic.com/ww/products/pt/film-cap-electroequip/models/ECWHC3F432JD","≤26","≤ 7","≤11.5",{"$f":"pana_film[[#This Row],[Body length / dia\n(mm)]]&\" x \"&pana_film[[#This Row],[Body width\n(mm)]]","v":"25.8 x 6.5"},"-","-"]
[null,"Std","dip","PP","No","ECWH(C)","ECWHC3F432J",3000,"DC",4.3E-3,"± 5",25.8,6.5,11.2,22.5,"Straight lead wire type","-40 to 105 (85)","Bulk (Bag packing)",1000,"https://industrial.panasonic.com/ww/products/pt/film-cap-electroequip/models/ECWHC3F432J","≤26","≤ 7","≤11.5",{"$f":"pana_film[[#This Row],[Body length / dia\n(mm)]]&\" x \"&pana_film[[#This Row],[Body width\n(mm)]]","v":"25.8 x 6.5"},"-","-"]
[null,"Std","dip","PP","No","ECWH(C)","ECWHC3F392JQ",3000,"DC",3.8999999999999998E-3,"± 5",25.8,7.5,19.2,23,"Crimped lead wire type (Style D)","-40 to 105 (85)","Bulk (Bag packing)",1000,"https://industrial.panasonic.com/ww/products/pt/film-cap-electroequip/models/ECWHC3F392JQ","≤26","≤ 8","≤19.5",{"$f":"pana_film[[#This Row],[Body length / dia\n(mm)]]&\" x \"&pana_film[[#This Row],[Body width\n(mm)]]","v":"25.8 x 7.5"},"-","-"]
[null,"Std","dip","PP","No","ECWH(C)","ECWHC3F392JD",3000,"DC",3.8999999999999998E-3,"± 5",25.8,7.5,12.2,22.5,"Short cut lead wire type","-40 to 105 (85)","Bulk (Bag packing)",1000,"https://industrial.panasonic.com/ww/products/pt/film-cap-electroequip/models/ECWHC3F392JD","≤26","≤ 8","≤12.5",{"$f":"pana_film[[#This Row],[Body length / dia\n(mm)]]&\" x \"&pana_film[[#This Row],[Body width\n(mm)]]","v":"25.8 x 7.5"},"-","-"]
[null,"Std","dip","PP","No","ECWH(C)","ECWHC3F392J",3000,"DC",3.8999999999999998E-3,"± 5",25.8,7.5,12.2,22.5,"Straight lead wire type","-40 to 105 (85)","Bulk (Bag packing)",1000,"https://industrial.panasonic.com/ww/products/pt/film-cap-electroequip/models/ECWHC3F392J","≤26","≤ 8","≤12.5",{"$f":"pana_film[[#This Row],[Body length / dia\n(mm)]]&\" x \"&pana_film[[#This Row],[Body width\n(mm)]]","v":"25.8 x 7.5"},"-","-"]
[null,"Std","dip","PP","No","ECWH(C)","ECWHC3F362JQ",3000,"DC",3.5999999999999999E-3,"± 5",25.8,7.2,18.899999999999999,23,"Crimped lead wire type (Style D)","-40 to 105 (85)","Bulk (Bag packing)",1000,"https://industrial.panasonic.com/ww/products/pt/film-cap-electroequip/models/ECWHC3F362JQ","≤26","≤ 8","≤19",{"$f":"pana_film[[#This Row],[Body length / dia\n(mm)]]&\" x \"&pana_film[[#This Row],[Body width\n(mm)]]","v":"25.8 x 7.2"},"-","-"]
[null,"Std","dip","PP","No","ECWH(C)","ECWHC3F362JD",3000,"DC",3.5999999999999999E-3,"± 5",25.8,7.2,11.9,22.5,"Short cut lead wire type","-40 to 105 (85)","Bulk (Bag packing)",1000,"https://industrial.panasonic.com/ww/products/pt/film-cap-electroequip/models/ECWHC3F362JD","≤26","≤ 8","≤12",{"$f":"pana_film[[#This Row],[Body length / dia\n(mm)]]&\" x \"&pana_film[[#This Row],[Body width\n(mm)]]","v":"25.8 x 7.2"},"-","-"]
[null,"Std","dip","PP","No","ECWH(C)","ECWHC3F362J",3000,"DC",3.5999999999999999E-3,"± 5",25.8,7.2,11.9,22.5,"Straight lead wire type","-40 to 105 (85)","Bulk (Bag packing)",1000,"https://industrial.panasonic.com/ww/products/pt/film-cap-electroequip/models/ECWHC3F362J","≤26","≤ 8","≤12",{"$f":"pana_film[[#This Row],[Body length / dia\n(mm)]]&\" x \"&pana_film[[#This Row],[Body width\n(mm)]]","v":"25.8 x 7.2"},"-","-"]
[null,"Std","dip","PP","No","ECWH(C)","ECWHC3F242JQ",3000,"DC",2.3999999999999998E-3,"± 5",25.8,6.1,17.899999999999999,23,"Crimped lead wire type (Style D)","-40 to 105 (85)","Bulk (Bag packing)",1000,"https://industrial.panasonic.com/ww/products/pt/film-cap-electroequip/models/ECWHC3F242JQ","≤26","≤ 7","≤18",{"$f":"pana_film[[#This Row],[Body length / dia\n(mm)]]&\" x \"&pana_film[[#This Row],[Body width\n(mm)]]","v":"25.8 x 6.1"},"-","-"]
[null,"Std","dip","PP","No","ECWH(C)","ECWHC3F242JD",3000,"DC",2.3999999999999998E-3,"± 5",25.8,6.1,10.9,22.5,"Short cut lead wire type","-40 to 105 (85)","Bulk (Bag packing)",1000,"https://industrial.panasonic.com/ww/products/pt/film-cap-electroequip/models/ECWHC3F242JD","≤26","≤ 7","≤11",{"$f":"pana_film[[#This Row],[Body length / dia\n(mm)]]&\" x \"&pana_film[[#This Row],[Body width\n(mm)]]","v":"25.8 x 6.1"},"-","-"]
[null,"Std","dip","PP","No","ECWH(C)","ECWHC3F242J",3000,"DC",2.3999999999999998E-3,"± 5",25.8,6.1,10.9,22.5,"Straight lead wire type","-40 to 105 (85)","Bulk (Bag packing)",1000,"https://industrial.panasonic.com/ww/products/pt/film-cap-electroequip/models/ECWHC3F242J","≤26","≤ 7","≤11",{"$f":"pana_film[[#This Row],[Body length / dia\n(mm)]]&\" x \"&pana_film[[#This Row],[Body width\n(mm)]]","v":"25.8 x 6.1"},"-","-"]
[null,"Std","dip","PP","No","ECWH(C)","ECWHC3F103JQ",3000,"DC",0.01,"± 5",25.8,8.1999999999999993,23.1,23,"Crimped lead wire type (Style D)","-40 to 105 (85)","Bulk (Bag packing)",1000,"https://industrial.panasonic.com/ww/products/pt/film-cap-electroequip/models/ECWHC3F103JQ","≤26","≤ 9","≤23.5",{"$f":"pana_film[[#This Row],[Body length / dia\n(mm)]]&\" x \"&pana_film[[#This Row],[Body width\n(mm)]]","v":"25.8 x 8.2"},"-","-"]
[null,"Std","dip","PP","No","ECWH(C)","ECWHC3F103JD",3000,"DC",0.01,"± 5",25.8,8.1999999999999993,16.100000000000001,22.5,"Short cut lead wire type","-40 to 105 (85)","Bulk (Bag packing)",1000,"https://industrial.panasonic.com/ww/products/pt/film-cap-electroequip/models/ECWHC3F103JD","≤26","≤ 9","≤16.5",{"$f":"pana_film[[#This Row],[Body length / dia\n(mm)]]&\" x \"&pana_film[[#This Row],[Body width\n(mm)]]","v":"25.8 x 8.2"},"-","-"]
[null,"Std","dip","PP","No","ECWH(C)","ECWHC3F103J",3000,"DC",0.01,"± 5",25.8,8.1999999999999993,16.100000000000001,22.5,"Straight lead wire type","-40 to 105 (85)","Bulk (Bag packing)",1000,"https://industrial.panasonic.com/ww/products/pt/film-cap-electroequip/models/ECWHC3F103J","≤26","≤ 9","≤16.5",{"$f":"pana_film[[#This Row],[Body length / dia\n(mm)]]&\" x \"&pana_film[[#This Row],[Body width\n(mm)]]","v":"25.8 x 8.2"},"-","-"]
[null,"Std","dip","PP","No","ECWH(C)","ECWHC3B803JA",1250,"DC",0.08,"± 5",20.7,12,19,17.5,"Short cut lead wire type","-40 to 85","Bulk (Bag packing)",700,"https://industrial.panasonic.com/ww/products/pt/film-cap-electroequip/models/ECWHC3B803JA","≤21","≤12","≤19",{"$f":"pana_film[[#This Row],[Body length / dia\n(mm)]]&\" x \"&pana_film[[#This Row],[Body width\n(mm)]]","v":"20.7 x 12"},"-","-"]
[null,"Std","dip","PP","No","ECWH(C)","ECWHC3B124JA",1250,"DC",0.12,"± 5",20.7,14.9,21.9,17.5,"Short cut lead wire type","-40 to 85","Bulk (Bag packing)",600,"https://industrial.panasonic.com/ww/products/pt/film-cap-electroequip/models/ECWHC3B124JA",{"$f":"IF(L455<=9.5,\"≤ \"&ROUNDUP(L455*1,0)/1,\"≤\"&ROUNDUP(L455*1,0)/1)","v":"≤21"},{"$f":"IF(M455<=9,\"≤ \"&ROUNDUP(M455*1,0)/1,\"≤\"&ROUNDUP(M455*1,0)/1)","v":"≤15"},{"$f":"IF(N455<=9.5,\"≤ \"&ROUNDUP(N455*2,0)/2,\"≤\"&ROUNDUP(N455*2,0)/2)","v":"≤22"},{"$f":"pana_film[[#This Row],[Body length / dia\n(mm)]]&\" x \"&pana_film[[#This Row],[Body width\n(mm)]]","v":"20.7 x 14.9"},"-","-"]
[null,"Std","dip","PP","No","ECWH(C)","ECWHC3B114JA",1250,"DC",0.11,"± 5",20.7,14.2,21.3,17.5,"Short cut lead wire type","-40 to 85","Bulk (Bag packing)",600,"https://industrial.panasonic.com/ww/products/pt/film-cap-electroequip/models/ECWHC3B114JA","≤21","≤15","≤21.5",{"$f":"pana_film[[#This Row],[Body length / dia\n(mm)]]&\" x \"&pana_film[[#This Row],[Body width\n(mm)]]","v":"20.7 x 14.2"},"-","-"]
[null,"Std","dip","PP","No","ECWH(C)","ECWHC3B104JA",1250,"DC",0.1,"± 5",20.7,13.5,20.6,17.5,"Short cut lead wire type","-40 to 105 (85)","Bulk (Bag packing)",700,"https://industrial.panasonic.com/ww/products/pt/film-cap-electroequip/models/ECWHC3B104JA","≤21","≤14","≤21",{"$f":"pana_film[[#This Row],[Body length / dia\n(mm)]]&\" x \"&pana_film[[#This Row],[Body width\n(mm)]]","v":"20.7 x 13.5"},"-","-"]
[null,"Std","dip","PP","No","ECWH(A)","ECWHA3C912JQ",1600,"DC",9.1000000000000004E-3,"± 5",17.8,7.1,18,15,"Crimped lead wire type (Style D)","-40 to 105 (85)","Bulk (Bag packing)",1000,"https://industrial.panasonic.com/ww/products/pt/film-cap-electroequip/models/ECWHA3C912JQ","≤18","≤ 8","≤18",{"$f":"pana_film[[#This Row],[Body length / dia\n(mm)]]&\" x \"&pana_film[[#This Row],[Body width\n(mm)]]","v":"17.8 x 7.1"},"-","-"]
[null,"Std","dip","PP","No","ECWH(A)","ECWHA3C912JC",1600,"DC",9.1000000000000004E-3,"± 5",17.8,7.1,13,15,"Short cut lead wire type","-40 to 105 (85)","Bulk (Bag packing)",1000,"https://industrial.panasonic.com/ww/products/pt/film-cap-electroequip/models/ECWHA3C912JC","≤18","≤ 8","≤13",{"$f":"pana_film[[#This Row],[Body length / dia\n(mm)]]&\" x \"&pana_film[[#This Row],[Body width\n(mm)]]","v":"17.8 x 7.1"},"-","-"]
[null,"Std","dip","PP","No","ECWH(A)","ECWHA3C912JB",1600,"DC",9.1000000000000004E-3,"± 5",17.8,7.1,18,10,"Inner crimped lead wire type (Style B)","-40 to 105 (85)","Bulk (Bag packing)",1000,"https://industrial.panasonic.com/ww/products/pt/film-cap-electroequip/models/ECWHA3C912JB","≤18","≤ 8","≤18",{"$f":"pana_film[[#This Row],[Body length / dia\n(mm)]]&\" x \"&pana_film[[#This Row],[Body width\n(mm)]]","v":"17.8 x 7.1"},"-","-"]
[null,"Std","dip","PP","No","ECWH(A)","ECWHA3C912J4",1600,"DC",9.1000000000000004E-3,"± 5",17.8,7.1,18,7.5,"Inner crimped lead wire type (Style B)","-40 to 105 (85)","30.0P crimped lead taping (ammo packing)",400,"https://industrial.panasonic.com/ww/products/pt/film-cap-electroequip/models/ECWHA3C912J4","≤18","≤ 8","≤18",{"$f":"pana_film[[#This Row],[Body length / dia\n(mm)]]&\" x \"&pana_film[[#This Row],[Body width\n(mm)]]","v":"17.8 x 7.1"},"-","-"]
[null,"Std","dip","PP","No","ECWH(A)","ECWHA3C912J",1600,"DC",9.1000000000000004E-3,"± 5",17.8,7.1,13,15,"Straight lead wire type","-40 to 105 (85)","Bulk (Bag packing)",1000,"https://industrial.panasonic.com/ww/products/pt/film-cap-electroequip/models/ECWHA3C912J","≤18","≤ 8","≤13",{"$f":"pana_film[[#This Row],[Body length / dia\n(mm)]]&\" x \"&pana_film[[#This Row],[Body width\n(mm)]]","v":"17.8 x 7.1"},"-","-"]
[null,"Std","dip","PP","No","ECWH(A)","ECWHA3C912HQ",1600,"DC",9.1000000000000004E-3,"± 3",17.8,7.1,18,15,"Crimped lead wire type (Style D)","-40 to 105 (85)","Bulk (Bag packing)",1000,"https://industrial.panasonic.com/ww/products/pt/film-cap-electroequip/models/ECWHA3C912HQ","≤18","≤ 8","≤18",{"$f":"pana_film[[#This Row],[Body length / dia\n(mm)]]&\" x \"&pana_film[[#This Row],[Body width\n(mm)]]","v":"17.8 x 7.1"},"-","-"]
[null,"Std","dip","PP","No","ECWH(A)","ECWHA3C912HC",1600,"DC",9.1000000000000004E-3,"± 3",17.8,7.1,13,15,"Short cut lead wire type","-40 to 105 (85)","Bulk (Bag packing)",1000,"https://industrial.panasonic.com/ww/products/pt/film-cap-electroequip/models/ECWHA3C912HC","≤18","≤ 8","≤13",{"$f":"pana_film[[#This Row],[Body length / dia\n(mm)]]&\" x \"&pana_film[[#This Row],[Body width\n(mm)]]","v":"17.8 x 7.1"},"-","-"]
[null,"Std","dip","PP","No","ECWH(A)","ECWHA3C912HB",1600,"DC",9.1000000000000004E-3,"± 3",17.8,7.1,18,10,"Inner crimped lead wire type (Style B)","-40 to 105 (85)","Bulk (Bag packing)",1000,"https://industrial.panasonic.com/ww/products/pt/film-cap-electroequip/models/ECWHA3C912HB","≤18","≤ 8","≤18",{"$f":"pana_film[[#This Row],[Body length / dia\n(mm)]]&\" x \"&pana_film[[#This Row],[Body width\n(mm)]]","v":"17.8 x 7.1"},"-","-"]
[null,"Std","dip","PP","No","ECWH(A)","ECWHA3C912H4",1600,"DC",9.1000000000000004E-3,"± 3",17.8,7.1,18,7.5,"Inner crimped lead wire type (Style B)","-40 to 105 (85)","30.0P crimped lead taping (ammo packing)",400,"https://industrial.panasonic.com/ww/products/pt/film-cap-electroequip/models/ECWHA3C912H4","≤18","≤ 8","≤18",{"$f":"pana_film[[#This Row],[Body length / dia\n(mm)]]&\" x \"&pana_film[[#This Row],[Body width\n(mm)]]","v":"17.8 x 7.1"},"-","-"]
[null,"Std","dip","PP","No","ECWH(A)","ECWHA3C912H",1600,"DC",9.1000000000000004E-3,"± 3",17.8,7.1,13,15,"Straight lead wire type","-40 to 105 (85)","Bulk (Bag packing)",1000,"https://industrial.panasonic.com/ww/products/pt/film-cap-electroequip/models/ECWHA3C912H","≤18","≤ 8","≤13",{"$f":"pana_film[[#This Row],[Body length / dia\n(mm)]]&\" x \"&pana_film[[#This Row],[Body width\n(mm)]]","v":"17.8 x 7.1"},"-","-"]
[null,"Std","dip","PP","No","ECWH(A)","ECWHA3C822JQ",1600,"DC",8.2000000000000007E-3,"± 5",17.8,6.8,17.7,15,"Crimped lead wire type (Style D)","-40 to 105 (85)","Bulk (Bag packing)",1000,"https://industrial.panasonic.com/ww/products/pt/film-cap-electroequip/models/ECWHA3C822JQ","≤18","≤ 7","≤18",{"$f":"pana_film[[#This Row],[Body length / dia\n(mm)]]&\" x \"&pana_film[[#This Row],[Body width\n(mm)]]","v":"17.8 x 6.8"},"-","-"]
[null,"Std","dip","PP","No","ECWH(A)","ECWHA3C822JC",1600,"DC",8.2000000000000007E-3,"± 5",17.8,6.8,12.7,15,"Short cut lead wire type","-40 to 105 (85)","Bulk (Bag packing)",1000,"https://industrial.panasonic.com/ww/products/pt/film-cap-electroequip/models/ECWHA3C822JC","≤18","≤ 7","≤13",{"$f":"pana_film[[#This Row],[Body length / dia\n(mm)]]&\" x \"&pana_film[[#This Row],[Body width\n(mm)]]","v":"17.8 x 6.8"},"-","-"]
[null,"Std","dip","PP","No","ECWH(A)","ECWHA3C822JB",1600,"DC",8.2000000000000007E-3,"± 5",17.8,6.8,17.7,10,"Inner crimped lead wire type (Style B)","-40 to 105 (85)","Bulk (Bag packing)",1000,"https://industrial.panasonic.com/ww/products/pt/film-cap-electroequip/models/ECWHA3C822JB","≤18","≤ 7","≤18",{"$f":"pana_film[[#This Row],[Body length / dia\n(mm)]]&\" x \"&pana_film[[#This Row],[Body width\n(mm)]]","v":"17.8 x 6.8"},"-","-"]
[null,"Std","dip","PP","No","ECWH(A)","ECWHA3C822J4",1600,"DC",8.2000000000000007E-3,"± 5",17.8,6.8,17.7,7.5,"Inner crimped lead wire type (Style B)","-40 to 105 (85)","30.0P crimped lead taping (ammo packing)",400,"https://industrial.panasonic.com/ww/products/pt/film-cap-electroequip/models/ECWHA3C822J4","≤18","≤ 7","≤18",{"$f":"pana_film[[#This Row],[Body length / dia\n(mm)]]&\" x \"&pana_film[[#This Row],[Body width\n(mm)]]","v":"17.8 x 6.8"},"-","-"]
[null,"Std","dip","PP","No","ECWH(A)","ECWHA3C822J",1600,"DC",8.2000000000000007E-3,"± 5",17.8,6.8,12.7,15,"Straight lead wire type","-40 to 105 (85)","Bulk (Bag packing)",1000,"https://industrial.panasonic.com/ww/products/pt/film-cap-electroequip/models/ECWHA3C822J","≤18","≤ 7","≤13",{"$f":"pana_film[[#This Row],[Body length / dia\n(mm)]]&\" x \"&pana_film[[#This Row],[Body width\n(mm)]]","v":"17.8 x 6.8"},"-","-"]
[null,"Std","dip","PP","No","ECWH(A)","ECWHA3C822HQ",1600,"DC",8.2000000000000007E-3,"± 3",17.8,6.8,17.7,15,"Crimped lead wire type (Style D)","-40 to 105 (85)","Bulk (Bag packing)",1000,"https://industrial.panasonic.com/ww/products/pt/film-cap-electroequip/models/ECWHA3C822HQ","≤18","≤ 7","≤18",{"$f":"pana_film[[#This Row],[Body length / dia\n(mm)]]&\" x \"&pana_film[[#This Row],[Body width\n(mm)]]","v":"17.8 x 6.8"},"-","-"]
[null,"Std","dip","PP","No","ECWH(A)","ECWHA3C822HC",1600,"DC",8.2000000000000007E-3,"± 3",17.8,6.8,12.7,15,"Short cut lead wire type","-40 to 105 (85)","Bulk (Bag packing)",1000,"https://industrial.panasonic.com/ww/products/pt/film-cap-electroequip/models/ECWHA3C822HC","≤18","≤ 7","≤13",{"$f":"pana_film[[#This Row],[Body length / dia\n(mm)]]&\" x \"&pana_film[[#This Row],[Body width\n(mm)]]","v":"17.8 x 6.8"},"-","-"]
[null,"Std","dip","PP","No","ECWH(A)","ECWHA3C822HB",1600,"DC",8.2000000000000007E-3,"± 3",17.8,6.8,17.7,10,"Inner crimped lead wire type (Style B)","-40 to 105 (85)","Bulk (Bag packing)",1000,"https://industrial.panasonic.com/ww/products/pt/film-cap-electroequip/models/ECWHA3C822HB","≤18","≤ 7","≤18",{"$f":"pana_film[[#This Row],[Body length / dia\n(mm)]]&\" x \"&pana_film[[#This Row],[Body width\n(mm)]]","v":"17.8 x 6.8"},"-","-"]
[null,"Std","dip","PP","No","ECWH(A)","ECWHA3C822H4",1600,"DC",8.2000000000000007E-3,"± 3",17.8,6.8,17.7,7.5,"Inner crimped lead wire type (Style B)","-40 to 105 (85)","30.0P crimped lead taping (ammo packing)",400,"https://industrial.panasonic.com/ww/products/pt/film-cap-electroequip/models/ECWHA3C822H4","≤18","≤ 7","≤18",{"$f":"pana_film[[#This Row],[Body length / dia\n(mm)]]&\" x \"&pana_film[[#This Row],[Body width\n(mm)]]","v":"17.8 x 6.8"},"-","-"]
[null,"Std","dip","PP","No","ECWH(A)","ECWHA3C822H",1600,"DC",8.2000000000000007E-3,"± 3",17.8,6.8,12.7,15,"Straight lead wire type","-40 to 105 (85)","Bulk (Bag packing)",1000,"https://industrial.panasonic.com/ww/products/pt/film-cap-electroequip/models/ECWHA3C822H","≤18","≤ 7","≤13",{"$f":"pana_film[[#This Row],[Body length / dia\n(mm)]]&\" x \"&pana_film[[#This Row],[Body width\n(mm)]]","v":"17.8 x 6.8"},"-","-"]
[null,"Std","dip","PP","No","ECWH(A)","ECWHA3C752JQ",1600,"DC",7.4999999999999997E-3,"± 5",17.8,6.5,17.399999999999999,15,"Crimped lead wire type (Style D)","-40 to 105 (85)","Bulk (Bag packing)",1000,"https://industrial.panasonic.com/ww/products/pt/film-cap-electroequip/models/ECWHA3C752JQ","≤18","≤ 7","≤17.5",{"$f":"pana_film[[#This Row],[Body length / dia\n(mm)]]&\" x \"&pana_film[[#This Row],[Body width\n(mm)]]","v":"17.8 x 6.5"},"-","-"]
[null,"Std","dip","PP","No","ECWH(A)","ECWHA3C752JC",1600,"DC",7.4999999999999997E-3,"± 5",17.8,6.5,12.4,15,"Short cut lead wire type","-40 to 105 (85)","Bulk (Bag packing)",1000,"https://industrial.panasonic.com/ww/products/pt/film-cap-electroequip/models/ECWHA3C752JC","≤18","≤ 7","≤12.5",{"$f":"pana_film[[#This Row],[Body length / dia\n(mm)]]&\" x \"&pana_film[[#This Row],[Body width\n(mm)]]","v":"17.8 x 6.5"},"-","-"]
[null,"Std","dip","PP","No","ECWH(A)","ECWHA3C752JB",1600,"DC",7.4999999999999997E-3,"± 5",17.8,6.5,17.399999999999999,10,"Inner crimped lead wire type (Style B)","-40 to 105 (85)","Bulk (Bag packing)",1000,"https://industrial.panasonic.com/ww/products/pt/film-cap-electroequip/models/ECWHA3C752JB","≤18","≤ 7","≤17.5",{"$f":"pana_film[[#This Row],[Body length / dia\n(mm)]]&\" x \"&pana_film[[#This Row],[Body width\n(mm)]]","v":"17.8 x 6.5"},"-","-"]
[null,"Std","dip","PP","No","ECWH(A)","ECWHA3C752J4",1600,"DC",7.4999999999999997E-3,"± 5",17.8,6.5,17.399999999999999,7.5,"Inner crimped lead wire type (Style B)","-40 to 105 (85)","30.0P crimped lead taping (ammo packing)",400,"https://industrial.panasonic.com/ww/products/pt/film-cap-electroequip/models/ECWHA3C752J4","≤18","≤ 7","≤17.5",{"$f":"pana_film[[#This Row],[Body length / dia\n(mm)]]&\" x \"&pana_film[[#This Row],[Body width\n(mm)]]","v":"17.8 x 6.5"},"-","-"]
[null,"Std","dip","PP","No","ECWH(A)","ECWHA3C752J",1600,"DC",7.4999999999999997E-3,"± 5",17.8,6.5,12.4,15,"Straight lead wire type","-40 to 105 (85)","Bulk (Bag packing)",1000,"https://industrial.panasonic.com/ww/products/pt/film-cap-electroequip/models/ECWHA3C752J","≤18","≤ 7","≤12.5",{"$f":"pana_film[[#This Row],[Body length / dia\n(mm)]]&\" x \"&pana_film[[#This Row],[Body width\n(mm)]]","v":"17.8 x 6.5"},"-","-"]
[null,"Std","dip","PP","No","ECWH(A)","ECWHA3C752HQ",1600,"DC",7.4999999999999997E-3,"± 3",17.8,6.5,17.399999999999999,15,"Crimped lead wire type (Style D)","-40 to 105 (85)","Bulk (Bag packing)",1000,"https://industrial.panasonic.com/ww/products/pt/film-cap-electroequip/models/ECWHA3C752HQ","≤18","≤ 7","≤17.5",{"$f":"pana_film[[#This Row],[Body length / dia\n(mm)]]&\" x \"&pana_film[[#This Row],[Body width\n(mm)]]","v":"17.8 x 6.5"},"-","-"]
[null,"Std","dip","PP","No","ECWH(A)","ECWHA3C752HC",1600,"DC",7.4999999999999997E-3,"± 3",17.8,6.5,12.4,15,"Short cut lead wire type","-40 to 105 (85)","Bulk (Bag packing)",1000,"https://industrial.panasonic.com/ww/products/pt/film-cap-electroequip/models/ECWHA3C752HC","≤18","≤ 7","≤12.5",{"$f":"pana_film[[#This Row],[Body length / dia\n(mm)]]&\" x \"&pana_film[[#This Row],[Body width\n(mm)]]","v":"17.8 x 6.5"},"-","-"]
[null,"Std","dip","PP","No","ECWH(A)","ECWHA3C752HB",1600,"DC",7.4999999999999997E-3,"± 3",17.8,6.5,17.399999999999999,10,"Inner crimped lead wire type (Style B)","-40 to 105 (85)","Bulk (Bag packing)",1000,"https://industrial.panasonic.com/ww/products/pt/film-cap-electroequip/models/ECWHA3C752HB","≤18","≤ 7","≤17.5",{"$f":"pana_film[[#This Row],[Body length / dia\n(mm)]]&\" x \"&pana_film[[#This Row],[Body width\n(mm)]]","v":"17.8 x 6.5"},"-","-"]
[null,"Std","dip","PP","No","ECWH(A)","ECWHA3C752H4",1600,"DC",7.4999999999999997E-3,"± 3",17.8,6.5,17.399999999999999,7.5,"Inner crimped lead wire type (Style B)","-40 to 105 (85)","30.0P crimped lead taping (ammo packing)",400,"https://industrial.panasonic.com/ww/products/pt/film-cap-electroequip/models/ECWHA3C752H4","≤18","≤ 7","≤17.5",{"$f":"pana_film[[#This Row],[Body length / dia\n(mm)]]&\" x \"&pana_film[[#This Row],[Body width\n(mm)]]","v":"17.8 x 6.5"},"-","-"]
[null,"Std","dip","PP","No","ECWH(A)","ECWHA3C752H",1600,"DC",7.4999999999999997E-3,"± 3",17.8,6.5,12.4,15,"Straight lead wire type","-40 to 105 (85)","Bulk (Bag packing)",1000,"https://industrial.panasonic.com/ww/products/pt/film-cap-electroequip/models/ECWHA3C752H","≤18","≤ 7","≤12.5",{"$f":"pana_film[[#This Row],[Body length / dia\n(mm)]]&\" x \"&pana_film[[#This Row],[Body width\n(mm)]]","v":"17.8 x 6.5"},"-","-"]
[null,"Std","dip","PP","No","ECWH(A)","ECWHA3C682JQ",1600,"DC",6.7999999999999996E-3,"± 5",17.8,6.1,17.100000000000001,15,"Crimped lead wire type (Style D)","-40 to 105 (85)","Bulk (Bag packing)",1000,"https://industrial.panasonic.com/ww/products/pt/film-cap-electroequip/models/ECWHA3C682JQ","≤18","≤ 7","≤17.5",{"$f":"pana_film[[#This Row],[Body length / dia\n(mm)]]&\" x \"&pana_film[[#This Row],[Body width\n(mm)]]","v":"17.8 x 6.1"},"-","-"]
[null,"Std","dip","PP","No","ECWH(A)","ECWHA3C682JC",1600,"DC",6.7999999999999996E-3,"± 5",17.8,6.1,12.1,15,"Short cut lead wire type","-40 to 105 (85)","Bulk (Bag packing)",1000,"https://industrial.panasonic.com/ww/products/pt/film-cap-electroequip/models/ECWHA3C682JC","≤18","≤ 7","≤12.5",{"$f":"pana_film[[#This Row],[Body length / dia\n(mm)]]&\" x \"&pana_film[[#This Row],[Body width\n(mm)]]","v":"17.8 x 6.1"},"-","-"]
[null,"Std","dip","PP","No","ECWH(A)","ECWHA3C682JB",1600,"DC",6.7999999999999996E-3,"± 5",17.8,6.1,17.100000000000001,10,"Inner crimped lead wire type (Style B)","-40 to 105 (85)","Bulk (Bag packing)",1000,"https://industrial.panasonic.com/ww/products/pt/film-cap-electroequip/models/ECWHA3C682JB","≤18","≤ 7","≤17.5",{"$f":"pana_film[[#This Row],[Body length / dia\n(mm)]]&\" x \"&pana_film[[#This Row],[Body width\n(mm)]]","v":"17.8 x 6.1"},"-","-"]
[null,"Std","dip","PP","No","ECWH(A)","ECWHA3C682J4",1600,"DC",6.7999999999999996E-3,"± 5",17.8,6.1,17.100000000000001,7.5,"Inner crimped lead wire type (Style B)","-40 to 105 (85)","30.0P crimped lead taping (ammo packing)",500,"https://industrial.panasonic.com/ww/products/pt/film-cap-electroequip/models/ECWHA3C682J4","≤18","≤ 7","≤17.5",{"$f":"pana_film[[#This Row],[Body length / dia\n(mm)]]&\" x \"&pana_film[[#This Row],[Body width\n(mm)]]","v":"17.8 x 6.1"},"-","-"]
[null,"Std","dip","PP","No","ECWH(A)","ECWHA3C682J",1600,"DC",6.7999999999999996E-3,"± 5",17.8,6.1,12.1,15,"Straight lead wire type","-40 to 105 (85)","Bulk (Bag packing)",1000,"https://industrial.panasonic.com/ww/products/pt/film-cap-electroequip/models/ECWHA3C682J","≤18","≤ 7","≤12.5",{"$f":"pana_film[[#This Row],[Body length / dia\n(mm)]]&\" x \"&pana_film[[#This Row],[Body width\n(mm)]]","v":"17.8 x 6.1"},"-","-"]
[null,"Std","dip","PP","No","ECWH(A)","ECWHA3C682HQ",1600,"DC",6.7999999999999996E-3,"± 3",17.8,6.1,17.100000000000001,15,"Crimped lead wire type (Style D)","-40 to 105 (85)","Bulk (Bag packing)",1000,"https://industrial.panasonic.com/ww/products/pt/film-cap-electroequip/models/ECWHA3C682HQ","≤18","≤ 7","≤17.5",{"$f":"pana_film[[#This Row],[Body length / dia\n(mm)]]&\" x \"&pana_film[[#This Row],[Body width\n(mm)]]","v":"17.8 x 6.1"},"-","-"]
[null,"Std","dip","PP","No","ECWH(A)","ECWHA3C682HC",1600,"DC",6.7999999999999996E-3,"± 3",17.8,6.1,12.1,15,"Short cut lead wire type","-40 to 105 (85)","Bulk (Bag packing)",1000,"https://industrial.panasonic.com/ww/products/pt/film-cap-electroequip/models/ECWHA3C682HC","≤18","≤ 7","≤12.5",{"$f":"pana_film[[#This Row],[Body length / dia\n(mm)]]&\" x \"&pana_film[[#This Row],[Body width\n(mm)]]","v":"17.8 x 6.1"},"-","-"]
[null,"Std","dip","PP","No","ECWH(A)","ECWHA3C682HB",1600,"DC",6.7999999999999996E-3,"± 3",17.8,6.1,17.100000000000001,10,"Inner crimped lead wire type (Style B)","-40 to 105 (85)","Bulk (Bag packing)",1000,"https://industrial.panasonic.com/ww/products/pt/film-cap-electroequip/models/ECWHA3C682HB","≤18","≤ 7","≤17.5",{"$f":"pana_film[[#This Row],[Body length / dia\n(mm)]]&\" x \"&pana_film[[#This Row],[Body width\n(mm)]]","v":"17.8 x 6.1"},"-","-"]
[null,"Std","dip","PP","No","ECWH(A)","ECWHA3C682H4",1600,"DC",6.7999999999999996E-3,"± 3",17.8,6.1,17.100000000000001,7.5,"Inner crimped lead wire type (Style B)","-40 to 105 (85)","30.0P crimped lead taping (ammo packing)",500,"https://industrial.panasonic.com/ww/products/pt/film-cap-electroequip/models/ECWHA3C682H4","≤18","≤ 7","≤17.5",{"$f":"pana_film[[#This Row],[Body length / dia\n(mm)]]&\" x \"&pana_film[[#This Row],[Body width\n(mm)]]","v":"17.8 x 6.1"},"-","-"]
[null,"Std","dip","PP","No","ECWH(A)","ECWHA3C682H",1600,"DC",6.7999999999999996E-3,"± 3",17.8,6.1,12.1,15,"Straight lead wire type","-40 to 105 (85)","Bulk (Bag packing)",1000,"https://industrial.panasonic.com/ww/products/pt/film-cap-electroequip/models/ECWHA3C682H","≤18","≤ 7","≤12.5",{"$f":"pana_film[[#This Row],[Body length / dia\n(mm)]]&\" x \"&pana_film[[#This Row],[Body width\n(mm)]]","v":"17.8 x 6.1"},"-","-"]
[null,"Std","dip","PP","No","ECWH(A)","ECWHA3C622JQ",1600,"DC",6.1999999999999998E-3,"± 5",17.8,7.1,14.8,15,"Crimped lead wire type (Style D)","-40 to 105 (85)","Bulk (Bag packing)",1000,"https://industrial.panasonic.com/ww/products/pt/film-cap-electroequip/models/ECWHA3C622JQ","≤18","≤ 8","≤15",{"$f":"pana_film[[#This Row],[Body length / dia\n(mm)]]&\" x \"&pana_film[[#This Row],[Body width\n(mm)]]","v":"17.8 x 7.1"},"-","-"]
[null,"Std","dip","PP","No","ECWH(A)","ECWHA3C622JC",1600,"DC",6.1999999999999998E-3,"± 5",17.8,7.1,9.8000000000000007,15,"Short cut lead wire type","-40 to 105 (85)","Bulk (Bag packing)",1000,"https://industrial.panasonic.com/ww/products/pt/film-cap-electroequip/models/ECWHA3C622JC","≤18","≤ 8","≤10",{"$f":"pana_film[[#This Row],[Body length / dia\n(mm)]]&\" x \"&pana_film[[#This Row],[Body width\n(mm)]]","v":"17.8 x 7.1"},"-","-"]
[null,"Std","dip","PP","No","ECWH(A)","ECWHA3C622JB",1600,"DC",6.1999999999999998E-3,"± 5",17.8,7.1,14.8,10,"Inner crimped lead wire type (Style B)","-40 to 105 (85)","Bulk (Bag packing)",1000,"https://industrial.panasonic.com/ww/products/pt/film-cap-electroequip/models/ECWHA3C622JB","≤18","≤ 8","≤15",{"$f":"pana_film[[#This Row],[Body length / dia\n(mm)]]&\" x \"&pana_film[[#This Row],[Body width\n(mm)]]","v":"17.8 x 7.1"},"-","-"]
[null,"Std","dip","PP","No","ECWH(A)","ECWHA3C622J4",1600,"DC",6.1999999999999998E-3,"± 5",17.8,7.1,14.8,7.5,"Inner crimped lead wire type (Style B)","-40 to 105 (85)","30.0P crimped lead taping (ammo packing)",400,"https://industrial.panasonic.com/ww/products/pt/film-cap-electroequip/models/ECWHA3C622J4","≤18","≤ 8","≤15",{"$f":"pana_film[[#This Row],[Body length / dia\n(mm)]]&\" x \"&pana_film[[#This Row],[Body width\n(mm)]]","v":"17.8 x 7.1"},"-","-"]
[null,"Std","dip","PP","No","ECWH(A)","ECWHA3C622J",1600,"DC",6.1999999999999998E-3,"± 5",17.8,7.1,9.8000000000000007,15,"Straight lead wire type","-40 to 105 (85)","Bulk (Bag packing)",1000,"https://industrial.panasonic.com/ww/products/pt/film-cap-electroequip/models/ECWHA3C622J","≤18","≤ 8","≤10",{"$f":"pana_film[[#This Row],[Body length / dia\n(mm)]]&\" x \"&pana_film[[#This Row],[Body width\n(mm)]]","v":"17.8 x 7.1"},"-","-"]
[null,"Std","dip","PP","No","ECWH(A)","ECWHA3C622HQ",1600,"DC",6.1999999999999998E-3,"± 3",17.8,7.1,14.8,15,"Crimped lead wire type (Style D)","-40 to 105 (85)","Bulk (Bag packing)",1000,"https://industrial.panasonic.com/ww/products/pt/film-cap-electroequip/models/ECWHA3C622HQ","≤18","≤ 8","≤15",{"$f":"pana_film[[#This Row],[Body length / dia\n(mm)]]&\" x \"&pana_film[[#This Row],[Body width\n(mm)]]","v":"17.8 x 7.1"},"-","-"]
[null,"Std","dip","PP","No","ECWH(A)","ECWHA3C622HC",1600,"DC",6.1999999999999998E-3,"± 3",17.8,7.1,9.8000000000000007,15,"Short cut lead wire type","-40 to 105 (85)","Bulk (Bag packing)",1000,"https://industrial.panasonic.com/ww/products/pt/film-cap-electroequip/models/ECWHA3C622HC","≤18","≤ 8","≤10",{"$f":"pana_film[[#This Row],[Body length / dia\n(mm)]]&\" x \"&pana_film[[#This Row],[Body width\n(mm)]]","v":"17.8 x 7.1"},"-","-"]
[null,"Std","dip","PP","No","ECWH(A)","ECWHA3C622HB",1600,"DC",6.1999999999999998E-3,"± 3",17.8,7.1,14.8,10,"Inner crimped lead wire type (Style B)","-40 to 105 (85)","Bulk (Bag packing)",1000,"https://industrial.panasonic.com/ww/products/pt/film-cap-electroequip/models/ECWHA3C622HB","≤18","≤ 8","≤15",{"$f":"pana_film[[#This Row],[Body length / dia\n(mm)]]&\" x \"&pana_film[[#This Row],[Body width\n(mm)]]","v":"17.8 x 7.1"},"-","-"]
[null,"Std","dip","PP","No","ECWH(A)","ECWHA3C622H4",1600,"DC",6.1999999999999998E-3,"± 3",17.8,7.1,14.8,7.5,"Inner crimped lead wire type (Style B)","-40 to 105 (85)","30.0P crimped lead taping (ammo packing)",400,"https://industrial.panasonic.com/ww/products/pt/film-cap-electroequip/models/ECWHA3C622H4","≤18","≤ 8","≤15",{"$f":"pana_film[[#This Row],[Body length / dia\n(mm)]]&\" x \"&pana_film[[#This Row],[Body width\n(mm)]]","v":"17.8 x 7.1"},"-","-"]
[null,"Std","dip","PP","No","ECWH(A)","ECWHA3C622H",1600,"DC",6.1999999999999998E-3,"± 3",17.8,7.1,9.8000000000000007,15,"Straight lead wire type","-40 to 105 (85)","Bulk (Bag packing)",1000,"https://industrial.panasonic.com/ww/products/pt/film-cap-electroequip/models/ECWHA3C622H","≤18","≤ 8","≤10",{"$f":"pana_film[[#This Row],[Body length / dia\n(mm)]]&\" x \"&pana_film[[#This Row],[Body width\n(mm)]]","v":"17.8 x 7.1"},"-","-"]
[null,"Std","dip","PP","No","ECWH(A)","ECWHA3C562JQ",1600,"DC",5.5999999999999999E-3,"± 5",17.8,6.8,14.6,15,"Crimped lead wire type (Style D)","-40 to 105 (85)","Bulk (Bag packing)",1000,"https://industrial.panasonic.com/ww/products/pt/film-cap-electroequip/models/ECWHA3C562JQ","≤18","≤ 7","≤15",{"$f":"pana_film[[#This Row],[Body length / dia\n(mm)]]&\" x \"&pana_film[[#This Row],[Body width\n(mm)]]","v":"17.8 x 6.8"},"-","-"]
[null,"Std","dip","PP","No","ECWH(A)","ECWHA3C562JC",1600,"DC",5.5999999999999999E-3,"± 5",17.8,6.8,9.6,15,"Short cut lead wire type","-40 to 105 (85)","Bulk (Bag packing)",1000,"https://industrial.panasonic.com/ww/products/pt/film-cap-electroequip/models/ECWHA3C562JC","≤18","≤ 7","≤10",{"$f":"pana_film[[#This Row],[Body length / dia\n(mm)]]&\" x \"&pana_film[[#This Row],[Body width\n(mm)]]","v":"17.8 x 6.8"},"-","-"]
[null,"Std","dip","PP","No","ECWH(A)","ECWHA3C562JB",1600,"DC",5.5999999999999999E-3,"± 5",17.8,6.8,14.6,10,"Inner crimped lead wire type (Style B)","-40 to 105 (85)","Bulk (Bag packing)",1000,"https://industrial.panasonic.com/ww/products/pt/film-cap-electroequip/models/ECWHA3C562JB","≤18","≤ 7","≤15",{"$f":"pana_film[[#This Row],[Body length / dia\n(mm)]]&\" x \"&pana_film[[#This Row],[Body width\n(mm)]]","v":"17.8 x 6.8"},"-","-"]
[null,"Std","dip","PP","No","ECWH(A)","ECWHA3C562J4",1600,"DC",5.5999999999999999E-3,"± 5",17.8,6.8,14.6,7.5,"Inner crimped lead wire type (Style B)","-40 to 105 (85)","30.0P crimped lead taping (ammo packing)",400,"https://industrial.panasonic.com/ww/products/pt/film-cap-electroequip/models/ECWHA3C562J4","≤18","≤ 7","≤15",{"$f":"pana_film[[#This Row],[Body length / dia\n(mm)]]&\" x \"&pana_film[[#This Row],[Body width\n(mm)]]","v":"17.8 x 6.8"},"-","-"]
[null,"Std","dip","PP","No","ECWH(A)","ECWHA3C562J",1600,"DC",5.5999999999999999E-3,"± 5",17.8,6.8,9.6,15,"Straight lead wire type","-40 to 105 (85)","Bulk (Bag packing)",1000,"https://industrial.panasonic.com/ww/products/pt/film-cap-electroequip/models/ECWHA3C562J","≤18","≤ 7","≤10",{"$f":"pana_film[[#This Row],[Body length / dia\n(mm)]]&\" x \"&pana_film[[#This Row],[Body width\n(mm)]]","v":"17.8 x 6.8"},"-","-"]
[null,"Std","dip","PP","No","ECWH(A)","ECWHA3C562HQ",1600,"DC",5.5999999999999999E-3,"± 3",17.8,6.8,14.6,15,"Crimped lead wire type (Style D)","-40 to 105 (85)","Bulk (Bag packing)",1000,"https://industrial.panasonic.com/ww/products/pt/film-cap-electroequip/models/ECWHA3C562HQ","≤18","≤ 7","≤15",{"$f":"pana_film[[#This Row],[Body length / dia\n(mm)]]&\" x \"&pana_film[[#This Row],[Body width\n(mm)]]","v":"17.8 x 6.8"},"-","-"]
[null,"Std","dip","PP","No","ECWH(A)","ECWHA3C562HC",1600,"DC",5.5999999999999999E-3,"± 3",17.8,6.8,9.6,15,"Short cut lead wire type","-40 to 105 (85)","Bulk (Bag packing)",1000,"https://industrial.panasonic.com/ww/products/pt/film-cap-electroequip/models/ECWHA3C562HC","≤18","≤ 7","≤10",{"$f":"pana_film[[#This Row],[Body length / dia\n(mm)]]&\" x \"&pana_film[[#This Row],[Body width\n(mm)]]","v":"17.8 x 6.8"},"-","-"]
[null,"Std","dip","PP","No","ECWH(A)","ECWHA3C562HB",1600,"DC",5.5999999999999999E-3,"± 3",17.8,6.8,14.6,10,"Inner crimped lead wire type (Style B)","-40 to 105 (85)","Bulk (Bag packing)",1000,"https://industrial.panasonic.com/ww/products/pt/film-cap-electroequip/models/ECWHA3C562HB","≤18","≤ 7","≤15",{"$f":"pana_film[[#This Row],[Body length / dia\n(mm)]]&\" x \"&pana_film[[#This Row],[Body width\n(mm)]]","v":"17.8 x 6.8"},"-","-"]
[null,"Std","dip","PP","No","ECWH(A)","ECWHA3C562H4",1600,"DC",5.5999999999999999E-3,"± 3",17.8,6.8,14.6,7.5,"Inner crimped lead wire type (Style B)","-40 to 105 (85)","30.0P crimped lead taping (ammo packing)",400,"https://industrial.panasonic.com/ww/products/pt/film-cap-electroequip/models/ECWHA3C562H4","≤18","≤ 7","≤15",{"$f":"pana_film[[#This Row],[Body length / dia\n(mm)]]&\" x \"&pana_film[[#This Row],[Body width\n(mm)]]","v":"17.8 x 6.8"},"-","-"]
[null,"Std","dip","PP","No","ECWH(A)","ECWHA3C562H",1600,"DC",5.5999999999999999E-3,"± 3",17.8,6.8,9.6,15,"Straight lead wire type","-40 to 105 (85)","Bulk (Bag packing)",1000,"https://industrial.panasonic.com/ww/products/pt/film-cap-electroequip/models/ECWHA3C562H","≤18","≤ 7","≤10",{"$f":"pana_film[[#This Row],[Body length / dia\n(mm)]]&\" x \"&pana_film[[#This Row],[Body width\n(mm)]]","v":"17.8 x 6.8"},"-","-"]
[null,"Std","dip","PP","No","ECWH(A)","ECWHA3C512JQ",1600,"DC",5.1000000000000004E-3,"± 5",17.8,6.6,14.4,15,"Crimped lead wire type (Style D)","-40 to 105 (85)","Bulk (Bag packing)",1000,"https://industrial.panasonic.com/ww/products/pt/film-cap-electroequip/models/ECWHA3C512JQ","≤18","≤ 7","≤14.5",{"$f":"pana_film[[#This Row],[Body length / dia\n(mm)]]&\" x \"&pana_film[[#This Row],[Body width\n(mm)]]","v":"17.8 x 6.6"},"-","-"]
[null,"Std","dip","PP","No","ECWH(A)","ECWHA3C512JC",1600,"DC",5.1000000000000004E-3,"± 5",17.8,6.6,9.4,15,"Short cut lead wire type","-40 to 105 (85)","Bulk (Bag packing)",1000,"https://industrial.panasonic.com/ww/products/pt/film-cap-electroequip/models/ECWHA3C512JC",{"$f":"IF(L519<=9.5,\"≤ \"&ROUNDUP(L519*1,0)/1,\"≤\"&ROUNDUP(L519*1,0)/1)","v":"≤18"},{"$f":"IF(M519<=9,\"≤ \"&ROUNDUP(M519*1,0)/1,\"≤\"&ROUNDUP(M519*1,0)/1)","v":"≤ 7"},{"$f":"IF(N519<=9.5,\"≤ \"&ROUNDUP(N519*2,0)/2,\"≤\"&ROUNDUP(N519*2,0)/2)","v":"≤ 9.5"},{"$f":"pana_film[[#This Row],[Body length / dia\n(mm)]]&\" x \"&pana_film[[#This Row],[Body width\n(mm)]]","v":"17.8 x 6.6"},"-","-"]
[null,"Std","dip","PP","No","ECWH(A)","ECWHA3C512JB",1600,"DC",5.1000000000000004E-3,"± 5",17.8,6.6,14.4,10,"Inner crimped lead wire type (Style B)","-40 to 105 (85)","Bulk (Bag packing)",1000,"https://industrial.panasonic.com/ww/products/pt/film-cap-electroequip/models/ECWHA3C512JB","≤18","≤ 7","≤14.5",{"$f":"pana_film[[#This Row],[Body length / dia\n(mm)]]&\" x \"&pana_film[[#This Row],[Body width\n(mm)]]","v":"17.8 x 6.6"},"-","-"]
[null,"Std","dip","PP","No","ECWH(A)","ECWHA3C512J4",1600,"DC",5.1000000000000004E-3,"± 5",17.8,6.6,14.4,7.5,"Inner crimped lead wire type (Style B)","-40 to 105 (85)","30.0P crimped lead taping (ammo packing)",400,"https://industrial.panasonic.com/ww/products/pt/film-cap-electroequip/models/ECWHA3C512J4","≤18","≤ 7","≤14.5",{"$f":"pana_film[[#This Row],[Body length / dia\n(mm)]]&\" x \"&pana_film[[#This Row],[Body width\n(mm)]]","v":"17.8 x 6.6"},"-","-"]
[null,"Std","dip","PP","No","ECWH(A)","ECWHA3C512J",1600,"DC",5.1000000000000004E-3,"± 5",17.8,6.6,9.4,15,"Straight lead wire type","-40 to 105 (85)","Bulk (Bag packing)",1000,"https://industrial.panasonic.com/ww/products/pt/film-cap-electroequip/models/ECWHA3C512J","≤18","≤ 7","≤ 9.5",{"$f":"pana_film[[#This Row],[Body length / dia\n(mm)]]&\" x \"&pana_film[[#This Row],[Body width\n(mm)]]","v":"17.8 x 6.6"},"-","-"]
[null,"Std","dip","PP","No","ECWH(A)","ECWHA3C512HQ",1600,"DC",5.1000000000000004E-3,"± 3",17.8,6.6,14.4,15,"Crimped lead wire type (Style D)","-40 to 105 (85)","Bulk (Bag packing)",1000,"https://industrial.panasonic.com/ww/products/pt/film-cap-electroequip/models/ECWHA3C512HQ","≤18","≤ 7","≤14.5",{"$f":"pana_film[[#This Row],[Body length / dia\n(mm)]]&\" x \"&pana_film[[#This Row],[Body width\n(mm)]]","v":"17.8 x 6.6"},"-","-"]
[null,"Std","dip","PP","No","ECWH(A)","ECWHA3C512HC",1600,"DC",5.1000000000000004E-3,"± 3",17.8,6.6,9.4,15,"Short cut lead wire type","-40 to 105 (85)","Bulk (Bag packing)",1000,"https://industrial.panasonic.com/ww/products/pt/film-cap-electroequip/models/ECWHA3C512HC","≤18","≤ 7","≤ 9.5",{"$f":"pana_film[[#This Row],[Body length / dia\n(mm)]]&\" x \"&pana_film[[#This Row],[Body width\n(mm)]]","v":"17.8 x 6.6"},"-","-"]
[null,"Std","dip","PP","No","ECWH(A)","ECWHA3C512HB",1600,"DC",5.1000000000000004E-3,"± 3",17.8,6.6,14.4,10,"Inner crimped lead wire type (Style B)","-40 to 105 (85)","Bulk (Bag packing)",1000,"https://industrial.panasonic.com/ww/products/pt/film-cap-electroequip/models/ECWHA3C512HB","≤18","≤ 7","≤14.5",{"$f":"pana_film[[#This Row],[Body length / dia\n(mm)]]&\" x \"&pana_film[[#This Row],[Body width\n(mm)]]","v":"17.8 x 6.6"},"-","-"]
[null,"Std","dip","PP","No","ECWH(A)","ECWHA3C512H4",1600,"DC",5.1000000000000004E-3,"± 3",17.8,6.6,14.4,7.5,"Inner crimped lead wire type (Style B)","-40 to 105 (85)","30.0P crimped lead taping (ammo packing)",400,"https://industrial.panasonic.com/ww/products/pt/film-cap-electroequip/models/ECWHA3C512H4","≤18","≤ 7","≤14.5",{"$f":"pana_film[[#This Row],[Body length / dia\n(mm)]]&\" x \"&pana_film[[#This Row],[Body width\n(mm)]]","v":"17.8 x 6.6"},"-","-"]
[null,"Std","dip","PP","No","ECWH(A)","ECWHA3C512H",1600,"DC",5.1000000000000004E-3,"± 3",17.8,6.6,9.4,15,"Straight lead wire type","-40 to 105 (85)","Bulk (Bag packing)",1000,"https://industrial.panasonic.com/ww/products/pt/film-cap-electroequip/models/ECWHA3C512H","≤18","≤ 7","≤ 9.5",{"$f":"pana_film[[#This Row],[Body length / dia\n(mm)]]&\" x \"&pana_film[[#This Row],[Body width\n(mm)]]","v":"17.8 x 6.6"},"-","-"]
[null,"Std","dip","PP","No","ECWH(A)","ECWHA3C473JQ",1600,"DC",4.7E-2,"± 5",20.6,13.4,26.2,17.5,"Crimped lead wire type (Style D)","-40 to 105 (85)","Bulk (Bag packing)",800,"https://industrial.panasonic.com/ww/products/pt/film-cap-electroequip/models/ECWHA3C473JQ","≤21","≤14","≤26.5",{"$f":"pana_film[[#This Row],[Body length / dia\n(mm)]]&\" x \"&pana_film[[#This Row],[Body width\n(mm)]]","v":"20.6 x 13.4"},"-","-"]
[null,"Std","dip","PP","No","ECWH(A)","ECWHA3C473JC",1600,"DC",4.7E-2,"± 5",20.6,13.4,19.2,17.5,"Short cut lead wire type","-40 to 105 (85)","Bulk (Bag packing)",800,"https://industrial.panasonic.com/ww/products/pt/film-cap-electroequip/models/ECWHA3C473JC","≤21","≤14","≤19.5",{"$f":"pana_film[[#This Row],[Body length / dia\n(mm)]]&\" x \"&pana_film[[#This Row],[Body width\n(mm)]]","v":"20.6 x 13.4"},"-","-"]
[null,"Std","dip","PP","No","ECWH(A)","ECWHA3C473JB",1600,"DC",4.7E-2,"± 5",20.6,13.4,24.2,10,"Inner crimped lead wire type (Style B)","-40 to 105 (85)","Bulk (Bag packing)",800,"https://industrial.panasonic.com/ww/products/pt/film-cap-electroequip/models/ECWHA3C473JB","≤21","≤14","≤24.5",{"$f":"pana_film[[#This Row],[Body length / dia\n(mm)]]&\" x \"&pana_film[[#This Row],[Body width\n(mm)]]","v":"20.6 x 13.4"},"-","-"]
[null,"Std","dip","PP","No","ECWH(A)","ECWHA3C473J4",1600,"DC",4.7E-2,"± 5",20.6,13.4,24.2,7.5,"Inner crimped lead wire type (Style B)","-40 to 105 (85)","30.0P crimped lead taping (ammo packing)",200,"https://industrial.panasonic.com/ww/products/pt/film-cap-electroequip/models/ECWHA3C473J4","≤21","≤14","≤24.5",{"$f":"pana_film[[#This Row],[Body length / dia\n(mm)]]&\" x \"&pana_film[[#This Row],[Body width\n(mm)]]","v":"20.6 x 13.4"},"-","-"]
[null,"Std","dip","PP","No","ECWH(A)","ECWHA3C473J",1600,"DC",4.7E-2,"± 5",20.6,13.4,19.2,17.5,"Straight lead wire type","-40 to 105 (85)","Bulk (Bag packing)",600,"https://industrial.panasonic.com/ww/products/pt/film-cap-electroequip/models/ECWHA3C473J","≤21","≤14","≤19.5",{"$f":"pana_film[[#This Row],[Body length / dia\n(mm)]]&\" x \"&pana_film[[#This Row],[Body width\n(mm)]]","v":"20.6 x 13.4"},"-","-"]
[null,"Std","dip","PP","No","ECWH(A)","ECWHA3C473HQ",1600,"DC",4.7E-2,"± 3",20.6,13.4,26.2,17.5,"Crimped lead wire type (Style D)","-40 to 105 (85)","Bulk (Bag packing)",800,"https://industrial.panasonic.com/ww/products/pt/film-cap-electroequip/models/ECWHA3C473HQ","≤21","≤14","≤26.5",{"$f":"pana_film[[#This Row],[Body length / dia\n(mm)]]&\" x \"&pana_film[[#This Row],[Body width\n(mm)]]","v":"20.6 x 13.4"},"-","-"]
[null,"Std","dip","PP","No","ECWH(A)","ECWHA3C473HC",1600,"DC",4.7E-2,"± 3",20.6,13.4,19.2,17.5,"Short cut lead wire type","-40 to 105 (85)","Bulk (Bag packing)",800,"https://industrial.panasonic.com/ww/products/pt/film-cap-electroequip/models/ECWHA3C473HC","≤21","≤14","≤19.5",{"$f":"pana_film[[#This Row],[Body length / dia\n(mm)]]&\" x \"&pana_film[[#This Row],[Body width\n(mm)]]","v":"20.6 x 13.4"},"-","-"]
[null,"Std","dip","PP","No","ECWH(A)","ECWHA3C473HB",1600,"DC",4.7E-2,"± 3",20.6,13.4,24.2,10,"Inner crimped lead wire type (Style B)","-40 to 105 (85)","Bulk (Bag packing)",800,"https://industrial.panasonic.com/ww/products/pt/film-cap-electroequip/models/ECWHA3C473HB","≤21","≤14","≤24.5",{"$f":"pana_film[[#This Row],[Body length / dia\n(mm)]]&\" x \"&pana_film[[#This Row],[Body width\n(mm)]]","v":"20.6 x 13.4"},"-","-"]
[null,"Std","dip","PP","No","ECWH(A)","ECWHA3C473H4",1600,"DC",4.7E-2,"± 3",20.6,13.4,24.2,7.5,"Inner crimped lead wire type (Style B)","-40 to 105 (85)","30.0P crimped lead taping (ammo packing)",200,"https://industrial.panasonic.com/ww/products/pt/film-cap-electroequip/models/ECWHA3C473H4","≤21","≤14","≤24.5",{"$f":"pana_film[[#This Row],[Body length / dia\n(mm)]]&\" x \"&pana_film[[#This Row],[Body width\n(mm)]]","v":"20.6 x 13.4"},"-","-"]
[null,"Std","dip","PP","No","ECWH(A)","ECWHA3C473H",1600,"DC",4.7E-2,"± 3",20.6,13.4,19.2,17.5,"Straight lead wire type","-40 to 105 (85)","Bulk (Bag packing)",600,"https://industrial.panasonic.com/ww/products/pt/film-cap-electroequip/models/ECWHA3C473H","≤21","≤14","≤19.5",{"$f":"pana_film[[#This Row],[Body length / dia\n(mm)]]&\" x \"&pana_film[[#This Row],[Body width\n(mm)]]","v":"20.6 x 13.4"},"-","-"]
[null,"Std","dip","PP","No","ECWH(A)","ECWHA3C472JQ",1600,"DC",4.7000000000000002E-3,"± 5",17.8,6.4,14.1,15,"Crimped lead wire type (Style D)","-40 to 105 (85)","Bulk (Bag packing)",1000,"https://industrial.panasonic.com/ww/products/pt/film-cap-electroequip/models/ECWHA3C472JQ","≤18","≤ 7","≤14.5",{"$f":"pana_film[[#This Row],[Body length / dia\n(mm)]]&\" x \"&pana_film[[#This Row],[Body width\n(mm)]]","v":"17.8 x 6.4"},"-","-"]
[null,"Std","dip","PP","No","ECWH(A)","ECWHA3C472JC",1600,"DC",4.7000000000000002E-3,"± 5",17.8,6.4,9.1,15,"Short cut lead wire type","-40 to 105 (85)","Bulk (Bag packing)",1000,"https://industrial.panasonic.com/ww/products/pt/film-cap-electroequip/models/ECWHA3C472JC","≤18","≤ 7","≤ 9.5",{"$f":"pana_film[[#This Row],[Body length / dia\n(mm)]]&\" x \"&pana_film[[#This Row],[Body width\n(mm)]]","v":"17.8 x 6.4"},"-","-"]
[null,"Std","dip","PP","No","ECWH(A)","ECWHA3C472JB",1600,"DC",4.7000000000000002E-3,"± 5",17.8,6.4,14.1,10,"Inner crimped lead wire type (Style B)","-40 to 105 (85)","Bulk (Bag packing)",1000,"https://industrial.panasonic.com/ww/products/pt/film-cap-electroequip/models/ECWHA3C472JB","≤18","≤ 7","≤14.5",{"$f":"pana_film[[#This Row],[Body length / dia\n(mm)]]&\" x \"&pana_film[[#This Row],[Body width\n(mm)]]","v":"17.8 x 6.4"},"-","-"]
[null,"Std","dip","PP","No","ECWH(A)","ECWHA3C472J4",1600,"DC",4.7000000000000002E-3,"± 5",17.8,6.4,14.1,7.5,"Inner crimped lead wire type (Style B)","-40 to 105 (85)","30.0P crimped lead taping (ammo packing)",500,"https://industrial.panasonic.com/ww/products/pt/film-cap-electroequip/models/ECWHA3C472J4","≤18","≤ 7","≤14.5",{"$f":"pana_film[[#This Row],[Body length / dia\n(mm)]]&\" x \"&pana_film[[#This Row],[Body width\n(mm)]]","v":"17.8 x 6.4"},"-","-"]
[null,"Std","dip","PP","No","ECWH(A)","ECWHA3C472J",1600,"DC",4.7000000000000002E-3,"± 5",17.8,6.4,9.1,15,"Straight lead wire type","-40 to 105 (85)","Bulk (Bag packing)",1000,"https://industrial.panasonic.com/ww/products/pt/film-cap-electroequip/models/ECWHA3C472J","≤18","≤ 7","≤ 9.5",{"$f":"pana_film[[#This Row],[Body length / dia\n(mm)]]&\" x \"&pana_film[[#This Row],[Body width\n(mm)]]","v":"17.8 x 6.4"},"-","-"]
[null,"Std","dip","PP","No","ECWH(A)","ECWHA3C472HQ",1600,"DC",4.7000000000000002E-3,"± 3",17.8,6.4,14.1,15,"Crimped lead wire type (Style D)","-40 to 105 (85)","Bulk (Bag packing)",1000,"https://industrial.panasonic.com/ww/products/pt/film-cap-electroequip/models/ECWHA3C472HQ","≤18","≤ 7","≤14.5",{"$f":"pana_film[[#This Row],[Body length / dia\n(mm)]]&\" x \"&pana_film[[#This Row],[Body width\n(mm)]]","v":"17.8 x 6.4"},"-","-"]
[null,"Std","dip","PP","No","ECWH(A)","ECWHA3C472HC",1600,"DC",4.7000000000000002E-3,"± 3",17.8,6.4,9.1,15,"Short cut lead wire type","-40 to 105 (85)","Bulk (Bag packing)",1000,"https://industrial.panasonic.com/ww/products/pt/film-cap-electroequip/models/ECWHA3C472HC","≤18","≤ 7","≤ 9.5",{"$f":"pana_film[[#This Row],[Body length / dia\n(mm)]]&\" x \"&pana_film[[#This Row],[Body width\n(mm)]]","v":"17.8 x 6.4"},"-","-"]
[null,"Std","dip","PP","No","ECWH(A)","ECWHA3C472HB",1600,"DC",4.7000000000000002E-3,"± 3",17.8,6.4,14.1,10,"Inner crimped lead wire type (Style B)","-40 to 105 (85)","Bulk (Bag packing)",1000,"https://industrial.panasonic.com/ww/products/pt/film-cap-electroequip/models/ECWHA3C472HB","≤18","≤ 7","≤14.5",{"$f":"pana_film[[#This Row],[Body length / dia\n(mm)]]&\" x \"&pana_film[[#This Row],[Body width\n(mm)]]","v":"17.8 x 6.4"},"-","-"]
[null,"Std","dip","PP","No","ECWH(A)","ECWHA3C472H4",1600,"DC",4.7000000000000002E-3,"± 3",17.8,6.4,14.1,7.5,"Inner crimped lead wire type (Style B)","-40 to 105 (85)","30.0P crimped lead taping (ammo packing)",500,"https://industrial.panasonic.com/ww/products/pt/film-cap-electroequip/models/ECWHA3C472H4","≤18","≤ 7","≤14.5",{"$f":"pana_film[[#This Row],[Body length / dia\n(mm)]]&\" x \"&pana_film[[#This Row],[Body width\n(mm)]]","v":"17.8 x 6.4"},"-","-"]
[null,"Std","dip","PP","No","ECWH(A)","ECWHA3C472H",1600,"DC",4.7000000000000002E-3,"± 3",17.8,6.4,9.1,15,"Straight lead wire type","-40 to 105 (85)","Bulk (Bag packing)",1000,"https://industrial.panasonic.com/ww/products/pt/film-cap-electroequip/models/ECWHA3C472H","≤18","≤ 7","≤ 9.5",{"$f":"pana_film[[#This Row],[Body length / dia\n(mm)]]&\" x \"&pana_film[[#This Row],[Body width\n(mm)]]","v":"17.8 x 6.4"},"-","-"]
[null,"Std","dip","PP","No","ECWH(A)","ECWHA3C433JQ",1600,"DC",4.2999999999999997E-2,"± 5",20.6,12.8,25.6,17.5,"Crimped lead wire type (Style D)","-40 to 105 (85)","Bulk (Bag packing)",1000,"https://industrial.panasonic.com/ww/products/pt/film-cap-electroequip/models/ECWHA3C433JQ","≤21","≤13","≤26",{"$f":"pana_film[[#This Row],[Body length / dia\n(mm)]]&\" x \"&pana_film[[#This Row],[Body width\n(mm)]]","v":"20.6 x 12.8"},"-","-"]
[null,"Std","dip","PP","No","ECWH(A)","ECWHA3C433JC",1600,"DC",4.2999999999999997E-2,"± 5",20.6,12.8,18.600000000000001,17.5,"Short cut lead wire type","-40 to 105 (85)","Bulk (Bag packing)",1000,"https://industrial.panasonic.com/ww/products/pt/film-cap-electroequip/models/ECWHA3C433JC","≤21","≤13","≤19",{"$f":"pana_film[[#This Row],[Body length / dia\n(mm)]]&\" x \"&pana_film[[#This Row],[Body width\n(mm)]]","v":"20.6 x 12.8"},"-","-"]
[null,"Std","dip","PP","No","ECWH(A)","ECWHA3C433JB",1600,"DC",4.2999999999999997E-2,"± 5",20.6,12.8,23.6,10,"Inner crimped lead wire type (Style B)","-40 to 105 (85)","Bulk (Bag packing)",1000,"https://industrial.panasonic.com/ww/products/pt/film-cap-electroequip/models/ECWHA3C433JB","≤21","≤13","≤24",{"$f":"pana_film[[#This Row],[Body length / dia\n(mm)]]&\" x \"&pana_film[[#This Row],[Body width\n(mm)]]","v":"20.6 x 12.8"},"-","-"]
[null,"Std","dip","PP","No","ECWH(A)","ECWHA3C433J4",1600,"DC",4.2999999999999997E-2,"± 5",20.6,12.8,23.6,7.5,"Inner crimped lead wire type (Style B)","-40 to 105 (85)","30.0P crimped lead taping (ammo packing)",200,"https://industrial.panasonic.com/ww/products/pt/film-cap-electroequip/models/ECWHA3C433J4","≤21","≤13","≤24",{"$f":"pana_film[[#This Row],[Body length / dia\n(mm)]]&\" x \"&pana_film[[#This Row],[Body width\n(mm)]]","v":"20.6 x 12.8"},"-","-"]
[null,"Std","dip","PP","No","ECWH(A)","ECWHA3C433J",1600,"DC",4.2999999999999997E-2,"± 5",20.6,12.8,18.600000000000001,17.5,"Straight lead wire type","-40 to 105 (85)","Bulk (Bag packing)",600,"https://industrial.panasonic.com/ww/products/pt/film-cap-electroequip/models/ECWHA3C433J","≤21","≤13","≤19",{"$f":"pana_film[[#This Row],[Body length / dia\n(mm)]]&\" x \"&pana_film[[#This Row],[Body width\n(mm)]]","v":"20.6 x 12.8"},"-","-"]
[null,"Std","dip","PP","No","ECWH(A)","ECWHA3C433HQ",1600,"DC",4.2999999999999997E-2,"± 3",20.6,12.8,25.6,17.5,"Crimped lead wire type (Style D)","-40 to 105 (85)","Bulk (Bag packing)",1000,"https://industrial.panasonic.com/ww/products/pt/film-cap-electroequip/models/ECWHA3C433HQ","≤21","≤13","≤26",{"$f":"pana_film[[#This Row],[Body length / dia\n(mm)]]&\" x \"&pana_film[[#This Row],[Body width\n(mm)]]","v":"20.6 x 12.8"},"-","-"]
[null,"Std","dip","PP","No","ECWH(A)","ECWHA3C433HC",1600,"DC",4.2999999999999997E-2,"± 3",20.6,12.8,18.600000000000001,17.5,"Short cut lead wire type","-40 to 105 (85)","Bulk (Bag packing)",1000,"https://industrial.panasonic.com/ww/products/pt/film-cap-electroequip/models/ECWHA3C433HC","≤21","≤13","≤19",{"$f":"pana_film[[#This Row],[Body length / dia\n(mm)]]&\" x \"&pana_film[[#This Row],[Body width\n(mm)]]","v":"20.6 x 12.8"},"-","-"]
[null,"Std","dip","PP","No","ECWH(A)","ECWHA3C433HB",1600,"DC",4.2999999999999997E-2,"± 3",20.6,12.8,23.6,10,"Inner crimped lead wire type (Style B)","-40 to 105 (85)","Bulk (Bag packing)",1000,"https://industrial.panasonic.com/ww/products/pt/film-cap-electroequip/models/ECWHA3C433HB","≤21","≤13","≤24",{"$f":"pana_film[[#This Row],[Body length / dia\n(mm)]]&\" x \"&pana_film[[#This Row],[Body width\n(mm)]]","v":"20.6 x 12.8"},"-","-"]
[null,"Std","dip","PP","No","ECWH(A)","ECWHA3C433H4",1600,"DC",4.2999999999999997E-2,"± 3",20.6,12.8,23.6,7.5,"Inner crimped lead wire type (Style B)","-40 to 105 (85)","30.0P crimped lead taping (ammo packing)",200,"https://industrial.panasonic.com/ww/products/pt/film-cap-electroequip/models/ECWHA3C433H4","≤21","≤13","≤24",{"$f":"pana_film[[#This Row],[Body length / dia\n(mm)]]&\" x \"&pana_film[[#This Row],[Body width\n(mm)]]","v":"20.6 x 12.8"},"-","-"]
[null,"Std","dip","PP","No","ECWH(A)","ECWHA3C433H",1600,"DC",4.2999999999999997E-2,"± 3",20.6,12.8,18.600000000000001,17.5,"Straight lead wire type","-40 to 105 (85)","Bulk (Bag packing)",600,"https://industrial.panasonic.com/ww/products/pt/film-cap-electroequip/models/ECWHA3C433H","≤21","≤13","≤19",{"$f":"pana_film[[#This Row],[Body length / dia\n(mm)]]&\" x \"&pana_film[[#This Row],[Body width\n(mm)]]","v":"20.6 x 12.8"},"-","-"]
[null,"Std","dip","PP","No","ECWH(A)","ECWHA3C432JQ",1600,"DC",4.3E-3,"± 5",17.8,6.2,13.9,15,"Crimped lead wire type (Style D)","-40 to 105 (85)","Bulk (Bag packing)",1000,"https://industrial.panasonic.com/ww/products/pt/film-cap-electroequip/models/ECWHA3C432JQ","≤18","≤ 7","≤14",{"$f":"pana_film[[#This Row],[Body length / dia\n(mm)]]&\" x \"&pana_film[[#This Row],[Body width\n(mm)]]","v":"17.8 x 6.2"},"-","-"]
[null,"Std","dip","PP","No","ECWH(A)","ECWHA3C432JB",1600,"DC",4.3E-3,"± 5",17.8,6.2,13.9,10,"Inner crimped lead wire type (Style B)","-40 to 105 (85)","Bulk (Bag packing)",1000,"https://industrial.panasonic.com/ww/products/pt/film-cap-electroequip/models/ECWHA3C432JB","≤18","≤ 7","≤14",{"$f":"pana_film[[#This Row],[Body length / dia\n(mm)]]&\" x \"&pana_film[[#This Row],[Body width\n(mm)]]","v":"17.8 x 6.2"},"-","-"]
[null,"Std","dip","PP","No","ECWH(A)","ECWHA3C432J4",1600,"DC",4.3E-3,"± 5",17.8,6.2,13.9,7.5,"Inner crimped lead wire type (Style B)","-40 to 105 (85)","30.0P crimped lead taping (ammo packing)",500,"https://industrial.panasonic.com/ww/products/pt/film-cap-electroequip/models/ECWHA3C432J4","≤18","≤ 7","≤14",{"$f":"pana_film[[#This Row],[Body length / dia\n(mm)]]&\" x \"&pana_film[[#This Row],[Body width\n(mm)]]","v":"17.8 x 6.2"},"-","-"]
[null,"Std","dip","PP","No","ECWH(A)","ECWHA3C432HQ",1600,"DC",4.3E-3,"± 3",17.8,6.2,13.9,15,"Crimped lead wire type (Style D)","-40 to 105 (85)","Bulk (Bag packing)",1000,"https://industrial.panasonic.com/ww/products/pt/film-cap-electroequip/models/ECWHA3C432HQ","≤18","≤ 7","≤14",{"$f":"pana_film[[#This Row],[Body length / dia\n(mm)]]&\" x \"&pana_film[[#This Row],[Body width\n(mm)]]","v":"17.8 x 6.2"},"-","-"]
[null,"Std","dip","PP","No","ECWH(A)","ECWHA3C432HB",1600,"DC",4.3E-3,"± 3",17.8,6.2,13.9,10,"Inner crimped lead wire type (Style B)","-40 to 105 (85)","Bulk (Bag packing)",1000,"https://industrial.panasonic.com/ww/products/pt/film-cap-electroequip/models/ECWHA3C432HB","≤18","≤ 7","≤14",{"$f":"pana_film[[#This Row],[Body length / dia\n(mm)]]&\" x \"&pana_film[[#This Row],[Body width\n(mm)]]","v":"17.8 x 6.2"},"-","-"]
[null,"Std","dip","PP","No","ECWH(A)","ECWHA3C432H4",1600,"DC",4.3E-3,"± 3",17.8,6.2,13.9,7.5,"Inner crimped lead wire type (Style B)","-40 to 105 (85)","30.0P crimped lead taping (ammo packing)",500,"https://industrial.panasonic.com/ww/products/pt/film-cap-electroequip/models/ECWHA3C432H4","≤18","≤ 7","≤14",{"$f":"pana_film[[#This Row],[Body length / dia\n(mm)]]&\" x \"&pana_film[[#This Row],[Body width\n(mm)]]","v":"17.8 x 6.2"},"-","-"]
[null,"Std","dip","PP","No","ECWH(A)","ECWHA3C393JQ",1600,"DC",3.9E-2,"± 5",20.6,12.1,25,17.5,"Crimped lead wire type (Style D)","-40 to 105 (85)","Bulk (Bag packing)",1000,"https://industrial.panasonic.com/ww/products/pt/film-cap-electroequip/models/ECWHA3C393JQ","≤21","≤13","≤25",{"$f":"pana_film[[#This Row],[Body length / dia\n(mm)]]&\" x \"&pana_film[[#This Row],[Body width\n(mm)]]","v":"20.6 x 12.1"},"-","-"]
[null,"Std","dip","PP","No","ECWH(A)","ECWHA3C393JC",1600,"DC",3.9E-2,"± 5",20.6,12.1,18,17.5,"Short cut lead wire type","-40 to 105 (85)","Bulk (Bag packing)",1000,"https://industrial.panasonic.com/ww/products/pt/film-cap-electroequip/models/ECWHA3C393JC","≤21","≤13","≤18",{"$f":"pana_film[[#This Row],[Body length / dia\n(mm)]]&\" x \"&pana_film[[#This Row],[Body width\n(mm)]]","v":"20.6 x 12.1"},"-","-"]
[null,"Std","dip","PP","No","ECWH(A)","ECWHA3C393JB",1600,"DC",3.9E-2,"± 5",20.6,12.1,23,10,"Inner crimped lead wire type (Style B)","-40 to 105 (85)","Bulk (Bag packing)",1000,"https://industrial.panasonic.com/ww/products/pt/film-cap-electroequip/models/ECWHA3C393JB","≤21","≤13","≤23",{"$f":"pana_film[[#This Row],[Body length / dia\n(mm)]]&\" x \"&pana_film[[#This Row],[Body width\n(mm)]]","v":"20.6 x 12.1"},"-","-"]
[null,"Std","dip","PP","No","ECWH(A)","ECWHA3C393J4",1600,"DC",3.9E-2,"± 5",20.6,12.1,23,7.5,"Inner crimped lead wire type (Style B)","-40 to 105 (85)","30.0P crimped lead taping (ammo packing)",200,"https://industrial.panasonic.com/ww/products/pt/film-cap-electroequip/models/ECWHA3C393J4","≤21","≤13","≤23",{"$f":"pana_film[[#This Row],[Body length / dia\n(mm)]]&\" x \"&pana_film[[#This Row],[Body width\n(mm)]]","v":"20.6 x 12.1"},"-","-"]
[null,"Std","dip","PP","No","ECWH(A)","ECWHA3C393J",1600,"DC",3.9E-2,"± 5",20.6,12.1,18,17.5,"Straight lead wire type","-40 to 105 (85)","Bulk (Bag packing)",800,"https://industrial.panasonic.com/ww/products/pt/film-cap-electroequip/models/ECWHA3C393J","≤21","≤13","≤18",{"$f":"pana_film[[#This Row],[Body length / dia\n(mm)]]&\" x \"&pana_film[[#This Row],[Body width\n(mm)]]","v":"20.6 x 12.1"},"-","-"]
[null,"Std","dip","PP","No","ECWH(A)","ECWHA3C393HQ",1600,"DC",3.9E-2,"± 3",20.6,12.1,25,17.5,"Crimped lead wire type (Style D)","-40 to 105 (85)","Bulk (Bag packing)",1000,"https://industrial.panasonic.com/ww/products/pt/film-cap-electroequip/models/ECWHA3C393HQ","≤21","≤13","≤25",{"$f":"pana_film[[#This Row],[Body length / dia\n(mm)]]&\" x \"&pana_film[[#This Row],[Body width\n(mm)]]","v":"20.6 x 12.1"},"-","-"]
[null,"Std","dip","PP","No","ECWH(A)","ECWHA3C393HC",1600,"DC",3.9E-2,"± 3",20.6,12.1,18,17.5,"Short cut lead wire type","-40 to 105 (85)","Bulk (Bag packing)",1000,"https://industrial.panasonic.com/ww/products/pt/film-cap-electroequip/models/ECWHA3C393HC","≤21","≤13","≤18",{"$f":"pana_film[[#This Row],[Body length / dia\n(mm)]]&\" x \"&pana_film[[#This Row],[Body width\n(mm)]]","v":"20.6 x 12.1"},"-","-"]
[null,"Std","dip","PP","No","ECWH(A)","ECWHA3C393HB",1600,"DC",3.9E-2,"± 3",20.6,12.1,23,10,"Inner crimped lead wire type (Style B)","-40 to 105 (85)","Bulk (Bag packing)",1000,"https://industrial.panasonic.com/ww/products/pt/film-cap-electroequip/models/ECWHA3C393HB","≤21","≤13","≤23",{"$f":"pana_film[[#This Row],[Body length / dia\n(mm)]]&\" x \"&pana_film[[#This Row],[Body width\n(mm)]]","v":"20.6 x 12.1"},"-","-"]
[null,"Std","dip","PP","No","ECWH(A)","ECWHA3C393H4",1600,"DC",3.9E-2,"± 3",20.6,12.1,23,7.5,"Inner crimped lead wire type (Style B)","-40 to 105 (85)","30.0P crimped lead taping (ammo packing)",200,"https://industrial.panasonic.com/ww/products/pt/film-cap-electroequip/models/ECWHA3C393H4","≤21","≤13","≤23",{"$f":"pana_film[[#This Row],[Body length / dia\n(mm)]]&\" x \"&pana_film[[#This Row],[Body width\n(mm)]]","v":"20.6 x 12.1"},"-","-"]
[null,"Std","dip","PP","No","ECWH(A)","ECWHA3C393H",1600,"DC",3.9E-2,"± 3",20.6,12.1,18,17.5,"Straight lead wire type","-40 to 105 (85)","Bulk (Bag packing)",800,"https://industrial.panasonic.com/ww/products/pt/film-cap-electroequip/models/ECWHA3C393H","≤21","≤13","≤18",{"$f":"pana_film[[#This Row],[Body length / dia\n(mm)]]&\" x \"&pana_film[[#This Row],[Body width\n(mm)]]","v":"20.6 x 12.1"},"-","-"]
[null,"Std","dip","PP","No","ECWH(A)","ECWHA3C392JQ",1600,"DC",3.8999999999999998E-3,"± 5",17.8,6,13.8,15,"Crimped lead wire type (Style D)","-40 to 105 (85)","Bulk (Bag packing)",1000,"https://industrial.panasonic.com/ww/products/pt/film-cap-electroequip/models/ECWHA3C392JQ","≤18","≤ 6","≤14",{"$f":"pana_film[[#This Row],[Body length / dia\n(mm)]]&\" x \"&pana_film[[#This Row],[Body width\n(mm)]]","v":"17.8 x 6"},"-","-"]
[null,"Std","dip","PP","No","ECWH(A)","ECWHA3C392JB",1600,"DC",3.8999999999999998E-3,"± 5",17.8,6,13.8,10,"Inner crimped lead wire type (Style B)","-40 to 105 (85)","Bulk (Bag packing)",1000,"https://industrial.panasonic.com/ww/products/pt/film-cap-electroequip/models/ECWHA3C392JB","≤18","≤ 6","≤14",{"$f":"pana_film[[#This Row],[Body length / dia\n(mm)]]&\" x \"&pana_film[[#This Row],[Body width\n(mm)]]","v":"17.8 x 6"},"-","-"]
[null,"Std","dip","PP","No","ECWH(A)","ECWHA3C392J4",1600,"DC",3.8999999999999998E-3,"± 5",17.8,6,13.8,7.5,"Inner crimped lead wire type (Style B)","-40 to 105 (85)","30.0P crimped lead taping (ammo packing)",500,"https://industrial.panasonic.com/ww/products/pt/film-cap-electroequip/models/ECWHA3C392J4","≤18","≤ 6","≤14",{"$f":"pana_film[[#This Row],[Body length / dia\n(mm)]]&\" x \"&pana_film[[#This Row],[Body width\n(mm)]]","v":"17.8 x 6"},"-","-"]
[null,"Std","dip","PP","No","ECWH(A)","ECWHA3C392HQ",1600,"DC",3.8999999999999998E-3,"± 3",17.8,6,13.8,15,"Crimped lead wire type (Style D)","-40 to 105 (85)","Bulk (Bag packing)",1000,"https://industrial.panasonic.com/ww/products/pt/film-cap-electroequip/models/ECWHA3C392HQ","≤18","≤ 6","≤14",{"$f":"pana_film[[#This Row],[Body length / dia\n(mm)]]&\" x \"&pana_film[[#This Row],[Body width\n(mm)]]","v":"17.8 x 6"},"-","-"]
[null,"Std","dip","PP","No","ECWH(A)","ECWHA3C392HB",1600,"DC",3.8999999999999998E-3,"± 3",17.8,6,13.8,10,"Inner crimped lead wire type (Style B)","-40 to 105 (85)","Bulk (Bag packing)",1000,"https://industrial.panasonic.com/ww/products/pt/film-cap-electroequip/models/ECWHA3C392HB","≤18","≤ 6","≤14",{"$f":"pana_film[[#This Row],[Body length / dia\n(mm)]]&\" x \"&pana_film[[#This Row],[Body width\n(mm)]]","v":"17.8 x 6"},"-","-"]
[null,"Std","dip","PP","No","ECWH(A)","ECWHA3C392H4",1600,"DC",3.8999999999999998E-3,"± 3",17.8,6,13.8,7.5,"Inner crimped lead wire type (Style B)","-40 to 105 (85)","30.0P crimped lead taping (ammo packing)",500,"https://industrial.panasonic.com/ww/products/pt/film-cap-electroequip/models/ECWHA3C392H4","≤18","≤ 6","≤14",{"$f":"pana_film[[#This Row],[Body length / dia\n(mm)]]&\" x \"&pana_film[[#This Row],[Body width\n(mm)]]","v":"17.8 x 6"},"-","-"]
[null,"Std","dip","PP","No","ECWH(A)","ECWHA3C363JQ",1600,"DC",3.5999999999999997E-2,"± 5",20.6,11.7,24.5,17.5,"Crimped lead wire type (Style D)","-40 to 105 (85)","Bulk (Bag packing)",1000,"https://industrial.panasonic.com/ww/products/pt/film-cap-electroequip/models/ECWHA3C363JQ","≤21","≤12","≤24.5",{"$f":"pana_film[[#This Row],[Body length / dia\n(mm)]]&\" x \"&pana_film[[#This Row],[Body width\n(mm)]]","v":"20.6 x 11.7"},"-","-"]
[null,"Std","dip","PP","No","ECWH(A)","ECWHA3C363JC",1600,"DC",3.5999999999999997E-2,"± 5",20.6,11.7,17.5,17.5,"Short cut lead wire type","-40 to 105 (85)","Bulk (Bag packing)",1000,"https://industrial.panasonic.com/ww/products/pt/film-cap-electroequip/models/ECWHA3C363JC","≤21","≤12","≤17.5",{"$f":"pana_film[[#This Row],[Body length / dia\n(mm)]]&\" x \"&pana_film[[#This Row],[Body width\n(mm)]]","v":"20.6 x 11.7"},"-","-"]
[null,"Std","dip","PP","No","ECWH(A)","ECWHA3C363JB",1600,"DC",3.5999999999999997E-2,"± 5",20.6,11.7,22.5,10,"Inner crimped lead wire type (Style B)","-40 to 105 (85)","Bulk (Bag packing)",1000,"https://industrial.panasonic.com/ww/products/pt/film-cap-electroequip/models/ECWHA3C363JB","≤21","≤12","≤22.5",{"$f":"pana_film[[#This Row],[Body length / dia\n(mm)]]&\" x \"&pana_film[[#This Row],[Body width\n(mm)]]","v":"20.6 x 11.7"},"-","-"]
[null,"Std","dip","PP","No","ECWH(A)","ECWHA3C363J4",1600,"DC",3.5999999999999997E-2,"± 5",20.6,11.7,22.5,7.5,"Inner crimped lead wire type (Style B)","-40 to 105 (85)","30.0P crimped lead taping (ammo packing)",200,"https://industrial.panasonic.com/ww/products/pt/film-cap-electroequip/models/ECWHA3C363J4",{"$f":"IF(L583<=9.5,\"≤ \"&ROUNDUP(L583*1,0)/1,\"≤\"&ROUNDUP(L583*1,0)/1)","v":"≤21"},{"$f":"IF(M583<=9,\"≤ \"&ROUNDUP(M583*1,0)/1,\"≤\"&ROUNDUP(M583*1,0)/1)","v":"≤12"},{"$f":"IF(N583<=9.5,\"≤ \"&ROUNDUP(N583*2,0)/2,\"≤\"&ROUNDUP(N583*2,0)/2)","v":"≤22.5"},{"$f":"pana_film[[#This Row],[Body length / dia\n(mm)]]&\" x \"&pana_film[[#This Row],[Body width\n(mm)]]","v":"20.6 x 11.7"},"-","-"]
[null,"Std","dip","PP","No","ECWH(A)","ECWHA3C363J",1600,"DC",3.5999999999999997E-2,"± 5",20.6,11.7,17.5,17.5,"Straight lead wire type","-40 to 105 (85)","Bulk (Bag packing)",800,"https://industrial.panasonic.com/ww/products/pt/film-cap-electroequip/models/ECWHA3C363J","≤21","≤12","≤17.5",{"$f":"pana_film[[#This Row],[Body length / dia\n(mm)]]&\" x \"&pana_film[[#This Row],[Body width\n(mm)]]","v":"20.6 x 11.7"},"-","-"]
[null,"Std","dip","PP","No","ECWH(A)","ECWHA3C363HQ",1600,"DC",3.5999999999999997E-2,"± 3",20.6,11.7,24.5,17.5,"Crimped lead wire type (Style D)","-40 to 105 (85)","Bulk (Bag packing)",1000,"https://industrial.panasonic.com/ww/products/pt/film-cap-electroequip/models/ECWHA3C363HQ","≤21","≤12","≤24.5",{"$f":"pana_film[[#This Row],[Body length / dia\n(mm)]]&\" x \"&pana_film[[#This Row],[Body width\n(mm)]]","v":"20.6 x 11.7"},"-","-"]
[null,"Std","dip","PP","No","ECWH(A)","ECWHA3C363HC",1600,"DC",3.5999999999999997E-2,"± 3",20.6,11.7,17.5,17.5,"Short cut lead wire type","-40 to 105 (85)","Bulk (Bag packing)",1000,"https://industrial.panasonic.com/ww/products/pt/film-cap-electroequip/models/ECWHA3C363HC","≤21","≤12","≤17.5",{"$f":"pana_film[[#This Row],[Body length / dia\n(mm)]]&\" x \"&pana_film[[#This Row],[Body width\n(mm)]]","v":"20.6 x 11.7"},"-","-"]
[null,"Std","dip","PP","No","ECWH(A)","ECWHA3C363HB",1600,"DC",3.5999999999999997E-2,"± 3",20.6,11.7,22.5,10,"Inner crimped lead wire type (Style B)","-40 to 105 (85)","Bulk (Bag packing)",1000,"https://industrial.panasonic.com/ww/products/pt/film-cap-electroequip/models/ECWHA3C363HB","≤21","≤12","≤22.5",{"$f":"pana_film[[#This Row],[Body length / dia\n(mm)]]&\" x \"&pana_film[[#This Row],[Body width\n(mm)]]","v":"20.6 x 11.7"},"-","-"]
[null,"Std","dip","PP","No","ECWH(A)","ECWHA3C363H4",1600,"DC",3.5999999999999997E-2,"± 3",20.6,11.7,22.5,7.5,"Inner crimped lead wire type (Style B)","-40 to 105 (85)","30.0P crimped lead taping (ammo packing)",200,"https://industrial.panasonic.com/ww/products/pt/film-cap-electroequip/models/ECWHA3C363H4","≤21","≤12","≤22.5",{"$f":"pana_film[[#This Row],[Body length / dia\n(mm)]]&\" x \"&pana_film[[#This Row],[Body width\n(mm)]]","v":"20.6 x 11.7"},"-","-"]
[null,"Std","dip","PP","No","ECWH(A)","ECWHA3C363H",1600,"DC",3.5999999999999997E-2,"± 3",20.6,11.7,17.5,17.5,"Straight lead wire type","-40 to 105 (85)","Bulk (Bag packing)",800,"https://industrial.panasonic.com/ww/products/pt/film-cap-electroequip/models/ECWHA3C363H","≤21","≤12","≤17.5",{"$f":"pana_film[[#This Row],[Body length / dia\n(mm)]]&\" x \"&pana_film[[#This Row],[Body width\n(mm)]]","v":"20.6 x 11.7"},"-","-"]
[null,"Std","dip","PP","No","ECWH(A)","ECWHA3C362JQ",1600,"DC",3.5999999999999999E-3,"± 5",17.8,5.7,13.5,15,"Crimped lead wire type (Style D)","-40 to 105 (85)","Bulk (Bag packing)",1000,"https://industrial.panasonic.com/ww/products/pt/film-cap-electroequip/models/ECWHA3C362JQ","≤18","≤ 6","≤13.5",{"$f":"pana_film[[#This Row],[Body length / dia\n(mm)]]&\" x \"&pana_film[[#This Row],[Body width\n(mm)]]","v":"17.8 x 5.7"},"-","-"]
[null,"Std","dip","PP","No","ECWH(A)","ECWHA3C362JB",1600,"DC",3.5999999999999999E-3,"± 5",17.8,5.7,13.5,10,"Inner crimped lead wire type (Style B)","-40 to 105 (85)","Bulk (Bag packing)",1000,"https://industrial.panasonic.com/ww/products/pt/film-cap-electroequip/models/ECWHA3C362JB","≤18","≤ 6","≤13.5",{"$f":"pana_film[[#This Row],[Body length / dia\n(mm)]]&\" x \"&pana_film[[#This Row],[Body width\n(mm)]]","v":"17.8 x 5.7"},"-","-"]
[null,"Std","dip","PP","No","ECWH(A)","ECWHA3C362J4",1600,"DC",3.5999999999999999E-3,"± 5",17.8,5.7,13.5,7.5,"Inner crimped lead wire type (Style B)","-40 to 105 (85)","30.0P crimped lead taping (ammo packing)",500,"https://industrial.panasonic.com/ww/products/pt/film-cap-electroequip/models/ECWHA3C362J4","≤18","≤ 6","≤13.5",{"$f":"pana_film[[#This Row],[Body length / dia\n(mm)]]&\" x \"&pana_film[[#This Row],[Body width\n(mm)]]","v":"17.8 x 5.7"},"-","-"]
[null,"Std","dip","PP","No","ECWH(A)","ECWHA3C362HQ",1600,"DC",3.5999999999999999E-3,"± 3",17.8,5.7,13.5,15,"Crimped lead wire type (Style D)","-40 to 105 (85)","Bulk (Bag packing)",1000,"https://industrial.panasonic.com/ww/products/pt/film-cap-electroequip/models/ECWHA3C362HQ","≤18","≤ 6","≤13.5",{"$f":"pana_film[[#This Row],[Body length / dia\n(mm)]]&\" x \"&pana_film[[#This Row],[Body width\n(mm)]]","v":"17.8 x 5.7"},"-","-"]
[null,"Std","dip","PP","No","ECWH(A)","ECWHA3C362HB",1600,"DC",3.5999999999999999E-3,"± 3",17.8,5.7,13.5,10,"Inner crimped lead wire type (Style B)","-40 to 105 (85)","Bulk (Bag packing)",1000,"https://industrial.panasonic.com/ww/products/pt/film-cap-electroequip/models/ECWHA3C362HB","≤18","≤ 6","≤13.5",{"$f":"pana_film[[#This Row],[Body length / dia\n(mm)]]&\" x \"&pana_film[[#This Row],[Body width\n(mm)]]","v":"17.8 x 5.7"},"-","-"]
[null,"Std","dip","PP","No","ECWH(A)","ECWHA3C362H4",1600,"DC",3.5999999999999999E-3,"± 3",17.8,5.7,13.5,7.5,"Inner crimped lead wire type (Style B)","-40 to 105 (85)","30.0P crimped lead taping (ammo packing)",500,"https://industrial.panasonic.com/ww/products/pt/film-cap-electroequip/models/ECWHA3C362H4","≤18","≤ 6","≤13.5",{"$f":"pana_film[[#This Row],[Body length / dia\n(mm)]]&\" x \"&pana_film[[#This Row],[Body width\n(mm)]]","v":"17.8 x 5.7"},"-","-"]
[null,"Std","dip","PP","No","ECWH(A)","ECWHA3C333JQ",1600,"DC",3.3000000000000002E-2,"± 5",20.6,11.2,24,17.5,"Crimped lead wire type (Style D)","-40 to 105 (85)","Bulk (Bag packing)",1000,"https://industrial.panasonic.com/ww/products/pt/film-cap-electroequip/models/ECWHA3C333JQ","≤21","≤12","≤24",{"$f":"pana_film[[#This Row],[Body length / dia\n(mm)]]&\" x \"&pana_film[[#This Row],[Body width\n(mm)]]","v":"20.6 x 11.2"},"-","-"]
[null,"Std","dip","PP","No","ECWH(A)","ECWHA3C333JC",1600,"DC",3.3000000000000002E-2,"± 5",20.6,11.2,17,17.5,"Short cut lead wire type","-40 to 105 (85)","Bulk (Bag packing)",1000,"https://industrial.panasonic.com/ww/products/pt/film-cap-electroequip/models/ECWHA3C333JC","≤21","≤12","≤17",{"$f":"pana_film[[#This Row],[Body length / dia\n(mm)]]&\" x \"&pana_film[[#This Row],[Body width\n(mm)]]","v":"20.6 x 11.2"},"-","-"]
[null,"Std","dip","PP","No","ECWH(A)","ECWHA3C333JB",1600,"DC",3.3000000000000002E-2,"± 5",20.6,11.2,22,10,"Inner crimped lead wire type (Style B)","-40 to 105 (85)","Bulk (Bag packing)",1000,"https://industrial.panasonic.com/ww/products/pt/film-cap-electroequip/models/ECWHA3C333JB","≤21","≤12","≤22",{"$f":"pana_film[[#This Row],[Body length / dia\n(mm)]]&\" x \"&pana_film[[#This Row],[Body width\n(mm)]]","v":"20.6 x 11.2"},"-","-"]
[null,"Std","dip","PP","No","ECWH(A)","ECWHA3C333J4",1600,"DC",3.3000000000000002E-2,"± 5",20.6,11.2,22,7.5,"Inner crimped lead wire type (Style B)","-40 to 105 (85)","30.0P crimped lead taping (ammo packing)",200,"https://industrial.panasonic.com/ww/products/pt/film-cap-electroequip/models/ECWHA3C333J4","≤21","≤12","≤22",{"$f":"pana_film[[#This Row],[Body length / dia\n(mm)]]&\" x \"&pana_film[[#This Row],[Body width\n(mm)]]","v":"20.6 x 11.2"},"-","-"]
[null,"Std","dip","PP","No","ECWH(A)","ECWHA3C333J",1600,"DC",3.3000000000000002E-2,"± 5",20.6,11.2,17,17.5,"Straight lead wire type","-40 to 105 (85)","Bulk (Bag packing)",800,"https://industrial.panasonic.com/ww/products/pt/film-cap-electroequip/models/ECWHA3C333J","≤21","≤12","≤17",{"$f":"pana_film[[#This Row],[Body length / dia\n(mm)]]&\" x \"&pana_film[[#This Row],[Body width\n(mm)]]","v":"20.6 x 11.2"},"-","-"]
[null,"Std","dip","PP","No","ECWH(A)","ECWHA3C333HQ",1600,"DC",3.3000000000000002E-2,"± 3",20.6,11.2,24,17.5,"Crimped lead wire type (Style D)","-40 to 105 (85)","Bulk (Bag packing)",1000,"https://industrial.panasonic.com/ww/products/pt/film-cap-electroequip/models/ECWHA3C333HQ","≤21","≤12","≤24",{"$f":"pana_film[[#This Row],[Body length / dia\n(mm)]]&\" x \"&pana_film[[#This Row],[Body width\n(mm)]]","v":"20.6 x 11.2"},"-","-"]
[null,"Std","dip","PP","No","ECWH(A)","ECWHA3C333HC",1600,"DC",3.3000000000000002E-2,"± 3",20.6,11.2,17,17.5,"Short cut lead wire type","-40 to 105 (85)","Bulk (Bag packing)",1000,"https://industrial.panasonic.com/ww/products/pt/film-cap-electroequip/models/ECWHA3C333HC","≤21","≤12","≤17",{"$f":"pana_film[[#This Row],[Body length / dia\n(mm)]]&\" x \"&pana_film[[#This Row],[Body width\n(mm)]]","v":"20.6 x 11.2"},"-","-"]
[null,"Std","dip","PP","No","ECWH(A)","ECWHA3C333HB",1600,"DC",3.3000000000000002E-2,"± 3",20.6,11.2,22,10,"Inner crimped lead wire type (Style B)","-40 to 105 (85)","Bulk (Bag packing)",1000,"https://industrial.panasonic.com/ww/products/pt/film-cap-electroequip/models/ECWHA3C333HB","≤21","≤12","≤22",{"$f":"pana_film[[#This Row],[Body length / dia\n(mm)]]&\" x \"&pana_film[[#This Row],[Body width\n(mm)]]","v":"20.6 x 11.2"},"-","-"]
[null,"Std","dip","PP","No","ECWH(A)","ECWHA3C333H4",1600,"DC",3.3000000000000002E-2,"± 3",20.6,11.2,22,7.5,"Inner crimped lead wire type (Style B)","-40 to 105 (85)","30.0P crimped lead taping (ammo packing)",200,"https://industrial.panasonic.com/ww/products/pt/film-cap-electroequip/models/ECWHA3C333H4","≤21","≤12","≤22",{"$f":"pana_film[[#This Row],[Body length / dia\n(mm)]]&\" x \"&pana_film[[#This Row],[Body width\n(mm)]]","v":"20.6 x 11.2"},"-","-"]
[null,"Std","dip","PP","No","ECWH(A)","ECWHA3C333H",1600,"DC",3.3000000000000002E-2,"± 3",20.6,11.2,17,17.5,"Straight lead wire type","-40 to 105 (85)","Bulk (Bag packing)",800,"https://industrial.panasonic.com/ww/products/pt/film-cap-electroequip/models/ECWHA3C333H","≤21","≤12","≤17",{"$f":"pana_film[[#This Row],[Body length / dia\n(mm)]]&\" x \"&pana_film[[#This Row],[Body width\n(mm)]]","v":"20.6 x 11.2"},"-","-"]
[null,"Std","dip","PP","No","ECWH(A)","ECWHA3C332JQ",1600,"DC",3.3E-3,"± 5",17.8,5.6,13.4,15,"Crimped lead wire type (Style D)","-40 to 105 (85)","Bulk (Bag packing)",1000,"https://industrial.panasonic.com/ww/products/pt/film-cap-electroequip/models/ECWHA3C332JQ","≤18","≤ 6","≤13.5",{"$f":"pana_film[[#This Row],[Body length / dia\n(mm)]]&\" x \"&pana_film[[#This Row],[Body width\n(mm)]]","v":"17.8 x 5.6"},"-","-"]
[null,"Std","dip","PP","No","ECWH(A)","ECWHA3C332JB",1600,"DC",3.3E-3,"± 5",17.8,5.6,13.4,10,"Inner crimped lead wire type (Style B)","-40 to 105 (85)","Bulk (Bag packing)",1000,"https://industrial.panasonic.com/ww/products/pt/film-cap-electroequip/models/ECWHA3C332JB","≤18","≤ 6","≤13.5",{"$f":"pana_film[[#This Row],[Body length / dia\n(mm)]]&\" x \"&pana_film[[#This Row],[Body width\n(mm)]]","v":"17.8 x 5.6"},"-","-"]
[null,"Std","dip","PP","No","ECWH(A)","ECWHA3C332J4",1600,"DC",3.3E-3,"± 5",17.8,5.6,13.4,7.5,"Inner crimped lead wire type (Style B)","-40 to 105 (85)","30.0P crimped lead taping (ammo packing)",500,"https://industrial.panasonic.com/ww/products/pt/film-cap-electroequip/models/ECWHA3C332J4","≤18","≤ 6","≤13.5",{"$f":"pana_film[[#This Row],[Body length / dia\n(mm)]]&\" x \"&pana_film[[#This Row],[Body width\n(mm)]]","v":"17.8 x 5.6"},"-","-"]
[null,"Std","dip","PP","No","ECWH(A)","ECWHA3C332HQ",1600,"DC",3.3E-3,"± 3",17.8,5.6,13.4,15,"Crimped lead wire type (Style D)","-40 to 105 (85)","Bulk (Bag packing)",1000,"https://industrial.panasonic.com/ww/products/pt/film-cap-electroequip/models/ECWHA3C332HQ","≤18","≤ 6","≤13.5",{"$f":"pana_film[[#This Row],[Body length / dia\n(mm)]]&\" x \"&pana_film[[#This Row],[Body width\n(mm)]]","v":"17.8 x 5.6"},"-","-"]
[null,"Std","dip","PP","No","ECWH(A)","ECWHA3C332HB",1600,"DC",3.3E-3,"± 3",17.8,5.6,13.4,10,"Inner crimped lead wire type (Style B)","-40 to 105 (85)","Bulk (Bag packing)",1000,"https://industrial.panasonic.com/ww/products/pt/film-cap-electroequip/models/ECWHA3C332HB","≤18","≤ 6","≤13.5",{"$f":"pana_film[[#This Row],[Body length / dia\n(mm)]]&\" x \"&pana_film[[#This Row],[Body width\n(mm)]]","v":"17.8 x 5.6"},"-","-"]
[null,"Std","dip","PP","No","ECWH(A)","ECWHA3C332H4",1600,"DC",3.3E-3,"± 3",17.8,5.6,13.4,7.5,"Inner crimped lead wire type (Style B)","-40 to 105 (85)","30.0P crimped lead taping (ammo packing)",500,"https://industrial.panasonic.com/ww/products/pt/film-cap-electroequip/models/ECWHA3C332H4","≤18","≤ 6","≤13.5",{"$f":"pana_film[[#This Row],[Body length / dia\n(mm)]]&\" x \"&pana_film[[#This Row],[Body width\n(mm)]]","v":"17.8 x 5.6"},"-","-"]
[null,"Std","dip","PP","No","ECWH(A)","ECWHA3C303JQ",1600,"DC",0.03,"± 5",20.6,10.7,23.5,17.5,"Crimped lead wire type (Style D)","-40 to 105 (85)","Bulk (Bag packing)",1000,"https://industrial.panasonic.com/ww/products/pt/film-cap-electroequip/models/ECWHA3C303JQ","≤21","≤11","≤23.5",{"$f":"pana_film[[#This Row],[Body length / dia\n(mm)]]&\" x \"&pana_film[[#This Row],[Body width\n(mm)]]","v":"20.6 x 10.7"},"-","-"]
[null,"Std","dip","PP","No","ECWH(A)","ECWHA3C303JC",1600,"DC",0.03,"± 5",20.6,10.7,16.5,17.5,"Short cut lead wire type","-40 to 105 (85)","Bulk (Bag packing)",1000,"https://industrial.panasonic.com/ww/products/pt/film-cap-electroequip/models/ECWHA3C303JC","≤21","≤11","≤16.5",{"$f":"pana_film[[#This Row],[Body length / dia\n(mm)]]&\" x \"&pana_film[[#This Row],[Body width\n(mm)]]","v":"20.6 x 10.7"},"-","-"]
[null,"Std","dip","PP","No","ECWH(A)","ECWHA3C303JB",1600,"DC",0.03,"± 5",20.6,10.7,21.5,10,"Inner crimped lead wire type (Style B)","-40 to 105 (85)","Bulk (Bag packing)",1000,"https://industrial.panasonic.com/ww/products/pt/film-cap-electroequip/models/ECWHA3C303JB","≤21","≤11","≤21.5",{"$f":"pana_film[[#This Row],[Body length / dia\n(mm)]]&\" x \"&pana_film[[#This Row],[Body width\n(mm)]]","v":"20.6 x 10.7"},"-","-"]
[null,"Std","dip","PP","No","ECWH(A)","ECWHA3C303J4",1600,"DC",0.03,"± 5",20.6,10.7,21.5,7.5,"Inner crimped lead wire type (Style B)","-40 to 105 (85)","30.0P crimped lead taping (ammo packing)",200,"https://industrial.panasonic.com/ww/products/pt/film-cap-electroequip/models/ECWHA3C303J4","≤21","≤11","≤21.5",{"$f":"pana_film[[#This Row],[Body length / dia\n(mm)]]&\" x \"&pana_film[[#This Row],[Body width\n(mm)]]","v":"20.6 x 10.7"},"-","-"]
[null,"Std","dip","PP","No","ECWH(A)","ECWHA3C303J",1600,"DC",0.03,"± 5",20.6,10.7,16.5,17.5,"Straight lead wire type","-40 to 105 (85)","Bulk (Bag packing)",800,"https://industrial.panasonic.com/ww/products/pt/film-cap-electroequip/models/ECWHA3C303J","≤21","≤11","≤16.5",{"$f":"pana_film[[#This Row],[Body length / dia\n(mm)]]&\" x \"&pana_film[[#This Row],[Body width\n(mm)]]","v":"20.6 x 10.7"},"-","-"]
[null,"Std","dip","PP","No","ECWH(A)","ECWHA3C303HQ",1600,"DC",0.03,"± 3",20.6,10.7,23.5,17.5,"Crimped lead wire type (Style D)","-40 to 105 (85)","Bulk (Bag packing)",1000,"https://industrial.panasonic.com/ww/products/pt/film-cap-electroequip/models/ECWHA3C303HQ","≤21","≤11","≤23.5",{"$f":"pana_film[[#This Row],[Body length / dia\n(mm)]]&\" x \"&pana_film[[#This Row],[Body width\n(mm)]]","v":"20.6 x 10.7"},"-","-"]
[null,"Std","dip","PP","No","ECWH(A)","ECWHA3C303HC",1600,"DC",0.03,"± 3",20.6,10.7,16.5,17.5,"Short cut lead wire type","-40 to 105 (85)","Bulk (Bag packing)",1000,"https://industrial.panasonic.com/ww/products/pt/film-cap-electroequip/models/ECWHA3C303HC","≤21","≤11","≤16.5",{"$f":"pana_film[[#This Row],[Body length / dia\n(mm)]]&\" x \"&pana_film[[#This Row],[Body width\n(mm)]]","v":"20.6 x 10.7"},"-","-"]
[null,"Std","dip","PP","No","ECWH(A)","ECWHA3C303HB",1600,"DC",0.03,"± 3",20.6,10.7,21.5,10,"Inner crimped lead wire type (Style B)","-40 to 105 (85)","Bulk (Bag packing)",1000,"https://industrial.panasonic.com/ww/products/pt/film-cap-electroequip/models/ECWHA3C303HB","≤21","≤11","≤21.5",{"$f":"pana_film[[#This Row],[Body length / dia\n(mm)]]&\" x \"&pana_film[[#This Row],[Body width\n(mm)]]","v":"20.6 x 10.7"},"-","-"]
[null,"Std","dip","PP","No","ECWH(A)","ECWHA3C303H4",1600,"DC",0.03,"± 3",20.6,10.7,21.5,7.5,"Inner crimped lead wire type (Style B)","-40 to 105 (85)","30.0P crimped lead taping (ammo packing)",200,"https://industrial.panasonic.com/ww/products/pt/film-cap-electroequip/models/ECWHA3C303H4","≤21","≤11","≤21.5",{"$f":"pana_film[[#This Row],[Body length / dia\n(mm)]]&\" x \"&pana_film[[#This Row],[Body width\n(mm)]]","v":"20.6 x 10.7"},"-","-"]
[null,"Std","dip","PP","No","ECWH(A)","ECWHA3C303H",1600,"DC",0.03,"± 3",20.6,10.7,16.5,17.5,"Straight lead wire type","-40 to 105 (85)","Bulk (Bag packing)",800,"https://industrial.panasonic.com/ww/products/pt/film-cap-electroequip/models/ECWHA3C303H","≤21","≤11","≤16.5",{"$f":"pana_film[[#This Row],[Body length / dia\n(mm)]]&\" x \"&pana_film[[#This Row],[Body width\n(mm)]]","v":"20.6 x 10.7"},"-","-"]
[null,"Std","dip","PP","No","ECWH(A)","ECWHA3C302JQ",1600,"DC",3.0000000000000001E-3,"± 5",17.8,5.5,13.2,15,"Crimped lead wire type (Style D)","-40 to 105 (85)","Bulk (Bag packing)",1000,"https://industrial.panasonic.com/ww/products/pt/film-cap-electroequip/models/ECWHA3C302JQ","≤18","≤ 6","≤13.5",{"$f":"pana_film[[#This Row],[Body length / dia\n(mm)]]&\" x \"&pana_film[[#This Row],[Body width\n(mm)]]","v":"17.8 x 5.5"},"-","-"]
[null,"Std","dip","PP","No","ECWH(A)","ECWHA3C302JB",1600,"DC",3.0000000000000001E-3,"± 5",17.8,5.5,13.2,10,"Inner crimped lead wire type (Style B)","-40 to 105 (85)","Bulk (Bag packing)",1000,"https://industrial.panasonic.com/ww/products/pt/film-cap-electroequip/models/ECWHA3C302JB","≤18","≤ 6","≤13.5",{"$f":"pana_film[[#This Row],[Body length / dia\n(mm)]]&\" x \"&pana_film[[#This Row],[Body width\n(mm)]]","v":"17.8 x 5.5"},"-","-"]
[null,"Std","dip","PP","No","ECWH(A)","ECWHA3C302J4",1600,"DC",3.0000000000000001E-3,"± 5",17.8,5.5,13.2,7.5,"Inner crimped lead wire type (Style B)","-40 to 105 (85)","30.0P crimped lead taping (ammo packing)",500,"https://industrial.panasonic.com/ww/products/pt/film-cap-electroequip/models/ECWHA3C302J4","≤18","≤ 6","≤13.5",{"$f":"pana_film[[#This Row],[Body length / dia\n(mm)]]&\" x \"&pana_film[[#This Row],[Body width\n(mm)]]","v":"17.8 x 5.5"},"-","-"]
[null,"Std","dip","PP","No","ECWH(A)","ECWHA3C302HQ",1600,"DC",3.0000000000000001E-3,"± 3",17.8,5.5,13.2,15,"Crimped lead wire type (Style D)","-40 to 105 (85)","Bulk (Bag packing)",1000,"https://industrial.panasonic.com/ww/products/pt/film-cap-electroequip/models/ECWHA3C302HQ","≤18","≤ 6","≤13.5",{"$f":"pana_film[[#This Row],[Body length / dia\n(mm)]]&\" x \"&pana_film[[#This Row],[Body width\n(mm)]]","v":"17.8 x 5.5"},"-","-"]
[null,"Std","dip","PP","No","ECWH(A)","ECWHA3C302HB",1600,"DC",3.0000000000000001E-3,"± 3",17.8,5.5,13.2,10,"Inner crimped lead wire type (Style B)","-40 to 105 (85)","Bulk (Bag packing)",1000,"https://industrial.panasonic.com/ww/products/pt/film-cap-electroequip/models/ECWHA3C302HB","≤18","≤ 6","≤13.5",{"$f":"pana_film[[#This Row],[Body length / dia\n(mm)]]&\" x \"&pana_film[[#This Row],[Body width\n(mm)]]","v":"17.8 x 5.5"},"-","-"]
[null,"Std","dip","PP","No","ECWH(A)","ECWHA3C302H4",1600,"DC",3.0000000000000001E-3,"± 3",17.8,5.5,13.2,7.5,"Inner crimped lead wire type (Style B)","-40 to 105 (85)","30.0P crimped lead taping (ammo packing)",500,"https://industrial.panasonic.com/ww/products/pt/film-cap-electroequip/models/ECWHA3C302H4","≤18","≤ 6","≤13.5",{"$f":"pana_film[[#This Row],[Body length / dia\n(mm)]]&\" x \"&pana_film[[#This Row],[Body width\n(mm)]]","v":"17.8 x 5.5"},"-","-"]
[null,"Std","dip","PP","No","ECWH(A)","ECWHA3C273JQ",1600,"DC",2.7E-2,"± 5",20.6,10,22.9,17.5,"Crimped lead wire type (Style D)","-40 to 105 (85)","Bulk (Bag packing)",1000,"https://industrial.panasonic.com/ww/products/pt/film-cap-electroequip/models/ECWHA3C273JQ","≤21","≤10","≤23",{"$f":"pana_film[[#This Row],[Body length / dia\n(mm)]]&\" x \"&pana_film[[#This Row],[Body width\n(mm)]]","v":"20.6 x 10"},"-","-"]
[null,"Std","dip","PP","No","ECWH(A)","ECWHA3C273JC",1600,"DC",2.7E-2,"± 5",20.6,10,15.9,17.5,"Short cut lead wire type","-40 to 105 (85)","Bulk (Bag packing)",1000,"https://industrial.panasonic.com/ww/products/pt/film-cap-electroequip/models/ECWHA3C273JC","≤21","≤10","≤16",{"$f":"pana_film[[#This Row],[Body length / dia\n(mm)]]&\" x \"&pana_film[[#This Row],[Body width\n(mm)]]","v":"20.6 x 10"},"-","-"]
[null,"Std","dip","PP","No","ECWH(A)","ECWHA3C273JB",1600,"DC",2.7E-2,"± 5",20.6,10,20.9,10,"Inner crimped lead wire type (Style B)","-40 to 105 (85)","Bulk (Bag packing)",1000,"https://industrial.panasonic.com/ww/products/pt/film-cap-electroequip/models/ECWHA3C273JB","≤21","≤10","≤21",{"$f":"pana_film[[#This Row],[Body length / dia\n(mm)]]&\" x \"&pana_film[[#This Row],[Body width\n(mm)]]","v":"20.6 x 10"},"-","-"]
[null,"Std","dip","PP","No","ECWH(A)","ECWHA3C273J4",1600,"DC",2.7E-2,"± 5",20.6,10,20.9,7.5,"Inner crimped lead wire type (Style B)","-40 to 105 (85)","30.0P crimped lead taping (ammo packing)",300,"https://industrial.panasonic.com/ww/products/pt/film-cap-electroequip/models/ECWHA3C273J4","≤21","≤10","≤21",{"$f":"pana_film[[#This Row],[Body length / dia\n(mm)]]&\" x \"&pana_film[[#This Row],[Body width\n(mm)]]","v":"20.6 x 10"},"-","-"]
[null,"Std","dip","PP","No","ECWH(A)","ECWHA3C273J",1600,"DC",2.7E-2,"± 5",20.6,10,15.9,17.5,"Straight lead wire type","-40 to 105 (85)","Bulk (Bag packing)",800,"https://industrial.panasonic.com/ww/products/pt/film-cap-electroequip/models/ECWHA3C273J","≤21","≤10","≤16",{"$f":"pana_film[[#This Row],[Body length / dia\n(mm)]]&\" x \"&pana_film[[#This Row],[Body width\n(mm)]]","v":"20.6 x 10"},"-","-"]
[null,"Std","dip","PP","No","ECWH(A)","ECWHA3C273HQ",1600,"DC",2.7E-2,"± 3",20.6,10,22.9,17.5,"Crimped lead wire type (Style D)","-40 to 105 (85)","Bulk (Bag packing)",1000,"https://industrial.panasonic.com/ww/products/pt/film-cap-electroequip/models/ECWHA3C273HQ","≤21","≤10","≤23",{"$f":"pana_film[[#This Row],[Body length / dia\n(mm)]]&\" x \"&pana_film[[#This Row],[Body width\n(mm)]]","v":"20.6 x 10"},"-","-"]
[null,"Std","dip","PP","No","ECWH(A)","ECWHA3C273HC",1600,"DC",2.7E-2,"± 3",20.6,10,15.9,17.5,"Short cut lead wire type","-40 to 105 (85)","Bulk (Bag packing)",1000,"https://industrial.panasonic.com/ww/products/pt/film-cap-electroequip/models/ECWHA3C273HC","≤21","≤10","≤16",{"$f":"pana_film[[#This Row],[Body length / dia\n(mm)]]&\" x \"&pana_film[[#This Row],[Body width\n(mm)]]","v":"20.6 x 10"},"-","-"]
[null,"Std","dip","PP","No","ECWH(A)","ECWHA3C273HB",1600,"DC",2.7E-2,"± 3",20.6,10,20.9,10,"Inner crimped lead wire type (Style B)","-40 to 105 (85)","Bulk (Bag packing)",1000,"https://industrial.panasonic.com/ww/products/pt/film-cap-electroequip/models/ECWHA3C273HB","≤21","≤10","≤21",{"$f":"pana_film[[#This Row],[Body length / dia\n(mm)]]&\" x \"&pana_film[[#This Row],[Body width\n(mm)]]","v":"20.6 x 10"},"-","-"]
[null,"Std","dip","PP","No","ECWH(A)","ECWHA3C273H4",1600,"DC",2.7E-2,"± 3",20.6,10,20.9,7.5,"Inner crimped lead wire type (Style B)","-40 to 105 (85)","30.0P crimped lead taping (ammo packing)",300,"https://industrial.panasonic.com/ww/products/pt/film-cap-electroequip/models/ECWHA3C273H4","≤21","≤10","≤21",{"$f":"pana_film[[#This Row],[Body length / dia\n(mm)]]&\" x \"&pana_film[[#This Row],[Body width\n(mm)]]","v":"20.6 x 10"},"-","-"]
[null,"Std","dip","PP","No","ECWH(A)","ECWHA3C273H",1600,"DC",2.7E-2,"± 3",20.6,10,15.9,17.5,"Straight lead wire type","-40 to 105 (85)","Bulk (Bag packing)",800,"https://industrial.panasonic.com/ww/products/pt/film-cap-electroequip/models/ECWHA3C273H","≤21","≤10","≤16",{"$f":"pana_film[[#This Row],[Body length / dia\n(mm)]]&\" x \"&pana_film[[#This Row],[Body width\n(mm)]]","v":"20.6 x 10"},"-","-"]
[null,"Std","dip","PP","No","ECWH(A)","ECWHA3C272JQ",1600,"DC",2.7000000000000001E-3,"± 5",17.8,5.2,13,15,"Crimped lead wire type (Style D)","-40 to 105 (85)","Bulk (Bag packing)",1000,"https://industrial.panasonic.com/ww/products/pt/film-cap-electroequip/models/ECWHA3C272JQ","≤18","≤ 6","≤13",{"$f":"pana_film[[#This Row],[Body length / dia\n(mm)]]&\" x \"&pana_film[[#This Row],[Body width\n(mm)]]","v":"17.8 x 5.2"},"-","-"]
[null,"Std","dip","PP","No","ECWH(A)","ECWHA3C272JB",1600,"DC",2.7000000000000001E-3,"± 5",17.8,5.2,13,10,"Inner crimped lead wire type (Style B)","-40 to 105 (85)","Bulk (Bag packing)",1000,"https://industrial.panasonic.com/ww/products/pt/film-cap-electroequip/models/ECWHA3C272JB","≤18","≤ 6","≤13",{"$f":"pana_film[[#This Row],[Body length / dia\n(mm)]]&\" x \"&pana_film[[#This Row],[Body width\n(mm)]]","v":"17.8 x 5.2"},"-","-"]
[null,"Std","dip","PP","No","ECWH(A)","ECWHA3C272J4",1600,"DC",2.7000000000000001E-3,"± 5",17.8,5.2,13,7.5,"Inner crimped lead wire type (Style B)","-40 to 105 (85)","30.0P crimped lead taping (ammo packing)",600,"https://industrial.panasonic.com/ww/products/pt/film-cap-electroequip/models/ECWHA3C272J4","≤18","≤ 6","≤13",{"$f":"pana_film[[#This Row],[Body length / dia\n(mm)]]&\" x \"&pana_film[[#This Row],[Body width\n(mm)]]","v":"17.8 x 5.2"},"-","-"]
[null,"Std","dip","PP","No","ECWH(A)","ECWHA3C272HQ",1600,"DC",2.7000000000000001E-3,"± 3",17.8,5.2,13,15,"Crimped lead wire type (Style D)","-40 to 105 (85)","Bulk (Bag packing)",1000,"https://industrial.panasonic.com/ww/products/pt/film-cap-electroequip/models/ECWHA3C272HQ","≤18","≤ 6","≤13",{"$f":"pana_film[[#This Row],[Body length / dia\n(mm)]]&\" x \"&pana_film[[#This Row],[Body width\n(mm)]]","v":"17.8 x 5.2"},"-","-"]
[null,"Std","dip","PP","No","ECWH(A)","ECWHA3C272HB",1600,"DC",2.7000000000000001E-3,"± 3",17.8,5.2,13,10,"Inner crimped lead wire type (Style B)","-40 to 105 (85)","Bulk (Bag packing)",1000,"https://industrial.panasonic.com/ww/products/pt/film-cap-electroequip/models/ECWHA3C272HB","≤18","≤ 6","≤13",{"$f":"pana_film[[#This Row],[Body length / dia\n(mm)]]&\" x \"&pana_film[[#This Row],[Body width\n(mm)]]","v":"17.8 x 5.2"},"-","-"]
[null,"Std","dip","PP","No","ECWH(A)","ECWHA3C272H4",1600,"DC",2.7000000000000001E-3,"± 3",17.8,5.2,13,7.5,"Inner crimped lead wire type (Style B)","-40 to 105 (85)","30.0P crimped lead taping (ammo packing)",600,"https://industrial.panasonic.com/ww/products/pt/film-cap-electroequip/models/ECWHA3C272H4","≤18","≤ 6","≤13",{"$f":"pana_film[[#This Row],[Body length / dia\n(mm)]]&\" x \"&pana_film[[#This Row],[Body width\n(mm)]]","v":"17.8 x 5.2"},"-","-"]
[null,"Std","dip","PP","No","ECWH(A)","ECWHA3C243JQ",1600,"DC",2.4E-2,"± 5",20.6,9.6,22.4,17.5,"Crimped lead wire type (Style D)","-40 to 105 (85)","Bulk (Bag packing)",1000,"https://industrial.panasonic.com/ww/products/pt/film-cap-electroequip/models/ECWHA3C243JQ","≤21","≤10","≤22.5",{"$f":"pana_film[[#This Row],[Body length / dia\n(mm)]]&\" x \"&pana_film[[#This Row],[Body width\n(mm)]]","v":"20.6 x 9.6"},"-","-"]
[null,"Std","dip","PP","No","ECWH(A)","ECWHA3C243JC",1600,"DC",2.4E-2,"± 5",20.6,9.6,15.4,17.5,"Short cut lead wire type","-40 to 105 (85)","Bulk (Bag packing)",1000,"https://industrial.panasonic.com/ww/products/pt/film-cap-electroequip/models/ECWHA3C243JC","≤21","≤10","≤15.5",{"$f":"pana_film[[#This Row],[Body length / dia\n(mm)]]&\" x \"&pana_film[[#This Row],[Body width\n(mm)]]","v":"20.6 x 9.6"},"-","-"]
[null,"Std","dip","PP","No","ECWH(A)","ECWHA3C243JB",1600,"DC",2.4E-2,"± 5",20.6,9.6,20.399999999999999,10,"Inner crimped lead wire type (Style B)","-40 to 105 (85)","Bulk (Bag packing)",1000,"https://industrial.panasonic.com/ww/products/pt/film-cap-electroequip/models/ECWHA3C243JB","≤21","≤10","≤20.5",{"$f":"pana_film[[#This Row],[Body length / dia\n(mm)]]&\" x \"&pana_film[[#This Row],[Body width\n(mm)]]","v":"20.6 x 9.6"},"-","-"]
[null,"Std","dip","PP","No","ECWH(A)","ECWHA3C243J4",1600,"DC",2.4E-2,"± 5",20.6,9.6,20.399999999999999,7.5,"Inner crimped lead wire type (Style B)","-40 to 105 (85)","30.0P crimped lead taping (ammo packing)",300,"https://industrial.panasonic.com/ww/products/pt/film-cap-electroequip/models/ECWHA3C243J4",{"$f":"IF(L647<=9.5,\"≤ \"&ROUNDUP(L647*1,0)/1,\"≤\"&ROUNDUP(L647*1,0)/1)","v":"≤21"},{"$f":"IF(M647<=9,\"≤ \"&ROUNDUP(M647*1,0)/1,\"≤\"&ROUNDUP(M647*1,0)/1)","v":"≤10"},{"$f":"IF(N647<=9.5,\"≤ \"&ROUNDUP(N647*2,0)/2,\"≤\"&ROUNDUP(N647*2,0)/2)","v":"≤20.5"},{"$f":"pana_film[[#This Row],[Body length / dia\n(mm)]]&\" x \"&pana_film[[#This Row],[Body width\n(mm)]]","v":"20.6 x 9.6"},"-","-"]
[null,"Std","dip","PP","No","ECWH(A)","ECWHA3C243J",1600,"DC",2.4E-2,"± 5",20.6,9.6,15.4,17.5,"Straight lead wire type","-40 to 105 (85)","Bulk (Bag packing)",800,"https://industrial.panasonic.com/ww/products/pt/film-cap-electroequip/models/ECWHA3C243J","≤21","≤10","≤15.5",{"$f":"pana_film[[#This Row],[Body length / dia\n(mm)]]&\" x \"&pana_film[[#This Row],[Body width\n(mm)]]","v":"20.6 x 9.6"},"-","-"]
[null,"Std","dip","PP","No","ECWH(A)","ECWHA3C243HQ",1600,"DC",2.4E-2,"± 3",20.6,9.6,22.4,17.5,"Crimped lead wire type (Style D)","-40 to 105 (85)","Bulk (Bag packing)",1000,"https://industrial.panasonic.com/ww/products/pt/film-cap-electroequip/models/ECWHA3C243HQ","≤21","≤10","≤22.5",{"$f":"pana_film[[#This Row],[Body length / dia\n(mm)]]&\" x \"&pana_film[[#This Row],[Body width\n(mm)]]","v":"20.6 x 9.6"},"-","-"]
[null,"Std","dip","PP","No","ECWH(A)","ECWHA3C243HC",1600,"DC",2.4E-2,"± 3",20.6,9.6,15.4,17.5,"Short cut lead wire type","-40 to 105 (85)","Bulk (Bag packing)",1000,"https://industrial.panasonic.com/ww/products/pt/film-cap-electroequip/models/ECWHA3C243HC","≤21","≤10","≤15.5",{"$f":"pana_film[[#This Row],[Body length / dia\n(mm)]]&\" x \"&pana_film[[#This Row],[Body width\n(mm)]]","v":"20.6 x 9.6"},"-","-"]
[null,"Std","dip","PP","No","ECWH(A)","ECWHA3C243HB",1600,"DC",2.4E-2,"± 3",20.6,9.6,20.399999999999999,10,"Inner crimped lead wire type (Style B)","-40 to 105 (85)","Bulk (Bag packing)",1000,"https://industrial.panasonic.com/ww/products/pt/film-cap-electroequip/models/ECWHA3C243HB","≤21","≤10","≤20.5",{"$f":"pana_film[[#This Row],[Body length / dia\n(mm)]]&\" x \"&pana_film[[#This Row],[Body width\n(mm)]]","v":"20.6 x 9.6"},"-","-"]
[null,"Std","dip","PP","No","ECWH(A)","ECWHA3C243H4",1600,"DC",2.4E-2,"± 3",20.6,9.6,20.399999999999999,7.5,"Inner crimped lead wire type (Style B)","-40 to 105 (85)","30.0P crimped lead taping (ammo packing)",300,"https://industrial.panasonic.com/ww/products/pt/film-cap-electroequip/models/ECWHA3C243H4","≤21","≤10","≤20.5",{"$f":"pana_film[[#This Row],[Body length / dia\n(mm)]]&\" x \"&pana_film[[#This Row],[Body width\n(mm)]]","v":"20.6 x 9.6"},"-","-"]
[null,"Std","dip","PP","No","ECWH(A)","ECWHA3C243H",1600,"DC",2.4E-2,"± 3",20.6,9.6,15.4,17.5,"Straight lead wire type","-40 to 105 (85)","Bulk (Bag packing)",800,"https://industrial.panasonic.com/ww/products/pt/film-cap-electroequip/models/ECWHA3C243H","≤21","≤10","≤15.5",{"$f":"pana_film[[#This Row],[Body length / dia\n(mm)]]&\" x \"&pana_film[[#This Row],[Body width\n(mm)]]","v":"20.6 x 9.6"},"-","-"]
[null,"Std","dip","PP","No","ECWH(A)","ECWHA3C242JQ",1600,"DC",2.3999999999999998E-3,"± 5",17.8,7,14.7,15,"Crimped lead wire type (Style D)","-40 to 105 (85)","Bulk (Bag packing)",1000,"https://industrial.panasonic.com/ww/products/pt/film-cap-electroequip/models/ECWHA3C242JQ","≤18","≤ 7","≤15",{"$f":"pana_film[[#This Row],[Body length / dia\n(mm)]]&\" x \"&pana_film[[#This Row],[Body width\n(mm)]]","v":"17.8 x 7"},"-","-"]
[null,"Std","dip","PP","No","ECWH(A)","ECWHA3C242JB",1600,"DC",2.3999999999999998E-3,"± 5",17.8,7,14.7,10,"Inner crimped lead wire type (Style B)","-40 to 105 (85)","Bulk (Bag packing)",1000,"https://industrial.panasonic.com/ww/products/pt/film-cap-electroequip/models/ECWHA3C242JB","≤18","≤ 7","≤15",{"$f":"pana_film[[#This Row],[Body length / dia\n(mm)]]&\" x \"&pana_film[[#This Row],[Body width\n(mm)]]","v":"17.8 x 7"},"-","-"]
[null,"Std","dip","PP","No","ECWH(A)","ECWHA3C242J4",1600,"DC",2.3999999999999998E-3,"± 5",17.8,7,14.7,7.5,"Inner crimped lead wire type (Style B)","-40 to 105 (85)","30.0P crimped lead taping (ammo packing)",400,"https://industrial.panasonic.com/ww/products/pt/film-cap-electroequip/models/ECWHA3C242J4","≤18","≤ 7","≤15",{"$f":"pana_film[[#This Row],[Body length / dia\n(mm)]]&\" x \"&pana_film[[#This Row],[Body width\n(mm)]]","v":"17.8 x 7"},"-","-"]
[null,"Std","dip","PP","No","ECWH(A)","ECWHA3C242HQ",1600,"DC",2.3999999999999998E-3,"± 3",17.8,7,14.7,15,"Crimped lead wire type (Style D)","-40 to 105 (85)","Bulk (Bag packing)",1000,"https://industrial.panasonic.com/ww/products/pt/film-cap-electroequip/models/ECWHA3C242HQ","≤18","≤ 7","≤15",{"$f":"pana_film[[#This Row],[Body length / dia\n(mm)]]&\" x \"&pana_film[[#This Row],[Body width\n(mm)]]","v":"17.8 x 7"},"-","-"]
[null,"Std","dip","PP","No","ECWH(A)","ECWHA3C242HB",1600,"DC",2.3999999999999998E-3,"± 3",17.8,7,14.7,10,"Inner crimped lead wire type (Style B)","-40 to 105 (85)","Bulk (Bag packing)",1000,"https://industrial.panasonic.com/ww/products/pt/film-cap-electroequip/models/ECWHA3C242HB","≤18","≤ 7","≤15",{"$f":"pana_film[[#This Row],[Body length / dia\n(mm)]]&\" x \"&pana_film[[#This Row],[Body width\n(mm)]]","v":"17.8 x 7"},"-","-"]
[null,"Std","dip","PP","No","ECWH(A)","ECWHA3C242H4",1600,"DC",2.3999999999999998E-3,"± 3",17.8,7,14.7,7.5,"Inner crimped lead wire type (Style B)","-40 to 105 (85)","30.0P crimped lead taping (ammo packing)",400,"https://industrial.panasonic.com/ww/products/pt/film-cap-electroequip/models/ECWHA3C242H4","≤18","≤ 7","≤15",{"$f":"pana_film[[#This Row],[Body length / dia\n(mm)]]&\" x \"&pana_film[[#This Row],[Body width\n(mm)]]","v":"17.8 x 7"},"-","-"]
[null,"Std","dip","PP","No","ECWH(A)","ECWHA3C223JQ",1600,"DC",2.1999999999999999E-2,"± 5",20.6,9.1,22,17.5,"Crimped lead wire type (Style D)","-40 to 105 (85)","Bulk (Bag packing)",1000,"https://industrial.panasonic.com/ww/products/pt/film-cap-electroequip/models/ECWHA3C223JQ","≤21","≤10","≤22",{"$f":"pana_film[[#This Row],[Body length / dia\n(mm)]]&\" x \"&pana_film[[#This Row],[Body width\n(mm)]]","v":"20.6 x 9.1"},"-","-"]
[null,"Std","dip","PP","No","ECWH(A)","ECWHA3C223JC",1600,"DC",2.1999999999999999E-2,"± 5",20.6,9.1,15,17.5,"Short cut lead wire type","-40 to 105 (85)","Bulk (Bag packing)",1000,"https://industrial.panasonic.com/ww/products/pt/film-cap-electroequip/models/ECWHA3C223JC","≤21","≤10","≤15",{"$f":"pana_film[[#This Row],[Body length / dia\n(mm)]]&\" x \"&pana_film[[#This Row],[Body width\n(mm)]]","v":"20.6 x 9.1"},"-","-"]
[null,"Std","dip","PP","No","ECWH(A)","ECWHA3C223JB",1600,"DC",2.1999999999999999E-2,"± 5",20.6,9.1,20,10,"Inner crimped lead wire type (Style B)","-40 to 105 (85)","Bulk (Bag packing)",1000,"https://industrial.panasonic.com/ww/products/pt/film-cap-electroequip/models/ECWHA3C223JB","≤21","≤10","≤20",{"$f":"pana_film[[#This Row],[Body length / dia\n(mm)]]&\" x \"&pana_film[[#This Row],[Body width\n(mm)]]","v":"20.6 x 9.1"},"-","-"]
[null,"Std","dip","PP","No","ECWH(A)","ECWHA3C223J4",1600,"DC",2.1999999999999999E-2,"± 5",20.6,9.1,20,7.5,"Inner crimped lead wire type (Style B)","-40 to 105 (85)","30.0P crimped lead taping (ammo packing)",300,"https://industrial.panasonic.com/ww/products/pt/film-cap-electroequip/models/ECWHA3C223J4","≤21","≤10","≤20",{"$f":"pana_film[[#This Row],[Body length / dia\n(mm)]]&\" x \"&pana_film[[#This Row],[Body width\n(mm)]]","v":"20.6 x 9.1"},"-","-"]
[null,"Std","dip","PP","No","ECWH(A)","ECWHA3C223J",1600,"DC",2.1999999999999999E-2,"± 5",20.6,9.1,15,17.5,"Straight lead wire type","-40 to 105 (85)","Bulk (Bag packing)",800,"https://industrial.panasonic.com/ww/products/pt/film-cap-electroequip/models/ECWHA3C223J","≤21","≤10","≤15",{"$f":"pana_film[[#This Row],[Body length / dia\n(mm)]]&\" x \"&pana_film[[#This Row],[Body width\n(mm)]]","v":"20.6 x 9.1"},"-","-"]
[null,"Std","dip","PP","No","ECWH(A)","ECWHA3C223HQ",1600,"DC",2.1999999999999999E-2,"± 3",20.6,9.1,22,17.5,"Crimped lead wire type (Style D)","-40 to 105 (85)","Bulk (Bag packing)",1000,"https://industrial.panasonic.com/ww/products/pt/film-cap-electroequip/models/ECWHA3C223HQ","≤21","≤10","≤22",{"$f":"pana_film[[#This Row],[Body length / dia\n(mm)]]&\" x \"&pana_film[[#This Row],[Body width\n(mm)]]","v":"20.6 x 9.1"},"-","-"]
[null,"Std","dip","PP","No","ECWH(A)","ECWHA3C223HC",1600,"DC",2.1999999999999999E-2,"± 3",20.6,9.1,15,17.5,"Short cut lead wire type","-40 to 105 (85)","Bulk (Bag packing)",1000,"https://industrial.panasonic.com/ww/products/pt/film-cap-electroequip/models/ECWHA3C223HC","≤21","≤10","≤15",{"$f":"pana_film[[#This Row],[Body length / dia\n(mm)]]&\" x \"&pana_film[[#This Row],[Body width\n(mm)]]","v":"20.6 x 9.1"},"-","-"]
[null,"Std","dip","PP","No","ECWH(A)","ECWHA3C223HB",1600,"DC",2.1999999999999999E-2,"± 3",20.6,9.1,20,10,"Inner crimped lead wire type (Style B)","-40 to 105 (85)","Bulk (Bag packing)",1000,"https://industrial.panasonic.com/ww/products/pt/film-cap-electroequip/models/ECWHA3C223HB","≤21","≤10","≤20",{"$f":"pana_film[[#This Row],[Body length / dia\n(mm)]]&\" x \"&pana_film[[#This Row],[Body width\n(mm)]]","v":"20.6 x 9.1"},"-","-"]
[null,"Std","dip","PP","No","ECWH(A)","ECWHA3C223H4",1600,"DC",2.1999999999999999E-2,"± 3",20.6,9.1,20,7.5,"Inner crimped lead wire type (Style B)","-40 to 105 (85)","30.0P crimped lead taping (ammo packing)",300,"https://industrial.panasonic.com/ww/products/pt/film-cap-electroequip/models/ECWHA3C223H4","≤21","≤10","≤20",{"$f":"pana_film[[#This Row],[Body length / dia\n(mm)]]&\" x \"&pana_film[[#This Row],[Body width\n(mm)]]","v":"20.6 x 9.1"},"-","-"]
[null,"Std","dip","PP","No","ECWH(A)","ECWHA3C223H",1600,"DC",2.1999999999999999E-2,"± 3",20.6,9.1,15,17.5,"Straight lead wire type","-40 to 105 (85)","Bulk (Bag packing)",800,"https://industrial.panasonic.com/ww/products/pt/film-cap-electroequip/models/ECWHA3C223H","≤21","≤10","≤15",{"$f":"pana_film[[#This Row],[Body length / dia\n(mm)]]&\" x \"&pana_film[[#This Row],[Body width\n(mm)]]","v":"20.6 x 9.1"},"-","-"]
[null,"Std","dip","PP","No","ECWH(A)","ECWHA3C222JQ",1600,"DC",2.2000000000000001E-3,"± 5",17.8,6.7,14.5,15,"Crimped lead wire type (Style D)","-40 to 105 (85)","Bulk (Bag packing)",1000,"https://industrial.panasonic.com/ww/products/pt/film-cap-electroequip/models/ECWHA3C222JQ","≤18","≤ 7","≤14.5",{"$f":"pana_film[[#This Row],[Body length / dia\n(mm)]]&\" x \"&pana_film[[#This Row],[Body width\n(mm)]]","v":"17.8 x 6.7"},"-","-"]
[null,"Std","dip","PP","No","ECWH(A)","ECWHA3C222JB",1600,"DC",2.2000000000000001E-3,"± 5",17.8,6.7,14.5,10,"Inner crimped lead wire type (Style B)","-40 to 105 (85)","Bulk (Bag packing)",1000,"https://industrial.panasonic.com/ww/products/pt/film-cap-electroequip/models/ECWHA3C222JB","≤18","≤ 7","≤14.5",{"$f":"pana_film[[#This Row],[Body length / dia\n(mm)]]&\" x \"&pana_film[[#This Row],[Body width\n(mm)]]","v":"17.8 x 6.7"},"-","-"]
[null,"Std","dip","PP","No","ECWH(A)","ECWHA3C222J4",1600,"DC",2.2000000000000001E-3,"± 5",17.8,6.7,14.5,7.5,"Inner crimped lead wire type (Style B)","-40 to 105 (85)","30.0P crimped lead taping (ammo packing)",400,"https://industrial.panasonic.com/ww/products/pt/film-cap-electroequip/models/ECWHA3C222J4","≤18","≤ 7","≤14.5",{"$f":"pana_film[[#This Row],[Body length / dia\n(mm)]]&\" x \"&pana_film[[#This Row],[Body width\n(mm)]]","v":"17.8 x 6.7"},"-","-"]
[null,"Std","dip","PP","No","ECWH(A)","ECWHA3C222HQ",1600,"DC",2.2000000000000001E-3,"± 3",17.8,6.7,14.5,15,"Crimped lead wire type (Style D)","-40 to 105 (85)","Bulk (Bag packing)",1000,"https://industrial.panasonic.com/ww/products/pt/film-cap-electroequip/models/ECWHA3C222HQ","≤18","≤ 7","≤14.5",{"$f":"pana_film[[#This Row],[Body length / dia\n(mm)]]&\" x \"&pana_film[[#This Row],[Body width\n(mm)]]","v":"17.8 x 6.7"},"-","-"]
[null,"Std","dip","PP","No","ECWH(A)","ECWHA3C222HB",1600,"DC",2.2000000000000001E-3,"± 3",17.8,6.7,14.5,10,"Inner crimped lead wire type (Style B)","-40 to 105 (85)","Bulk (Bag packing)",1000,"https://industrial.panasonic.com/ww/products/pt/film-cap-electroequip/models/ECWHA3C222HB","≤18","≤ 7","≤14.5",{"$f":"pana_film[[#This Row],[Body length / dia\n(mm)]]&\" x \"&pana_film[[#This Row],[Body width\n(mm)]]","v":"17.8 x 6.7"},"-","-"]
[null,"Std","dip","PP","No","ECWH(A)","ECWHA3C222H4",1600,"DC",2.2000000000000001E-3,"± 3",17.8,6.7,14.5,7.5,"Inner crimped lead wire type (Style B)","-40 to 105 (85)","30.0P crimped lead taping (ammo packing)",400,"https://industrial.panasonic.com/ww/products/pt/film-cap-electroequip/models/ECWHA3C222H4","≤18","≤ 7","≤14.5",{"$f":"pana_film[[#This Row],[Body length / dia\n(mm)]]&\" x \"&pana_film[[#This Row],[Body width\n(mm)]]","v":"17.8 x 6.7"},"-","-"]
[null,"Std","dip","PP","No","ECWH(A)","ECWHA3C203JQ",1600,"DC",0.02,"± 5",20.6,8.6999999999999993,21.6,17.5,"Crimped lead wire type (Style D)","-40 to 105 (85)","Bulk (Bag packing)",1000,"https://industrial.panasonic.com/ww/products/pt/film-cap-electroequip/models/ECWHA3C203JQ","≤21","≤ 9","≤22",{"$f":"pana_film[[#This Row],[Body length / dia\n(mm)]]&\" x \"&pana_film[[#This Row],[Body width\n(mm)]]","v":"20.6 x 8.7"},"-","-"]
[null,"Std","dip","PP","No","ECWH(A)","ECWHA3C203JC",1600,"DC",0.02,"± 5",20.6,8.6999999999999993,14.6,17.5,"Short cut lead wire type","-40 to 105 (85)","Bulk (Bag packing)",1000,"https://industrial.panasonic.com/ww/products/pt/film-cap-electroequip/models/ECWHA3C203JC","≤21","≤ 9","≤15",{"$f":"pana_film[[#This Row],[Body length / dia\n(mm)]]&\" x \"&pana_film[[#This Row],[Body width\n(mm)]]","v":"20.6 x 8.7"},"-","-"]
[null,"Std","dip","PP","No","ECWH(A)","ECWHA3C203JB",1600,"DC",0.02,"± 5",20.6,8.6999999999999993,19.600000000000001,10,"Inner crimped lead wire type (Style B)","-40 to 105 (85)","Bulk (Bag packing)",1000,"https://industrial.panasonic.com/ww/products/pt/film-cap-electroequip/models/ECWHA3C203JB","≤21","≤ 9","≤20",{"$f":"pana_film[[#This Row],[Body length / dia\n(mm)]]&\" x \"&pana_film[[#This Row],[Body width\n(mm)]]","v":"20.6 x 8.7"},"-","-"]
[null,"Std","dip","PP","No","ECWH(A)","ECWHA3C203J4",1600,"DC",0.02,"± 5",20.6,8.6999999999999993,19.600000000000001,7.5,"Inner crimped lead wire type (Style B)","-40 to 105 (85)","30.0P crimped lead taping (ammo packing)",300,"https://industrial.panasonic.com/ww/products/pt/film-cap-electroequip/models/ECWHA3C203J4","≤21","≤ 9","≤20",{"$f":"pana_film[[#This Row],[Body length / dia\n(mm)]]&\" x \"&pana_film[[#This Row],[Body width\n(mm)]]","v":"20.6 x 8.7"},"-","-"]
[null,"Std","dip","PP","No","ECWH(A)","ECWHA3C203J",1600,"DC",0.02,"± 5",20.6,8.6999999999999993,14.6,17.5,"Straight lead wire type","-40 to 105 (85)","Bulk (Bag packing)",800,"https://industrial.panasonic.com/ww/products/pt/film-cap-electroequip/models/ECWHA3C203J","≤21","≤ 9","≤15",{"$f":"pana_film[[#This Row],[Body length / dia\n(mm)]]&\" x \"&pana_film[[#This Row],[Body width\n(mm)]]","v":"20.6 x 8.7"},"-","-"]
[null,"Std","dip","PP","No","ECWH(A)","ECWHA3C203HQ",1600,"DC",0.02,"± 3",20.6,8.6999999999999993,21.6,17.5,"Crimped lead wire type (Style D)","-40 to 105 (85)","Bulk (Bag packing)",1000,"https://industrial.panasonic.com/ww/products/pt/film-cap-electroequip/models/ECWHA3C203HQ","≤21","≤ 9","≤22",{"$f":"pana_film[[#This Row],[Body length / dia\n(mm)]]&\" x \"&pana_film[[#This Row],[Body width\n(mm)]]","v":"20.6 x 8.7"},"-","-"]
[null,"Std","dip","PP","No","ECWH(A)","ECWHA3C203HC",1600,"DC",0.02,"± 3",20.6,8.6999999999999993,14.6,17.5,"Short cut lead wire type","-40 to 105 (85)","Bulk (Bag packing)",1000,"https://industrial.panasonic.com/ww/products/pt/film-cap-electroequip/models/ECWHA3C203HC","≤21","≤ 9","≤15",{"$f":"pana_film[[#This Row],[Body length / dia\n(mm)]]&\" x \"&pana_film[[#This Row],[Body width\n(mm)]]","v":"20.6 x 8.7"},"-","-"]
[null,"Std","dip","PP","No","ECWH(A)","ECWHA3C203HB",1600,"DC",0.02,"± 3",20.6,8.6999999999999993,19.600000000000001,10,"Inner crimped lead wire type (Style B)","-40 to 105 (85)","Bulk (Bag packing)",1000,"https://industrial.panasonic.com/ww/products/pt/film-cap-electroequip/models/ECWHA3C203HB","≤21","≤ 9","≤20",{"$f":"pana_film[[#This Row],[Body length / dia\n(mm)]]&\" x \"&pana_film[[#This Row],[Body width\n(mm)]]","v":"20.6 x 8.7"},"-","-"]
[null,"Std","dip","PP","No","ECWH(A)","ECWHA3C203H4",1600,"DC",0.02,"± 3",20.6,8.6999999999999993,19.600000000000001,7.5,"Inner crimped lead wire type (Style B)","-40 to 105 (85)","30.0P crimped lead taping (ammo packing)",300,"https://industrial.panasonic.com/ww/products/pt/film-cap-electroequip/models/ECWHA3C203H4","≤21","≤ 9","≤20",{"$f":"pana_film[[#This Row],[Body length / dia\n(mm)]]&\" x \"&pana_film[[#This Row],[Body width\n(mm)]]","v":"20.6 x 8.7"},"-","-"]
[null,"Std","dip","PP","No","ECWH(A)","ECWHA3C203H",1600,"DC",0.02,"± 3",20.6,8.6999999999999993,14.6,17.5,"Straight lead wire type","-40 to 105 (85)","Bulk (Bag packing)",800,"https://industrial.panasonic.com/ww/products/pt/film-cap-electroequip/models/ECWHA3C203H","≤21","≤ 9","≤15",{"$f":"pana_film[[#This Row],[Body length / dia\n(mm)]]&\" x \"&pana_film[[#This Row],[Body width\n(mm)]]","v":"20.6 x 8.7"},"-","-"]
[null,"Std","dip","PP","No","ECWH(A)","ECWHA3C202JQ",1600,"DC",2E-3,"± 5",17.8,6.6,14.3,15,"Crimped lead wire type (Style D)","-40 to 105 (85)","Bulk (Bag packing)",1000,"https://industrial.panasonic.com/ww/products/pt/film-cap-electroequip/models/ECWHA3C202JQ","≤18","≤ 7","≤14.5",{"$f":"pana_film[[#This Row],[Body length / dia\n(mm)]]&\" x \"&pana_film[[#This Row],[Body width\n(mm)]]","v":"17.8 x 6.6"},"-","-"]
[null,"Std","dip","PP","No","ECWH(A)","ECWHA3C202JB",1600,"DC",2E-3,"± 5",17.8,6.6,14.3,10,"Inner crimped lead wire type (Style B)","-40 to 105 (85)","Bulk (Bag packing)",1000,"https://industrial.panasonic.com/ww/products/pt/film-cap-electroequip/models/ECWHA3C202JB","≤18","≤ 7","≤14.5",{"$f":"pana_film[[#This Row],[Body length / dia\n(mm)]]&\" x \"&pana_film[[#This Row],[Body width\n(mm)]]","v":"17.8 x 6.6"},"-","-"]
[null,"Std","dip","PP","No","ECWH(A)","ECWHA3C202J4",1600,"DC",2E-3,"± 5",17.8,6.6,14.3,7.5,"Inner crimped lead wire type (Style B)","-40 to 105 (85)","30.0P crimped lead taping (ammo packing)",400,"https://industrial.panasonic.com/ww/products/pt/film-cap-electroequip/models/ECWHA3C202J4","≤18","≤ 7","≤14.5",{"$f":"pana_film[[#This Row],[Body length / dia\n(mm)]]&\" x \"&pana_film[[#This Row],[Body width\n(mm)]]","v":"17.8 x 6.6"},"-","-"]
[null,"Std","dip","PP","No","ECWH(A)","ECWHA3C202HQ",1600,"DC",2E-3,"± 3",17.8,6.6,14.3,15,"Crimped lead wire type (Style D)","-40 to 105 (85)","Bulk (Bag packing)",1000,"https://industrial.panasonic.com/ww/products/pt/film-cap-electroequip/models/ECWHA3C202HQ","≤18","≤ 7","≤14.5",{"$f":"pana_film[[#This Row],[Body length / dia\n(mm)]]&\" x \"&pana_film[[#This Row],[Body width\n(mm)]]","v":"17.8 x 6.6"},"-","-"]
[null,"Std","dip","PP","No","ECWH(A)","ECWHA3C202HB",1600,"DC",2E-3,"± 3",17.8,6.6,14.3,10,"Inner crimped lead wire type (Style B)","-40 to 105 (85)","Bulk (Bag packing)",1000,"https://industrial.panasonic.com/ww/products/pt/film-cap-electroequip/models/ECWHA3C202HB","≤18","≤ 7","≤14.5",{"$f":"pana_film[[#This Row],[Body length / dia\n(mm)]]&\" x \"&pana_film[[#This Row],[Body width\n(mm)]]","v":"17.8 x 6.6"},"-","-"]
[null,"Std","dip","PP","No","ECWH(A)","ECWHA3C202H4",1600,"DC",2E-3,"± 3",17.8,6.6,14.3,7.5,"Inner crimped lead wire type (Style B)","-40 to 105 (85)","30.0P crimped lead taping (ammo packing)",400,"https://industrial.panasonic.com/ww/products/pt/film-cap-electroequip/models/ECWHA3C202H4","≤18","≤ 7","≤14.5",{"$f":"pana_film[[#This Row],[Body length / dia\n(mm)]]&\" x \"&pana_film[[#This Row],[Body width\n(mm)]]","v":"17.8 x 6.6"},"-","-"]
[null,"Std","dip","PP","No","ECWH(A)","ECWHA3C183JQ",1600,"DC",1.7999999999999999E-2,"± 5",20.6,8.1999999999999993,21.1,17.5,"Crimped lead wire type (Style D)","-40 to 105 (85)","Bulk (Bag packing)",1000,"https://industrial.panasonic.com/ww/products/pt/film-cap-electroequip/models/ECWHA3C183JQ","≤21","≤ 9","≤21.5",{"$f":"pana_film[[#This Row],[Body length / dia\n(mm)]]&\" x \"&pana_film[[#This Row],[Body width\n(mm)]]","v":"20.6 x 8.2"},"-","-"]
[null,"Std","dip","PP","No","ECWH(A)","ECWHA3C183JC",1600,"DC",1.7999999999999999E-2,"± 5",20.6,8.1999999999999993,14.1,17.5,"Short cut lead wire type","-40 to 105 (85)","Bulk (Bag packing)",1000,"https://industrial.panasonic.com/ww/products/pt/film-cap-electroequip/models/ECWHA3C183JC","≤21","≤ 9","≤14.5",{"$f":"pana_film[[#This Row],[Body length / dia\n(mm)]]&\" x \"&pana_film[[#This Row],[Body width\n(mm)]]","v":"20.6 x 8.2"},"-","-"]
[null,"Std","dip","PP","No","ECWH(A)","ECWHA3C183JB",1600,"DC",1.7999999999999999E-2,"± 5",20.6,8.1999999999999993,19.100000000000001,10,"Inner crimped lead wire type (Style B)","-40 to 105 (85)","Bulk (Bag packing)",1000,"https://industrial.panasonic.com/ww/products/pt/film-cap-electroequip/models/ECWHA3C183JB","≤21","≤ 9","≤19.5",{"$f":"pana_film[[#This Row],[Body length / dia\n(mm)]]&\" x \"&pana_film[[#This Row],[Body width\n(mm)]]","v":"20.6 x 8.2"},"-","-"]
[null,"Std","dip","PP","No","ECWH(A)","ECWHA3C183J4",1600,"DC",1.7999999999999999E-2,"± 5",20.6,8.1999999999999993,19.100000000000001,7.5,"Inner crimped lead wire type (Style B)","-40 to 105 (85)","30.0P crimped lead taping (ammo packing)",300,"https://industrial.panasonic.com/ww/products/pt/film-cap-electroequip/models/ECWHA3C183J4","≤21","≤ 9","≤19.5",{"$f":"pana_film[[#This Row],[Body length / dia\n(mm)]]&\" x \"&pana_film[[#This Row],[Body width\n(mm)]]","v":"20.6 x 8.2"},"-","-"]
[null,"Std","dip","PP","No","ECWH(A)","ECWHA3C183J",1600,"DC",1.7999999999999999E-2,"± 5",20.6,8.1999999999999993,14.1,17.5,"Straight lead wire type","-40 to 105 (85)","Bulk (Bag packing)",1000,"https://industrial.panasonic.com/ww/products/pt/film-cap-electroequip/models/ECWHA3C183J","≤21","≤ 9","≤14.5",{"$f":"pana_film[[#This Row],[Body length / dia\n(mm)]]&\" x \"&pana_film[[#This Row],[Body width\n(mm)]]","v":"20.6 x 8.2"},"-","-"]
[null,"Std","dip","PP","No","ECWH(A)","ECWHA3C183HQ",1600,"DC",1.7999999999999999E-2,"± 3",20.6,8.1999999999999993,21.1,17.5,"Crimped lead wire type (Style D)","-40 to 105 (85)","Bulk (Bag packing)",1000,"https://industrial.panasonic.com/ww/products/pt/film-cap-electroequip/models/ECWHA3C183HQ","≤21","≤ 9","≤21.5",{"$f":"pana_film[[#This Row],[Body length / dia\n(mm)]]&\" x \"&pana_film[[#This Row],[Body width\n(mm)]]","v":"20.6 x 8.2"},"-","-"]
[null,"Std","dip","PP","No","ECWH(A)","ECWHA3C183HC",1600,"DC",1.7999999999999999E-2,"± 3",20.6,8.1999999999999993,14.1,17.5,"Short cut lead wire type","-40 to 105 (85)","Bulk (Bag packing)",1000,"https://industrial.panasonic.com/ww/products/pt/film-cap-electroequip/models/ECWHA3C183HC","≤21","≤ 9","≤14.5",{"$f":"pana_film[[#This Row],[Body length / dia\n(mm)]]&\" x \"&pana_film[[#This Row],[Body width\n(mm)]]","v":"20.6 x 8.2"},"-","-"]
[null,"Std","dip","PP","No","ECWH(A)","ECWHA3C183HB",1600,"DC",1.7999999999999999E-2,"± 3",20.6,8.1999999999999993,19.100000000000001,10,"Inner crimped lead wire type (Style B)","-40 to 105 (85)","Bulk (Bag packing)",1000,"https://industrial.panasonic.com/ww/products/pt/film-cap-electroequip/models/ECWHA3C183HB","≤21","≤ 9","≤19.5",{"$f":"pana_film[[#This Row],[Body length / dia\n(mm)]]&\" x \"&pana_film[[#This Row],[Body width\n(mm)]]","v":"20.6 x 8.2"},"-","-"]
[null,"Std","dip","PP","No","ECWH(A)","ECWHA3C183H4",1600,"DC",1.7999999999999999E-2,"± 3",20.6,8.1999999999999993,19.100000000000001,7.5,"Inner crimped lead wire type (Style B)","-40 to 105 (85)","30.0P crimped lead taping (ammo packing)",300,"https://industrial.panasonic.com/ww/products/pt/film-cap-electroequip/models/ECWHA3C183H4","≤21","≤ 9","≤19.5",{"$f":"pana_film[[#This Row],[Body length / dia\n(mm)]]&\" x \"&pana_film[[#This Row],[Body width\n(mm)]]","v":"20.6 x 8.2"},"-","-"]
[null,"Std","dip","PP","No","ECWH(A)","ECWHA3C183H",1600,"DC",1.7999999999999999E-2,"± 3",20.6,8.1999999999999993,14.1,17.5,"Straight lead wire type","-40 to 105 (85)","Bulk (Bag packing)",1000,"https://industrial.panasonic.com/ww/products/pt/film-cap-electroequip/models/ECWHA3C183H","≤21","≤ 9","≤14.5",{"$f":"pana_film[[#This Row],[Body length / dia\n(mm)]]&\" x \"&pana_film[[#This Row],[Body width\n(mm)]]","v":"20.6 x 8.2"},"-","-"]
[null,"Std","dip","PP","No","ECWH(A)","ECWHA3C182JQ",1600,"DC",1.8E-3,"± 5",17.8,6.4,14.1,15,"Crimped lead wire type (Style D)","-40 to 105 (85)","Bulk (Bag packing)",1000,"https://industrial.panasonic.com/ww/products/pt/film-cap-electroequip/models/ECWHA3C182JQ","≤18","≤ 7","≤14.5",{"$f":"pana_film[[#This Row],[Body length / dia\n(mm)]]&\" x \"&pana_film[[#This Row],[Body width\n(mm)]]","v":"17.8 x 6.4"},"-","-"]
[null,"Std","dip","PP","No","ECWH(A)","ECWHA3C182JB",1600,"DC",1.8E-3,"± 5",17.8,6.4,14.1,10,"Inner crimped lead wire type (Style B)","-40 to 105 (85)","Bulk (Bag packing)",1000,"https://industrial.panasonic.com/ww/products/pt/film-cap-electroequip/models/ECWHA3C182JB","≤18","≤ 7","≤14.5",{"$f":"pana_film[[#This Row],[Body length / dia\n(mm)]]&\" x \"&pana_film[[#This Row],[Body width\n(mm)]]","v":"17.8 x 6.4"},"-","-"]
[null,"Std","dip","PP","No","ECWH(A)","ECWHA3C182J4",1600,"DC",1.8E-3,"± 5",17.8,6.4,14.1,7.5,"Inner crimped lead wire type (Style B)","-40 to 105 (85)","30.0P crimped lead taping (ammo packing)",500,"https://industrial.panasonic.com/ww/products/pt/film-cap-electroequip/models/ECWHA3C182J4","≤18","≤ 7","≤14.5",{"$f":"pana_film[[#This Row],[Body length / dia\n(mm)]]&\" x \"&pana_film[[#This Row],[Body width\n(mm)]]","v":"17.8 x 6.4"},"-","-"]
[null,"Std","dip","PP","No","ECWH(A)","ECWHA3C182HQ",1600,"DC",1.8E-3,"± 3",17.8,6.4,14.1,15,"Crimped lead wire type (Style D)","-40 to 105 (85)","Bulk (Bag packing)",1000,"https://industrial.panasonic.com/ww/products/pt/film-cap-electroequip/models/ECWHA3C182HQ","≤18","≤ 7","≤14.5",{"$f":"pana_film[[#This Row],[Body length / dia\n(mm)]]&\" x \"&pana_film[[#This Row],[Body width\n(mm)]]","v":"17.8 x 6.4"},"-","-"]
[null,"Std","dip","PP","No","ECWH(A)","ECWHA3C182HB",1600,"DC",1.8E-3,"± 3",17.8,6.4,14.1,10,"Inner crimped lead wire type (Style B)","-40 to 105 (85)","Bulk (Bag packing)",1000,"https://industrial.panasonic.com/ww/products/pt/film-cap-electroequip/models/ECWHA3C182HB","≤18","≤ 7","≤14.5",{"$f":"pana_film[[#This Row],[Body length / dia\n(mm)]]&\" x \"&pana_film[[#This Row],[Body width\n(mm)]]","v":"17.8 x 6.4"},"-","-"]
[null,"Std","dip","PP","No","ECWH(A)","ECWHA3C182H4",1600,"DC",1.8E-3,"± 3",17.8,6.4,14.1,7.5,"Inner crimped lead wire type (Style B)","-40 to 105 (85)","30.0P crimped lead taping (ammo packing)",500,"https://industrial.panasonic.com/ww/products/pt/film-cap-electroequip/models/ECWHA3C182H4","≤18","≤ 7","≤14.5",{"$f":"pana_film[[#This Row],[Body length / dia\n(mm)]]&\" x \"&pana_film[[#This Row],[Body width\n(mm)]]","v":"17.8 x 6.4"},"-","-"]
[null,"Std","dip","PP","No","ECWH(A)","ECWHA3C163JQ",1600,"DC",1.6E-2,"± 5",20.3,7.9,18.8,17.5,"Crimped lead wire type (Style D)","-40 to 105 (85)","Bulk (Bag packing)",1000,"https://industrial.panasonic.com/ww/products/pt/film-cap-electroequip/models/ECWHA3C163JQ","≤21","≤ 8","≤19",{"$f":"pana_film[[#This Row],[Body length / dia\n(mm)]]&\" x \"&pana_film[[#This Row],[Body width\n(mm)]]","v":"20.3 x 7.9"},"-","-"]
[null,"Std","dip","PP","No","ECWH(A)","ECWHA3C163JC",1600,"DC",1.6E-2,"± 5",20.3,7.9,13.8,17.5,"Short cut lead wire type","-40 to 105 (85)","Bulk (Bag packing)",1000,"https://industrial.panasonic.com/ww/products/pt/film-cap-electroequip/models/ECWHA3C163JC","≤21","≤ 8","≤14",{"$f":"pana_film[[#This Row],[Body length / dia\n(mm)]]&\" x \"&pana_film[[#This Row],[Body width\n(mm)]]","v":"20.3 x 7.9"},"-","-"]
[null,"Std","dip","PP","No","ECWH(A)","ECWHA3C163JB",1600,"DC",1.6E-2,"± 5",20.3,7.9,18.8,10,"Inner crimped lead wire type (Style B)","-40 to 105 (85)","Bulk (Bag packing)",1000,"https://industrial.panasonic.com/ww/products/pt/film-cap-electroequip/models/ECWHA3C163JB","≤21","≤ 8","≤19",{"$f":"pana_film[[#This Row],[Body length / dia\n(mm)]]&\" x \"&pana_film[[#This Row],[Body width\n(mm)]]","v":"20.3 x 7.9"},"-","-"]
[null,"Std","dip","PP","No","ECWH(A)","ECWHA3C163J4",1600,"DC",1.6E-2,"± 5",20.3,7.9,18.8,7.5,"Inner crimped lead wire type (Style B)","-40 to 105 (85)","30.0P crimped lead taping (ammo packing)",400,"https://industrial.panasonic.com/ww/products/pt/film-cap-electroequip/models/ECWHA3C163J4",{"$f":"IF(L711<=9.5,\"≤ \"&ROUNDUP(L711*1,0)/1,\"≤\"&ROUNDUP(L711*1,0)/1)","v":"≤21"},{"$f":"IF(M711<=9,\"≤ \"&ROUNDUP(M711*1,0)/1,\"≤\"&ROUNDUP(M711*1,0)/1)","v":"≤ 8"},{"$f":"IF(N711<=9.5,\"≤ \"&ROUNDUP(N711*2,0)/2,\"≤\"&ROUNDUP(N711*2,0)/2)","v":"≤19"},{"$f":"pana_film[[#This Row],[Body length / dia\n(mm)]]&\" x \"&pana_film[[#This Row],[Body width\n(mm)]]","v":"20.3 x 7.9"},"-","-"]
[null,"Std","dip","PP","No","ECWH(A)","ECWHA3C163J",1600,"DC",1.6E-2,"± 5",20.3,7.9,13.8,17.5,"Straight lead wire type","-40 to 105 (85)","Bulk (Bag packing)",1000,"https://industrial.panasonic.com/ww/products/pt/film-cap-electroequip/models/ECWHA3C163J","≤21","≤ 8","≤14",{"$f":"pana_film[[#This Row],[Body length / dia\n(mm)]]&\" x \"&pana_film[[#This Row],[Body width\n(mm)]]","v":"20.3 x 7.9"},"-","-"]
[null,"Std","dip","PP","No","ECWH(A)","ECWHA3C163HQ",1600,"DC",1.6E-2,"± 3",20.3,7.9,18.8,17.5,"Crimped lead wire type (Style D)","-40 to 105 (85)","Bulk (Bag packing)",1000,"https://industrial.panasonic.com/ww/products/pt/film-cap-electroequip/models/ECWHA3C163HQ","≤21","≤ 8","≤19",{"$f":"pana_film[[#This Row],[Body length / dia\n(mm)]]&\" x \"&pana_film[[#This Row],[Body width\n(mm)]]","v":"20.3 x 7.9"},"-","-"]
[null,"Std","dip","PP","No","ECWH(A)","ECWHA3C163HC",1600,"DC",1.6E-2,"± 3",20.3,7.9,13.8,17.5,"Short cut lead wire type","-40 to 105 (85)","Bulk (Bag packing)",1000,"https://industrial.panasonic.com/ww/products/pt/film-cap-electroequip/models/ECWHA3C163HC","≤21","≤ 8","≤14",{"$f":"pana_film[[#This Row],[Body length / dia\n(mm)]]&\" x \"&pana_film[[#This Row],[Body width\n(mm)]]","v":"20.3 x 7.9"},"-","-"]
[null,"Std","dip","PP","No","ECWH(A)","ECWHA3C163HB",1600,"DC",1.6E-2,"± 3",20.3,7.9,18.8,10,"Inner crimped lead wire type (Style B)","-40 to 105 (85)","Bulk (Bag packing)",1000,"https://industrial.panasonic.com/ww/products/pt/film-cap-electroequip/models/ECWHA3C163HB","≤21","≤ 8","≤19",{"$f":"pana_film[[#This Row],[Body length / dia\n(mm)]]&\" x \"&pana_film[[#This Row],[Body width\n(mm)]]","v":"20.3 x 7.9"},"-","-"]
[null,"Std","dip","PP","No","ECWH(A)","ECWHA3C163H4",1600,"DC",1.6E-2,"± 3",20.3,7.9,18.8,7.5,"Inner crimped lead wire type (Style B)","-40 to 105 (85)","30.0P crimped lead taping (ammo packing)",400,"https://industrial.panasonic.com/ww/products/pt/film-cap-electroequip/models/ECWHA3C163H4","≤21","≤ 8","≤19",{"$f":"pana_film[[#This Row],[Body length / dia\n(mm)]]&\" x \"&pana_film[[#This Row],[Body width\n(mm)]]","v":"20.3 x 7.9"},"-","-"]
[null,"Std","dip","PP","No","ECWH(A)","ECWHA3C163H",1600,"DC",1.6E-2,"± 3",20.3,7.9,13.8,17.5,"Straight lead wire type","-40 to 105 (85)","Bulk (Bag packing)",1000,"https://industrial.panasonic.com/ww/products/pt/film-cap-electroequip/models/ECWHA3C163H","≤21","≤ 8","≤14",{"$f":"pana_film[[#This Row],[Body length / dia\n(mm)]]&\" x \"&pana_film[[#This Row],[Body width\n(mm)]]","v":"20.3 x 7.9"},"-","-"]
[null,"Std","dip","PP","No","ECWH(A)","ECWHA3C162JQ",1600,"DC",1.6000000000000001E-3,"± 5",17.8,6.1,13.9,15,"Crimped lead wire type (Style D)","-40 to 105 (85)","Bulk (Bag packing)",1000,"https://industrial.panasonic.com/ww/products/pt/film-cap-electroequip/models/ECWHA3C162JQ","≤18","≤ 7","≤14",{"$f":"pana_film[[#This Row],[Body length / dia\n(mm)]]&\" x \"&pana_film[[#This Row],[Body width\n(mm)]]","v":"17.8 x 6.1"},"-","-"]
[null,"Std","dip","PP","No","ECWH(A)","ECWHA3C162JB",1600,"DC",1.6000000000000001E-3,"± 5",17.8,6.1,13.9,10,"Inner crimped lead wire type (Style B)","-40 to 105 (85)","Bulk (Bag packing)",1000,"https://industrial.panasonic.com/ww/products/pt/film-cap-electroequip/models/ECWHA3C162JB","≤18","≤ 7","≤14",{"$f":"pana_film[[#This Row],[Body length / dia\n(mm)]]&\" x \"&pana_film[[#This Row],[Body width\n(mm)]]","v":"17.8 x 6.1"},"-","-"]
[null,"Std","dip","PP","No","ECWH(A)","ECWHA3C162J4",1600,"DC",1.6000000000000001E-3,"± 5",17.8,6.1,13.9,7.5,"Inner crimped lead wire type (Style B)","-40 to 105 (85)","30.0P crimped lead taping (ammo packing)",500,"https://industrial.panasonic.com/ww/products/pt/film-cap-electroequip/models/ECWHA3C162J4","≤18","≤ 7","≤14",{"$f":"pana_film[[#This Row],[Body length / dia\n(mm)]]&\" x \"&pana_film[[#This Row],[Body width\n(mm)]]","v":"17.8 x 6.1"},"-","-"]
[null,"Std","dip","PP","No","ECWH(A)","ECWHA3C162HQ",1600,"DC",1.6000000000000001E-3,"± 3",17.8,6.1,13.9,15,"Crimped lead wire type (Style D)","-40 to 105 (85)","Bulk (Bag packing)",1000,"https://industrial.panasonic.com/ww/products/pt/film-cap-electroequip/models/ECWHA3C162HQ","≤18","≤ 7","≤14",{"$f":"pana_film[[#This Row],[Body length / dia\n(mm)]]&\" x \"&pana_film[[#This Row],[Body width\n(mm)]]","v":"17.8 x 6.1"},"-","-"]
[null,"Std","dip","PP","No","ECWH(A)","ECWHA3C162HB",1600,"DC",1.6000000000000001E-3,"± 3",17.8,6.1,13.9,10,"Inner crimped lead wire type (Style B)","-40 to 105 (85)","Bulk (Bag packing)",1000,"https://industrial.panasonic.com/ww/products/pt/film-cap-electroequip/models/ECWHA3C162HB","≤18","≤ 7","≤14",{"$f":"pana_film[[#This Row],[Body length / dia\n(mm)]]&\" x \"&pana_film[[#This Row],[Body width\n(mm)]]","v":"17.8 x 6.1"},"-","-"]
[null,"Std","dip","PP","No","ECWH(A)","ECWHA3C162H4",1600,"DC",1.6000000000000001E-3,"± 3",17.8,6.1,13.9,7.5,"Inner crimped lead wire type (Style B)","-40 to 105 (85)","30.0P crimped lead taping (ammo packing)",500,"https://industrial.panasonic.com/ww/products/pt/film-cap-electroequip/models/ECWHA3C162H4","≤18","≤ 7","≤14",{"$f":"pana_film[[#This Row],[Body length / dia\n(mm)]]&\" x \"&pana_film[[#This Row],[Body width\n(mm)]]","v":"17.8 x 6.1"},"-","-"]
[null,"Std","dip","PP","No","ECWH(A)","ECWHA3C153JQ",1600,"DC",1.4999999999999999E-2,"± 5",20.3,7.6,18.5,17.5,"Crimped lead wire type (Style D)","-40 to 105 (85)","Bulk (Bag packing)",1000,"https://industrial.panasonic.com/ww/products/pt/film-cap-electroequip/models/ECWHA3C153JQ","≤21","≤ 8","≤18.5",{"$f":"pana_film[[#This Row],[Body length / dia\n(mm)]]&\" x \"&pana_film[[#This Row],[Body width\n(mm)]]","v":"20.3 x 7.6"},"-","-"]
[null,"Std","dip","PP","No","ECWH(A)","ECWHA3C153JC",1600,"DC",1.4999999999999999E-2,"± 5",20.3,7.6,13.5,17.5,"Short cut lead wire type","-40 to 105 (85)","Bulk (Bag packing)",1000,"https://industrial.panasonic.com/ww/products/pt/film-cap-electroequip/models/ECWHA3C153JC","≤21","≤ 8","≤13.5",{"$f":"pana_film[[#This Row],[Body length / dia\n(mm)]]&\" x \"&pana_film[[#This Row],[Body width\n(mm)]]","v":"20.3 x 7.6"},"-","-"]
[null,"Std","dip","PP","No","ECWH(A)","ECWHA3C153JB",1600,"DC",1.4999999999999999E-2,"± 5",20.3,7.6,18.5,10,"Inner crimped lead wire type (Style B)","-40 to 105 (85)","Bulk (Bag packing)",1000,"https://industrial.panasonic.com/ww/products/pt/film-cap-electroequip/models/ECWHA3C153JB","≤21","≤ 8","≤18.5",{"$f":"pana_film[[#This Row],[Body length / dia\n(mm)]]&\" x \"&pana_film[[#This Row],[Body width\n(mm)]]","v":"20.3 x 7.6"},"-","-"]
[null,"Std","dip","PP","No","ECWH(A)","ECWHA3C153J4",1600,"DC",1.4999999999999999E-2,"± 5",20.3,7.6,18.5,7.5,"Inner crimped lead wire type (Style B)","-40 to 105 (85)","30.0P crimped lead taping (ammo packing)",400,"https://industrial.panasonic.com/ww/products/pt/film-cap-electroequip/models/ECWHA3C153J4","≤21","≤ 8","≤18.5",{"$f":"pana_film[[#This Row],[Body length / dia\n(mm)]]&\" x \"&pana_film[[#This Row],[Body width\n(mm)]]","v":"20.3 x 7.6"},"-","-"]
[null,"Std","dip","PP","No","ECWH(A)","ECWHA3C153J",1600,"DC",1.4999999999999999E-2,"± 5",20.3,7.6,13.5,17.5,"Straight lead wire type","-40 to 105 (85)","Bulk (Bag packing)",1000,"https://industrial.panasonic.com/ww/products/pt/film-cap-electroequip/models/ECWHA3C153J","≤21","≤ 8","≤13.5",{"$f":"pana_film[[#This Row],[Body length / dia\n(mm)]]&\" x \"&pana_film[[#This Row],[Body width\n(mm)]]","v":"20.3 x 7.6"},"-","-"]
[null,"Std","dip","PP","No","ECWH(A)","ECWHA3C153HQ",1600,"DC",1.4999999999999999E-2,"± 3",20.3,7.6,18.5,17.5,"Crimped lead wire type (Style D)","-40 to 105 (85)","Bulk (Bag packing)",1000,"https://industrial.panasonic.com/ww/products/pt/film-cap-electroequip/models/ECWHA3C153HQ","≤21","≤ 8","≤18.5",{"$f":"pana_film[[#This Row],[Body length / dia\n(mm)]]&\" x \"&pana_film[[#This Row],[Body width\n(mm)]]","v":"20.3 x 7.6"},"-","-"]
[null,"Std","dip","PP","No","ECWH(A)","ECWHA3C153HC",1600,"DC",1.4999999999999999E-2,"± 3",20.3,7.6,13.5,17.5,"Short cut lead wire type","-40 to 105 (85)","Bulk (Bag packing)",1000,"https://industrial.panasonic.com/ww/products/pt/film-cap-electroequip/models/ECWHA3C153HC","≤21","≤ 8","≤13.5",{"$f":"pana_film[[#This Row],[Body length / dia\n(mm)]]&\" x \"&pana_film[[#This Row],[Body width\n(mm)]]","v":"20.3 x 7.6"},"-","-"]
[null,"Std","dip","PP","No","ECWH(A)","ECWHA3C153HB",1600,"DC",1.4999999999999999E-2,"± 3",20.3,7.6,18.5,10,"Inner crimped lead wire type (Style B)","-40 to 105 (85)","Bulk (Bag packing)",1000,"https://industrial.panasonic.com/ww/products/pt/film-cap-electroequip/models/ECWHA3C153HB","≤21","≤ 8","≤18.5",{"$f":"pana_film[[#This Row],[Body length / dia\n(mm)]]&\" x \"&pana_film[[#This Row],[Body width\n(mm)]]","v":"20.3 x 7.6"},"-","-"]
[null,"Std","dip","PP","No","ECWH(A)","ECWHA3C153H4",1600,"DC",1.4999999999999999E-2,"± 3",20.3,7.6,18.5,7.5,"Inner crimped lead wire type (Style B)","-40 to 105 (85)","30.0P crimped lead taping (ammo packing)",400,"https://industrial.panasonic.com/ww/products/pt/film-cap-electroequip/models/ECWHA3C153H4","≤21","≤ 8","≤18.5",{"$f":"pana_film[[#This Row],[Body length / dia\n(mm)]]&\" x \"&pana_film[[#This Row],[Body width\n(mm)]]","v":"20.3 x 7.6"},"-","-"]
[null,"Std","dip","PP","No","ECWH(A)","ECWHA3C153H",1600,"DC",1.4999999999999999E-2,"± 3",20.3,7.6,13.5,17.5,"Straight lead wire type","-40 to 105 (85)","Bulk (Bag packing)",1000,"https://industrial.panasonic.com/ww/products/pt/film-cap-electroequip/models/ECWHA3C153H","≤21","≤ 8","≤13.5",{"$f":"pana_film[[#This Row],[Body length / dia\n(mm)]]&\" x \"&pana_film[[#This Row],[Body width\n(mm)]]","v":"20.3 x 7.6"},"-","-"]
[null,"Std","dip","PP","No","ECWH(A)","ECWHA3C152JQ",1600,"DC",1.5E-3,"± 5",17.8,5.9,13.7,15,"Crimped lead wire type (Style D)","-40 to 105 (85)","Bulk (Bag packing)",1000,"https://industrial.panasonic.com/ww/products/pt/film-cap-electroequip/models/ECWHA3C152JQ","≤18","≤ 6","≤14",{"$f":"pana_film[[#This Row],[Body length / dia\n(mm)]]&\" x \"&pana_film[[#This Row],[Body width\n(mm)]]","v":"17.8 x 5.9"},"-","-"]
[null,"Std","dip","PP","No","ECWH(A)","ECWHA3C152JB",1600,"DC",1.5E-3,"± 5",17.8,5.9,13.7,10,"Inner crimped lead wire type (Style B)","-40 to 105 (85)","Bulk (Bag packing)",1000,"https://industrial.panasonic.com/ww/products/pt/film-cap-electroequip/models/ECWHA3C152JB","≤18","≤ 6","≤14",{"$f":"pana_film[[#This Row],[Body length / dia\n(mm)]]&\" x \"&pana_film[[#This Row],[Body width\n(mm)]]","v":"17.8 x 5.9"},"-","-"]
[null,"Std","dip","PP","No","ECWH(A)","ECWHA3C152J4",1600,"DC",1.5E-3,"± 5",17.8,5.9,13.7,7.5,"Inner crimped lead wire type (Style B)","-40 to 105 (85)","30.0P crimped lead taping (ammo packing)",500,"https://industrial.panasonic.com/ww/products/pt/film-cap-electroequip/models/ECWHA3C152J4","≤18","≤ 6","≤14",{"$f":"pana_film[[#This Row],[Body length / dia\n(mm)]]&\" x \"&pana_film[[#This Row],[Body width\n(mm)]]","v":"17.8 x 5.9"},"-","-"]
[null,"Std","dip","PP","No","ECWH(A)","ECWHA3C152HQ",1600,"DC",1.5E-3,"± 3",17.8,5.9,13.7,15,"Crimped lead wire type (Style D)","-40 to 105 (85)","Bulk (Bag packing)",1000,"https://industrial.panasonic.com/ww/products/pt/film-cap-electroequip/models/ECWHA3C152HQ","≤18","≤ 6","≤14",{"$f":"pana_film[[#This Row],[Body length / dia\n(mm)]]&\" x \"&pana_film[[#This Row],[Body width\n(mm)]]","v":"17.8 x 5.9"},"-","-"]
[null,"Std","dip","PP","No","ECWH(A)","ECWHA3C152HB",1600,"DC",1.5E-3,"± 3",17.8,5.9,13.7,10,"Inner crimped lead wire type (Style B)","-40 to 105 (85)","Bulk (Bag packing)",1000,"https://industrial.panasonic.com/ww/products/pt/film-cap-electroequip/models/ECWHA3C152HB","≤18","≤ 6","≤14",{"$f":"pana_film[[#This Row],[Body length / dia\n(mm)]]&\" x \"&pana_film[[#This Row],[Body width\n(mm)]]","v":"17.8 x 5.9"},"-","-"]
[null,"Std","dip","PP","No","ECWH(A)","ECWHA3C152H4",1600,"DC",1.5E-3,"± 3",17.8,5.9,13.7,7.5,"Inner crimped lead wire type (Style B)","-40 to 105 (85)","30.0P crimped lead taping (ammo packing)",500,"https://industrial.panasonic.com/ww/products/pt/film-cap-electroequip/models/ECWHA3C152H4","≤18","≤ 6","≤14",{"$f":"pana_film[[#This Row],[Body length / dia\n(mm)]]&\" x \"&pana_film[[#This Row],[Body width\n(mm)]]","v":"17.8 x 5.9"},"-","-"]
[null,"Std","dip","PP","No","ECWH(A)","ECWHA3C133JQ",1600,"DC",1.2999999999999999E-2,"± 5",20.3,7.1,18,17.5,"Crimped lead wire type (Style D)","-40 to 105 (85)","Bulk (Bag packing)",1000,"https://industrial.panasonic.com/ww/products/pt/film-cap-electroequip/models/ECWHA3C133JQ","≤21","≤ 8","≤18",{"$f":"pana_film[[#This Row],[Body length / dia\n(mm)]]&\" x \"&pana_film[[#This Row],[Body width\n(mm)]]","v":"20.3 x 7.1"},"-","-"]
[null,"Std","dip","PP","No","ECWH(A)","ECWHA3C133JC",1600,"DC",1.2999999999999999E-2,"± 5",20.3,7.1,13,17.5,"Short cut lead wire type","-40 to 105 (85)","Bulk (Bag packing)",1000,"https://industrial.panasonic.com/ww/products/pt/film-cap-electroequip/models/ECWHA3C133JC","≤21","≤ 8","≤13",{"$f":"pana_film[[#This Row],[Body length / dia\n(mm)]]&\" x \"&pana_film[[#This Row],[Body width\n(mm)]]","v":"20.3 x 7.1"},"-","-"]
[null,"Std","dip","PP","No","ECWH(A)","ECWHA3C133JB",1600,"DC",1.2999999999999999E-2,"± 5",20.3,7.1,18,10,"Inner crimped lead wire type (Style B)","-40 to 105 (85)","Bulk (Bag packing)",1000,"https://industrial.panasonic.com/ww/products/pt/film-cap-electroequip/models/ECWHA3C133JB","≤21","≤ 8","≤18",{"$f":"pana_film[[#This Row],[Body length / dia\n(mm)]]&\" x \"&pana_film[[#This Row],[Body width\n(mm)]]","v":"20.3 x 7.1"},"-","-"]
[null,"Std","dip","PP","No","ECWH(A)","ECWHA3C133J4",1600,"DC",1.2999999999999999E-2,"± 5",20.3,7.1,18,7.5,"Inner crimped lead wire type (Style B)","-40 to 105 (85)","30.0P crimped lead taping (ammo packing)",400,"https://industrial.panasonic.com/ww/products/pt/film-cap-electroequip/models/ECWHA3C133J4","≤21","≤ 8","≤18",{"$f":"pana_film[[#This Row],[Body length / dia\n(mm)]]&\" x \"&pana_film[[#This Row],[Body width\n(mm)]]","v":"20.3 x 7.1"},"-","-"]
[null,"Std","dip","PP","No","ECWH(A)","ECWHA3C133J",1600,"DC",1.2999999999999999E-2,"± 5",20.3,7.1,13,17.5,"Straight lead wire type","-40 to 105 (85)","Bulk (Bag packing)",1000,"https://industrial.panasonic.com/ww/products/pt/film-cap-electroequip/models/ECWHA3C133J","≤21","≤ 8","≤13",{"$f":"pana_film[[#This Row],[Body length / dia\n(mm)]]&\" x \"&pana_film[[#This Row],[Body width\n(mm)]]","v":"20.3 x 7.1"},"-","-"]
[null,"Std","dip","PP","No","ECWH(A)","ECWHA3C133HQ",1600,"DC",1.2999999999999999E-2,"± 3",20.3,7.1,18,17.5,"Crimped lead wire type (Style D)","-40 to 105 (85)","Bulk (Bag packing)",1000,"https://industrial.panasonic.com/ww/products/pt/film-cap-electroequip/models/ECWHA3C133HQ","≤21","≤ 8","≤18",{"$f":"pana_film[[#This Row],[Body length / dia\n(mm)]]&\" x \"&pana_film[[#This Row],[Body width\n(mm)]]","v":"20.3 x 7.1"},"-","-"]
[null,"Std","dip","PP","No","ECWH(A)","ECWHA3C133HC",1600,"DC",1.2999999999999999E-2,"± 3",20.3,7.1,13,17.5,"Short cut lead wire type","-40 to 105 (85)","Bulk (Bag packing)",1000,"https://industrial.panasonic.com/ww/products/pt/film-cap-electroequip/models/ECWHA3C133HC","≤21","≤ 8","≤13",{"$f":"pana_film[[#This Row],[Body length / dia\n(mm)]]&\" x \"&pana_film[[#This Row],[Body width\n(mm)]]","v":"20.3 x 7.1"},"-","-"]
[null,"Std","dip","PP","No","ECWH(A)","ECWHA3C133HB",1600,"DC",1.2999999999999999E-2,"± 3",20.3,7.1,18,10,"Inner crimped lead wire type (Style B)","-40 to 105 (85)","Bulk (Bag packing)",1000,"https://industrial.panasonic.com/ww/products/pt/film-cap-electroequip/models/ECWHA3C133HB","≤21","≤ 8","≤18",{"$f":"pana_film[[#This Row],[Body length / dia\n(mm)]]&\" x \"&pana_film[[#This Row],[Body width\n(mm)]]","v":"20.3 x 7.1"},"-","-"]
[null,"Std","dip","PP","No","ECWH(A)","ECWHA3C133H4",1600,"DC",1.2999999999999999E-2,"± 3",20.3,7.1,18,7.5,"Inner crimped lead wire type (Style B)","-40 to 105 (85)","30.0P crimped lead taping (ammo packing)",400,"https://industrial.panasonic.com/ww/products/pt/film-cap-electroequip/models/ECWHA3C133H4","≤21","≤ 8","≤18",{"$f":"pana_film[[#This Row],[Body length / dia\n(mm)]]&\" x \"&pana_film[[#This Row],[Body width\n(mm)]]","v":"20.3 x 7.1"},"-","-"]
[null,"Std","dip","PP","No","ECWH(A)","ECWHA3C133H",1600,"DC",1.2999999999999999E-2,"± 3",20.3,7.1,13,17.5,"Straight lead wire type","-40 to 105 (85)","Bulk (Bag packing)",1000,"https://industrial.panasonic.com/ww/products/pt/film-cap-electroequip/models/ECWHA3C133H","≤21","≤ 8","≤13",{"$f":"pana_film[[#This Row],[Body length / dia\n(mm)]]&\" x \"&pana_film[[#This Row],[Body width\n(mm)]]","v":"20.3 x 7.1"},"-","-"]
[null,"Std","dip","PP","No","ECWH(A)","ECWHA3C132JQ",1600,"DC",1.2999999999999999E-3,"± 5",17.8,5.7,13.4,15,"Crimped lead wire type (Style D)","-40 to 105 (85)","Bulk (Bag packing)",1000,"https://industrial.panasonic.com/ww/products/pt/film-cap-electroequip/models/ECWHA3C132JQ","≤18","≤ 6","≤13.5",{"$f":"pana_film[[#This Row],[Body length / dia\n(mm)]]&\" x \"&pana_film[[#This Row],[Body width\n(mm)]]","v":"17.8 x 5.7"},"-","-"]
[null,"Std","dip","PP","No","ECWH(A)","ECWHA3C132JB",1600,"DC",1.2999999999999999E-3,"± 5",17.8,5.7,13.4,10,"Inner crimped lead wire type (Style B)","-40 to 105 (85)","Bulk (Bag packing)",1000,"https://industrial.panasonic.com/ww/products/pt/film-cap-electroequip/models/ECWHA3C132JB","≤18","≤ 6","≤13.5",{"$f":"pana_film[[#This Row],[Body length / dia\n(mm)]]&\" x \"&pana_film[[#This Row],[Body width\n(mm)]]","v":"17.8 x 5.7"},"-","-"]
[null,"Std","dip","PP","No","ECWH(A)","ECWHA3C132J4",1600,"DC",1.2999999999999999E-3,"± 5",17.8,5.7,13.4,7.5,"Inner crimped lead wire type (Style B)","-40 to 105 (85)","30.0P crimped lead taping (ammo packing)",500,"https://industrial.panasonic.com/ww/products/pt/film-cap-electroequip/models/ECWHA3C132J4","≤18","≤ 6","≤13.5",{"$f":"pana_film[[#This Row],[Body length / dia\n(mm)]]&\" x \"&pana_film[[#This Row],[Body width\n(mm)]]","v":"17.8 x 5.7"},"-","-"]
[null,"Std","dip","PP","No","ECWH(A)","ECWHA3C132HQ",1600,"DC",1.2999999999999999E-3,"± 3",17.8,5.7,13.4,15,"Crimped lead wire type (Style D)","-40 to 105 (85)","Bulk (Bag packing)",1000,"https://industrial.panasonic.com/ww/products/pt/film-cap-electroequip/models/ECWHA3C132HQ","≤18","≤ 6","≤13.5",{"$f":"pana_film[[#This Row],[Body length / dia\n(mm)]]&\" x \"&pana_film[[#This Row],[Body width\n(mm)]]","v":"17.8 x 5.7"},"-","-"]
[null,"Std","dip","PP","No","ECWH(A)","ECWHA3C132HB",1600,"DC",1.2999999999999999E-3,"± 3",17.8,5.7,13.4,10,"Inner crimped lead wire type (Style B)","-40 to 105 (85)","Bulk (Bag packing)",1000,"https://industrial.panasonic.com/ww/products/pt/film-cap-electroequip/models/ECWHA3C132HB","≤18","≤ 6","≤13.5",{"$f":"pana_film[[#This Row],[Body length / dia\n(mm)]]&\" x \"&pana_film[[#This Row],[Body width\n(mm)]]","v":"17.8 x 5.7"},"-","-"]
[null,"Std","dip","PP","No","ECWH(A)","ECWHA3C132H4",1600,"DC",1.2999999999999999E-3,"± 3",17.8,5.7,13.4,7.5,"Inner crimped lead wire type (Style B)","-40 to 105 (85)","30.0P crimped lead taping (ammo packing)",500,"https://industrial.panasonic.com/ww/products/pt/film-cap-electroequip/models/ECWHA3C132H4","≤18","≤ 6","≤13.5",{"$f":"pana_film[[#This Row],[Body length / dia\n(mm)]]&\" x \"&pana_film[[#This Row],[Body width\n(mm)]]","v":"17.8 x 5.7"},"-","-"]
[null,"Std","dip","PP","No","ECWH(A)","ECWHA3C123JQ",1600,"DC",1.2E-2,"± 5",20.3,6.8,17.8,17.5,"Crimped lead wire type (Style D)","-40 to 105 (85)","Bulk (Bag packing)",1000,"https://industrial.panasonic.com/ww/products/pt/film-cap-electroequip/models/ECWHA3C123JQ","≤21","≤ 7","≤18",{"$f":"pana_film[[#This Row],[Body length / dia\n(mm)]]&\" x \"&pana_film[[#This Row],[Body width\n(mm)]]","v":"20.3 x 6.8"},"-","-"]
[null,"Std","dip","PP","No","ECWH(A)","ECWHA3C123JC",1600,"DC",1.2E-2,"± 5",20.3,6.8,12.8,17.5,"Short cut lead wire type","-40 to 105 (85)","Bulk (Bag packing)",1000,"https://industrial.panasonic.com/ww/products/pt/film-cap-electroequip/models/ECWHA3C123JC","≤21","≤ 7","≤13",{"$f":"pana_film[[#This Row],[Body length / dia\n(mm)]]&\" x \"&pana_film[[#This Row],[Body width\n(mm)]]","v":"20.3 x 6.8"},"-","-"]
[null,"Std","dip","PP","No","ECWH(A)","ECWHA3C123JB",1600,"DC",1.2E-2,"± 5",20.3,6.8,17.8,10,"Inner crimped lead wire type (Style B)","-40 to 105 (85)","Bulk (Bag packing)",1000,"https://industrial.panasonic.com/ww/products/pt/film-cap-electroequip/models/ECWHA3C123JB","≤21","≤ 7","≤18",{"$f":"pana_film[[#This Row],[Body length / dia\n(mm)]]&\" x \"&pana_film[[#This Row],[Body width\n(mm)]]","v":"20.3 x 6.8"},"-","-"]
[null,"Std","dip","PP","No","ECWH(A)","ECWHA3C123J4",1600,"DC",1.2E-2,"± 5",20.3,6.8,17.8,7.5,"Inner crimped lead wire type (Style B)","-40 to 105 (85)","30.0P crimped lead taping (ammo packing)",400,"https://industrial.panasonic.com/ww/products/pt/film-cap-electroequip/models/ECWHA3C123J4","≤21","≤ 7","≤18",{"$f":"pana_film[[#This Row],[Body length / dia\n(mm)]]&\" x \"&pana_film[[#This Row],[Body width\n(mm)]]","v":"20.3 x 6.8"},"-","-"]
[null,"Std","dip","PP","No","ECWH(A)","ECWHA3C123J",1600,"DC",1.2E-2,"± 5",20.3,6.8,12.8,17.5,"Straight lead wire type","-40 to 105 (85)","Bulk (Bag packing)",1000,"https://industrial.panasonic.com/ww/products/pt/film-cap-electroequip/models/ECWHA3C123J","≤21","≤ 7","≤13",{"$f":"pana_film[[#This Row],[Body length / dia\n(mm)]]&\" x \"&pana_film[[#This Row],[Body width\n(mm)]]","v":"20.3 x 6.8"},"-","-"]
[null,"Std","dip","PP","No","ECWH(A)","ECWHA3C123HQ",1600,"DC",1.2E-2,"± 3",20.3,6.8,17.8,17.5,"Crimped lead wire type (Style D)","-40 to 105 (85)","Bulk (Bag packing)",1000,"https://industrial.panasonic.com/ww/products/pt/film-cap-electroequip/models/ECWHA3C123HQ","≤21","≤ 7","≤18",{"$f":"pana_film[[#This Row],[Body length / dia\n(mm)]]&\" x \"&pana_film[[#This Row],[Body width\n(mm)]]","v":"20.3 x 6.8"},"-","-"]
[null,"Std","dip","PP","No","ECWH(A)","ECWHA3C123HC",1600,"DC",1.2E-2,"± 3",20.3,6.8,12.8,17.5,"Short cut lead wire type","-40 to 105 (85)","Bulk (Bag packing)",1000,"https://industrial.panasonic.com/ww/products/pt/film-cap-electroequip/models/ECWHA3C123HC","≤21","≤ 7","≤13",{"$f":"pana_film[[#This Row],[Body length / dia\n(mm)]]&\" x \"&pana_film[[#This Row],[Body width\n(mm)]]","v":"20.3 x 6.8"},"-","-"]
[null,"Std","dip","PP","No","ECWH(A)","ECWHA3C123HB",1600,"DC",1.2E-2,"± 3",20.3,6.8,17.8,10,"Inner crimped lead wire type (Style B)","-40 to 105 (85)","Bulk (Bag packing)",1000,"https://industrial.panasonic.com/ww/products/pt/film-cap-electroequip/models/ECWHA3C123HB","≤21","≤ 7","≤18",{"$f":"pana_film[[#This Row],[Body length / dia\n(mm)]]&\" x \"&pana_film[[#This Row],[Body width\n(mm)]]","v":"20.3 x 6.8"},"-","-"]
[null,"Std","dip","PP","No","ECWH(A)","ECWHA3C123H4",1600,"DC",1.2E-2,"± 3",20.3,6.8,17.8,7.5,"Inner crimped lead wire type (Style B)","-40 to 105 (85)","30.0P crimped lead taping (ammo packing)",400,"https://industrial.panasonic.com/ww/products/pt/film-cap-electroequip/models/ECWHA3C123H4","≤21","≤ 7","≤18",{"$f":"pana_film[[#This Row],[Body length / dia\n(mm)]]&\" x \"&pana_film[[#This Row],[Body width\n(mm)]]","v":"20.3 x 6.8"},"-","-"]
[null,"Std","dip","PP","No","ECWH(A)","ECWHA3C123H",1600,"DC",1.2E-2,"± 3",20.3,6.8,12.8,17.5,"Straight lead wire type","-40 to 105 (85)","Bulk (Bag packing)",1000,"https://industrial.panasonic.com/ww/products/pt/film-cap-electroequip/models/ECWHA3C123H","≤21","≤ 7","≤13",{"$f":"pana_film[[#This Row],[Body length / dia\n(mm)]]&\" x \"&pana_film[[#This Row],[Body width\n(mm)]]","v":"20.3 x 6.8"},"-","-"]
[null,"Std","dip","PP","No","ECWH(A)","ECWHA3C122JQ",1600,"DC",1.1999999999999999E-3,"± 5",17.8,5.5,13.2,15,"Crimped lead wire type (Style D)","-40 to 105 (85)","Bulk (Bag packing)",1000,"https://industrial.panasonic.com/ww/products/pt/film-cap-electroequip/models/ECWHA3C122JQ","≤18","≤ 6","≤13.5",{"$f":"pana_film[[#This Row],[Body length / dia\n(mm)]]&\" x \"&pana_film[[#This Row],[Body width\n(mm)]]","v":"17.8 x 5.5"},"-","-"]
[null,"Std","dip","PP","No","ECWH(A)","ECWHA3C122JB",1600,"DC",1.1999999999999999E-3,"± 5",17.8,5.5,13.2,10,"Inner crimped lead wire type (Style B)","-40 to 105 (85)","Bulk (Bag packing)",1000,"https://industrial.panasonic.com/ww/products/pt/film-cap-electroequip/models/ECWHA3C122JB","≤18","≤ 6","≤13.5",{"$f":"pana_film[[#This Row],[Body length / dia\n(mm)]]&\" x \"&pana_film[[#This Row],[Body width\n(mm)]]","v":"17.8 x 5.5"},"-","-"]
[null,"Std","dip","PP","No","ECWH(A)","ECWHA3C122J4",1600,"DC",1.1999999999999999E-3,"± 5",17.8,5.5,13.2,7.5,"Inner crimped lead wire type (Style B)","-40 to 105 (85)","30.0P crimped lead taping (ammo packing)",500,"https://industrial.panasonic.com/ww/products/pt/film-cap-electroequip/models/ECWHA3C122J4","≤18","≤ 6","≤13.5",{"$f":"pana_film[[#This Row],[Body length / dia\n(mm)]]&\" x \"&pana_film[[#This Row],[Body width\n(mm)]]","v":"17.8 x 5.5"},"-","-"]
[null,"Std","dip","PP","No","ECWH(A)","ECWHA3C122HQ",1600,"DC",1.1999999999999999E-3,"± 3",17.8,5.5,13.2,15,"Crimped lead wire type (Style D)","-40 to 105 (85)","Bulk (Bag packing)",1000,"https://industrial.panasonic.com/ww/products/pt/film-cap-electroequip/models/ECWHA3C122HQ","≤18","≤ 6","≤13.5",{"$f":"pana_film[[#This Row],[Body length / dia\n(mm)]]&\" x \"&pana_film[[#This Row],[Body width\n(mm)]]","v":"17.8 x 5.5"},"-","-"]
[null,"Std","dip","PP","No","ECWH(A)","ECWHA3C122HB",1600,"DC",1.1999999999999999E-3,"± 3",17.8,5.5,13.2,10,"Inner crimped lead wire type (Style B)","-40 to 105 (85)","Bulk (Bag packing)",1000,"https://industrial.panasonic.com/ww/products/pt/film-cap-electroequip/models/ECWHA3C122HB","≤18","≤ 6","≤13.5",{"$f":"pana_film[[#This Row],[Body length / dia\n(mm)]]&\" x \"&pana_film[[#This Row],[Body width\n(mm)]]","v":"17.8 x 5.5"},"-","-"]
[null,"Std","dip","PP","No","ECWH(A)","ECWHA3C122H4",1600,"DC",1.1999999999999999E-3,"± 3",17.8,5.5,13.2,7.5,"Inner crimped lead wire type (Style B)","-40 to 105 (85)","30.0P crimped lead taping (ammo packing)",500,"https://industrial.panasonic.com/ww/products/pt/film-cap-electroequip/models/ECWHA3C122H4","≤18","≤ 6","≤13.5",{"$f":"pana_film[[#This Row],[Body length / dia\n(mm)]]&\" x \"&pana_film[[#This Row],[Body width\n(mm)]]","v":"17.8 x 5.5"},"-","-"]
[null,"Std","dip","PP","No","ECWH(A)","ECWHA3C113JQ",1600,"DC",1.0999999999999999E-2,"± 5",20.3,6.6,17.5,17.5,"Crimped lead wire type (Style D)","-40 to 105 (85)","Bulk (Bag packing)",1000,"https://industrial.panasonic.com/ww/products/pt/film-cap-electroequip/models/ECWHA3C113JQ","≤21","≤ 7","≤17.5",{"$f":"pana_film[[#This Row],[Body length / dia\n(mm)]]&\" x \"&pana_film[[#This Row],[Body width\n(mm)]]","v":"20.3 x 6.6"},"-","-"]
[null,"Std","dip","PP","No","ECWH(A)","ECWHA3C113JC",1600,"DC",1.0999999999999999E-2,"± 5",20.3,6.6,12.5,17.5,"Short cut lead wire type","-40 to 105 (85)","Bulk (Bag packing)",1000,"https://industrial.panasonic.com/ww/products/pt/film-cap-electroequip/models/ECWHA3C113JC","≤21","≤ 7","≤12.5",{"$f":"pana_film[[#This Row],[Body length / dia\n(mm)]]&\" x \"&pana_film[[#This Row],[Body width\n(mm)]]","v":"20.3 x 6.6"},"-","-"]
[null,"Std","dip","PP","No","ECWH(A)","ECWHA3C113JB",1600,"DC",1.0999999999999999E-2,"± 5",20.3,6.6,17.5,10,"Inner crimped lead wire type (Style B)","-40 to 105 (85)","Bulk (Bag packing)",1000,"https://industrial.panasonic.com/ww/products/pt/film-cap-electroequip/models/ECWHA3C113JB","≤21","≤ 7","≤17.5",{"$f":"pana_film[[#This Row],[Body length / dia\n(mm)]]&\" x \"&pana_film[[#This Row],[Body width\n(mm)]]","v":"20.3 x 6.6"},"-","-"]
[null,"Std","dip","PP","No","ECWH(A)","ECWHA3C113J4",1600,"DC",1.0999999999999999E-2,"± 5",20.3,6.6,17.5,7.5,"Inner crimped lead wire type (Style B)","-40 to 105 (85)","30.0P crimped lead taping (ammo packing)",400,"https://industrial.panasonic.com/ww/products/pt/film-cap-electroequip/models/ECWHA3C113J4",{"$f":"IF(L775<=9.5,\"≤ \"&ROUNDUP(L775*1,0)/1,\"≤\"&ROUNDUP(L775*1,0)/1)","v":"≤21"},{"$f":"IF(M775<=9,\"≤ \"&ROUNDUP(M775*1,0)/1,\"≤\"&ROUNDUP(M775*1,0)/1)","v":"≤ 7"},{"$f":"IF(N775<=9.5,\"≤ \"&ROUNDUP(N775*2,0)/2,\"≤\"&ROUNDUP(N775*2,0)/2)","v":"≤17.5"},{"$f":"pana_film[[#This Row],[Body length / dia\n(mm)]]&\" x \"&pana_film[[#This Row],[Body width\n(mm)]]","v":"20.3 x 6.6"},"-","-"]
[null,"Std","dip","PP","No","ECWH(A)","ECWHA3C113J",1600,"DC",1.0999999999999999E-2,"± 5",20.3,6.6,12.5,17.5,"Straight lead wire type","-40 to 105 (85)","Bulk (Bag packing)",1000,"https://industrial.panasonic.com/ww/products/pt/film-cap-electroequip/models/ECWHA3C113J","≤21","≤ 7","≤12.5",{"$f":"pana_film[[#This Row],[Body length / dia\n(mm)]]&\" x \"&pana_film[[#This Row],[Body width\n(mm)]]","v":"20.3 x 6.6"},"-","-"]
[null,"Std","dip","PP","No","ECWH(A)","ECWHA3C113HQ",1600,"DC",1.0999999999999999E-2,"± 3",20.3,6.6,17.5,17.5,"Crimped lead wire type (Style D)","-40 to 105 (85)","Bulk (Bag packing)",1000,"https://industrial.panasonic.com/ww/products/pt/film-cap-electroequip/models/ECWHA3C113HQ","≤21","≤ 7","≤17.5",{"$f":"pana_film[[#This Row],[Body length / dia\n(mm)]]&\" x \"&pana_film[[#This Row],[Body width\n(mm)]]","v":"20.3 x 6.6"},"-","-"]
[null,"Std","dip","PP","No","ECWH(A)","ECWHA3C113HC",1600,"DC",1.0999999999999999E-2,"± 3",20.3,6.6,12.5,17.5,"Short cut lead wire type","-40 to 105 (85)","Bulk (Bag packing)",1000,"https://industrial.panasonic.com/ww/products/pt/film-cap-electroequip/models/ECWHA3C113HC","≤21","≤ 7","≤12.5",{"$f":"pana_film[[#This Row],[Body length / dia\n(mm)]]&\" x \"&pana_film[[#This Row],[Body width\n(mm)]]","v":"20.3 x 6.6"},"-","-"]
[null,"Std","dip","PP","No","ECWH(A)","ECWHA3C113HB",1600,"DC",1.0999999999999999E-2,"± 3",20.3,6.6,17.5,10,"Inner crimped lead wire type (Style B)","-40 to 105 (85)","Bulk (Bag packing)",1000,"https://industrial.panasonic.com/ww/products/pt/film-cap-electroequip/models/ECWHA3C113HB","≤21","≤ 7","≤17.5",{"$f":"pana_film[[#This Row],[Body length / dia\n(mm)]]&\" x \"&pana_film[[#This Row],[Body width\n(mm)]]","v":"20.3 x 6.6"},"-","-"]
[null,"Std","dip","PP","No","ECWH(A)","ECWHA3C113H4",1600,"DC",1.0999999999999999E-2,"± 3",20.3,6.6,17.5,7.5,"Inner crimped lead wire type (Style B)","-40 to 105 (85)","30.0P crimped lead taping (ammo packing)",400,"https://industrial.panasonic.com/ww/products/pt/film-cap-electroequip/models/ECWHA3C113H4","≤21","≤ 7","≤17.5",{"$f":"pana_film[[#This Row],[Body length / dia\n(mm)]]&\" x \"&pana_film[[#This Row],[Body width\n(mm)]]","v":"20.3 x 6.6"},"-","-"]
[null,"Std","dip","PP","No","ECWH(A)","ECWHA3C113H",1600,"DC",1.0999999999999999E-2,"± 3",20.3,6.6,12.5,17.5,"Straight lead wire type","-40 to 105 (85)","Bulk (Bag packing)",1000,"https://industrial.panasonic.com/ww/products/pt/film-cap-electroequip/models/ECWHA3C113H","≤21","≤ 7","≤12.5",{"$f":"pana_film[[#This Row],[Body length / dia\n(mm)]]&\" x \"&pana_film[[#This Row],[Body width\n(mm)]]","v":"20.3 x 6.6"},"-","-"]
[null,"Std","dip","PP","No","ECWH(A)","ECWHA3C112JQ",1600,"DC",1.1000000000000001E-3,"± 5",17.8,5.4,13.1,15,"Crimped lead wire type (Style D)","-40 to 105 (85)","Bulk (Bag packing)",1000,"https://industrial.panasonic.com/ww/products/pt/film-cap-electroequip/models/ECWHA3C112JQ","≤18","≤ 6","≤13.5",{"$f":"pana_film[[#This Row],[Body length / dia\n(mm)]]&\" x \"&pana_film[[#This Row],[Body width\n(mm)]]","v":"17.8 x 5.4"},"-","-"]
[null,"Std","dip","PP","No","ECWH(A)","ECWHA3C112JB",1600,"DC",1.1000000000000001E-3,"± 5",17.8,5.4,13.1,10,"Inner crimped lead wire type (Style B)","-40 to 105 (85)","Bulk (Bag packing)",1000,"https://industrial.panasonic.com/ww/products/pt/film-cap-electroequip/models/ECWHA3C112JB","≤18","≤ 6","≤13.5",{"$f":"pana_film[[#This Row],[Body length / dia\n(mm)]]&\" x \"&pana_film[[#This Row],[Body width\n(mm)]]","v":"17.8 x 5.4"},"-","-"]
[null,"Std","dip","PP","No","ECWH(A)","ECWHA3C112J4",1600,"DC",1.1000000000000001E-3,"± 5",17.8,5.4,13.1,7.5,"Inner crimped lead wire type (Style B)","-40 to 105 (85)","30.0P crimped lead taping (ammo packing)",600,"https://industrial.panasonic.com/ww/products/pt/film-cap-electroequip/models/ECWHA3C112J4","≤18","≤ 6","≤13.5",{"$f":"pana_film[[#This Row],[Body length / dia\n(mm)]]&\" x \"&pana_film[[#This Row],[Body width\n(mm)]]","v":"17.8 x 5.4"},"-","-"]
[null,"Std","dip","PP","No","ECWH(A)","ECWHA3C112HQ",1600,"DC",1.1000000000000001E-3,"± 3",17.8,5.4,13.1,15,"Crimped lead wire type (Style D)","-40 to 105 (85)","Bulk (Bag packing)",1000,"https://industrial.panasonic.com/ww/products/pt/film-cap-electroequip/models/ECWHA3C112HQ","≤18","≤ 6","≤13.5",{"$f":"pana_film[[#This Row],[Body length / dia\n(mm)]]&\" x \"&pana_film[[#This Row],[Body width\n(mm)]]","v":"17.8 x 5.4"},"-","-"]
[null,"Std","dip","PP","No","ECWH(A)","ECWHA3C112HB",1600,"DC",1.1000000000000001E-3,"± 3",17.8,5.4,13.1,10,"Inner crimped lead wire type (Style B)","-40 to 105 (85)","Bulk (Bag packing)",1000,"https://industrial.panasonic.com/ww/products/pt/film-cap-electroequip/models/ECWHA3C112HB","≤18","≤ 6","≤13.5",{"$f":"pana_film[[#This Row],[Body length / dia\n(mm)]]&\" x \"&pana_film[[#This Row],[Body width\n(mm)]]","v":"17.8 x 5.4"},"-","-"]
[null,"Std","dip","PP","No","ECWH(A)","ECWHA3C112H4",1600,"DC",1.1000000000000001E-3,"± 3",17.8,5.4,13.1,7.5,"Inner crimped lead wire type (Style B)","-40 to 105 (85)","30.0P crimped lead taping (ammo packing)",600,"https://industrial.panasonic.com/ww/products/pt/film-cap-electroequip/models/ECWHA3C112H4","≤18","≤ 6","≤13.5",{"$f":"pana_film[[#This Row],[Body length / dia\n(mm)]]&\" x \"&pana_film[[#This Row],[Body width\n(mm)]]","v":"17.8 x 5.4"},"-","-"]
[null,"Std","dip","PP","No","ECWH(A)","ECWHA3C103JQ",1600,"DC",0.01,"± 5",20.3,6.4,17.3,17.5,"Crimped lead wire type (Style D)","-40 to 105 (85)","Bulk (Bag packing)",1000,"https://industrial.panasonic.com/ww/products/pt/film-cap-electroequip/models/ECWHA3C103JQ","≤21","≤ 7","≤17.5",{"$f":"pana_film[[#This Row],[Body length / dia\n(mm)]]&\" x \"&pana_film[[#This Row],[Body width\n(mm)]]","v":"20.3 x 6.4"},"-","-"]
[null,"Std","dip","PP","No","ECWH(A)","ECWHA3C103JC",1600,"DC",0.01,"± 5",20.3,6.4,12.3,17.5,"Short cut lead wire type","-40 to 105 (85)","Bulk (Bag packing)",1000,"https://industrial.panasonic.com/ww/products/pt/film-cap-electroequip/models/ECWHA3C103JC","≤21","≤ 7","≤12.5",{"$f":"pana_film[[#This Row],[Body length / dia\n(mm)]]&\" x \"&pana_film[[#This Row],[Body width\n(mm)]]","v":"20.3 x 6.4"},"-","-"]
[null,"Std","dip","PP","No","ECWH(A)","ECWHA3C103JB",1600,"DC",0.01,"± 5",20.3,6.4,17.3,10,"Inner crimped lead wire type (Style B)","-40 to 105 (85)","Bulk (Bag packing)",1000,"https://industrial.panasonic.com/ww/products/pt/film-cap-electroequip/models/ECWHA3C103JB","≤21","≤ 7","≤17.5",{"$f":"pana_film[[#This Row],[Body length / dia\n(mm)]]&\" x \"&pana_film[[#This Row],[Body width\n(mm)]]","v":"20.3 x 6.4"},"-","-"]
[null,"Std","dip","PP","No","ECWH(A)","ECWHA3C103J4",1600,"DC",0.01,"± 5",20.3,6.4,17.3,7.5,"Inner crimped lead wire type (Style B)","-40 to 105 (85)","30.0P crimped lead taping (ammo packing)",500,"https://industrial.panasonic.com/ww/products/pt/film-cap-electroequip/models/ECWHA3C103J4","≤21","≤ 7","≤17.5",{"$f":"pana_film[[#This Row],[Body length / dia\n(mm)]]&\" x \"&pana_film[[#This Row],[Body width\n(mm)]]","v":"20.3 x 6.4"},"-","-"]
[null,"Std","dip","PP","No","ECWH(A)","ECWHA3C103J",1600,"DC",0.01,"± 5",20.3,6.4,12.3,17.5,"Straight lead wire type","-40 to 105 (85)","Bulk (Bag packing)",1000,"https://industrial.panasonic.com/ww/products/pt/film-cap-electroequip/models/ECWHA3C103J","≤21","≤ 7","≤12.5",{"$f":"pana_film[[#This Row],[Body length / dia\n(mm)]]&\" x \"&pana_film[[#This Row],[Body width\n(mm)]]","v":"20.3 x 6.4"},"-","-"]
[null,"Std","dip","PP","No","ECWH(A)","ECWHA3C103HQ",1600,"DC",0.01,"± 3",20.3,6.4,17.3,17.5,"Crimped lead wire type (Style D)","-40 to 105 (85)","Bulk (Bag packing)",1000,"https://industrial.panasonic.com/ww/products/pt/film-cap-electroequip/models/ECWHA3C103HQ","≤21","≤ 7","≤17.5",{"$f":"pana_film[[#This Row],[Body length / dia\n(mm)]]&\" x \"&pana_film[[#This Row],[Body width\n(mm)]]","v":"20.3 x 6.4"},"-","-"]
[null,"Std","dip","PP","No","ECWH(A)","ECWHA3C103HC",1600,"DC",0.01,"± 3",20.3,6.4,12.3,17.5,"Short cut lead wire type","-40 to 105 (85)","Bulk (Bag packing)",1000,"https://industrial.panasonic.com/ww/products/pt/film-cap-electroequip/models/ECWHA3C103HC","≤21","≤ 7","≤12.5",{"$f":"pana_film[[#This Row],[Body length / dia\n(mm)]]&\" x \"&pana_film[[#This Row],[Body width\n(mm)]]","v":"20.3 x 6.4"},"-","-"]
[null,"Std","dip","PP","No","ECWH(A)","ECWHA3C103HB",1600,"DC",0.01,"± 3",20.3,6.4,17.3,10,"Inner crimped lead wire type (Style B)","-40 to 105 (85)","Bulk (Bag packing)",1000,"https://industrial.panasonic.com/ww/products/pt/film-cap-electroequip/models/ECWHA3C103HB","≤21","≤ 7","≤17.5",{"$f":"pana_film[[#This Row],[Body length / dia\n(mm)]]&\" x \"&pana_film[[#This Row],[Body width\n(mm)]]","v":"20.3 x 6.4"},"-","-"]
[null,"Std","dip","PP","No","ECWH(A)","ECWHA3C103H4",1600,"DC",0.01,"± 3",20.3,6.4,17.3,7.5,"Inner crimped lead wire type (Style B)","-40 to 105 (85)","30.0P crimped lead taping (ammo packing)",500,"https://industrial.panasonic.com/ww/products/pt/film-cap-electroequip/models/ECWHA3C103H4","≤21","≤ 7","≤17.5",{"$f":"pana_film[[#This Row],[Body length / dia\n(mm)]]&\" x \"&pana_film[[#This Row],[Body width\n(mm)]]","v":"20.3 x 6.4"},"-","-"]
[null,"Std","dip","PP","No","ECWH(A)","ECWHA3C103H",1600,"DC",0.01,"± 3",20.3,6.4,12.3,17.5,"Straight lead wire type","-40 to 105 (85)","Bulk (Bag packing)",1000,"https://industrial.panasonic.com/ww/products/pt/film-cap-electroequip/models/ECWHA3C103H","≤21","≤ 7","≤12.5",{"$f":"pana_film[[#This Row],[Body length / dia\n(mm)]]&\" x \"&pana_film[[#This Row],[Body width\n(mm)]]","v":"20.3 x 6.4"},"-","-"]
[null,"Std","dip","PP","No","ECWH(A)","ECWHA3C102JQ",1600,"DC",1E-3,"± 5",17.8,5.2,13,15,"Crimped lead wire type (Style D)","-40 to 105 (85)","Bulk (Bag packing)",1000,"https://industrial.panasonic.com/ww/products/pt/film-cap-electroequip/models/ECWHA3C102JQ","≤18","≤ 6","≤13",{"$f":"pana_film[[#This Row],[Body length / dia\n(mm)]]&\" x \"&pana_film[[#This Row],[Body width\n(mm)]]","v":"17.8 x 5.2"},"-","-"]
[null,"Std","dip","PP","No","ECWH(A)","ECWHA3C102JB",1600,"DC",1E-3,"± 5",17.8,5.2,13,10,"Inner crimped lead wire type (Style B)","-40 to 105 (85)","Bulk (Bag packing)",1000,"https://industrial.panasonic.com/ww/products/pt/film-cap-electroequip/models/ECWHA3C102JB","≤18","≤ 6","≤13",{"$f":"pana_film[[#This Row],[Body length / dia\n(mm)]]&\" x \"&pana_film[[#This Row],[Body width\n(mm)]]","v":"17.8 x 5.2"},"-","-"]
[null,"Std","dip","PP","No","ECWH(A)","ECWHA3C102J4",1600,"DC",1E-3,"± 5",17.8,5.2,13,7.5,"Inner crimped lead wire type (Style B)","-40 to 105 (85)","30.0P crimped lead taping (ammo packing)",600,"https://industrial.panasonic.com/ww/products/pt/film-cap-electroequip/models/ECWHA3C102J4","≤18","≤ 6","≤13",{"$f":"pana_film[[#This Row],[Body length / dia\n(mm)]]&\" x \"&pana_film[[#This Row],[Body width\n(mm)]]","v":"17.8 x 5.2"},"-","-"]
[null,"Std","dip","PP","No","ECWH(A)","ECWHA3C102HQ",1600,"DC",1E-3,"± 3",17.8,5.2,13,15,"Crimped lead wire type (Style D)","-40 to 105 (85)","Bulk (Bag packing)",1000,"https://industrial.panasonic.com/ww/products/pt/film-cap-electroequip/models/ECWHA3C102HQ","≤18","≤ 6","≤13",{"$f":"pana_film[[#This Row],[Body length / dia\n(mm)]]&\" x \"&pana_film[[#This Row],[Body width\n(mm)]]","v":"17.8 x 5.2"},"-","-"]
[null,"Std","dip","PP","No","ECWH(A)","ECWHA3C102HB",1600,"DC",1E-3,"± 3",17.8,5.2,13,10,"Inner crimped lead wire type (Style B)","-40 to 105 (85)","Bulk (Bag packing)",1000,"https://industrial.panasonic.com/ww/products/pt/film-cap-electroequip/models/ECWHA3C102HB","≤18","≤ 6","≤13",{"$f":"pana_film[[#This Row],[Body length / dia\n(mm)]]&\" x \"&pana_film[[#This Row],[Body width\n(mm)]]","v":"17.8 x 5.2"},"-","-"]
[null,"Std","dip","PP","No","ECWH(A)","ECWHA3C102H4",1600,"DC",1E-3,"± 3",17.8,5.2,13,7.5,"Inner crimped lead wire type (Style B)","-40 to 105 (85)","30.0P crimped lead taping (ammo packing)",600,"https://industrial.panasonic.com/ww/products/pt/film-cap-electroequip/models/ECWHA3C102H4","≤18","≤ 6","≤13",{"$f":"pana_film[[#This Row],[Body length / dia\n(mm)]]&\" x \"&pana_film[[#This Row],[Body width\n(mm)]]","v":"17.8 x 5.2"},"-","-"]
[null,"Std","dip","PP","No","ECWH(A)","ECWH8473RHA",800,"DC",4.7E-2,"± 3",15.7,9.6999999999999993,19.100000000000001,7.5,"Inner crimped lead wire type (Style B)","-40 to 105 (85)","30.0P crimped lead taping (ammo packing)",300,"https://industrial.panasonic.com/ww/products/pt/film-cap-electroequip/models/ECWH8473RHA","≤16","≤10","≤19.5",{"$f":"pana_film[[#This Row],[Body length / dia\n(mm)]]&\" x \"&pana_film[[#This Row],[Body width\n(mm)]]","v":"15.7 x 9.7"},"-","-"]
[null,"Std","dip","PP","No","ECWH(A)","ECWH8473HAQ",800,"DC",4.7E-2,"± 3",15.7,9.6999999999999993,21.1,12.5,"Crimped lead wire type (Style D)","-40 to 105 (85)","Bulk (Bag packing)",100,"https://industrial.panasonic.com/ww/products/pt/film-cap-electroequip/models/ECWH8473HAQ","≤16","≤10","≤21.5",{"$f":"pana_film[[#This Row],[Body length / dia\n(mm)]]&\" x \"&pana_film[[#This Row],[Body width\n(mm)]]","v":"15.7 x 9.7"},"-","-"]
[null,"Std","dip","PP","No","ECWH(A)","ECWH8473HAB",800,"DC",4.7E-2,"± 3",15.7,9.6999999999999993,19.100000000000001,7.5,"Inner crimped lead wire type (Style B)","-40 to 105 (85)","Bulk (Bag packing)",100,"https://industrial.panasonic.com/ww/products/pt/film-cap-electroequip/models/ECWH8473HAB","≤16","≤10","≤19.5",{"$f":"pana_film[[#This Row],[Body length / dia\n(mm)]]&\" x \"&pana_film[[#This Row],[Body width\n(mm)]]","v":"15.7 x 9.7"},"-","-"]
[null,"Std","dip","PP","No","ECWH(A)","ECWH8473HA",800,"DC",4.7E-2,"± 3",15.7,9.6999999999999993,14.1,12.5,"Straight lead wire type","-40 to 105 (85)","Bulk (Bag packing)",100,"https://industrial.panasonic.com/ww/products/pt/film-cap-electroequip/models/ECWH8473HA","≤16","≤10","≤14.5",{"$f":"pana_film[[#This Row],[Body length / dia\n(mm)]]&\" x \"&pana_film[[#This Row],[Body width\n(mm)]]","v":"15.7 x 9.7"},"-","-"]
[null,"Std","dip","PP","No","ECWH(A)","ECWH8393RHA",800,"DC",3.9E-2,"± 3",15.7,8.9,18.3,7.5,"Inner crimped lead wire type (Style B)","-40 to 105 (85)","30.0P crimped lead taping (ammo packing)",300,"https://industrial.panasonic.com/ww/products/pt/film-cap-electroequip/models/ECWH8393RHA","≤16","≤ 9","≤18.5",{"$f":"pana_film[[#This Row],[Body length / dia\n(mm)]]&\" x \"&pana_film[[#This Row],[Body width\n(mm)]]","v":"15.7 x 8.9"},"-","-"]
[null,"Std","dip","PP","No","ECWH(A)","ECWH8393HAQ",800,"DC",3.9E-2,"± 3",15.7,8.9,20.3,12.5,"Crimped lead wire type (Style D)","-40 to 105 (85)","Bulk (Bag packing)",100,"https://industrial.panasonic.com/ww/products/pt/film-cap-electroequip/models/ECWH8393HAQ","≤16","≤ 9","≤20.5",{"$f":"pana_film[[#This Row],[Body length / dia\n(mm)]]&\" x \"&pana_film[[#This Row],[Body width\n(mm)]]","v":"15.7 x 8.9"},"-","-"]
[null,"Std","dip","PP","No","ECWH(A)","ECWH8393HAB",800,"DC",3.9E-2,"± 3",15.7,8.9,18.3,7.5,"Inner crimped lead wire type (Style B)","-40 to 105 (85)","Bulk (Bag packing)",100,"https://industrial.panasonic.com/ww/products/pt/film-cap-electroequip/models/ECWH8393HAB","≤16","≤ 9","≤18.5",{"$f":"pana_film[[#This Row],[Body length / dia\n(mm)]]&\" x \"&pana_film[[#This Row],[Body width\n(mm)]]","v":"15.7 x 8.9"},"-","-"]
[null,"Std","dip","PP","No","ECWH(A)","ECWH8393HA",800,"DC",3.9E-2,"± 3",15.7,8.9,13.3,12.5,"Straight lead wire type","-40 to 105 (85)","Bulk (Bag packing)",100,"https://industrial.panasonic.com/ww/products/pt/film-cap-electroequip/models/ECWH8393HA","≤16","≤ 9","≤13.5",{"$f":"pana_film[[#This Row],[Body length / dia\n(mm)]]&\" x \"&pana_film[[#This Row],[Body width\n(mm)]]","v":"15.7 x 8.9"},"-","-"]
[null,"Std","dip","PP","No","ECWH(A)","ECWH8333RHA",800,"DC",3.3000000000000002E-2,"± 3",15.7,8.4,17.8,7.5,"Inner crimped lead wire type (Style B)","-40 to 105 (85)","30.0P crimped lead taping (ammo packing)",300,"https://industrial.panasonic.com/ww/products/pt/film-cap-electroequip/models/ECWH8333RHA","≤16","≤ 9","≤18",{"$f":"pana_film[[#This Row],[Body length / dia\n(mm)]]&\" x \"&pana_film[[#This Row],[Body width\n(mm)]]","v":"15.7 x 8.4"},"-","-"]
[null,"Std","dip","PP","No","ECWH(A)","ECWH8333HAQ",800,"DC",3.3000000000000002E-2,"± 3",15.7,8.4,19.8,12.5,"Crimped lead wire type (Style D)","-40 to 105 (85)","Bulk (Bag packing)",100,"https://industrial.panasonic.com/ww/products/pt/film-cap-electroequip/models/ECWH8333HAQ","≤16","≤ 9","≤20",{"$f":"pana_film[[#This Row],[Body length / dia\n(mm)]]&\" x \"&pana_film[[#This Row],[Body width\n(mm)]]","v":"15.7 x 8.4"},"-","-"]
[null,"Std","dip","PP","No","ECWH(A)","ECWH8333HAB",800,"DC",3.3000000000000002E-2,"± 3",15.7,8.4,17.8,7.5,"Inner crimped lead wire type (Style B)","-40 to 105 (85)","Bulk (Bag packing)",100,"https://industrial.panasonic.com/ww/products/pt/film-cap-electroequip/models/ECWH8333HAB","≤16","≤ 9","≤18",{"$f":"pana_film[[#This Row],[Body length / dia\n(mm)]]&\" x \"&pana_film[[#This Row],[Body width\n(mm)]]","v":"15.7 x 8.4"},"-","-"]
[null,"Std","dip","PP","No","ECWH(A)","ECWH8333HA",800,"DC",3.3000000000000002E-2,"± 3",15.7,8.4,12.8,12.5,"Straight lead wire type","-40 to 105 (85)","Bulk (Bag packing)",100,"https://industrial.panasonic.com/ww/products/pt/film-cap-electroequip/models/ECWH8333HA","≤16","≤ 9","≤13",{"$f":"pana_film[[#This Row],[Body length / dia\n(mm)]]&\" x \"&pana_film[[#This Row],[Body width\n(mm)]]","v":"15.7 x 8.4"},"-","-"]
[null,"Std","dip","PP","No","ECWH(A)","ECWH8273RHA",800,"DC",2.7E-2,"± 3",15.7,7.6,17,7.5,"Inner crimped lead wire type (Style B)","-40 to 105 (85)","30.0P crimped lead taping (ammo packing)",400,"https://industrial.panasonic.com/ww/products/pt/film-cap-electroequip/models/ECWH8273RHA","≤16","≤ 8","≤17",{"$f":"pana_film[[#This Row],[Body length / dia\n(mm)]]&\" x \"&pana_film[[#This Row],[Body width\n(mm)]]","v":"15.7 x 7.6"},"-","-"]
[null,"Std","dip","PP","No","ECWH(A)","ECWH8273HAQ",800,"DC",2.7E-2,"± 3",15.7,7.6,19,12.5,"Crimped lead wire type (Style D)","-40 to 105 (85)","Bulk (Bag packing)",100,"https://industrial.panasonic.com/ww/products/pt/film-cap-electroequip/models/ECWH8273HAQ","≤16","≤ 8","≤19",{"$f":"pana_film[[#This Row],[Body length / dia\n(mm)]]&\" x \"&pana_film[[#This Row],[Body width\n(mm)]]","v":"15.7 x 7.6"},"-","-"]
[null,"Std","dip","PP","No","ECWH(A)","ECWH8273HAB",800,"DC",2.7E-2,"± 3",15.7,7.6,17,7.5,"Inner crimped lead wire type (Style B)","-40 to 105 (85)","Bulk (Bag packing)",100,"https://industrial.panasonic.com/ww/products/pt/film-cap-electroequip/models/ECWH8273HAB","≤16","≤ 8","≤17",{"$f":"pana_film[[#This Row],[Body length / dia\n(mm)]]&\" x \"&pana_film[[#This Row],[Body width\n(mm)]]","v":"15.7 x 7.6"},"-","-"]
[null,"Std","dip","PP","No","ECWH(A)","ECWH8273HA",800,"DC",2.7E-2,"± 3",15.7,7.6,12,12.5,"Straight lead wire type","-40 to 105 (85)","Bulk (Bag packing)",100,"https://industrial.panasonic.com/ww/products/pt/film-cap-electroequip/models/ECWH8273HA","≤16","≤ 8","≤12",{"$f":"pana_film[[#This Row],[Body length / dia\n(mm)]]&\" x \"&pana_film[[#This Row],[Body width\n(mm)]]","v":"15.7 x 7.6"},"-","-"]
[null,"Std","dip","PP","No","ECWH(A)","ECWH8223RHA",800,"DC",2.1999999999999999E-2,"± 3",15.7,7.1,16.5,7.5,"Inner crimped lead wire type (Style B)","-40 to 105 (85)","30.0P crimped lead taping (ammo packing)",400,"https://industrial.panasonic.com/ww/products/pt/film-cap-electroequip/models/ECWH8223RHA","≤16","≤ 8","≤16.5",{"$f":"pana_film[[#This Row],[Body length / dia\n(mm)]]&\" x \"&pana_film[[#This Row],[Body width\n(mm)]]","v":"15.7 x 7.1"},"-","-"]
[null,"Std","dip","PP","No","ECWH(A)","ECWH8223HAQ",800,"DC",2.1999999999999999E-2,"± 3",15.7,7.1,18.5,12.5,"Crimped lead wire type (Style D)","-40 to 105 (85)","Bulk (Bag packing)",100,"https://industrial.panasonic.com/ww/products/pt/film-cap-electroequip/models/ECWH8223HAQ","≤16","≤ 8","≤18.5",{"$f":"pana_film[[#This Row],[Body length / dia\n(mm)]]&\" x \"&pana_film[[#This Row],[Body width\n(mm)]]","v":"15.7 x 7.1"},"-","-"]
[null,"Std","dip","PP","No","ECWH(A)","ECWH8223HAC",800,"DC",2.1999999999999999E-2,"± 3",15.7,7.1,11.5,12.5,"Short cut lead wire type","-40 to 105 (85)","Bulk (Bag packing)",100,"https://industrial.panasonic.com/ww/products/pt/film-cap-electroequip/models/ECWH8223HAC","≤16","≤ 8","≤11.5",{"$f":"pana_film[[#This Row],[Body length / dia\n(mm)]]&\" x \"&pana_film[[#This Row],[Body width\n(mm)]]","v":"15.7 x 7.1"},"-","-"]
[null,"Std","dip","PP","No","ECWH(A)","ECWH8223HAB",800,"DC",2.1999999999999999E-2,"± 3",15.7,7.1,16.5,7.5,"Inner crimped lead wire type (Style B)","-40 to 105 (85)","Bulk (Bag packing)",100,"https://industrial.panasonic.com/ww/products/pt/film-cap-electroequip/models/ECWH8223HAB","≤16","≤ 8","≤16.5",{"$f":"pana_film[[#This Row],[Body length / dia\n(mm)]]&\" x \"&pana_film[[#This Row],[Body width\n(mm)]]","v":"15.7 x 7.1"},"-","-"]
[null,"Std","dip","PP","No","ECWH(A)","ECWH8223HA",800,"DC",2.1999999999999999E-2,"± 3",15.7,7.1,11.5,12.5,"Straight lead wire type","-40 to 105 (85)","Bulk (Bag packing)",100,"https://industrial.panasonic.com/ww/products/pt/film-cap-electroequip/models/ECWH8223HA","≤16","≤ 8","≤11.5",{"$f":"pana_film[[#This Row],[Body length / dia\n(mm)]]&\" x \"&pana_film[[#This Row],[Body width\n(mm)]]","v":"15.7 x 7.1"},"-","-"]
[null,"Std","dip","PP","No","ECWH(A)","ECWH8183RHA",800,"DC",1.7999999999999999E-2,"± 3",15.7,6.6,16,7.5,"Inner crimped lead wire type (Style B)","-40 to 105 (85)","30.0P crimped lead taping (ammo packing)",500,"https://industrial.panasonic.com/ww/products/pt/film-cap-electroequip/models/ECWH8183RHA","≤16","≤ 7","≤16",{"$f":"pana_film[[#This Row],[Body length / dia\n(mm)]]&\" x \"&pana_film[[#This Row],[Body width\n(mm)]]","v":"15.7 x 6.6"},"-","-"]
[null,"Std","dip","PP","No","ECWH(A)","ECWH8183HAQ",800,"DC",1.7999999999999999E-2,"± 3",15.7,6.6,18,12.5,"Crimped lead wire type (Style D)","-40 to 105 (85)","Bulk (Bag packing)",100,"https://industrial.panasonic.com/ww/products/pt/film-cap-electroequip/models/ECWH8183HAQ","≤16","≤ 7","≤18",{"$f":"pana_film[[#This Row],[Body length / dia\n(mm)]]&\" x \"&pana_film[[#This Row],[Body width\n(mm)]]","v":"15.7 x 6.6"},"-","-"]
[null,"Std","dip","PP","No","ECWH(A)","ECWH8183HAC",800,"DC",1.7999999999999999E-2,"± 3",15.7,6.6,11,12.5,"Short cut lead wire type","-40 to 105 (85)","Bulk (Bag packing)",100,"https://industrial.panasonic.com/ww/products/pt/film-cap-electroequip/models/ECWH8183HAC","≤16","≤ 7","≤11",{"$f":"pana_film[[#This Row],[Body length / dia\n(mm)]]&\" x \"&pana_film[[#This Row],[Body width\n(mm)]]","v":"15.7 x 6.6"},"-","-"]
[null,"Std","dip","PP","No","ECWH(A)","ECWH8183HAB",800,"DC",1.7999999999999999E-2,"± 3",15.7,6.6,16,7.5,"Inner crimped lead wire type (Style B)","-40 to 105 (85)","Bulk (Bag packing)",100,"https://industrial.panasonic.com/ww/products/pt/film-cap-electroequip/models/ECWH8183HAB","≤16","≤ 7","≤16",{"$f":"pana_film[[#This Row],[Body length / dia\n(mm)]]&\" x \"&pana_film[[#This Row],[Body width\n(mm)]]","v":"15.7 x 6.6"},"-","-"]
[null,"Std","dip","PP","No","ECWH(A)","ECWH8183HA",800,"DC",1.7999999999999999E-2,"± 3",15.7,6.6,11,12.5,"Straight lead wire type","-40 to 105 (85)","Bulk (Bag packing)",100,"https://industrial.panasonic.com/ww/products/pt/film-cap-electroequip/models/ECWH8183HA","≤16","≤ 7","≤11",{"$f":"pana_film[[#This Row],[Body length / dia\n(mm)]]&\" x \"&pana_film[[#This Row],[Body width\n(mm)]]","v":"15.7 x 6.6"},"-","-"]
[null,"Std","dip","PP","No","ECWH(A)","ECWH8153RHA",800,"DC",1.4999999999999999E-2,"± 3",15.4,6.2,15.6,7.5,"Inner crimped lead wire type (Style B)","-40 to 105 (85)","30.0P crimped lead taping (ammo packing)",500,"https://industrial.panasonic.com/ww/products/pt/film-cap-electroequip/models/ECWH8153RHA","≤16","≤ 7","≤16",{"$f":"pana_film[[#This Row],[Body length / dia\n(mm)]]&\" x \"&pana_film[[#This Row],[Body width\n(mm)]]","v":"15.4 x 6.2"},"-","-"]
[null,"Std","dip","PP","No","ECWH(A)","ECWH8153HAQ",800,"DC",1.4999999999999999E-2,"± 3",15.4,6.2,15.6,12.5,"Crimped lead wire type (Style D)","-40 to 105 (85)","Bulk (Bag packing)",100,"https://industrial.panasonic.com/ww/products/pt/film-cap-electroequip/models/ECWH8153HAQ","≤16","≤ 7","≤16",{"$f":"pana_film[[#This Row],[Body length / dia\n(mm)]]&\" x \"&pana_film[[#This Row],[Body width\n(mm)]]","v":"15.4 x 6.2"},"-","-"]
[null,"Std","dip","PP","No","ECWH(A)","ECWH8153HAC",800,"DC",1.4999999999999999E-2,"± 3",15.4,6.2,10.6,12.5,"Short cut lead wire type","-40 to 105 (85)","Bulk (Bag packing)",100,"https://industrial.panasonic.com/ww/products/pt/film-cap-electroequip/models/ECWH8153HAC","≤16","≤ 7","≤11",{"$f":"pana_film[[#This Row],[Body length / dia\n(mm)]]&\" x \"&pana_film[[#This Row],[Body width\n(mm)]]","v":"15.4 x 6.2"},"-","-"]
[null,"Std","dip","PP","No","ECWH(A)","ECWH8153HAB",800,"DC",1.4999999999999999E-2,"± 3",15.4,6.2,15.6,7.5,"Inner crimped lead wire type (Style B)","-40 to 105 (85)","Bulk (Bag packing)",100,"https://industrial.panasonic.com/ww/products/pt/film-cap-electroequip/models/ECWH8153HAB","≤16","≤ 7","≤16",{"$f":"pana_film[[#This Row],[Body length / dia\n(mm)]]&\" x \"&pana_film[[#This Row],[Body width\n(mm)]]","v":"15.4 x 6.2"},"-","-"]
[null,"Std","dip","PP","No","ECWH(A)","ECWH8153HA",800,"DC",1.4999999999999999E-2,"± 3",15.4,6.2,10.6,12.5,"Straight lead wire type","-40 to 105 (85)","Bulk (Bag packing)",100,"https://industrial.panasonic.com/ww/products/pt/film-cap-electroequip/models/ECWH8153HA","≤16","≤ 7","≤11",{"$f":"pana_film[[#This Row],[Body length / dia\n(mm)]]&\" x \"&pana_film[[#This Row],[Body width\n(mm)]]","v":"15.4 x 6.2"},"-","-"]
[null,"Std","dip","PP","No","ECWH(A)","ECWH8123RHA",800,"DC",1.2E-2,"± 3",15.4,5.8,15.2,7.5,"Inner crimped lead wire type (Style B)","-40 to 105 (85)","30.0P crimped lead taping (ammo packing)",500,"https://industrial.panasonic.com/ww/products/pt/film-cap-electroequip/models/ECWH8123RHA","≤16","≤ 6","≤15.5",{"$f":"pana_film[[#This Row],[Body length / dia\n(mm)]]&\" x \"&pana_film[[#This Row],[Body width\n(mm)]]","v":"15.4 x 5.8"},"-","-"]
[null,"Std","dip","PP","No","ECWH(A)","ECWH8123HAQ",800,"DC",1.2E-2,"± 3",15.4,5.8,15.2,12.5,"Crimped lead wire type (Style D)","-40 to 105 (85)","Bulk (Bag packing)",100,"https://industrial.panasonic.com/ww/products/pt/film-cap-electroequip/models/ECWH8123HAQ","≤16","≤ 6","≤15.5",{"$f":"pana_film[[#This Row],[Body length / dia\n(mm)]]&\" x \"&pana_film[[#This Row],[Body width\n(mm)]]","v":"15.4 x 5.8"},"-","-"]
[null,"Std","dip","PP","No","ECWH(A)","ECWH8123HAC",800,"DC",1.2E-2,"± 3",15.4,5.8,10.199999999999999,12.5,"Short cut lead wire type","-40 to 105 (85)","Bulk (Bag packing)",100,"https://industrial.panasonic.com/ww/products/pt/film-cap-electroequip/models/ECWH8123HAC","≤16","≤ 6","≤10.5",{"$f":"pana_film[[#This Row],[Body length / dia\n(mm)]]&\" x \"&pana_film[[#This Row],[Body width\n(mm)]]","v":"15.4 x 5.8"},"-","-"]
[null,"Std","dip","PP","No","ECWH(A)","ECWH8123HAB",800,"DC",1.2E-2,"± 3",15.4,5.8,15.2,7.5,"Inner crimped lead wire type (Style B)","-40 to 105 (85)","Bulk (Bag packing)",100,"https://industrial.panasonic.com/ww/products/pt/film-cap-electroequip/models/ECWH8123HAB","≤16","≤ 6","≤15.5",{"$f":"pana_film[[#This Row],[Body length / dia\n(mm)]]&\" x \"&pana_film[[#This Row],[Body width\n(mm)]]","v":"15.4 x 5.8"},"-","-"]
[null,"Std","dip","PP","No","ECWH(A)","ECWH8123HA",800,"DC",1.2E-2,"± 3",15.4,5.8,10.199999999999999,12.5,"Straight lead wire type","-40 to 105 (85)","Bulk (Bag packing)",100,"https://industrial.panasonic.com/ww/products/pt/film-cap-electroequip/models/ECWH8123HA",{"$f":"IF(L839<=9.5,\"≤ \"&ROUNDUP(L839*1,0)/1,\"≤\"&ROUNDUP(L839*1,0)/1)","v":"≤16"},{"$f":"IF(M839<=9,\"≤ \"&ROUNDUP(M839*1,0)/1,\"≤\"&ROUNDUP(M839*1,0)/1)","v":"≤ 6"},{"$f":"IF(N839<=9.5,\"≤ \"&ROUNDUP(N839*2,0)/2,\"≤\"&ROUNDUP(N839*2,0)/2)","v":"≤10.5"},{"$f":"pana_film[[#This Row],[Body length / dia\n(mm)]]&\" x \"&pana_film[[#This Row],[Body width\n(mm)]]","v":"15.4 x 5.8"},"-","-"]
[null,"Std","dip","PP","No","ECWH(A)","ECWH8103RHA",800,"DC",0.01,"± 3",15.4,5.4,14.8,7.5,"Inner crimped lead wire type (Style B)","-40 to 105 (85)","30.0P crimped lead taping (ammo packing)",500,"https://industrial.panasonic.com/ww/products/pt/film-cap-electroequip/models/ECWH8103RHA","≤16","≤ 6","≤15",{"$f":"pana_film[[#This Row],[Body length / dia\n(mm)]]&\" x \"&pana_film[[#This Row],[Body width\n(mm)]]","v":"15.4 x 5.4"},"-","-"]
[null,"Std","dip","PP","No","ECWH(A)","ECWH8103HAQ",800,"DC",0.01,"± 3",15.4,5.4,14.8,12.5,"Crimped lead wire type (Style D)","-40 to 105 (85)","Bulk (Bag packing)",100,"https://industrial.panasonic.com/ww/products/pt/film-cap-electroequip/models/ECWH8103HAQ","≤16","≤ 6","≤15",{"$f":"pana_film[[#This Row],[Body length / dia\n(mm)]]&\" x \"&pana_film[[#This Row],[Body width\n(mm)]]","v":"15.4 x 5.4"},"-","-"]
[null,"Std","dip","PP","No","ECWH(A)","ECWH8103HAC",800,"DC",0.01,"± 3",15.4,5.4,9.8000000000000007,12.5,"Short cut lead wire type","-40 to 105 (85)","Bulk (Bag packing)",100,"https://industrial.panasonic.com/ww/products/pt/film-cap-electroequip/models/ECWH8103HAC","≤16","≤ 6","≤10",{"$f":"pana_film[[#This Row],[Body length / dia\n(mm)]]&\" x \"&pana_film[[#This Row],[Body width\n(mm)]]","v":"15.4 x 5.4"},"-","-"]
[null,"Std","dip","PP","No","ECWH(A)","ECWH8103HAB",800,"DC",0.01,"± 3",15.4,5.4,14.8,7.5,"Inner crimped lead wire type (Style B)","-40 to 105 (85)","Bulk (Bag packing)",100,"https://industrial.panasonic.com/ww/products/pt/film-cap-electroequip/models/ECWH8103HAB","≤16","≤ 6","≤15",{"$f":"pana_film[[#This Row],[Body length / dia\n(mm)]]&\" x \"&pana_film[[#This Row],[Body width\n(mm)]]","v":"15.4 x 5.4"},"-","-"]
[null,"Std","dip","PP","No","ECWH(A)","ECWH8103HA",800,"DC",0.01,"± 3",15.4,5.4,9.8000000000000007,12.5,"Straight lead wire type","-40 to 105 (85)","Bulk (Bag packing)",100,"https://industrial.panasonic.com/ww/products/pt/film-cap-electroequip/models/ECWH8103HA","≤16","≤ 6","≤10",{"$f":"pana_film[[#This Row],[Body length / dia\n(mm)]]&\" x \"&pana_film[[#This Row],[Body width\n(mm)]]","v":"15.4 x 5.4"},"-","-"]
[null,"Std","dip","PP","No","ECWH(C)","ECWH6334HCC",630,"DC",0.33,"± 3",20.7,14.7,21.1,17.5,"Short cut lead wire type","-40 to 105 (85)","Bulk (Bag packing)",100,"https://industrial.panasonic.com/ww/products/pt/film-cap-electroequip/models/ECWH6334HCC","≤21","≤15","≤21.5",{"$f":"pana_film[[#This Row],[Body length / dia\n(mm)]]&\" x \"&pana_film[[#This Row],[Body width\n(mm)]]","v":"20.7 x 14.7"},"-","-"]
[null,"Std","dip","PP","No","ECWH(C)","ECWH6334HC",630,"DC",0.33,"± 3",20.7,14.7,21.1,17.5,"Straight lead wire type","-40 to 105 (85)","Bulk (Bag packing)",100,"https://industrial.panasonic.com/ww/products/pt/film-cap-electroequip/models/ECWH6334HC","≤21","≤15","≤21.5",{"$f":"pana_film[[#This Row],[Body length / dia\n(mm)]]&\" x \"&pana_film[[#This Row],[Body width\n(mm)]]","v":"20.7 x 14.7"},"-","-"]
[null,"Std","dip","PP","No","ECWH(C)","ECWH6324HCC",630,"DC",0.32,"± 3",20.7,14.5,20.9,17.5,"Short cut lead wire type","-40 to 105 (85)","Bulk (Bag packing)",100,"https://industrial.panasonic.com/ww/products/pt/film-cap-electroequip/models/ECWH6324HCC","≤21","≤15","≤21",{"$f":"pana_film[[#This Row],[Body length / dia\n(mm)]]&\" x \"&pana_film[[#This Row],[Body width\n(mm)]]","v":"20.7 x 14.5"},"-","-"]
[null,"Std","dip","PP","No","ECWH(C)","ECWH6324HC",630,"DC",0.32,"± 3",20.7,14.5,20.9,17.5,"Straight lead wire type","-40 to 105 (85)","Bulk (Bag packing)",100,"https://industrial.panasonic.com/ww/products/pt/film-cap-electroequip/models/ECWH6324HC","≤21","≤15","≤21",{"$f":"pana_film[[#This Row],[Body length / dia\n(mm)]]&\" x \"&pana_film[[#This Row],[Body width\n(mm)]]","v":"20.7 x 14.5"},"-","-"]
[null,"Std","dip","PP","No","ECWH(C)","ECWH6304HCC",630,"DC",0.3,"± 3",20.7,14.8,19.600000000000001,17.5,"Short cut lead wire type","-40 to 105 (85)","Bulk (Bag packing)",100,"https://industrial.panasonic.com/ww/products/pt/film-cap-electroequip/models/ECWH6304HCC","≤21","≤15","≤20",{"$f":"pana_film[[#This Row],[Body length / dia\n(mm)]]&\" x \"&pana_film[[#This Row],[Body width\n(mm)]]","v":"20.7 x 14.8"},"-","-"]
[null,"Std","dip","PP","No","ECWH(C)","ECWH6304HC",630,"DC",0.3,"± 3",20.7,14.8,19.600000000000001,17.5,"Straight lead wire type","-40 to 105 (85)","Bulk (Bag packing)",100,"https://industrial.panasonic.com/ww/products/pt/film-cap-electroequip/models/ECWH6304HC","≤21","≤15","≤20",{"$f":"pana_film[[#This Row],[Body length / dia\n(mm)]]&\" x \"&pana_film[[#This Row],[Body width\n(mm)]]","v":"20.7 x 14.8"},"-","-"]
[null,"Std","dip","PP","No","ECWH(C)","ECWH6284HCC",630,"DC",0.28000000000000003,"± 3",20.7,14.3,19.100000000000001,17.5,"Short cut lead wire type","-40 to 105 (85)","Bulk (Bag packing)",100,"https://industrial.panasonic.com/ww/products/pt/film-cap-electroequip/models/ECWH6284HCC","≤21","≤15","≤19.5",{"$f":"pana_film[[#This Row],[Body length / dia\n(mm)]]&\" x \"&pana_film[[#This Row],[Body width\n(mm)]]","v":"20.7 x 14.3"},"-","-"]
[null,"Std","dip","PP","No","ECWH(C)","ECWH6284HC",630,"DC",0.28000000000000003,"± 3",20.7,14.3,19.100000000000001,17.5,"Straight lead wire type","-40 to 105 (85)","Bulk (Bag packing)",100,"https://industrial.panasonic.com/ww/products/pt/film-cap-electroequip/models/ECWH6284HC","≤21","≤15","≤19.5",{"$f":"pana_film[[#This Row],[Body length / dia\n(mm)]]&\" x \"&pana_film[[#This Row],[Body width\n(mm)]]","v":"20.7 x 14.3"},"-","-"]
[null,"Std","dip","PP","No","ECWH(C)","ECWH6274HCC",630,"DC",0.27,"± 3",20.7,14,18.899999999999999,17.5,"Short cut lead wire type","-40 to 105 (85)","Bulk (Bag packing)",700,"https://industrial.panasonic.com/ww/products/pt/film-cap-electroequip/models/ECWH6274HCC","≤21","≤14","≤19",{"$f":"pana_film[[#This Row],[Body length / dia\n(mm)]]&\" x \"&pana_film[[#This Row],[Body width\n(mm)]]","v":"20.7 x 14"},"-","-"]
[null,"Std","dip","PP","No","ECWH(C)","ECWH6274HC",630,"DC",0.27,"± 3",20.7,14,18.899999999999999,17.5,"Short cut lead wire type","-40 to 105 (85)","Bulk (Bag packing)",700,"https://industrial.panasonic.com/ww/products/pt/film-cap-electroequip/models/ECWH6274HC","≤21","≤14","≤19",{"$f":"pana_film[[#This Row],[Body length / dia\n(mm)]]&\" x \"&pana_film[[#This Row],[Body width\n(mm)]]","v":"20.7 x 14"},"-","-"]
[null,"Std","dip","PP","No","ECWH(C)","ECWH6244HCC",630,"DC",0.24,"± 3",20.7,13.2,18.100000000000001,17.5,"Short cut lead wire type","-40 to 105 (85)","Bulk (Bag packing)",700,"https://industrial.panasonic.com/ww/products/pt/film-cap-electroequip/models/ECWH6244HCC","≤21","≤14","≤18.5",{"$f":"pana_film[[#This Row],[Body length / dia\n(mm)]]&\" x \"&pana_film[[#This Row],[Body width\n(mm)]]","v":"20.7 x 13.2"},"-","-"]
[null,"Std","dip","PP","No","ECWH(C)","ECWH6244HC",630,"DC",0.24,"± 3",20.7,13.2,18.100000000000001,17.5,"Straight lead wire type","-40 to 105 (85)","Bulk (Bag packing)",700,"https://industrial.panasonic.com/ww/products/pt/film-cap-electroequip/models/ECWH6244HC","≤21","≤14","≤18.5",{"$f":"pana_film[[#This Row],[Body length / dia\n(mm)]]&\" x \"&pana_film[[#This Row],[Body width\n(mm)]]","v":"20.7 x 13.2"},"-","-"]
[null,"Std","dip","PP","No","ECWH(C)","ECWH6214RHC",630,"DC",0.21,"± 3",20.7,12.4,22.2,7.5,"Inner crimped lead wire type (Style B)","-40 to 105 (85)","30.0P crimped lead taping (ammo packing)",200,"https://industrial.panasonic.com/ww/products/pt/film-cap-electroequip/models/ECWH6214RHC","≤21","≤13","≤22.5",{"$f":"pana_film[[#This Row],[Body length / dia\n(mm)]]&\" x \"&pana_film[[#This Row],[Body width\n(mm)]]","v":"20.7 x 12.4"},"-","-"]
[null,"Std","dip","PP","No","ECWH(C)","ECWH6214HCC",630,"DC",0.21,"± 3",20.7,12.4,17.2,17.5,"Short cut lead wire type","-40 to 105 (85)","Bulk (Bag packing)",1000,"https://industrial.panasonic.com/ww/products/pt/film-cap-electroequip/models/ECWH6214HCC","≤21","≤13","≤17.5",{"$f":"pana_film[[#This Row],[Body length / dia\n(mm)]]&\" x \"&pana_film[[#This Row],[Body width\n(mm)]]","v":"20.7 x 12.4"},"-","-"]
[null,"Std","dip","PP","No","ECWH(C)","ECWH6214HC",630,"DC",0.21,"± 3",20.7,12.4,17.2,17.5,"Straight lead wire type","-40 to 105 (85)","Bulk (Bag packing)",1000,"https://industrial.panasonic.com/ww/products/pt/film-cap-electroequip/models/ECWH6214HC","≤21","≤13","≤17.5",{"$f":"pana_film[[#This Row],[Body length / dia\n(mm)]]&\" x \"&pana_film[[#This Row],[Body width\n(mm)]]","v":"20.7 x 12.4"},"-","-"]
[null,"Std","dip","PP","No","ECWH(C)","ECWH6184RHC",630,"DC",0.18,"± 3",20.7,11.5,21.3,7.5,"Inner crimped lead wire type (Style B)","-40 to 105 (85)","30.0P crimped lead taping (ammo packing)",250,"https://industrial.panasonic.com/ww/products/pt/film-cap-electroequip/models/ECWH6184RHC","≤21","≤12","≤21.5",{"$f":"pana_film[[#This Row],[Body length / dia\n(mm)]]&\" x \"&pana_film[[#This Row],[Body width\n(mm)]]","v":"20.7 x 11.5"},"-","-"]
[null,"Std","dip","PP","No","ECWH(C)","ECWH6184HCC",630,"DC",0.18,"± 3",20.7,11.5,16.3,17.5,"Short cut lead wire type","-40 to 105 (85)","Bulk (Bag packing)",100,"https://industrial.panasonic.com/ww/products/pt/film-cap-electroequip/models/ECWH6184HCC","≤21","≤12","≤16.5",{"$f":"pana_film[[#This Row],[Body length / dia\n(mm)]]&\" x \"&pana_film[[#This Row],[Body width\n(mm)]]","v":"20.7 x 11.5"},"-","-"]
[null,"Std","dip","PP","No","ECWH(C)","ECWH6184HC",630,"DC",0.18,"± 3",20.7,11.5,16.3,17.5,"Straight lead wire type","-40 to 105 (85)","Bulk (Bag packing)",100,"https://industrial.panasonic.com/ww/products/pt/film-cap-electroequip/models/ECWH6184HC","≤21","≤12","≤16.5",{"$f":"pana_film[[#This Row],[Body length / dia\n(mm)]]&\" x \"&pana_film[[#This Row],[Body width\n(mm)]]","v":"20.7 x 11.5"},"-","-"]
[null,"Std","dip","PP","No","ECWH(C)","ECWH6124RHC",630,"DC",0.12,"± 3",20.7,9.4,19.3,7.5,"Inner crimped lead wire type (Style B)","-40 to 105 (85)","30.0P crimped lead taping (ammo packing)",300,"https://industrial.panasonic.com/ww/products/pt/film-cap-electroequip/models/ECWH6124RHC","≤21","≤10","≤19.5",{"$f":"pana_film[[#This Row],[Body length / dia\n(mm)]]&\" x \"&pana_film[[#This Row],[Body width\n(mm)]]","v":"20.7 x 9.4"},"-","-"]
[null,"Std","dip","PP","No","ECWH(C)","ECWH6124HCC",630,"DC",0.12,"± 3",20.7,9.4,14.3,17.5,"Short cut lead wire type","-40 to 105 (85)","Bulk (Bag packing)",1000,"https://industrial.panasonic.com/ww/products/pt/film-cap-electroequip/models/ECWH6124HCC","≤21","≤10","≤14.5",{"$f":"pana_film[[#This Row],[Body length / dia\n(mm)]]&\" x \"&pana_film[[#This Row],[Body width\n(mm)]]","v":"20.7 x 9.4"},"-","-"]
[null,"Std","dip","PP","No","ECWH(C)","ECWH6124HC",630,"DC",0.12,"± 3",20.7,9.4,14.3,17.5,"Straight lead wire type","-40 to 105 (85)","Bulk (Bag packing)",1000,"https://industrial.panasonic.com/ww/products/pt/film-cap-electroequip/models/ECWH6124HC","≤21","≤10","≤14.5",{"$f":"pana_film[[#This Row],[Body length / dia\n(mm)]]&\" x \"&pana_film[[#This Row],[Body width\n(mm)]]","v":"20.7 x 9.4"},"-","-"]
[null,"Std","dip","PP","No","ECWH(C)","ECWH6114RHC",630,"DC",0.11,"± 3",20.7,9,18.899999999999999,7.5,"Inner crimped lead wire type (Style B)","-40 to 105 (85)","30.0P crimped lead taping (ammo packing)",300,"https://industrial.panasonic.com/ww/products/pt/film-cap-electroequip/models/ECWH6114RHC","≤21","≤ 9","≤19",{"$f":"pana_film[[#This Row],[Body length / dia\n(mm)]]&\" x \"&pana_film[[#This Row],[Body width\n(mm)]]","v":"20.7 x 9"},"-","-"]
[null,"Std","dip","PP","No","ECWH(C)","ECWH6114HCC",630,"DC",0.11,"± 3",20.7,9,13.9,17.5,"Short cut lead wire type","-40 to 105 (85)","Bulk (Bag packing)",1000,"https://industrial.panasonic.com/ww/products/pt/film-cap-electroequip/models/ECWH6114HCC","≤21","≤ 9","≤14",{"$f":"pana_film[[#This Row],[Body length / dia\n(mm)]]&\" x \"&pana_film[[#This Row],[Body width\n(mm)]]","v":"20.7 x 9"},"-","-"]
[null,"Std","dip","PP","No","ECWH(C)","ECWH6114HC",630,"DC",0.11,"± 3",20.7,9,13.9,17.5,"Straight lead wire type","-40 to 105 (85)","Bulk (Bag packing)",1000,"https://industrial.panasonic.com/ww/products/pt/film-cap-electroequip/models/ECWH6114HC","≤21","≤ 9","≤14",{"$f":"pana_film[[#This Row],[Body length / dia\n(mm)]]&\" x \"&pana_film[[#This Row],[Body width\n(mm)]]","v":"20.7 x 9"},"-","-"]
[null,"Std","dip","PP","No","ECWH(C)","ECWH6104RHC",630,"DC",0.1,"± 3",20.7,8.6,18.5,7.5,"Inner crimped lead wire type (Style B)","-40 to 105 (85)","30.0P crimped lead taping (ammo packing)",350,"https://industrial.panasonic.com/ww/products/pt/film-cap-electroequip/models/ECWH6104RHC","≤21","≤ 9","≤18.5",{"$f":"pana_film[[#This Row],[Body length / dia\n(mm)]]&\" x \"&pana_film[[#This Row],[Body width\n(mm)]]","v":"20.7 x 8.6"},"-","-"]
[null,"Std","dip","PP","No","ECWH(C)","ECWH6104HCC",630,"DC",0.1,"± 3",20.7,8.6,13.5,17.5,"Short cut lead wire type","-40 to 105 (85)","Bulk (Bag packing)",1000,"https://industrial.panasonic.com/ww/products/pt/film-cap-electroequip/models/ECWH6104HCC","≤21","≤ 9","≤13.5",{"$f":"pana_film[[#This Row],[Body length / dia\n(mm)]]&\" x \"&pana_film[[#This Row],[Body width\n(mm)]]","v":"20.7 x 8.6"},"-","-"]
[null,"Std","dip","PP","No","ECWH(C)","ECWH6104HC",630,"DC",0.1,"± 3",20.7,8.6,13.5,17.5,"Straight lead wire type","-40 to 105 (85)","Bulk (Bag packing)",1000,"https://industrial.panasonic.com/ww/products/pt/film-cap-electroequip/models/ECWH6104HC","≤21","≤ 9","≤13.5",{"$f":"pana_film[[#This Row],[Body length / dia\n(mm)]]&\" x \"&pana_film[[#This Row],[Body width\n(mm)]]","v":"20.7 x 8.6"},"-","-"]
[null,"Std","dip","PP","No","ECWH(V)","ECWH20912RJV",2000,"DC",9.1000000000000004E-3,"± 5",23,10,24,7.5,"Inner crimped lead wire type (Style B)","-25 to 105 (85)","30.0P crimped lead taping (ammo packing)",300,"https://industrial.panasonic.com/ww/products/pt/film-cap-electroequip/models/ECWH20912RJV","≤23","≤10","≤24",{"$f":"pana_film[[#This Row],[Body length / dia\n(mm)]]&\" x \"&pana_film[[#This Row],[Body width\n(mm)]]","v":"23 x 10"},"-","-"]
[null,"Std","dip","PP","No","ECWH(V)","ECWH20912RHV",2000,"DC",9.1000000000000004E-3,"± 3",23,10,24,7.5,"Inner crimped lead wire type (Style B)","-25 to 105 (85)","30.0P crimped lead taping (ammo packing)",300,"https://industrial.panasonic.com/ww/products/pt/film-cap-electroequip/models/ECWH20912RHV","≤23","≤10","≤24",{"$f":"pana_film[[#This Row],[Body length / dia\n(mm)]]&\" x \"&pana_film[[#This Row],[Body width\n(mm)]]","v":"23 x 10"},"-","-"]
[null,"Std","dip","PP","No","ECWH(V)","ECWH20912JVB",2000,"DC",9.1000000000000004E-3,"± 5",23,10,24,15,"Inner crimped lead wire type (Style B)","-25 to 105 (85)","Bulk (Bag packing)",100,"https://industrial.panasonic.com/ww/products/pt/film-cap-electroequip/models/ECWH20912JVB","≤23","≤10","≤24",{"$f":"pana_film[[#This Row],[Body length / dia\n(mm)]]&\" x \"&pana_film[[#This Row],[Body width\n(mm)]]","v":"23 x 10"},"-","-"]
[null,"Std","dip","PP","No","ECWH(V)","ECWH20912JV",2000,"DC",9.1000000000000004E-3,"± 5",23,10,19,20,"Straight lead wire type","-25 to 105 (85)","Bulk (Bag packing)",100,"https://industrial.panasonic.com/ww/products/pt/film-cap-electroequip/models/ECWH20912JV","≤23","≤10","≤19",{"$f":"pana_film[[#This Row],[Body length / dia\n(mm)]]&\" x \"&pana_film[[#This Row],[Body width\n(mm)]]","v":"23 x 10"},"-","-"]
[null,"Std","dip","PP","No","ECWH(V)","ECWH20912HVB",2000,"DC",9.1000000000000004E-3,"± 3",23,10,24,15,"Inner crimped lead wire type (Style B)","-25 to 105 (85)","Bulk (Bag packing)",100,"https://industrial.panasonic.com/ww/products/pt/film-cap-electroequip/models/ECWH20912HVB","≤23","≤10","≤24",{"$f":"pana_film[[#This Row],[Body length / dia\n(mm)]]&\" x \"&pana_film[[#This Row],[Body width\n(mm)]]","v":"23 x 10"},"-","-"]
[null,"Std","dip","PP","No","ECWH(V)","ECWH20912HV",2000,"DC",9.1000000000000004E-3,"± 3",23,10,19,20,"Straight lead wire type","-25 to 105 (85)","Bulk (Bag packing)",100,"https://industrial.panasonic.com/ww/products/pt/film-cap-electroequip/models/ECWH20912HV","≤23","≤10","≤19",{"$f":"pana_film[[#This Row],[Body length / dia\n(mm)]]&\" x \"&pana_film[[#This Row],[Body width\n(mm)]]","v":"23 x 10"},"-","-"]
[null,"Std","dip","PP","No","ECWH(V)","ECWH20822RJV",2000,"DC",8.2000000000000007E-3,"± 5",23,10,23,7.5,"Inner crimped lead wire type (Style B)","-25 to 105 (85)","30.0P crimped lead taping (ammo packing)",300,"https://industrial.panasonic.com/ww/products/pt/film-cap-electroequip/models/ECWH20822RJV","≤23","≤10","≤23",{"$f":"pana_film[[#This Row],[Body length / dia\n(mm)]]&\" x \"&pana_film[[#This Row],[Body width\n(mm)]]","v":"23 x 10"},"-","-"]
[null,"Std","dip","PP","No","ECWH(V)","ECWH20822RHV",2000,"DC",8.2000000000000007E-3,"± 3",23,10,23,7.5,"Inner crimped lead wire type (Style B)","-25 to 105 (85)","30.0P crimped lead taping (ammo packing)",300,"https://industrial.panasonic.com/ww/products/pt/film-cap-electroequip/models/ECWH20822RHV","≤23","≤10","≤23",{"$f":"pana_film[[#This Row],[Body length / dia\n(mm)]]&\" x \"&pana_film[[#This Row],[Body width\n(mm)]]","v":"23 x 10"},"-","-"]
[null,"Std","dip","PP","No","ECWH(V)","ECWH20822JVB",2000,"DC",8.2000000000000007E-3,"± 5",23,10,23,15,"Inner crimped lead wire type (Style B)","-25 to 105 (85)","Bulk (Bag packing)",100,"https://industrial.panasonic.com/ww/products/pt/film-cap-electroequip/models/ECWH20822JVB","≤23","≤10","≤23",{"$f":"pana_film[[#This Row],[Body length / dia\n(mm)]]&\" x \"&pana_film[[#This Row],[Body width\n(mm)]]","v":"23 x 10"},"-","-"]
[null,"Std","dip","PP","No","ECWH(V)","ECWH20822JV",2000,"DC",8.2000000000000007E-3,"± 5",23,10,18,20,"Straight lead wire type","-25 to 105 (85)","Bulk (Bag packing)",100,"https://industrial.panasonic.com/ww/products/pt/film-cap-electroequip/models/ECWH20822JV","≤23","≤10","≤18",{"$f":"pana_film[[#This Row],[Body length / dia\n(mm)]]&\" x \"&pana_film[[#This Row],[Body width\n(mm)]]","v":"23 x 10"},"-","-"]
[null,"Std","dip","PP","No","ECWH(V)","ECWH20822HVB",2000,"DC",8.2000000000000007E-3,"± 3",23,10,23,15,"Inner crimped lead wire type (Style B)","-25 to 105 (85)","Bulk (Bag packing)",100,"https://industrial.panasonic.com/ww/products/pt/film-cap-electroequip/models/ECWH20822HVB","≤23","≤10","≤23",{"$f":"pana_film[[#This Row],[Body length / dia\n(mm)]]&\" x \"&pana_film[[#This Row],[Body width\n(mm)]]","v":"23 x 10"},"-","-"]
[null,"Std","dip","PP","No","ECWH(V)","ECWH20822HV",2000,"DC",8.2000000000000007E-3,"± 3",23,10,18,20,"Straight lead wire type","-25 to 105 (85)","Bulk (Bag packing)",100,"https://industrial.panasonic.com/ww/products/pt/film-cap-electroequip/models/ECWH20822HV","≤23","≤10","≤18",{"$f":"pana_film[[#This Row],[Body length / dia\n(mm)]]&\" x \"&pana_film[[#This Row],[Body width\n(mm)]]","v":"23 x 10"},"-","-"]
[null,"Std","dip","PP","No","ECWH(V)","ECWH20752RJV",2000,"DC",7.4999999999999997E-3,"± 5",23,9.5,23,7.5,"Inner crimped lead wire type (Style B)","-25 to 105 (85)","30.0P crimped lead taping (ammo packing)",300,"https://industrial.panasonic.com/ww/products/pt/film-cap-electroequip/models/ECWH20752RJV","≤23","≤10","≤23",{"$f":"pana_film[[#This Row],[Body length / dia\n(mm)]]&\" x \"&pana_film[[#This Row],[Body width\n(mm)]]","v":"23 x 9.5"},"-","-"]
[null,"Std","dip","PP","No","ECWH(V)","ECWH20752RHV",2000,"DC",7.4999999999999997E-3,"± 3",23,9.5,23,7.5,"Inner crimped lead wire type (Style B)","-25 to 105 (85)","30.0P crimped lead taping (ammo packing)",300,"https://industrial.panasonic.com/ww/products/pt/film-cap-electroequip/models/ECWH20752RHV","≤23","≤10","≤23",{"$f":"pana_film[[#This Row],[Body length / dia\n(mm)]]&\" x \"&pana_film[[#This Row],[Body width\n(mm)]]","v":"23 x 9.5"},"-","-"]
[null,"Std","dip","PP","No","ECWH(V)","ECWH20752JVB",2000,"DC",7.4999999999999997E-3,"± 5",23,9.5,23,15,"Inner crimped lead wire type (Style B)","-25 to 105 (85)","Bulk (Bag packing)",100,"https://industrial.panasonic.com/ww/products/pt/film-cap-electroequip/models/ECWH20752JVB","≤23","≤10","≤23",{"$f":"pana_film[[#This Row],[Body length / dia\n(mm)]]&\" x \"&pana_film[[#This Row],[Body width\n(mm)]]","v":"23 x 9.5"},"-","-"]
[null,"Std","dip","PP","No","ECWH(V)","ECWH20752JV",2000,"DC",7.4999999999999997E-3,"± 5",23,9.5,18,20,"Straight lead wire type","-25 to 105 (85)","Bulk (Bag packing)",100,"https://industrial.panasonic.com/ww/products/pt/film-cap-electroequip/models/ECWH20752JV","≤23","≤10","≤18",{"$f":"pana_film[[#This Row],[Body length / dia\n(mm)]]&\" x \"&pana_film[[#This Row],[Body width\n(mm)]]","v":"23 x 9.5"},"-","-"]
[null,"Std","dip","PP","No","ECWH(V)","ECWH20752HVB",2000,"DC",7.4999999999999997E-3,"± 3",23,9.5,23,15,"Inner crimped lead wire type (Style B)","-25 to 105 (85)","Bulk (Bag packing)",100,"https://industrial.panasonic.com/ww/products/pt/film-cap-electroequip/models/ECWH20752HVB","≤23","≤10","≤23",{"$f":"pana_film[[#This Row],[Body length / dia\n(mm)]]&\" x \"&pana_film[[#This Row],[Body width\n(mm)]]","v":"23 x 9.5"},"-","-"]
[null,"Std","dip","PP","No","ECWH(V)","ECWH20752HV",2000,"DC",7.4999999999999997E-3,"± 3",23,9.5,18,20,"Straight lead wire type","-25 to 105 (85)","Bulk (Bag packing)",100,"https://industrial.panasonic.com/ww/products/pt/film-cap-electroequip/models/ECWH20752HV","≤23","≤10","≤18",{"$f":"pana_film[[#This Row],[Body length / dia\n(mm)]]&\" x \"&pana_film[[#This Row],[Body width\n(mm)]]","v":"23 x 9.5"},"-","-"]
[null,"Std","dip","PP","No","ECWH(V)","ECWH20682RJV",2000,"DC",6.7999999999999996E-3,"± 5",23,8.5,21.5,7.5,"Inner crimped lead wire type (Style B)","-25 to 105 (85)","30.0P crimped lead taping (ammo packing)",400,"https://industrial.panasonic.com/ww/products/pt/film-cap-electroequip/models/ECWH20682RJV","≤23","≤ 9","≤21.5",{"$f":"pana_film[[#This Row],[Body length / dia\n(mm)]]&\" x \"&pana_film[[#This Row],[Body width\n(mm)]]","v":"23 x 8.5"},"-","-"]
[null,"Std","dip","PP","No","ECWH(V)","ECWH20682RHV",2000,"DC",6.7999999999999996E-3,"± 3",23,8.5,21.5,7.5,"Inner crimped lead wire type (Style B)","-25 to 105 (85)","30.0P crimped lead taping (ammo packing)",400,"https://industrial.panasonic.com/ww/products/pt/film-cap-electroequip/models/ECWH20682RHV","≤23","≤ 9","≤21.5",{"$f":"pana_film[[#This Row],[Body length / dia\n(mm)]]&\" x \"&pana_film[[#This Row],[Body width\n(mm)]]","v":"23 x 8.5"},"-","-"]
[null,"Std","dip","PP","No","ECWH(V)","ECWH20682JVB",2000,"DC",6.7999999999999996E-3,"± 5",23,8.5,21.5,15,"Inner crimped lead wire type (Style B)","-25 to 105 (85)","Bulk (Bag packing)",100,"https://industrial.panasonic.com/ww/products/pt/film-cap-electroequip/models/ECWH20682JVB","≤23","≤ 9","≤21.5",{"$f":"pana_film[[#This Row],[Body length / dia\n(mm)]]&\" x \"&pana_film[[#This Row],[Body width\n(mm)]]","v":"23 x 8.5"},"-","-"]
[null,"Std","dip","PP","No","ECWH(V)","ECWH20682JV",2000,"DC",6.7999999999999996E-3,"± 5",23,8.5,16.5,20,"Straight lead wire type","-25 to 105 (85)","Bulk (Bag packing)",100,"https://industrial.panasonic.com/ww/products/pt/film-cap-electroequip/models/ECWH20682JV","≤23","≤ 9","≤16.5",{"$f":"pana_film[[#This Row],[Body length / dia\n(mm)]]&\" x \"&pana_film[[#This Row],[Body width\n(mm)]]","v":"23 x 8.5"},"-","-"]
[null,"Std","dip","PP","No","ECWH(V)","ECWH20682HVB",2000,"DC",6.7999999999999996E-3,"± 3",23,8.5,21.5,15,"Inner crimped lead wire type (Style B)","-25 to 105 (85)","Bulk (Bag packing)",100,"https://industrial.panasonic.com/ww/products/pt/film-cap-electroequip/models/ECWH20682HVB","≤23","≤ 9","≤21.5",{"$f":"pana_film[[#This Row],[Body length / dia\n(mm)]]&\" x \"&pana_film[[#This Row],[Body width\n(mm)]]","v":"23 x 8.5"},"-","-"]
[null,"Std","dip","PP","No","ECWH(V)","ECWH20682HV",2000,"DC",6.7999999999999996E-3,"± 3",23,8.5,16.5,20,"Straight lead wire type","-25 to 105 (85)","Bulk (Bag packing)",100,"https://industrial.panasonic.com/ww/products/pt/film-cap-electroequip/models/ECWH20682HV","≤23","≤ 9","≤16.5",{"$f":"pana_film[[#This Row],[Body length / dia\n(mm)]]&\" x \"&pana_film[[#This Row],[Body width\n(mm)]]","v":"23 x 8.5"},"-","-"]
[null,"Std","dip","PP","No","ECWH(V)","ECWH20622RJV",2000,"DC",6.1999999999999998E-3,"± 5",23,8,21.5,7.5,"Inner crimped lead wire type (Style B)","-25 to 105 (85)","30.0P crimped lead taping (ammo packing)",400,"https://industrial.panasonic.com/ww/products/pt/film-cap-electroequip/models/ECWH20622RJV","≤23","≤ 8","≤21.5",{"$f":"pana_film[[#This Row],[Body length / dia\n(mm)]]&\" x \"&pana_film[[#This Row],[Body width\n(mm)]]","v":"23 x 8"},"-","-"]
[null,"Std","dip","PP","No","ECWH(V)","ECWH20622RHV",2000,"DC",6.1999999999999998E-3,"± 3",23,8,21.5,7.5,"Inner crimped lead wire type (Style B)","-25 to 105 (85)","30.0P crimped lead taping (ammo packing)",400,"https://industrial.panasonic.com/ww/products/pt/film-cap-electroequip/models/ECWH20622RHV","≤23","≤ 8","≤21.5",{"$f":"pana_film[[#This Row],[Body length / dia\n(mm)]]&\" x \"&pana_film[[#This Row],[Body width\n(mm)]]","v":"23 x 8"},"-","-"]
[null,"Std","dip","PP","No","ECWH(V)","ECWH20622JVB",2000,"DC",6.1999999999999998E-3,"± 5",23,8,21.5,15,"Inner crimped lead wire type (Style B)","-25 to 105 (85)","Bulk (Bag packing)",100,"https://industrial.panasonic.com/ww/products/pt/film-cap-electroequip/models/ECWH20622JVB","≤23","≤ 8","≤21.5",{"$f":"pana_film[[#This Row],[Body length / dia\n(mm)]]&\" x \"&pana_film[[#This Row],[Body width\n(mm)]]","v":"23 x 8"},"-","-"]
[null,"Std","dip","PP","No","ECWH(V)","ECWH20622JV",2000,"DC",6.1999999999999998E-3,"± 5",23,8,16.5,20,"Straight lead wire type","-25 to 105 (85)","Bulk (Bag packing)",100,"https://industrial.panasonic.com/ww/products/pt/film-cap-electroequip/models/ECWH20622JV","≤23","≤ 8","≤16.5",{"$f":"pana_film[[#This Row],[Body length / dia\n(mm)]]&\" x \"&pana_film[[#This Row],[Body width\n(mm)]]","v":"23 x 8"},"-","-"]
[null,"Std","dip","PP","No","ECWH(V)","ECWH20622HVB",2000,"DC",6.1999999999999998E-3,"± 3",23,8,21.5,15,"Inner crimped lead wire type (Style B)","-25 to 105 (85)","Bulk (Bag packing)",100,"https://industrial.panasonic.com/ww/products/pt/film-cap-electroequip/models/ECWH20622HVB","≤23","≤ 8","≤21.5",{"$f":"pana_film[[#This Row],[Body length / dia\n(mm)]]&\" x \"&pana_film[[#This Row],[Body width\n(mm)]]","v":"23 x 8"},"-","-"]
[null,"Std","dip","PP","No","ECWH(V)","ECWH20622HV",2000,"DC",6.1999999999999998E-3,"± 3",23,8,16.5,20,"Straight lead wire type","-25 to 105 (85)","Bulk (Bag packing)",100,"https://industrial.panasonic.com/ww/products/pt/film-cap-electroequip/models/ECWH20622HV","≤23","≤ 8","≤16.5",{"$f":"pana_film[[#This Row],[Body length / dia\n(mm)]]&\" x \"&pana_film[[#This Row],[Body width\n(mm)]]","v":"23 x 8"},"-","-"]
[null,"Std","dip","PP","No","ECWH(V)","ECWH20562RJV",2000,"DC",5.5999999999999999E-3,"± 5",23,7.5,21,7.5,"Inner crimped lead wire type (Style B)","-25 to 105 (85)","30.0P crimped lead taping (ammo packing)",400,"https://industrial.panasonic.com/ww/products/pt/film-cap-electroequip/models/ECWH20562RJV","≤23","≤ 8","≤21",{"$f":"pana_film[[#This Row],[Body length / dia\n(mm)]]&\" x \"&pana_film[[#This Row],[Body width\n(mm)]]","v":"23 x 7.5"},"-","-"]
[null,"Std","dip","PP","No","ECWH(V)","ECWH20562RHV",2000,"DC",5.5999999999999999E-3,"± 3",23,7.5,21,7.5,"Inner crimped lead wire type (Style B)","-25 to 105 (85)","30.0P crimped lead taping (ammo packing)",400,"https://industrial.panasonic.com/ww/products/pt/film-cap-electroequip/models/ECWH20562RHV",{"$f":"IF(L903<=9.5,\"≤ \"&ROUNDUP(L903*1,0)/1,\"≤\"&ROUNDUP(L903*1,0)/1)","v":"≤23"},{"$f":"IF(M903<=9,\"≤ \"&ROUNDUP(M903*1,0)/1,\"≤\"&ROUNDUP(M903*1,0)/1)","v":"≤ 8"},{"$f":"IF(N903<=9.5,\"≤ \"&ROUNDUP(N903*2,0)/2,\"≤\"&ROUNDUP(N903*2,0)/2)","v":"≤21"},{"$f":"pana_film[[#This Row],[Body length / dia\n(mm)]]&\" x \"&pana_film[[#This Row],[Body width\n(mm)]]","v":"23 x 7.5"},"-","-"]
[null,"Std","dip","PP","No","ECWH(V)","ECWH20562JVB",2000,"DC",5.5999999999999999E-3,"± 5",23,7.5,21,15,"Inner crimped lead wire type (Style B)","-25 to 105 (85)","Bulk (Bag packing)",100,"https://industrial.panasonic.com/ww/products/pt/film-cap-electroequip/models/ECWH20562JVB","≤23","≤ 8","≤21",{"$f":"pana_film[[#This Row],[Body length / dia\n(mm)]]&\" x \"&pana_film[[#This Row],[Body width\n(mm)]]","v":"23 x 7.5"},"-","-"]
[null,"Std","dip","PP","No","ECWH(V)","ECWH20562JV",2000,"DC",5.5999999999999999E-3,"± 5",23,7.5,16,20,"Straight lead wire type","-25 to 105 (85)","Bulk (Bag packing)",100,"https://industrial.panasonic.com/ww/products/pt/film-cap-electroequip/models/ECWH20562JV","≤23","≤ 8","≤16",{"$f":"pana_film[[#This Row],[Body length / dia\n(mm)]]&\" x \"&pana_film[[#This Row],[Body width\n(mm)]]","v":"23 x 7.5"},"-","-"]
[null,"Std","dip","PP","No","ECWH(V)","ECWH20562HVB",2000,"DC",5.5999999999999999E-3,"± 3",23,7.5,21,15,"Inner crimped lead wire type (Style B)","-25 to 105 (85)","Bulk (Bag packing)",100,"https://industrial.panasonic.com/ww/products/pt/film-cap-electroequip/models/ECWH20562HVB","≤23","≤ 8","≤21",{"$f":"pana_film[[#This Row],[Body length / dia\n(mm)]]&\" x \"&pana_film[[#This Row],[Body width\n(mm)]]","v":"23 x 7.5"},"-","-"]
[null,"Std","dip","PP","No","ECWH(V)","ECWH20562HV",2000,"DC",5.5999999999999999E-3,"± 3",23,7.5,16,20,"Straight lead wire type","-25 to 105 (85)","Bulk (Bag packing)",100,"https://industrial.panasonic.com/ww/products/pt/film-cap-electroequip/models/ECWH20562HV","≤23","≤ 8","≤16",{"$f":"pana_film[[#This Row],[Body length / dia\n(mm)]]&\" x \"&pana_film[[#This Row],[Body width\n(mm)]]","v":"23 x 7.5"},"-","-"]
[null,"Std","dip","PP","No","ECWH(V)","ECWH20512RJV",2000,"DC",5.1000000000000004E-3,"± 5",23,7.5,21,7.5,"Inner crimped lead wire type (Style B)","-25 to 105 (85)","30.0P crimped lead taping (ammo packing)",400,"https://industrial.panasonic.com/ww/products/pt/film-cap-electroequip/models/ECWH20512RJV","≤23","≤ 8","≤21",{"$f":"pana_film[[#This Row],[Body length / dia\n(mm)]]&\" x \"&pana_film[[#This Row],[Body width\n(mm)]]","v":"23 x 7.5"},"-","-"]
[null,"Std","dip","PP","No","ECWH(V)","ECWH20512RHV",2000,"DC",5.1000000000000004E-3,"± 3",23,7.5,21,7.5,"Inner crimped lead wire type (Style B)","-25 to 105 (85)","30.0P crimped lead taping (ammo packing)",400,"https://industrial.panasonic.com/ww/products/pt/film-cap-electroequip/models/ECWH20512RHV","≤23","≤ 8","≤21",{"$f":"pana_film[[#This Row],[Body length / dia\n(mm)]]&\" x \"&pana_film[[#This Row],[Body width\n(mm)]]","v":"23 x 7.5"},"-","-"]
[null,"Std","dip","PP","No","ECWH(V)","ECWH20512JVB",2000,"DC",5.1000000000000004E-3,"± 5",23,7.5,21,15,"Inner crimped lead wire type (Style B)","-25 to 105 (85)","Bulk (Bag packing)",100,"https://industrial.panasonic.com/ww/products/pt/film-cap-electroequip/models/ECWH20512JVB","≤23","≤ 8","≤21",{"$f":"pana_film[[#This Row],[Body length / dia\n(mm)]]&\" x \"&pana_film[[#This Row],[Body width\n(mm)]]","v":"23 x 7.5"},"-","-"]
[null,"Std","dip","PP","No","ECWH(V)","ECWH20512JV",2000,"DC",5.1000000000000004E-3,"± 5",23,7.5,16,20,"Straight lead wire type","-25 to 105 (85)","Bulk (Bag packing)",100,"https://industrial.panasonic.com/ww/products/pt/film-cap-electroequip/models/ECWH20512JV","≤23","≤ 8","≤16",{"$f":"pana_film[[#This Row],[Body length / dia\n(mm)]]&\" x \"&pana_film[[#This Row],[Body width\n(mm)]]","v":"23 x 7.5"},"-","-"]
[null,"Std","dip","PP","No","ECWH(V)","ECWH20512HVB",2000,"DC",5.1000000000000004E-3,"± 3",23,7.5,21,15,"Inner crimped lead wire type (Style B)","-25 to 105 (85)","Bulk (Bag packing)",100,"https://industrial.panasonic.com/ww/products/pt/film-cap-electroequip/models/ECWH20512HVB","≤23","≤ 8","≤21",{"$f":"pana_film[[#This Row],[Body length / dia\n(mm)]]&\" x \"&pana_film[[#This Row],[Body width\n(mm)]]","v":"23 x 7.5"},"-","-"]
[null,"Std","dip","PP","No","ECWH(V)","ECWH20512HV",2000,"DC",5.1000000000000004E-3,"± 3",23,7.5,16,20,"Straight lead wire type","-25 to 105 (85)","Bulk (Bag packing)",100,"https://industrial.panasonic.com/ww/products/pt/film-cap-electroequip/models/ECWH20512HV","≤23","≤ 8","≤16",{"$f":"pana_film[[#This Row],[Body length / dia\n(mm)]]&\" x \"&pana_film[[#This Row],[Body width\n(mm)]]","v":"23 x 7.5"},"-","-"]
[null,"Std","dip","PP","No","ECWH(V)","ECWH20472RJV",2000,"DC",4.7000000000000002E-3,"± 5",23,7,20.5,7.5,"Inner crimped lead wire type (Style B)","-25 to 105 (85)","30.0P crimped lead taping (ammo packing)",500,"https://industrial.panasonic.com/ww/products/pt/film-cap-electroequip/models/ECWH20472RJV","≤23","≤ 7","≤20.5",{"$f":"pana_film[[#This Row],[Body length / dia\n(mm)]]&\" x \"&pana_film[[#This Row],[Body width\n(mm)]]","v":"23 x 7"},"-","-"]
[null,"Std","dip","PP","No","ECWH(V)","ECWH20472RHV",2000,"DC",4.7000000000000002E-3,"± 3",23,7,20.5,7.5,"Inner crimped lead wire type (Style B)","-25 to 105 (85)","30.0P crimped lead taping (ammo packing)",500,"https://industrial.panasonic.com/ww/products/pt/film-cap-electroequip/models/ECWH20472RHV","≤23","≤ 7","≤20.5",{"$f":"pana_film[[#This Row],[Body length / dia\n(mm)]]&\" x \"&pana_film[[#This Row],[Body width\n(mm)]]","v":"23 x 7"},"-","-"]
[null,"Std","dip","PP","No","ECWH(V)","ECWH20472JVB",2000,"DC",4.7000000000000002E-3,"± 5",23,7,20.5,15,"Inner crimped lead wire type (Style B)","-25 to 105 (85)","Bulk (Bag packing)",100,"https://industrial.panasonic.com/ww/products/pt/film-cap-electroequip/models/ECWH20472JVB","≤23","≤ 7","≤20.5",{"$f":"pana_film[[#This Row],[Body length / dia\n(mm)]]&\" x \"&pana_film[[#This Row],[Body width\n(mm)]]","v":"23 x 7"},"-","-"]
[null,"Std","dip","PP","No","ECWH(V)","ECWH20472JV",2000,"DC",4.7000000000000002E-3,"± 5",23,7,15.5,20,"Straight lead wire type","-25 to 105 (85)","Bulk (Bag packing)",100,"https://industrial.panasonic.com/ww/products/pt/film-cap-electroequip/models/ECWH20472JV","≤23","≤ 7","≤15.5",{"$f":"pana_film[[#This Row],[Body length / dia\n(mm)]]&\" x \"&pana_film[[#This Row],[Body width\n(mm)]]","v":"23 x 7"},"-","-"]
[null,"Std","dip","PP","No","ECWH(V)","ECWH20472HVB",2000,"DC",4.7000000000000002E-3,"± 3",23,7,20.5,15,"Inner crimped lead wire type (Style B)","-25 to 105 (85)","Bulk (Bag packing)",100,"https://industrial.panasonic.com/ww/products/pt/film-cap-electroequip/models/ECWH20472HVB","≤23","≤ 7","≤20.5",{"$f":"pana_film[[#This Row],[Body length / dia\n(mm)]]&\" x \"&pana_film[[#This Row],[Body width\n(mm)]]","v":"23 x 7"},"-","-"]
[null,"Std","dip","PP","No","ECWH(V)","ECWH20472HV",2000,"DC",4.7000000000000002E-3,"± 3",23,7,15.5,20,"Straight lead wire type","-25 to 105 (85)","Bulk (Bag packing)",100,"https://industrial.panasonic.com/ww/products/pt/film-cap-electroequip/models/ECWH20472HV","≤23","≤ 7","≤15.5",{"$f":"pana_film[[#This Row],[Body length / dia\n(mm)]]&\" x \"&pana_film[[#This Row],[Body width\n(mm)]]","v":"23 x 7"},"-","-"]
[null,"Std","dip","PP","No","ECWH(V)","ECWH20432RJV",2000,"DC",4.3E-3,"± 5",18,9.5,21,7.5,"Inner crimped lead wire type (Style B)","-25 to 105 (85)","30.0P crimped lead taping (ammo packing)",300,"https://industrial.panasonic.com/ww/products/pt/film-cap-electroequip/models/ECWH20432RJV","≤18","≤10","≤21",{"$f":"pana_film[[#This Row],[Body length / dia\n(mm)]]&\" x \"&pana_film[[#This Row],[Body width\n(mm)]]","v":"18 x 9.5"},"-","-"]
[null,"Std","dip","PP","No","ECWH(V)","ECWH20432RHV",2000,"DC",4.3E-3,"± 3",18,9.5,21,7.5,"Inner crimped lead wire type (Style B)","-25 to 105 (85)","30.0P crimped lead taping (ammo packing)",300,"https://industrial.panasonic.com/ww/products/pt/film-cap-electroequip/models/ECWH20432RHV","≤18","≤10","≤21",{"$f":"pana_film[[#This Row],[Body length / dia\n(mm)]]&\" x \"&pana_film[[#This Row],[Body width\n(mm)]]","v":"18 x 9.5"},"-","-"]
[null,"Std","dip","PP","No","ECWH(V)","ECWH20432JVB",2000,"DC",4.3E-3,"± 5",18,9.5,21,10,"Inner crimped lead wire type (Style B)","-25 to 105 (85)","Bulk (Bag packing)",100,"https://industrial.panasonic.com/ww/products/pt/film-cap-electroequip/models/ECWH20432JVB","≤18","≤10","≤21",{"$f":"pana_film[[#This Row],[Body length / dia\n(mm)]]&\" x \"&pana_film[[#This Row],[Body width\n(mm)]]","v":"18 x 9.5"},"-","-"]
[null,"Std","dip","PP","No","ECWH(V)","ECWH20432JV",2000,"DC",4.3E-3,"± 5",18,9.5,16,15,"Straight lead wire type","-25 to 105 (85)","Bulk (Bag packing)",100,"https://industrial.panasonic.com/ww/products/pt/film-cap-electroequip/models/ECWH20432JV","≤18","≤10","≤16",{"$f":"pana_film[[#This Row],[Body length / dia\n(mm)]]&\" x \"&pana_film[[#This Row],[Body width\n(mm)]]","v":"18 x 9.5"},"-","-"]
[null,"Std","dip","PP","No","ECWH(V)","ECWH20432HVB",2000,"DC",4.3E-3,"± 3",18,9.5,21,10,"Inner crimped lead wire type (Style B)","-25 to 105 (85)","Bulk (Bag packing)",100,"https://industrial.panasonic.com/ww/products/pt/film-cap-electroequip/models/ECWH20432HVB","≤18","≤10","≤21",{"$f":"pana_film[[#This Row],[Body length / dia\n(mm)]]&\" x \"&pana_film[[#This Row],[Body width\n(mm)]]","v":"18 x 9.5"},"-","-"]
[null,"Std","dip","PP","No","ECWH(V)","ECWH20432HV",2000,"DC",4.3E-3,"± 3",18,9.5,16,15,"Straight lead wire type","-25 to 105 (85)","Bulk (Bag packing)",100,"https://industrial.panasonic.com/ww/products/pt/film-cap-electroequip/models/ECWH20432HV","≤18","≤10","≤16",{"$f":"pana_film[[#This Row],[Body length / dia\n(mm)]]&\" x \"&pana_film[[#This Row],[Body width\n(mm)]]","v":"18 x 9.5"},"-","-"]
[null,"Std","dip","PP","No","ECWH(V)","ECWH20392RJV",2000,"DC",3.8999999999999998E-3,"± 5",18,9,21,7.5,"Inner crimped lead wire type (Style B)","-25 to 105 (85)","30.0P crimped lead taping (ammo packing)",300,"https://industrial.panasonic.com/ww/products/pt/film-cap-electroequip/models/ECWH20392RJV","≤18","≤ 9","≤21",{"$f":"pana_film[[#This Row],[Body length / dia\n(mm)]]&\" x \"&pana_film[[#This Row],[Body width\n(mm)]]","v":"18 x 9"},"-","-"]
[null,"Std","dip","PP","No","ECWH(V)","ECWH20392RHV",2000,"DC",3.8999999999999998E-3,"± 3",18,9,21,7.5,"Inner crimped lead wire type (Style B)","-25 to 105 (85)","30.0P crimped lead taping (ammo packing)",300,"https://industrial.panasonic.com/ww/products/pt/film-cap-electroequip/models/ECWH20392RHV","≤18","≤ 9","≤21",{"$f":"pana_film[[#This Row],[Body length / dia\n(mm)]]&\" x \"&pana_film[[#This Row],[Body width\n(mm)]]","v":"18 x 9"},"-","-"]
[null,"Std","dip","PP","No","ECWH(V)","ECWH20392JVB",2000,"DC",3.8999999999999998E-3,"± 5",18,9,21,10,"Inner crimped lead wire type (Style B)","-25 to 105 (85)","Bulk (Bag packing)",100,"https://industrial.panasonic.com/ww/products/pt/film-cap-electroequip/models/ECWH20392JVB","≤18","≤ 9","≤21",{"$f":"pana_film[[#This Row],[Body length / dia\n(mm)]]&\" x \"&pana_film[[#This Row],[Body width\n(mm)]]","v":"18 x 9"},"-","-"]
[null,"Std","dip","PP","No","ECWH(V)","ECWH20392JV",2000,"DC",3.8999999999999998E-3,"± 5",18,9,16,15,"Straight lead wire type","-25 to 105 (85)","Bulk (Bag packing)",100,"https://industrial.panasonic.com/ww/products/pt/film-cap-electroequip/models/ECWH20392JV","≤18","≤ 9","≤16",{"$f":"pana_film[[#This Row],[Body length / dia\n(mm)]]&\" x \"&pana_film[[#This Row],[Body width\n(mm)]]","v":"18 x 9"},"-","-"]
[null,"Std","dip","PP","No","ECWH(V)","ECWH20392HVB",2000,"DC",3.8999999999999998E-3,"± 3",18,9,21,10,"Inner crimped lead wire type (Style B)","-25 to 105 (85)","Bulk (Bag packing)",100,"https://industrial.panasonic.com/ww/products/pt/film-cap-electroequip/models/ECWH20392HVB","≤18","≤ 9","≤21",{"$f":"pana_film[[#This Row],[Body length / dia\n(mm)]]&\" x \"&pana_film[[#This Row],[Body width\n(mm)]]","v":"18 x 9"},"-","-"]
[null,"Std","dip","PP","No","ECWH(V)","ECWH20392HV",2000,"DC",3.8999999999999998E-3,"± 3",18,9,16,15,"Straight lead wire type","-25 to 105 (85)","Bulk (Bag packing)",100,"https://industrial.panasonic.com/ww/products/pt/film-cap-electroequip/models/ECWH20392HV","≤18","≤ 9","≤16",{"$f":"pana_film[[#This Row],[Body length / dia\n(mm)]]&\" x \"&pana_film[[#This Row],[Body width\n(mm)]]","v":"18 x 9"},"-","-"]
[null,"Std","dip","PP","No","ECWH(V)","ECWH20362RJV",2000,"DC",3.5999999999999999E-3,"± 5",18,9,20.5,7.5,"Inner crimped lead wire type (Style B)","-25 to 105 (85)","30.0P crimped lead taping (ammo packing)",300,"https://industrial.panasonic.com/ww/products/pt/film-cap-electroequip/models/ECWH20362RJV","≤18","≤ 9","≤20.5",{"$f":"pana_film[[#This Row],[Body length / dia\n(mm)]]&\" x \"&pana_film[[#This Row],[Body width\n(mm)]]","v":"18 x 9"},"-","-"]
[null,"Std","dip","PP","No","ECWH(V)","ECWH20362RHV",2000,"DC",3.5999999999999999E-3,"± 3",18,9,20.5,7.5,"Inner crimped lead wire type (Style B)","-25 to 105 (85)","30.0P crimped lead taping (ammo packing)",300,"https://industrial.panasonic.com/ww/products/pt/film-cap-electroequip/models/ECWH20362RHV","≤18","≤ 9","≤20.5",{"$f":"pana_film[[#This Row],[Body length / dia\n(mm)]]&\" x \"&pana_film[[#This Row],[Body width\n(mm)]]","v":"18 x 9"},"-","-"]
[null,"Std","dip","PP","No","ECWH(V)","ECWH20362JVB",2000,"DC",3.5999999999999999E-3,"± 5",18,9,20.5,10,"Inner crimped lead wire type (Style B)","-25 to 105 (85)","Bulk (Bag packing)",100,"https://industrial.panasonic.com/ww/products/pt/film-cap-electroequip/models/ECWH20362JVB","≤18","≤ 9","≤20.5",{"$f":"pana_film[[#This Row],[Body length / dia\n(mm)]]&\" x \"&pana_film[[#This Row],[Body width\n(mm)]]","v":"18 x 9"},"-","-"]
[null,"Std","dip","PP","No","ECWH(V)","ECWH20362JV",2000,"DC",3.5999999999999999E-3,"± 5",18,9,15.5,15,"Straight lead wire type","-25 to 105 (85)","Bulk (Bag packing)",100,"https://industrial.panasonic.com/ww/products/pt/film-cap-electroequip/models/ECWH20362JV","≤18","≤ 9","≤15.5",{"$f":"pana_film[[#This Row],[Body length / dia\n(mm)]]&\" x \"&pana_film[[#This Row],[Body width\n(mm)]]","v":"18 x 9"},"-","-"]
[null,"Std","dip","PP","No","ECWH(V)","ECWH20362HVB",2000,"DC",3.5999999999999999E-3,"± 3",18,9,20.5,10,"Inner crimped lead wire type (Style B)","-25 to 105 (85)","Bulk (Bag packing)",100,"https://industrial.panasonic.com/ww/products/pt/film-cap-electroequip/models/ECWH20362HVB","≤18","≤ 9","≤20.5",{"$f":"pana_film[[#This Row],[Body length / dia\n(mm)]]&\" x \"&pana_film[[#This Row],[Body width\n(mm)]]","v":"18 x 9"},"-","-"]
[null,"Std","dip","PP","No","ECWH(V)","ECWH20362HV",2000,"DC",3.5999999999999999E-3,"± 3",18,9,15.5,15,"Straight lead wire type","-25 to 105 (85)","Bulk (Bag packing)",100,"https://industrial.panasonic.com/ww/products/pt/film-cap-electroequip/models/ECWH20362HV","≤18","≤ 9","≤15.5",{"$f":"pana_film[[#This Row],[Body length / dia\n(mm)]]&\" x \"&pana_film[[#This Row],[Body width\n(mm)]]","v":"18 x 9"},"-","-"]
[null,"Std","dip","PP","No","ECWH(V)","ECWH20332RJV",2000,"DC",3.3E-3,"± 5",18,8.5,20.5,7.5,"Inner crimped lead wire type (Style B)","-25 to 105 (85)","30.0P crimped lead taping (ammo packing)",400,"https://industrial.panasonic.com/ww/products/pt/film-cap-electroequip/models/ECWH20332RJV","≤18","≤ 9","≤20.5",{"$f":"pana_film[[#This Row],[Body length / dia\n(mm)]]&\" x \"&pana_film[[#This Row],[Body width\n(mm)]]","v":"18 x 8.5"},"-","-"]
[null,"Std","dip","PP","No","ECWH(V)","ECWH20332RHV",2000,"DC",3.3E-3,"± 3",18,8.5,20.5,7.5,"Inner crimped lead wire type (Style B)","-25 to 105 (85)","30.0P crimped lead taping (ammo packing)",400,"https://industrial.panasonic.com/ww/products/pt/film-cap-electroequip/models/ECWH20332RHV","≤18","≤ 9","≤20.5",{"$f":"pana_film[[#This Row],[Body length / dia\n(mm)]]&\" x \"&pana_film[[#This Row],[Body width\n(mm)]]","v":"18 x 8.5"},"-","-"]
[null,"Std","dip","PP","No","ECWH(V)","ECWH20332JVB",2000,"DC",3.3E-3,"± 5",18,8.5,20.5,10,"Inner crimped lead wire type (Style B)","-25 to 105 (85)","Bulk (Bag packing)",100,"https://industrial.panasonic.com/ww/products/pt/film-cap-electroequip/models/ECWH20332JVB","≤18","≤ 9","≤20.5",{"$f":"pana_film[[#This Row],[Body length / dia\n(mm)]]&\" x \"&pana_film[[#This Row],[Body width\n(mm)]]","v":"18 x 8.5"},"-","-"]
[null,"Std","dip","PP","No","ECWH(V)","ECWH20332JV",2000,"DC",3.3E-3,"± 5",18,8.5,15.5,15,"Straight lead wire type","-25 to 105 (85)","Bulk (Bag packing)",100,"https://industrial.panasonic.com/ww/products/pt/film-cap-electroequip/models/ECWH20332JV","≤18","≤ 9","≤15.5",{"$f":"pana_film[[#This Row],[Body length / dia\n(mm)]]&\" x \"&pana_film[[#This Row],[Body width\n(mm)]]","v":"18 x 8.5"},"-","-"]
[null,"Std","dip","PP","No","ECWH(V)","ECWH20332HVB",2000,"DC",3.3E-3,"± 3",18,8.5,20.5,10,"Inner crimped lead wire type (Style B)","-25 to 105 (85)","Bulk (Bag packing)",100,"https://industrial.panasonic.com/ww/products/pt/film-cap-electroequip/models/ECWH20332HVB","≤18","≤ 9","≤20.5",{"$f":"pana_film[[#This Row],[Body length / dia\n(mm)]]&\" x \"&pana_film[[#This Row],[Body width\n(mm)]]","v":"18 x 8.5"},"-","-"]
[null,"Std","dip","PP","No","ECWH(V)","ECWH20332HV",2000,"DC",3.3E-3,"± 3",18,8.5,15.5,15,"Straight lead wire type","-25 to 105 (85)","Bulk (Bag packing)",100,"https://industrial.panasonic.com/ww/products/pt/film-cap-electroequip/models/ECWH20332HV","≤18","≤ 9","≤15.5",{"$f":"pana_film[[#This Row],[Body length / dia\n(mm)]]&\" x \"&pana_film[[#This Row],[Body width\n(mm)]]","v":"18 x 8.5"},"-","-"]
[null,"Std","dip","PP","No","ECWH(V)","ECWH20302RJV",2000,"DC",3.0000000000000001E-3,"± 5",18,9.5,21,7.5,"Inner crimped lead wire type (Style B)","-25 to 105 (85)","30.0P crimped lead taping (ammo packing)",300,"https://industrial.panasonic.com/ww/products/pt/film-cap-electroequip/models/ECWH20302RJV","≤18","≤10","≤21",{"$f":"pana_film[[#This Row],[Body length / dia\n(mm)]]&\" x \"&pana_film[[#This Row],[Body width\n(mm)]]","v":"18 x 9.5"},"-","-"]
[null,"Std","dip","PP","No","ECWH(V)","ECWH20302RHV",2000,"DC",3.0000000000000001E-3,"± 3",18,9.5,21,7.5,"Inner crimped lead wire type (Style B)","-25 to 105 (85)","30.0P crimped lead taping (ammo packing)",300,"https://industrial.panasonic.com/ww/products/pt/film-cap-electroequip/models/ECWH20302RHV","≤18","≤10","≤21",{"$f":"pana_film[[#This Row],[Body length / dia\n(mm)]]&\" x \"&pana_film[[#This Row],[Body width\n(mm)]]","v":"18 x 9.5"},"-","-"]
[null,"Std","dip","PP","No","ECWH(V)","ECWH20302JVB",2000,"DC",3.0000000000000001E-3,"± 5",18,9.5,21,10,"Inner crimped lead wire type (Style B)","-25 to 105 (85)","Bulk (Bag packing)",100,"https://industrial.panasonic.com/ww/products/pt/film-cap-electroequip/models/ECWH20302JVB","≤18","≤10","≤21",{"$f":"pana_film[[#This Row],[Body length / dia\n(mm)]]&\" x \"&pana_film[[#This Row],[Body width\n(mm)]]","v":"18 x 9.5"},"-","-"]
[null,"Std","dip","PP","No","ECWH(V)","ECWH20302JV",2000,"DC",3.0000000000000001E-3,"± 5",18,9.5,16,15,"Straight lead wire type","-25 to 105 (85)","Bulk (Bag packing)",100,"https://industrial.panasonic.com/ww/products/pt/film-cap-electroequip/models/ECWH20302JV","≤18","≤10","≤16",{"$f":"pana_film[[#This Row],[Body length / dia\n(mm)]]&\" x \"&pana_film[[#This Row],[Body width\n(mm)]]","v":"18 x 9.5"},"-","-"]
[null,"Std","dip","PP","No","ECWH(V)","ECWH20302HVB",2000,"DC",3.0000000000000001E-3,"± 3",18,9.5,21,10,"Inner crimped lead wire type (Style B)","-25 to 105 (85)","Bulk (Bag packing)",100,"https://industrial.panasonic.com/ww/products/pt/film-cap-electroequip/models/ECWH20302HVB","≤18","≤10","≤21",{"$f":"pana_film[[#This Row],[Body length / dia\n(mm)]]&\" x \"&pana_film[[#This Row],[Body width\n(mm)]]","v":"18 x 9.5"},"-","-"]
[null,"Std","dip","PP","No","ECWH(V)","ECWH20302HV",2000,"DC",3.0000000000000001E-3,"± 3",18,9.5,16,15,"Straight lead wire type","-25 to 105 (85)","Bulk (Bag packing)",100,"https://industrial.panasonic.com/ww/products/pt/film-cap-electroequip/models/ECWH20302HV","≤18","≤10","≤16",{"$f":"pana_film[[#This Row],[Body length / dia\n(mm)]]&\" x \"&pana_film[[#This Row],[Body width\n(mm)]]","v":"18 x 9.5"},"-","-"]
[null,"Std","dip","PP","No","ECWH(V)","ECWH20272RJV",2000,"DC",2.7000000000000001E-3,"± 5",18,9,21,7.5,"Inner crimped lead wire type (Style B)","-25 to 105 (85)","30.0P crimped lead taping (ammo packing)",300,"https://industrial.panasonic.com/ww/products/pt/film-cap-electroequip/models/ECWH20272RJV","≤18","≤ 9","≤21",{"$f":"pana_film[[#This Row],[Body length / dia\n(mm)]]&\" x \"&pana_film[[#This Row],[Body width\n(mm)]]","v":"18 x 9"},"-","-"]
[null,"Std","dip","PP","No","ECWH(V)","ECWH20272RHV",2000,"DC",2.7000000000000001E-3,"± 3",18,9,21,7.5,"Inner crimped lead wire type (Style B)","-25 to 105 (85)","30.0P crimped lead taping (ammo packing)",300,"https://industrial.panasonic.com/ww/products/pt/film-cap-electroequip/models/ECWH20272RHV","≤18","≤ 9","≤21",{"$f":"pana_film[[#This Row],[Body length / dia\n(mm)]]&\" x \"&pana_film[[#This Row],[Body width\n(mm)]]","v":"18 x 9"},"-","-"]
[null,"Std","dip","PP","No","ECWH(V)","ECWH20272JVB",2000,"DC",2.7000000000000001E-3,"± 5",18,9,21,10,"Inner crimped lead wire type (Style B)","-25 to 105 (85)","Bulk (Bag packing)",100,"https://industrial.panasonic.com/ww/products/pt/film-cap-electroequip/models/ECWH20272JVB","≤18","≤ 9","≤21",{"$f":"pana_film[[#This Row],[Body length / dia\n(mm)]]&\" x \"&pana_film[[#This Row],[Body width\n(mm)]]","v":"18 x 9"},"-","-"]
[null,"Std","dip","PP","No","ECWH(V)","ECWH20272JV",2000,"DC",2.7000000000000001E-3,"± 5",18,9,16,15,"Straight lead wire type","-25 to 105 (85)","Bulk (Bag packing)",100,"https://industrial.panasonic.com/ww/products/pt/film-cap-electroequip/models/ECWH20272JV","≤18","≤ 9","≤16",{"$f":"pana_film[[#This Row],[Body length / dia\n(mm)]]&\" x \"&pana_film[[#This Row],[Body width\n(mm)]]","v":"18 x 9"},"-","-"]
[null,"Std","dip","PP","No","ECWH(V)","ECWH20272HVB",2000,"DC",2.7000000000000001E-3,"± 3",18,9,21,10,"Inner crimped lead wire type (Style B)","-25 to 105 (85)","Bulk (Bag packing)",100,"https://industrial.panasonic.com/ww/products/pt/film-cap-electroequip/models/ECWH20272HVB","≤18","≤ 9","≤21",{"$f":"pana_film[[#This Row],[Body length / dia\n(mm)]]&\" x \"&pana_film[[#This Row],[Body width\n(mm)]]","v":"18 x 9"},"-","-"]
[null,"Std","dip","PP","No","ECWH(V)","ECWH20272HV",2000,"DC",2.7000000000000001E-3,"± 3",18,9,16,15,"Straight lead wire type","-25 to 105 (85)","Bulk (Bag packing)",100,"https://industrial.panasonic.com/ww/products/pt/film-cap-electroequip/models/ECWH20272HV","≤18","≤ 9","≤16",{"$f":"pana_film[[#This Row],[Body length / dia\n(mm)]]&\" x \"&pana_film[[#This Row],[Body width\n(mm)]]","v":"18 x 9"},"-","-"]
[null,"Std","dip","PP","No","ECWH(V)","ECWH20242RJV",2000,"DC",2.3999999999999998E-3,"± 5",18,8.5,20.5,7.5,"Inner crimped lead wire type (Style B)","-25 to 105 (85)","30.0P crimped lead taping (ammo packing)",400,"https://industrial.panasonic.com/ww/products/pt/film-cap-electroequip/models/ECWH20242RJV","≤18","≤ 9","≤20.5",{"$f":"pana_film[[#This Row],[Body length / dia\n(mm)]]&\" x \"&pana_film[[#This Row],[Body width\n(mm)]]","v":"18 x 8.5"},"-","-"]
[null,"Std","dip","PP","No","ECWH(V)","ECWH20242RHV",2000,"DC",2.3999999999999998E-3,"± 3",18,8.5,20.5,7.5,"Inner crimped lead wire type (Style B)","-25 to 105 (85)","30.0P crimped lead taping (ammo packing)",400,"https://industrial.panasonic.com/ww/products/pt/film-cap-electroequip/models/ECWH20242RHV","≤18","≤ 9","≤20.5",{"$f":"pana_film[[#This Row],[Body length / dia\n(mm)]]&\" x \"&pana_film[[#This Row],[Body width\n(mm)]]","v":"18 x 8.5"},"-","-"]
[null,"Std","dip","PP","No","ECWH(V)","ECWH20242JVB",2000,"DC",2.3999999999999998E-3,"± 5",18,8.5,20.5,10,"Inner crimped lead wire type (Style B)","-25 to 105 (85)","Bulk (Bag packing)",100,"https://industrial.panasonic.com/ww/products/pt/film-cap-electroequip/models/ECWH20242JVB","≤18","≤ 9","≤20.5",{"$f":"pana_film[[#This Row],[Body length / dia\n(mm)]]&\" x \"&pana_film[[#This Row],[Body width\n(mm)]]","v":"18 x 8.5"},"-","-"]
[null,"Std","dip","PP","No","ECWH(V)","ECWH20242JV",2000,"DC",2.3999999999999998E-3,"± 5",18,8.5,15.5,15,"Straight lead wire type","-25 to 105 (85)","Bulk (Bag packing)",100,"https://industrial.panasonic.com/ww/products/pt/film-cap-electroequip/models/ECWH20242JV","≤18","≤ 9","≤15.5",{"$f":"pana_film[[#This Row],[Body length / dia\n(mm)]]&\" x \"&pana_film[[#This Row],[Body width\n(mm)]]","v":"18 x 8.5"},"-","-"]
[null,"Std","dip","PP","No","ECWH(V)","ECWH20242HVB",2000,"DC",2.3999999999999998E-3,"± 3",18,8.5,20.5,10,"Inner crimped lead wire type (Style B)","-25 to 105 (85)","Bulk (Bag packing)",100,"https://industrial.panasonic.com/ww/products/pt/film-cap-electroequip/models/ECWH20242HVB","≤18","≤ 9","≤20.5",{"$f":"pana_film[[#This Row],[Body length / dia\n(mm)]]&\" x \"&pana_film[[#This Row],[Body width\n(mm)]]","v":"18 x 8.5"},"-","-"]
[null,"Std","dip","PP","No","ECWH(V)","ECWH20242HV",2000,"DC",2.3999999999999998E-3,"± 3",18,8.5,15.5,15,"Straight lead wire type","-25 to 105 (85)","Bulk (Bag packing)",100,"https://industrial.panasonic.com/ww/products/pt/film-cap-electroequip/models/ECWH20242HV","≤18","≤ 9","≤15.5",{"$f":"pana_film[[#This Row],[Body length / dia\n(mm)]]&\" x \"&pana_film[[#This Row],[Body width\n(mm)]]","v":"18 x 8.5"},"-","-"]
[null,"Std","dip","PP","No","ECWH(V)","ECWH20222RJV",2000,"DC",2.2000000000000001E-3,"± 5",18,8.5,20,7.5,"Inner crimped lead wire type (Style B)","-25 to 105 (85)","30.0P crimped lead taping (ammo packing)",400,"https://industrial.panasonic.com/ww/products/pt/film-cap-electroequip/models/ECWH20222RJV","≤18","≤ 9","≤20",{"$f":"pana_film[[#This Row],[Body length / dia\n(mm)]]&\" x \"&pana_film[[#This Row],[Body width\n(mm)]]","v":"18 x 8.5"},"-","-"]
[null,"Std","dip","PP","No","ECWH(V)","ECWH20222RHV",2000,"DC",2.2000000000000001E-3,"± 3",18,8.5,20,7.5,"Inner crimped lead wire type (Style B)","-25 to 105 (85)","30.0P crimped lead taping (ammo packing)",400,"https://industrial.panasonic.com/ww/products/pt/film-cap-electroequip/models/ECWH20222RHV","≤18","≤ 9","≤20",{"$f":"pana_film[[#This Row],[Body length / dia\n(mm)]]&\" x \"&pana_film[[#This Row],[Body width\n(mm)]]","v":"18 x 8.5"},"-","-"]
[null,"Std","dip","PP","No","ECWH(V)","ECWH20222JVB",2000,"DC",2.2000000000000001E-3,"± 5",18,8.5,20,10,"Inner crimped lead wire type (Style B)","-25 to 105 (85)","Bulk (Bag packing)",100,"https://industrial.panasonic.com/ww/products/pt/film-cap-electroequip/models/ECWH20222JVB","≤18","≤ 9","≤20",{"$f":"pana_film[[#This Row],[Body length / dia\n(mm)]]&\" x \"&pana_film[[#This Row],[Body width\n(mm)]]","v":"18 x 8.5"},"-","-"]
[null,"Std","dip","PP","No","ECWH(V)","ECWH20222JV",2000,"DC",2.2000000000000001E-3,"± 5",18,8.5,15,15,"Straight lead wire type","-25 to 105 (85)","Bulk (Bag packing)",100,"https://industrial.panasonic.com/ww/products/pt/film-cap-electroequip/models/ECWH20222JV","≤18","≤ 9","≤15",{"$f":"pana_film[[#This Row],[Body length / dia\n(mm)]]&\" x \"&pana_film[[#This Row],[Body width\n(mm)]]","v":"18 x 8.5"},"-","-"]
[null,"Std","dip","PP","No","ECWH(V)","ECWH20222HVB",2000,"DC",2.2000000000000001E-3,"± 3",18,8.5,20,10,"Inner crimped lead wire type (Style B)","-25 to 105 (85)","Bulk (Bag packing)",100,"https://industrial.panasonic.com/ww/products/pt/film-cap-electroequip/models/ECWH20222HVB","≤18","≤ 9","≤20",{"$f":"pana_film[[#This Row],[Body length / dia\n(mm)]]&\" x \"&pana_film[[#This Row],[Body width\n(mm)]]","v":"18 x 8.5"},"-","-"]
[null,"Std","dip","PP","No","ECWH(V)","ECWH20222HV",2000,"DC",2.2000000000000001E-3,"± 3",18,8.5,15,15,"Straight lead wire type","-25 to 105 (85)","Bulk (Bag packing)",100,"https://industrial.panasonic.com/ww/products/pt/film-cap-electroequip/models/ECWH20222HV",{"$f":"IF(L967<=9.5,\"≤ \"&ROUNDUP(L967*1,0)/1,\"≤\"&ROUNDUP(L967*1,0)/1)","v":"≤18"},{"$f":"IF(M967<=9,\"≤ \"&ROUNDUP(M967*1,0)/1,\"≤\"&ROUNDUP(M967*1,0)/1)","v":"≤ 9"},{"$f":"IF(N967<=9.5,\"≤ \"&ROUNDUP(N967*2,0)/2,\"≤\"&ROUNDUP(N967*2,0)/2)","v":"≤15"},{"$f":"pana_film[[#This Row],[Body length / dia\n(mm)]]&\" x \"&pana_film[[#This Row],[Body width\n(mm)]]","v":"18 x 8.5"},"-","-"]
[null,"Std","dip","PP","No","ECWH(V)","ECWH20202RJV",2000,"DC",2E-3,"± 5",18,8,20,7.5,"Inner crimped lead wire type (Style B)","-25 to 105 (85)","30.0P crimped lead taping (ammo packing)",400,"https://industrial.panasonic.com/ww/products/pt/film-cap-electroequip/models/ECWH20202RJV","≤18","≤ 8","≤20",{"$f":"pana_film[[#This Row],[Body length / dia\n(mm)]]&\" x \"&pana_film[[#This Row],[Body width\n(mm)]]","v":"18 x 8"},"-","-"]
[null,"Std","dip","PP","No","ECWH(V)","ECWH20202RHV",2000,"DC",2E-3,"± 3",18,8,20,7.5,"Inner crimped lead wire type (Style B)","-25 to 105 (85)","30.0P crimped lead taping (ammo packing)",400,"https://industrial.panasonic.com/ww/products/pt/film-cap-electroequip/models/ECWH20202RHV","≤18","≤ 8","≤20",{"$f":"pana_film[[#This Row],[Body length / dia\n(mm)]]&\" x \"&pana_film[[#This Row],[Body width\n(mm)]]","v":"18 x 8"},"-","-"]
[null,"Std","dip","PP","No","ECWH(V)","ECWH20202JVB",2000,"DC",2E-3,"± 5",18,8,20,10,"Inner crimped lead wire type (Style B)","-25 to 105 (85)","Bulk (Bag packing)",100,"https://industrial.panasonic.com/ww/products/pt/film-cap-electroequip/models/ECWH20202JVB","≤18","≤ 8","≤20",{"$f":"pana_film[[#This Row],[Body length / dia\n(mm)]]&\" x \"&pana_film[[#This Row],[Body width\n(mm)]]","v":"18 x 8"},"-","-"]
[null,"Std","dip","PP","No","ECWH(V)","ECWH20202JV",2000,"DC",2E-3,"± 5",18,8,15,15,"Straight lead wire type","-25 to 105 (85)","Bulk (Bag packing)",100,"https://industrial.panasonic.com/ww/products/pt/film-cap-electroequip/models/ECWH20202JV","≤18","≤ 8","≤15",{"$f":"pana_film[[#This Row],[Body length / dia\n(mm)]]&\" x \"&pana_film[[#This Row],[Body width\n(mm)]]","v":"18 x 8"},"-","-"]
[null,"Std","dip","PP","No","ECWH(V)","ECWH20202HVB",2000,"DC",2E-3,"± 3",18,8,20,10,"Inner crimped lead wire type (Style B)","-25 to 105 (85)","Bulk (Bag packing)",100,"https://industrial.panasonic.com/ww/products/pt/film-cap-electroequip/models/ECWH20202HVB","≤18","≤ 8","≤20",{"$f":"pana_film[[#This Row],[Body length / dia\n(mm)]]&\" x \"&pana_film[[#This Row],[Body width\n(mm)]]","v":"18 x 8"},"-","-"]
[null,"Std","dip","PP","No","ECWH(V)","ECWH20202HV",2000,"DC",2E-3,"± 3",18,8,15,15,"Straight lead wire type","-25 to 105 (85)","Bulk (Bag packing)",100,"https://industrial.panasonic.com/ww/products/pt/film-cap-electroequip/models/ECWH20202HV","≤18","≤ 8","≤15",{"$f":"pana_film[[#This Row],[Body length / dia\n(mm)]]&\" x \"&pana_film[[#This Row],[Body width\n(mm)]]","v":"18 x 8"},"-","-"]
[null,"Std","dip","PP","No","ECWH(V)","ECWH20182RJV",2000,"DC",1.8E-3,"± 5",18,8,19.5,7.5,"Inner crimped lead wire type (Style B)","-25 to 105 (85)","30.0P crimped lead taping (ammo packing)",400,"https://industrial.panasonic.com/ww/products/pt/film-cap-electroequip/models/ECWH20182RJV","≤18","≤ 8","≤19.5",{"$f":"pana_film[[#This Row],[Body length / dia\n(mm)]]&\" x \"&pana_film[[#This Row],[Body width\n(mm)]]","v":"18 x 8"},"-","-"]
[null,"Std","dip","PP","No","ECWH(V)","ECWH20182RHV",2000,"DC",1.8E-3,"± 3",18,8,19.5,7.5,"Inner crimped lead wire type (Style B)","-25 to 105 (85)","30.0P crimped lead taping (ammo packing)",400,"https://industrial.panasonic.com/ww/products/pt/film-cap-electroequip/models/ECWH20182RHV","≤18","≤ 8","≤19.5",{"$f":"pana_film[[#This Row],[Body length / dia\n(mm)]]&\" x \"&pana_film[[#This Row],[Body width\n(mm)]]","v":"18 x 8"},"-","-"]
[null,"Std","dip","PP","No","ECWH(V)","ECWH20182JVB",2000,"DC",1.8E-3,"± 5",18,8,19.5,10,"Inner crimped lead wire type (Style B)","-25 to 105 (85)","Bulk (Bag packing)",100,"https://industrial.panasonic.com/ww/products/pt/film-cap-electroequip/models/ECWH20182JVB","≤18","≤ 8","≤19.5",{"$f":"pana_film[[#This Row],[Body length / dia\n(mm)]]&\" x \"&pana_film[[#This Row],[Body width\n(mm)]]","v":"18 x 8"},"-","-"]
[null,"Std","dip","PP","No","ECWH(V)","ECWH20182JV",2000,"DC",1.8E-3,"± 5",18,8,14.5,15,"Straight lead wire type","-25 to 105 (85)","Bulk (Bag packing)",100,"https://industrial.panasonic.com/ww/products/pt/film-cap-electroequip/models/ECWH20182JV","≤18","≤ 8","≤14.5",{"$f":"pana_film[[#This Row],[Body length / dia\n(mm)]]&\" x \"&pana_film[[#This Row],[Body width\n(mm)]]","v":"18 x 8"},"-","-"]
[null,"Std","dip","PP","No","ECWH(V)","ECWH20182HVB",2000,"DC",1.8E-3,"± 3",18,8,19.5,10,"Inner crimped lead wire type (Style B)","-25 to 105 (85)","Bulk (Bag packing)",100,"https://industrial.panasonic.com/ww/products/pt/film-cap-electroequip/models/ECWH20182HVB","≤18","≤ 8","≤19.5",{"$f":"pana_film[[#This Row],[Body length / dia\n(mm)]]&\" x \"&pana_film[[#This Row],[Body width\n(mm)]]","v":"18 x 8"},"-","-"]
[null,"Std","dip","PP","No","ECWH(V)","ECWH20182HV",2000,"DC",1.8E-3,"± 3",18,8,14.5,15,"Straight lead wire type","-25 to 105 (85)","Bulk (Bag packing)",100,"https://industrial.panasonic.com/ww/products/pt/film-cap-electroequip/models/ECWH20182HV","≤18","≤ 8","≤14.5",{"$f":"pana_film[[#This Row],[Body length / dia\n(mm)]]&\" x \"&pana_film[[#This Row],[Body width\n(mm)]]","v":"18 x 8"},"-","-"]
[null,"Std","dip","PP","No","ECWH(V)","ECWH20162RJV",2000,"DC",1.6000000000000001E-3,"± 5",18,7.5,19.5,7.5,"Inner crimped lead wire type (Style B)","-25 to 105 (85)","30.0P crimped lead taping (ammo packing)",400,"https://industrial.panasonic.com/ww/products/pt/film-cap-electroequip/models/ECWH20162RJV","≤18","≤ 8","≤19.5",{"$f":"pana_film[[#This Row],[Body length / dia\n(mm)]]&\" x \"&pana_film[[#This Row],[Body width\n(mm)]]","v":"18 x 7.5"},"-","-"]
[null,"Std","dip","PP","No","ECWH(V)","ECWH20162RHV",2000,"DC",1.6000000000000001E-3,"± 3",18,7.5,19.5,7.5,"Inner crimped lead wire type (Style B)","-25 to 105 (85)","30.0P crimped lead taping (ammo packing)",400,"https://industrial.panasonic.com/ww/products/pt/film-cap-electroequip/models/ECWH20162RHV","≤18","≤ 8","≤19.5",{"$f":"pana_film[[#This Row],[Body length / dia\n(mm)]]&\" x \"&pana_film[[#This Row],[Body width\n(mm)]]","v":"18 x 7.5"},"-","-"]
[null,"Std","dip","PP","No","ECWH(V)","ECWH20162JVB",2000,"DC",1.6000000000000001E-3,"± 5",18,7.5,19.5,10,"Inner crimped lead wire type (Style B)","-25 to 105 (85)","Bulk (Bag packing)",100,"https://industrial.panasonic.com/ww/products/pt/film-cap-electroequip/models/ECWH20162JVB","≤18","≤ 8","≤19.5",{"$f":"pana_film[[#This Row],[Body length / dia\n(mm)]]&\" x \"&pana_film[[#This Row],[Body width\n(mm)]]","v":"18 x 7.5"},"-","-"]
[null,"Std","dip","PP","No","ECWH(V)","ECWH20162JV",2000,"DC",1.6000000000000001E-3,"± 5",18,7.5,14.5,15,"Straight lead wire type","-25 to 105 (85)","Bulk (Bag packing)",100,"https://industrial.panasonic.com/ww/products/pt/film-cap-electroequip/models/ECWH20162JV","≤18","≤ 8","≤14.5",{"$f":"pana_film[[#This Row],[Body length / dia\n(mm)]]&\" x \"&pana_film[[#This Row],[Body width\n(mm)]]","v":"18 x 7.5"},"-","-"]
[null,"Std","dip","PP","No","ECWH(V)","ECWH20162HVB",2000,"DC",1.6000000000000001E-3,"± 3",18,7.5,19.5,10,"Inner crimped lead wire type (Style B)","-25 to 105 (85)","Bulk (Bag packing)",100,"https://industrial.panasonic.com/ww/products/pt/film-cap-electroequip/models/ECWH20162HVB","≤18","≤ 8","≤19.5",{"$f":"pana_film[[#This Row],[Body length / dia\n(mm)]]&\" x \"&pana_film[[#This Row],[Body width\n(mm)]]","v":"18 x 7.5"},"-","-"]
[null,"Std","dip","PP","No","ECWH(V)","ECWH20162HV",2000,"DC",1.6000000000000001E-3,"± 3",18,7.5,14.5,15,"Straight lead wire type","-25 to 105 (85)","Bulk (Bag packing)",100,"https://industrial.panasonic.com/ww/products/pt/film-cap-electroequip/models/ECWH20162HV","≤18","≤ 8","≤14.5",{"$f":"pana_film[[#This Row],[Body length / dia\n(mm)]]&\" x \"&pana_film[[#This Row],[Body width\n(mm)]]","v":"18 x 7.5"},"-","-"]
[null,"Std","dip","PP","No","ECWH(V)","ECWH20153RJV",2000,"DC",1.4999999999999999E-2,"± 5",23,12,26.5,7.5,"Inner crimped lead wire type (Style B)","-25 to 105 (85)","30.0P crimped lead taping (ammo packing)",300,"https://industrial.panasonic.com/ww/products/pt/film-cap-electroequip/models/ECWH20153RJV","≤23","≤12","≤26.5",{"$f":"pana_film[[#This Row],[Body length / dia\n(mm)]]&\" x \"&pana_film[[#This Row],[Body width\n(mm)]]","v":"23 x 12"},"-","-"]
[null,"Std","dip","PP","No","ECWH(V)","ECWH20153RHV",2000,"DC",1.4999999999999999E-2,"± 3",23,12,26.5,7.5,"Inner crimped lead wire type (Style B)","-25 to 105 (85)","30.0P crimped lead taping (ammo packing)",300,"https://industrial.panasonic.com/ww/products/pt/film-cap-electroequip/models/ECWH20153RHV","≤23","≤12","≤26.5",{"$f":"pana_film[[#This Row],[Body length / dia\n(mm)]]&\" x \"&pana_film[[#This Row],[Body width\n(mm)]]","v":"23 x 12"},"-","-"]
[null,"Std","dip","PP","No","ECWH(V)","ECWH20153JVB",2000,"DC",1.4999999999999999E-2,"± 5",23,12,26.5,15,"Inner crimped lead wire type (Style B)","-25 to 105 (85)","Bulk (Bag packing)",100,"https://industrial.panasonic.com/ww/products/pt/film-cap-electroequip/models/ECWH20153JVB","≤23","≤12","≤26.5",{"$f":"pana_film[[#This Row],[Body length / dia\n(mm)]]&\" x \"&pana_film[[#This Row],[Body width\n(mm)]]","v":"23 x 12"},"-","-"]
[null,"Std","dip","PP","No","ECWH(V)","ECWH20153JV",2000,"DC",1.4999999999999999E-2,"± 5",23,12,21.5,20,"Straight lead wire type","-25 to 105 (85)","Bulk (Bag packing)",100,"https://industrial.panasonic.com/ww/products/pt/film-cap-electroequip/models/ECWH20153JV","≤23","≤12","≤21.5",{"$f":"pana_film[[#This Row],[Body length / dia\n(mm)]]&\" x \"&pana_film[[#This Row],[Body width\n(mm)]]","v":"23 x 12"},"-","-"]
[null,"Std","dip","PP","No","ECWH(V)","ECWH20153HVB",2000,"DC",1.4999999999999999E-2,"± 3",23,12,26.5,15,"Inner crimped lead wire type (Style B)","-25 to 105 (85)","Bulk (Bag packing)",100,"https://industrial.panasonic.com/ww/products/pt/film-cap-electroequip/models/ECWH20153HVB","≤23","≤12","≤26.5",{"$f":"pana_film[[#This Row],[Body length / dia\n(mm)]]&\" x \"&pana_film[[#This Row],[Body width\n(mm)]]","v":"23 x 12"},"-","-"]
[null,"Std","dip","PP","No","ECWH(V)","ECWH20153HV",2000,"DC",1.4999999999999999E-2,"± 3",23,12,21.5,20,"Straight lead wire type","-25 to 105 (85)","Bulk (Bag packing)",100,"https://industrial.panasonic.com/ww/products/pt/film-cap-electroequip/models/ECWH20153HV","≤23","≤12","≤21.5",{"$f":"pana_film[[#This Row],[Body length / dia\n(mm)]]&\" x \"&pana_film[[#This Row],[Body width\n(mm)]]","v":"23 x 12"},"-","-"]
[null,"Std","dip","PP","No","ECWH(V)","ECWH20152RJV",2000,"DC",1.5E-3,"± 5",18,7.5,19,7.5,"Inner crimped lead wire type (Style B)","-25 to 105 (85)","30.0P crimped lead taping (ammo packing)",400,"https://industrial.panasonic.com/ww/products/pt/film-cap-electroequip/models/ECWH20152RJV","≤18","≤ 8","≤19",{"$f":"pana_film[[#This Row],[Body length / dia\n(mm)]]&\" x \"&pana_film[[#This Row],[Body width\n(mm)]]","v":"18 x 7.5"},"-","-"]
[null,"Std","dip","PP","No","ECWH(V)","ECWH20152RHV",2000,"DC",1.5E-3,"± 3",18,7.5,19,7.5,"Inner crimped lead wire type (Style B)","-25 to 105 (85)","30.0P crimped lead taping (ammo packing)",400,"https://industrial.panasonic.com/ww/products/pt/film-cap-electroequip/models/ECWH20152RHV","≤18","≤ 8","≤19",{"$f":"pana_film[[#This Row],[Body length / dia\n(mm)]]&\" x \"&pana_film[[#This Row],[Body width\n(mm)]]","v":"18 x 7.5"},"-","-"]
[null,"Std","dip","PP","No","ECWH(V)","ECWH20152JVB",2000,"DC",1.5E-3,"± 5",18,7.5,19,10,"Inner crimped lead wire type (Style B)","-25 to 105 (85)","Bulk (Bag packing)",100,"https://industrial.panasonic.com/ww/products/pt/film-cap-electroequip/models/ECWH20152JVB","≤18","≤ 8","≤19",{"$f":"pana_film[[#This Row],[Body length / dia\n(mm)]]&\" x \"&pana_film[[#This Row],[Body width\n(mm)]]","v":"18 x 7.5"},"-","-"]
[null,"Std","dip","PP","No","ECWH(V)","ECWH20152JV",2000,"DC",1.5E-3,"± 5",18,7.5,14,15,"Straight lead wire type","-25 to 105 (85)","Bulk (Bag packing)",100,"https://industrial.panasonic.com/ww/products/pt/film-cap-electroequip/models/ECWH20152JV","≤18","≤ 8","≤14",{"$f":"pana_film[[#This Row],[Body length / dia\n(mm)]]&\" x \"&pana_film[[#This Row],[Body width\n(mm)]]","v":"18 x 7.5"},"-","-"]
[null,"Std","dip","PP","No","ECWH(V)","ECWH20152HVB",2000,"DC",1.5E-3,"± 3",18,7.5,19,10,"Inner crimped lead wire type (Style B)","-25 to 105 (85)","Bulk (Bag packing)",100,"https://industrial.panasonic.com/ww/products/pt/film-cap-electroequip/models/ECWH20152HVB","≤18","≤ 8","≤19",{"$f":"pana_film[[#This Row],[Body length / dia\n(mm)]]&\" x \"&pana_film[[#This Row],[Body width\n(mm)]]","v":"18 x 7.5"},"-","-"]
[null,"Std","dip","PP","No","ECWH(V)","ECWH20152HV",2000,"DC",1.5E-3,"± 3",18,7.5,14,15,"Straight lead wire type","-25 to 105 (85)","Bulk (Bag packing)",100,"https://industrial.panasonic.com/ww/products/pt/film-cap-electroequip/models/ECWH20152HV","≤18","≤ 8","≤14",{"$f":"pana_film[[#This Row],[Body length / dia\n(mm)]]&\" x \"&pana_film[[#This Row],[Body width\n(mm)]]","v":"18 x 7.5"},"-","-"]
[null,"Std","dip","PP","No","ECWH(V)","ECWH20133RJV",2000,"DC",1.2999999999999999E-2,"± 5",23,12,26,7.5,"Inner crimped lead wire type (Style B)","-25 to 105 (85)","30.0P crimped lead taping (ammo packing)",300,"https://industrial.panasonic.com/ww/products/pt/film-cap-electroequip/models/ECWH20133RJV","≤23","≤12","≤26",{"$f":"pana_film[[#This Row],[Body length / dia\n(mm)]]&\" x \"&pana_film[[#This Row],[Body width\n(mm)]]","v":"23 x 12"},"-","-"]
[null,"Std","dip","PP","No","ECWH(V)","ECWH20133RHV",2000,"DC",1.2999999999999999E-2,"± 3",23,12,26,7.5,"Inner crimped lead wire type (Style B)","-25 to 105 (85)","30.0P crimped lead taping (ammo packing)",300,"https://industrial.panasonic.com/ww/products/pt/film-cap-electroequip/models/ECWH20133RHV","≤23","≤12","≤26",{"$f":"pana_film[[#This Row],[Body length / dia\n(mm)]]&\" x \"&pana_film[[#This Row],[Body width\n(mm)]]","v":"23 x 12"},"-","-"]
[null,"Std","dip","PP","No","ECWH(V)","ECWH20133JVB",2000,"DC",1.2999999999999999E-2,"± 5",23,12,26,15,"Inner crimped lead wire type (Style B)","-25 to 105 (85)","Bulk (Bag packing)",100,"https://industrial.panasonic.com/ww/products/pt/film-cap-electroequip/models/ECWH20133JVB","≤23","≤12","≤26",{"$f":"pana_film[[#This Row],[Body length / dia\n(mm)]]&\" x \"&pana_film[[#This Row],[Body width\n(mm)]]","v":"23 x 12"},"-","-"]
[null,"Std","dip","PP","No","ECWH(V)","ECWH20132RJV",2000,"DC",1.2999999999999999E-3,"± 5",18,7,19,7.5,"Inner crimped lead wire type (Style B)","-25 to 105 (85)","30.0P crimped lead taping (ammo packing)",500,"https://industrial.panasonic.com/ww/products/pt/film-cap-electroequip/models/ECWH20132RJV","≤18","≤ 7","≤19",{"$f":"pana_film[[#This Row],[Body length / dia\n(mm)]]&\" x \"&pana_film[[#This Row],[Body width\n(mm)]]","v":"18 x 7"},"-","-"]
[null,"Std","dip","PP","No","ECWH(V)","ECWH20123RHV",2000,"DC",1.2E-2,"± 3",23,11.5,25.5,7.5,"Inner crimped lead wire type (Style B)","-25 to 105 (85)","30.0P crimped lead taping (ammo packing)",300,"https://industrial.panasonic.com/ww/products/pt/film-cap-electroequip/models/ECWH20123RHV","≤23","≤12","≤25.5",{"$f":"pana_film[[#This Row],[Body length / dia\n(mm)]]&\" x \"&pana_film[[#This Row],[Body width\n(mm)]]","v":"23 x 11.5"},"-","-"]
[null,"Std","dip","PP","No","ECWH(V)","ECWH20123HVB",2000,"DC",1.2E-2,"± 3",23,11.5,25.5,15,"Inner crimped lead wire type (Style B)","-25 to 105 (85)","Bulk (Bag packing)",100,"https://industrial.panasonic.com/ww/products/pt/film-cap-electroequip/models/ECWH20123HVB","≤23","≤12","≤25.5",{"$f":"pana_film[[#This Row],[Body length / dia\n(mm)]]&\" x \"&pana_film[[#This Row],[Body width\n(mm)]]","v":"23 x 11.5"},"-","-"]
[null,"Std","dip","PP","No","ECWH(V)","ECWH20122HV",2000,"DC",1.1999999999999999E-3,"± 3",18,7,13.5,15,"Straight lead wire type","-25 to 105 (85)","Bulk (Bag packing)",100,"https://industrial.panasonic.com/ww/products/pt/film-cap-electroequip/models/ECWH20122HV","≤18","≤ 7","≤13.5",{"$f":"pana_film[[#This Row],[Body length / dia\n(mm)]]&\" x \"&pana_film[[#This Row],[Body width\n(mm)]]","v":"18 x 7"},"-","-"]
[null,"Std","dip","PP","No","ECWH(V)","ECWH20112JVB",2000,"DC",1.1000000000000001E-3,"± 5",18,6.5,18.5,10,"Inner crimped lead wire type (Style B)","-25 to 105 (85)","Bulk (Bag packing)",100,"https://industrial.panasonic.com/ww/products/pt/film-cap-electroequip/models/ECWH20112JVB","≤18","≤ 7","≤18.5",{"$f":"pana_film[[#This Row],[Body length / dia\n(mm)]]&\" x \"&pana_film[[#This Row],[Body width\n(mm)]]","v":"18 x 6.5"},"-","-"]
[null,"Std","dip","PP","No","ECWH(V)","ECWH20112HV",2000,"DC",1.1000000000000001E-3,"± 3",18,6.5,13.5,15,"Straight lead wire type","-25 to 105 (85)","Bulk (Bag packing)",100,"https://industrial.panasonic.com/ww/products/pt/film-cap-electroequip/models/ECWH20112HV","≤18","≤ 7","≤13.5",{"$f":"pana_film[[#This Row],[Body length / dia\n(mm)]]&\" x \"&pana_film[[#This Row],[Body width\n(mm)]]","v":"18 x 6.5"},"-","-"]
[null,"Std","dip","PP","No","ECWH(V)","ECWH20103HVB",2000,"DC",0.01,"± 3",23,10.5,24.5,15,"Inner crimped lead wire type (Style B)","-25 to 105 (85)","Bulk (Bag packing)",100,"https://industrial.panasonic.com/ww/products/pt/film-cap-electroequip/models/ECWH20103HVB","≤23","≤11","≤24.5",{"$f":"pana_film[[#This Row],[Body length / dia\n(mm)]]&\" x \"&pana_film[[#This Row],[Body width\n(mm)]]","v":"23 x 10.5"},"-","-"]
[null,"Std","dip","PP","No","ECWH(V)","ECWH20102HVB",2000,"DC",1E-3,"± 3",18,6.5,18.5,10,"Inner crimped lead wire type (Style B)","-25 to 105 (85)","Bulk (Bag packing)",100,"https://industrial.panasonic.com/ww/products/pt/film-cap-electroequip/models/ECWH20102HVB","≤18","≤ 7","≤18.5",{"$f":"pana_film[[#This Row],[Body length / dia\n(mm)]]&\" x \"&pana_film[[#This Row],[Body width\n(mm)]]","v":"18 x 6.5"},"-","-"]
[null,"Std","dip","PP","No","ECWH(V)","ECWH16912HV",1600,"DC",9.1000000000000004E-3,"± 3",23,8,16,20,"Straight lead wire type","-25 to 105 (85)","Bulk (Bag packing)",100,"https://industrial.panasonic.com/ww/products/pt/film-cap-electroequip/models/ECWH16912HV","≤23","≤ 8","≤16",{"$f":"pana_film[[#This Row],[Body length / dia\n(mm)]]&\" x \"&pana_film[[#This Row],[Body width\n(mm)]]","v":"23 x 8"},"-","-"]
[null,"Std","dip","PP","No","ECWH(V)","ECWH16752JVB",1600,"DC",7.4999999999999997E-3,"± 5",23,7.5,20.5,15,"Inner crimped lead wire type (Style B)","-25 to 105 (85)","Bulk (Bag packing)",100,"https://industrial.panasonic.com/ww/products/pt/film-cap-electroequip/models/ECWH16752JVB","≤23","≤ 8","≤20.5",{"$f":"pana_film[[#This Row],[Body length / dia\n(mm)]]&\" x \"&pana_film[[#This Row],[Body width\n(mm)]]","v":"23 x 7.5"},"-","-"]
[null,"Std","dip","PP","No","ECWH(V)","ECWH16752HV",1600,"DC",7.4999999999999997E-3,"± 3",23,7.5,15.5,20,"Straight lead wire type","-25 to 105 (85)","Bulk (Bag packing)",100,"https://industrial.panasonic.com/ww/products/pt/film-cap-electroequip/models/ECWH16752HV","≤23","≤ 8","≤15.5",{"$f":"pana_film[[#This Row],[Body length / dia\n(mm)]]&\" x \"&pana_film[[#This Row],[Body width\n(mm)]]","v":"23 x 7.5"},"-","-"]
[null,"Std","dip","PP","No","ECWH(V)","ECWH16622RJV",1600,"DC",6.1999999999999998E-3,"± 5",23,7,20,7.5,"Inner crimped lead wire type (Style B)","-25 to 105 (85)","30.0P crimped lead taping (ammo packing)",500,"https://industrial.panasonic.com/ww/products/pt/film-cap-electroequip/models/ECWH16622RJV","≤23","≤ 7","≤20",{"$f":"pana_film[[#This Row],[Body length / dia\n(mm)]]&\" x \"&pana_film[[#This Row],[Body width\n(mm)]]","v":"23 x 7"},"-","-"]
[null,"Std","dip","PP","No","ECWH(V)","ECWH16622HV",1600,"DC",6.1999999999999998E-3,"± 3",23,7,15,20,"Straight lead wire type","-25 to 105 (85)","Bulk (Bag packing)",100,"https://industrial.panasonic.com/ww/products/pt/film-cap-electroequip/models/ECWH16622HV","≤23","≤ 7","≤15",{"$f":"pana_film[[#This Row],[Body length / dia\n(mm)]]&\" x \"&pana_film[[#This Row],[Body width\n(mm)]]","v":"23 x 7"},"-","-"]
[null,"Std","dip","PP","No","ECWH(V)","ECWH16562JV",1600,"DC",5.5999999999999999E-3,"± 5",23,6.5,15,20,"Straight lead wire type","-25 to 105 (85)","Bulk (Bag packing)",100,"https://industrial.panasonic.com/ww/products/pt/film-cap-electroequip/models/ECWH16562JV","≤23","≤ 7","≤15",{"$f":"pana_film[[#This Row],[Body length / dia\n(mm)]]&\" x \"&pana_film[[#This Row],[Body width\n(mm)]]","v":"23 x 6.5"},"-","-"]
[null,"Std","dip","PP","No","ECWH(V)","ECWH16512RJV",1600,"DC",5.1000000000000004E-3,"± 5",23,6.5,20,7.5,"Inner crimped lead wire type (Style B)","-25 to 105 (85)","30.0P crimped lead taping (ammo packing)",500,"https://industrial.panasonic.com/ww/products/pt/film-cap-electroequip/models/ECWH16512RJV","≤23","≤ 7","≤20",{"$f":"pana_film[[#This Row],[Body length / dia\n(mm)]]&\" x \"&pana_film[[#This Row],[Body width\n(mm)]]","v":"23 x 6.5"},"-","-"]
[null,"Std","dip","PP","No","ECWH(V)","ECWH16512JV",1600,"DC",5.1000000000000004E-3,"± 5",23,6.5,15,20,"Straight lead wire type","-25 to 105 (85)","Bulk (Bag packing)",100,"https://industrial.panasonic.com/ww/products/pt/film-cap-electroequip/models/ECWH16512JV","≤23","≤ 7","≤15",{"$f":"pana_film[[#This Row],[Body length / dia\n(mm)]]&\" x \"&pana_film[[#This Row],[Body width\n(mm)]]","v":"23 x 6.5"},"-","-"]
[null,"Std","dip","PP","No","ECWH(V)","ECWH16472RJV",1600,"DC",4.7000000000000002E-3,"± 5",23,6.5,19.5,7.5,"Inner crimped lead wire type (Style B)","-25 to 105 (85)","30.0P crimped lead taping (ammo packing)",500,"https://industrial.panasonic.com/ww/products/pt/film-cap-electroequip/models/ECWH16472RJV","≤23","≤ 7","≤19.5",{"$f":"pana_film[[#This Row],[Body length / dia\n(mm)]]&\" x \"&pana_film[[#This Row],[Body width\n(mm)]]","v":"23 x 6.5"},"-","-"]
[null,"Std","dip","PP","No","ECWH(V)","ECWH16433HV",1600,"DC",4.2999999999999997E-2,"± 3",28,14.5,22.5,25,"Straight lead wire type","-25 to 105 (85)","Bulk (Bag packing)",100,"https://industrial.panasonic.com/ww/products/pt/film-cap-electroequip/models/ECWH16433HV","≤28","≤15","≤22.5",{"$f":"pana_film[[#This Row],[Body length / dia\n(mm)]]&\" x \"&pana_film[[#This Row],[Body width\n(mm)]]","v":"28 x 14.5"},"-","-"]
[null,"Std","dip","PP","No","ECWH(V)","ECWH16432JVB",1600,"DC",4.3E-3,"± 5",18,7,19,10,"Inner crimped lead wire type (Style B)","-25 to 105 (85)","Bulk (Bag packing)",100,"https://industrial.panasonic.com/ww/products/pt/film-cap-electroequip/models/ECWH16432JVB","≤18","≤ 7","≤19",{"$f":"pana_film[[#This Row],[Body length / dia\n(mm)]]&\" x \"&pana_film[[#This Row],[Body width\n(mm)]]","v":"18 x 7"},"-","-"]
[null,"Std","dip","PP","No","ECWH(V)","ECWH16392RJV",1600,"DC",3.8999999999999998E-3,"± 5",18,7,19,7.5,"Inner crimped lead wire type (Style B)","-25 to 105 (85)","30.0P crimped lead taping (ammo packing)",500,"https://industrial.panasonic.com/ww/products/pt/film-cap-electroequip/models/ECWH16392RJV","≤18","≤ 7","≤19",{"$f":"pana_film[[#This Row],[Body length / dia\n(mm)]]&\" x \"&pana_film[[#This Row],[Body width\n(mm)]]","v":"18 x 7"},"-","-"]
[null,"Std","dip","PP","No","ECWH(V)","ECWH16363HV",1600,"DC",3.5999999999999997E-2,"± 3",28,12.5,21.5,25,"Straight lead wire type","-25 to 105 (85)","Bulk (Bag packing)",100,"https://industrial.panasonic.com/ww/products/pt/film-cap-electroequip/models/ECWH16363HV","≤28","≤13","≤21.5",{"$f":"pana_film[[#This Row],[Body length / dia\n(mm)]]&\" x \"&pana_film[[#This Row],[Body width\n(mm)]]","v":"28 x 12.5"},"-","-"]
[null,"Std","dip","PP","No","ECWH(V)","ECWH16362RJV",1600,"DC",3.5999999999999999E-3,"± 5",18,7,18.5,7.5,"Inner crimped lead wire type (Style B)","-25 to 105 (85)","30.0P crimped lead taping (ammo packing)",500,"https://industrial.panasonic.com/ww/products/pt/film-cap-electroequip/models/ECWH16362RJV","≤18","≤ 7","≤18.5",{"$f":"pana_film[[#This Row],[Body length / dia\n(mm)]]&\" x \"&pana_film[[#This Row],[Body width\n(mm)]]","v":"18 x 7"},"-","-"]
[null,"Std","dip","PP","No","ECWH(V)","ECWH16333HV",1600,"DC",3.3000000000000002E-2,"± 3",28,11.5,20.5,25,"Straight lead wire type","-25 to 105 (85)","Bulk (Bag packing)",100,"https://industrial.panasonic.com/ww/products/pt/film-cap-electroequip/models/ECWH16333HV","≤28","≤12","≤20.5",{"$f":"pana_film[[#This Row],[Body length / dia\n(mm)]]&\" x \"&pana_film[[#This Row],[Body width\n(mm)]]","v":"28 x 11.5"},"-","-"]
[null,"Std","dip","PP","No","ECWH(V)","ECWH16332JVB",1600,"DC",3.3E-3,"± 5",18,7.5,19.5,10,"Inner crimped lead wire type (Style B)","-25 to 105 (85)","Bulk (Bag packing)",100,"https://industrial.panasonic.com/ww/products/pt/film-cap-electroequip/models/ECWH16332JVB","≤18","≤ 8","≤19.5",{"$f":"pana_film[[#This Row],[Body length / dia\n(mm)]]&\" x \"&pana_film[[#This Row],[Body width\n(mm)]]","v":"18 x 7.5"},"-","-"]
[null,"Std","dip","PP","No","ECWH(V)","ECWH16302JV",1600,"DC",3.0000000000000001E-3,"± 5",18,7.5,14,15,"Straight lead wire type","-25 to 105 (85)","Bulk (Bag packing)",100,"https://industrial.panasonic.com/ww/products/pt/film-cap-electroequip/models/ECWH16302JV","≤18","≤ 8","≤14",{"$f":"pana_film[[#This Row],[Body length / dia\n(mm)]]&\" x \"&pana_film[[#This Row],[Body width\n(mm)]]","v":"18 x 7.5"},"-","-"]
[null,"Std","dip","PP","No","ECWH(V)","ECWH16273HV",1600,"DC",2.7E-2,"± 3",28,10.5,19.5,25,"Straight lead wire type","-25 to 105 (85)","Bulk (Bag packing)",100,"https://industrial.panasonic.com/ww/products/pt/film-cap-electroequip/models/ECWH16273HV",{"$f":"IF(L1159<=9.5,\"≤ \"&ROUNDUP(L1159*1,0)/1,\"≤\"&ROUNDUP(L1159*1,0)/1)","v":"≤28"},{"$f":"IF(M1159<=9,\"≤ \"&ROUNDUP(M1159*1,0)/1,\"≤\"&ROUNDUP(M1159*1,0)/1)","v":"≤11"},{"$f":"IF(N1159<=9.5,\"≤ \"&ROUNDUP(N1159*2,0)/2,\"≤\"&ROUNDUP(N1159*2,0)/2)","v":"≤19.5"},{"$f":"pana_film[[#This Row],[Body length / dia\n(mm)]]&\" x \"&pana_film[[#This Row],[Body width\n(mm)]]","v":"28 x 10.5"},"-","-"]
[null,"Std","dip","PP","No","ECWH(V)","ECWH16272JVB",1600,"DC",2.7000000000000001E-3,"± 5",18,7,19,10,"Inner crimped lead wire type (Style B)","-25 to 105 (85)","Bulk (Bag packing)",100,"https://industrial.panasonic.com/ww/products/pt/film-cap-electroequip/models/ECWH16272JVB","≤18","≤ 7","≤19",{"$f":"pana_film[[#This Row],[Body length / dia\n(mm)]]&\" x \"&pana_film[[#This Row],[Body width\n(mm)]]","v":"18 x 7"},"-","-"]
[null,"Std","dip","PP","No","ECWH(V)","ECWH16243HV",1600,"DC",2.4E-2,"± 3",28,10,18.5,25,"Straight lead wire type","-25 to 105 (85)","Bulk (Bag packing)",100,"https://industrial.panasonic.com/ww/products/pt/film-cap-electroequip/models/ECWH16243HV","≤28","≤10","≤18.5",{"$f":"pana_film[[#This Row],[Body length / dia\n(mm)]]&\" x \"&pana_film[[#This Row],[Body width\n(mm)]]","v":"28 x 10"},"-","-"]
[null,"Std","dip","PP","No","ECWH(V)","ECWH16223HVB",1600,"DC",2.1999999999999999E-2,"± 3",28,9.5,23,17.5,"Inner crimped lead wire type (Style B)","-25 to 105 (85)","Bulk (Bag packing)",100,"https://industrial.panasonic.com/ww/products/pt/film-cap-electroequip/models/ECWH16223HVB","≤28","≤10","≤23",{"$f":"pana_film[[#This Row],[Body length / dia\n(mm)]]&\" x \"&pana_film[[#This Row],[Body width\n(mm)]]","v":"28 x 9.5"},"-","-"]
[null,"Std","dip","PP","No","ECWH(V)","ECWH16223HV",1600,"DC",2.1999999999999999E-2,"± 3",28,9.5,18,25,"Straight lead wire type","-25 to 105 (85)","Bulk (Bag packing)",100,"https://industrial.panasonic.com/ww/products/pt/film-cap-electroequip/models/ECWH16223HV","≤28","≤10","≤18",{"$f":"pana_film[[#This Row],[Body length / dia\n(mm)]]&\" x \"&pana_film[[#This Row],[Body width\n(mm)]]","v":"28 x 9.5"},"-","-"]
[null,"Std","dip","PP","No","ECWH(V)","ECWH16203HVB",1600,"DC",0.02,"± 3",23,11,25,15,"Inner crimped lead wire type (Style B)","-25 to 105 (85)","Bulk (Bag packing)",100,"https://industrial.panasonic.com/ww/products/pt/film-cap-electroequip/models/ECWH16203HVB","≤23","≤11","≤25",{"$f":"pana_film[[#This Row],[Body length / dia\n(mm)]]&\" x \"&pana_film[[#This Row],[Body width\n(mm)]]","v":"23 x 11"},"-","-"]
[null,"Std","dip","PP","No","ECWH(V)","ECWH16202RJV",1600,"DC",2E-3,"± 5",18,7,19,7.5,"Inner crimped lead wire type (Style B)","-25 to 105 (85)","30.0P crimped lead taping (ammo packing)",500,"https://industrial.panasonic.com/ww/products/pt/film-cap-electroequip/models/ECWH16202RJV","≤18","≤ 7","≤19",{"$f":"pana_film[[#This Row],[Body length / dia\n(mm)]]&\" x \"&pana_film[[#This Row],[Body width\n(mm)]]","v":"18 x 7"},"-","-"]
[null,"Std","dip","PP","No","ECWH(V)","ECWH16183RHV",1600,"DC",1.7999999999999999E-2,"± 3",23,10.5,24.5,7.5,"Inner crimped lead wire type (Style B)","-25 to 105 (85)","30.0P crimped lead taping (ammo packing)",300,"https://industrial.panasonic.com/ww/products/pt/film-cap-electroequip/models/ECWH16183RHV","≤23","≤11","≤24.5",{"$f":"pana_film[[#This Row],[Body length / dia\n(mm)]]&\" x \"&pana_film[[#This Row],[Body width\n(mm)]]","v":"23 x 10.5"},"-","-"]
[null,"Std","dip","PP","No","ECWH(V)","ECWH16182HVB",1600,"DC",1.8E-3,"± 3",18,7,19,10,"Inner crimped lead wire type (Style B)","-25 to 105 (85)","Bulk (Bag packing)",100,"https://industrial.panasonic.com/ww/products/pt/film-cap-electroequip/models/ECWH16182HVB","≤18","≤ 7","≤19",{"$f":"pana_film[[#This Row],[Body length / dia\n(mm)]]&\" x \"&pana_film[[#This Row],[Body width\n(mm)]]","v":"18 x 7"},"-","-"]
[null,"Std","dip","PP","No","ECWH(V)","ECWH16163RHV",1600,"DC",1.6E-2,"± 3",23,10,23.5,7.5,"Inner crimped lead wire type (Style B)","-25 to 105 (85)","30.0P crimped lead taping (ammo packing)",300,"https://industrial.panasonic.com/ww/products/pt/film-cap-electroequip/models/ECWH16163RHV","≤23","≤10","≤23.5",{"$f":"pana_film[[#This Row],[Body length / dia\n(mm)]]&\" x \"&pana_film[[#This Row],[Body width\n(mm)]]","v":"23 x 10"},"-","-"]
[null,"Std","dip","PP","No","ECWH(V)","ECWH16162JVB",1600,"DC",1.6000000000000001E-3,"± 5",18,7,18.5,10,"Inner crimped lead wire type (Style B)","-25 to 105 (85)","Bulk (Bag packing)",100,"https://industrial.panasonic.com/ww/products/pt/film-cap-electroequip/models/ECWH16162JVB","≤18","≤ 7","≤18.5",{"$f":"pana_film[[#This Row],[Body length / dia\n(mm)]]&\" x \"&pana_film[[#This Row],[Body width\n(mm)]]","v":"18 x 7"},"-","-"]
[null,"Std","dip","PP","No","ECWH(V)","ECWH16153HV",1600,"DC",1.4999999999999999E-2,"± 3",23,9.5,18,20,"Straight lead wire type","-25 to 105 (85)","Bulk (Bag packing)",100,"https://industrial.panasonic.com/ww/products/pt/film-cap-electroequip/models/ECWH16153HV","≤23","≤10","≤18",{"$f":"pana_film[[#This Row],[Body length / dia\n(mm)]]&\" x \"&pana_film[[#This Row],[Body width\n(mm)]]","v":"23 x 9.5"},"-","-"]
[null,"Std","dip","PP","No","ECWH(V)","ECWH16152JV",1600,"DC",1.5E-3,"± 5",18,6.5,13.5,15,"Straight lead wire type","-25 to 105 (85)","Bulk (Bag packing)",100,"https://industrial.panasonic.com/ww/products/pt/film-cap-electroequip/models/ECWH16152JV","≤18","≤ 7","≤13.5",{"$f":"pana_film[[#This Row],[Body length / dia\n(mm)]]&\" x \"&pana_film[[#This Row],[Body width\n(mm)]]","v":"18 x 6.5"},"-","-"]
[null,"Std","dip","PP","No","ECWH(V)","ECWH16133HVB",1600,"DC",1.2999999999999999E-2,"± 3",23,9,22.5,15,"Inner crimped lead wire type (Style B)","-25 to 105 (85)","Bulk (Bag packing)",100,"https://industrial.panasonic.com/ww/products/pt/film-cap-electroequip/models/ECWH16133HVB","≤23","≤ 9","≤22.5",{"$f":"pana_film[[#This Row],[Body length / dia\n(mm)]]&\" x \"&pana_film[[#This Row],[Body width\n(mm)]]","v":"23 x 9"},"-","-"]
[null,"Std","dip","PP","No","ECWH(V)","ECWH16132RHV",1600,"DC",1.2999999999999999E-3,"± 3",18,6.5,18,7.5,"Inner crimped lead wire type (Style B)","-25 to 105 (85)","30.0P crimped lead taping (ammo packing)",500,"https://industrial.panasonic.com/ww/products/pt/film-cap-electroequip/models/ECWH16132RHV","≤18","≤ 7","≤18",{"$f":"pana_film[[#This Row],[Body length / dia\n(mm)]]&\" x \"&pana_film[[#This Row],[Body width\n(mm)]]","v":"18 x 6.5"},"-","-"]
[null,"Std","dip","PP","No","ECWH(V)","ECWH16123JVB",1600,"DC",1.2E-2,"± 5",23,9,22,15,"Inner crimped lead wire type (Style B)","-25 to 105 (85)","Bulk (Bag packing)",100,"https://industrial.panasonic.com/ww/products/pt/film-cap-electroequip/models/ECWH16123JVB","≤23","≤ 9","≤22",{"$f":"pana_film[[#This Row],[Body length / dia\n(mm)]]&\" x \"&pana_film[[#This Row],[Body width\n(mm)]]","v":"23 x 9"},"-","-"]
[null,"Std","dip","PP","No","ECWH(V)","ECWH16122HV",1600,"DC",1.1999999999999999E-3,"± 3",18,7,13.5,15,"Straight lead wire type","-25 to 105 (85)","Bulk (Bag packing)",100,"https://industrial.panasonic.com/ww/products/pt/film-cap-electroequip/models/ECWH16122HV","≤18","≤ 7","≤13.5",{"$f":"pana_film[[#This Row],[Body length / dia\n(mm)]]&\" x \"&pana_film[[#This Row],[Body width\n(mm)]]","v":"18 x 7"},"-","-"]
[null,"Std","dip","PP","No","ECWH(V)","ECWH16112RJV",1600,"DC",1.1000000000000001E-3,"± 5",18,6.5,18.5,7.5,"Inner crimped lead wire type (Style B)","-25 to 105 (85)","30.0P crimped lead taping (ammo packing)",500,"https://industrial.panasonic.com/ww/products/pt/film-cap-electroequip/models/ECWH16112RJV","≤18","≤ 7","≤18.5",{"$f":"pana_film[[#This Row],[Body length / dia\n(mm)]]&\" x \"&pana_film[[#This Row],[Body width\n(mm)]]","v":"18 x 6.5"},"-","-"]
[null,"Std","dip","PP","No","ECWH(V)","ECWH16112HVB",1600,"DC",1.1000000000000001E-3,"± 3",18,6.5,18.5,10,"Inner crimped lead wire type (Style B)","-25 to 105 (85)","Bulk (Bag packing)",100,"https://industrial.panasonic.com/ww/products/pt/film-cap-electroequip/models/ECWH16112HVB","≤18","≤ 7","≤18.5",{"$f":"pana_film[[#This Row],[Body length / dia\n(mm)]]&\" x \"&pana_film[[#This Row],[Body width\n(mm)]]","v":"18 x 6.5"},"-","-"]
[null,"Std","dip","PP","No","ECWH(V)","ECWH16102RHV",1600,"DC",1E-3,"± 3",18,6.5,18.5,7.5,"Inner crimped lead wire type (Style B)","-25 to 105 (85)","30.0P crimped lead taping (ammo packing)",500,"https://industrial.panasonic.com/ww/products/pt/film-cap-electroequip/models/ECWH16102RHV","≤18","≤ 7","≤18.5",{"$f":"pana_film[[#This Row],[Body length / dia\n(mm)]]&\" x \"&pana_film[[#This Row],[Body width\n(mm)]]","v":"18 x 6.5"},"-","-"]
[null,"Std","dip","PP","No","ECWH(V)","ECWH16102JVB",1600,"DC",1E-3,"± 5",18,6.5,18.5,10,"Inner crimped lead wire type (Style B)","-25 to 105 (85)","Bulk (Bag packing)",100,"https://industrial.panasonic.com/ww/products/pt/film-cap-electroequip/models/ECWH16102JVB","≤18","≤ 7","≤18.5",{"$f":"pana_film[[#This Row],[Body length / dia\n(mm)]]&\" x \"&pana_film[[#This Row],[Body width\n(mm)]]","v":"18 x 6.5"},"-","-"]
[null,"Std","dip","PP","No","ECWH(V)","ECWH12912RHV",1250,"DC",9.1000000000000004E-3,"± 3",18,7.5,19.5,7.5,"Inner crimped lead wire type (Style B)","-25 to 105 (85)","30.0P crimped lead taping (ammo packing)",500,"https://industrial.panasonic.com/ww/products/pt/film-cap-electroequip/models/ECWH12912RHV",{"$f":"IF(L1287<=9.5,\"≤ \"&ROUNDUP(L1287*1,0)/1,\"≤\"&ROUNDUP(L1287*1,0)/1)","v":"≤18"},{"$f":"IF(M1287<=9,\"≤ \"&ROUNDUP(M1287*1,0)/1,\"≤\"&ROUNDUP(M1287*1,0)/1)","v":"≤ 8"},{"$f":"IF(N1287<=9.5,\"≤ \"&ROUNDUP(N1287*2,0)/2,\"≤\"&ROUNDUP(N1287*2,0)/2)","v":"≤19.5"},{"$f":"pana_film[[#This Row],[Body length / dia\n(mm)]]&\" x \"&pana_film[[#This Row],[Body width\n(mm)]]","v":"18 x 7.5"},"-","-"]
[null,"Std","dip","PP","No","ECWH(V)","ECWH12912HVB",1250,"DC",9.1000000000000004E-3,"± 3",18,7.5,19.5,10,"Inner crimped lead wire type (Style B)","-25 to 105 (85)","Bulk (Bag packing)",100,"https://industrial.panasonic.com/ww/products/pt/film-cap-electroequip/models/ECWH12912HVB","≤18","≤ 8","≤19.5",{"$f":"pana_film[[#This Row],[Body length / dia\n(mm)]]&\" x \"&pana_film[[#This Row],[Body width\n(mm)]]","v":"18 x 7.5"},"-","-"]
[null,"Std","dip","PP","No","ECWH(V)","ECWH12822RHV",1250,"DC",8.2000000000000007E-3,"± 3",18,7.5,19,7.5,"Inner crimped lead wire type (Style B)","-25 to 105 (85)","30.0P crimped lead taping (ammo packing)",500,"https://industrial.panasonic.com/ww/products/pt/film-cap-electroequip/models/ECWH12822RHV","≤18","≤ 8","≤19",{"$f":"pana_film[[#This Row],[Body length / dia\n(mm)]]&\" x \"&pana_film[[#This Row],[Body width\n(mm)]]","v":"18 x 7.5"},"-","-"]
[null,"Std","dip","PP","No","ECWH(V)","ECWH12753HV",1250,"DC",7.4999999999999997E-2,"± 3",28,13.5,22,25,"Straight lead wire type","-25 to 105 (85)","Bulk (Bag packing)",100,"https://industrial.panasonic.com/ww/products/pt/film-cap-electroequip/models/ECWH12753HV","≤28","≤14","≤22",{"$f":"pana_film[[#This Row],[Body length / dia\n(mm)]]&\" x \"&pana_film[[#This Row],[Body width\n(mm)]]","v":"28 x 13.5"},"-","-"]
[null,"Std","dip","PP","No","ECWH(V)","ECWH12683HVB",1250,"DC",6.8000000000000005E-2,"± 3",28,12.5,26.5,17.5,"Inner crimped lead wire type (Style B)","-25 to 105 (85)","Bulk (Bag packing)",100,"https://industrial.panasonic.com/ww/products/pt/film-cap-electroequip/models/ECWH12683HVB","≤28","≤13","≤26.5",{"$f":"pana_film[[#This Row],[Body length / dia\n(mm)]]&\" x \"&pana_film[[#This Row],[Body width\n(mm)]]","v":"28 x 12.5"},"-","-"]
[null,"Std","dip","PP","No","ECWH(V)","ECWH12682RHV",1250,"DC",6.7999999999999996E-3,"± 3",18,7,18.5,7.5,"Inner crimped lead wire type (Style B)","-25 to 105 (85)","30.0P crimped lead taping (ammo packing)",500,"https://industrial.panasonic.com/ww/products/pt/film-cap-electroequip/models/ECWH12682RHV","≤18","≤ 7","≤18.5",{"$f":"pana_film[[#This Row],[Body length / dia\n(mm)]]&\" x \"&pana_film[[#This Row],[Body width\n(mm)]]","v":"18 x 7"},"-","-"]
[null,"Std","dip","PP","No","ECWH(V)","ECWH12622RJV",1250,"DC",6.1999999999999998E-3,"± 5",18,6.5,18.5,7.5,"Inner crimped lead wire type (Style B)","-25 to 105 (85)","30.0P crimped lead taping (ammo packing)",500,"https://industrial.panasonic.com/ww/products/pt/film-cap-electroequip/models/ECWH12622RJV","≤18","≤ 7","≤18.5",{"$f":"pana_film[[#This Row],[Body length / dia\n(mm)]]&\" x \"&pana_film[[#This Row],[Body width\n(mm)]]","v":"18 x 6.5"},"-","-"]
[null,"Std","dip","PP","No","ECWH(V)","ECWH12622RHV",1250,"DC",6.1999999999999998E-3,"± 3",18,6.5,18.5,7.5,"Inner crimped lead wire type (Style B)","-25 to 105 (85)","30.0P crimped lead taping (ammo packing)",500,"https://industrial.panasonic.com/ww/products/pt/film-cap-electroequip/models/ECWH12622RHV","≤18","≤ 7","≤18.5",{"$f":"pana_film[[#This Row],[Body length / dia\n(mm)]]&\" x \"&pana_film[[#This Row],[Body width\n(mm)]]","v":"18 x 6.5"},"-","-"]
[null,"Std","dip","PP","No","ECWH(V)","ECWH12562RJV",1250,"DC",5.5999999999999999E-3,"± 5",18,6.5,18.5,7.5,"Inner crimped lead wire type (Style B)","-25 to 105 (85)","30.0P crimped lead taping (ammo packing)",500,"https://industrial.panasonic.com/ww/products/pt/film-cap-electroequip/models/ECWH12562RJV","≤18","≤ 7","≤18.5",{"$f":"pana_film[[#This Row],[Body length / dia\n(mm)]]&\" x \"&pana_film[[#This Row],[Body width\n(mm)]]","v":"18 x 6.5"},"-","-"]
[null,"Std","dip","PP","No","ECWH(V)","ECWH12562JV",1250,"DC",5.5999999999999999E-3,"± 5",18,6.5,13.5,15,"Straight lead wire type","-25 to 105 (85)","Bulk (Bag packing)",100,"https://industrial.panasonic.com/ww/products/pt/film-cap-electroequip/models/ECWH12562JV","≤18","≤ 7","≤13.5",{"$f":"pana_film[[#This Row],[Body length / dia\n(mm)]]&\" x \"&pana_film[[#This Row],[Body width\n(mm)]]","v":"18 x 6.5"},"-","-"]
[null,"Std","dip","PP","No","ECWH(V)","ECWH12513HV",1250,"DC",5.0999999999999997E-2,"± 3",23,12,21,20,"Straight lead wire type","-25 to 105 (85)","Bulk (Bag packing)",100,"https://industrial.panasonic.com/ww/products/pt/film-cap-electroequip/models/ECWH12513HV","≤23","≤12","≤21",{"$f":"pana_film[[#This Row],[Body length / dia\n(mm)]]&\" x \"&pana_film[[#This Row],[Body width\n(mm)]]","v":"23 x 12"},"-","-"]
[null,"Std","dip","PP","No","ECWH(V)","ECWH12473JVB",1250,"DC",4.7E-2,"± 5",23,11.5,25.5,15,"Inner crimped lead wire type (Style B)","-25 to 105 (85)","Bulk (Bag packing)",100,"https://industrial.panasonic.com/ww/products/pt/film-cap-electroequip/models/ECWH12473JVB","≤23","≤12","≤25.5",{"$f":"pana_film[[#This Row],[Body length / dia\n(mm)]]&\" x \"&pana_film[[#This Row],[Body width\n(mm)]]","v":"23 x 11.5"},"-","-"]
[null,"Std","dip","PP","No","ECWH(V)","ECWH12472JV",1250,"DC",4.7000000000000002E-3,"± 5",18,6,13,15,"Straight lead wire type","-25 to 105 (85)","Bulk (Bag packing)",100,"https://industrial.panasonic.com/ww/products/pt/film-cap-electroequip/models/ECWH12472JV","≤18","≤ 6","≤13",{"$f":"pana_film[[#This Row],[Body length / dia\n(mm)]]&\" x \"&pana_film[[#This Row],[Body width\n(mm)]]","v":"18 x 6"},"-","-"]
[null,"Std","dip","PP","No","ECWH(V)","ECWH12433RJV",1250,"DC",4.2999999999999997E-2,"± 5",23,11,25,7.5,"Inner crimped lead wire type (Style B)","-25 to 105 (85)","30.0P crimped lead taping (ammo packing)",300,"https://industrial.panasonic.com/ww/products/pt/film-cap-electroequip/models/ECWH12433RJV","≤23","≤11","≤25",{"$f":"pana_film[[#This Row],[Body length / dia\n(mm)]]&\" x \"&pana_film[[#This Row],[Body width\n(mm)]]","v":"23 x 11"},"-","-"]
[null,"Std","dip","PP","No","ECWH(V)","ECWH12432JV",1250,"DC",4.3E-3,"± 5",18,6,13,15,"Straight lead wire type","-25 to 105 (85)","Bulk (Bag packing)",100,"https://industrial.panasonic.com/ww/products/pt/film-cap-electroequip/models/ECWH12432JV","≤18","≤ 6","≤13",{"$f":"pana_film[[#This Row],[Body length / dia\n(mm)]]&\" x \"&pana_film[[#This Row],[Body width\n(mm)]]","v":"18 x 6"},"-","-"]
[null,"Std","dip","PP","No","ECWH(V)","ECWH12432HVB",1250,"DC",4.3E-3,"± 3",18,6,18,10,"Inner crimped lead wire type (Style B)","-25 to 105 (85)","Bulk (Bag packing)",100,"https://industrial.panasonic.com/ww/products/pt/film-cap-electroequip/models/ECWH12432HVB","≤18","≤ 6","≤18",{"$f":"pana_film[[#This Row],[Body length / dia\n(mm)]]&\" x \"&pana_film[[#This Row],[Body width\n(mm)]]","v":"18 x 6"},"-","-"]
[null,"Std","dip","PP","No","ECWH(V)","ECWH12392JVB",1250,"DC",3.8999999999999998E-3,"± 5",18,6,17.5,10,"Inner crimped lead wire type (Style B)","-25 to 105 (85)","Bulk (Bag packing)",100,"https://industrial.panasonic.com/ww/products/pt/film-cap-electroequip/models/ECWH12392JVB","≤18","≤ 6","≤17.5",{"$f":"pana_film[[#This Row],[Body length / dia\n(mm)]]&\" x \"&pana_film[[#This Row],[Body width\n(mm)]]","v":"18 x 6"},"-","-"]
[null,"Std","dip","PP","No","ECWH(V)","ECWH12363JV",1250,"DC",3.5999999999999997E-2,"± 5",23,10,19,20,"Straight lead wire type","-25 to 105 (85)","Bulk (Bag packing)",100,"https://industrial.panasonic.com/ww/products/pt/film-cap-electroequip/models/ECWH12363JV","≤23","≤10","≤19",{"$f":"pana_film[[#This Row],[Body length / dia\n(mm)]]&\" x \"&pana_film[[#This Row],[Body width\n(mm)]]","v":"23 x 10"},"-","-"]
[null,"Std","dip","PP","No","ECWH(V)","ECWH12362RJV",1250,"DC",3.5999999999999999E-3,"± 5",18,6,17.5,7.5,"Inner crimped lead wire type (Style B)","-25 to 105 (85)","30.0P crimped lead taping (ammo packing)",500,"https://industrial.panasonic.com/ww/products/pt/film-cap-electroequip/models/ECWH12362RJV","≤18","≤ 6","≤17.5",{"$f":"pana_film[[#This Row],[Body length / dia\n(mm)]]&\" x \"&pana_film[[#This Row],[Body width\n(mm)]]","v":"18 x 6"},"-","-"]
[null,"Std","dip","PP","No","ECWH(V)","ECWH12333JV",1250,"DC",3.3000000000000002E-2,"± 5",23,10,18.5,20,"Straight lead wire type","-25 to 105 (85)","Bulk (Bag packing)",100,"https://industrial.panasonic.com/ww/products/pt/film-cap-electroequip/models/ECWH12333JV","≤23","≤10","≤18.5",{"$f":"pana_film[[#This Row],[Body length / dia\n(mm)]]&\" x \"&pana_film[[#This Row],[Body width\n(mm)]]","v":"23 x 10"},"-","-"]
[null,"Std","dip","PP","No","ECWH(V)","ECWH12332HVB",1250,"DC",3.3E-3,"± 3",18,7.5,19.5,10,"Inner crimped lead wire type (Style B)","-25 to 105 (85)","Bulk (Bag packing)",100,"https://industrial.panasonic.com/ww/products/pt/film-cap-electroequip/models/ECWH12332HVB","≤18","≤ 8","≤19.5",{"$f":"pana_film[[#This Row],[Body length / dia\n(mm)]]&\" x \"&pana_film[[#This Row],[Body width\n(mm)]]","v":"18 x 7.5"},"-","-"]
[null,"Std","dip","PP","No","ECWH(V)","ECWH12332HV",1250,"DC",3.3E-3,"± 3",18,7.5,14.5,15,"Straight lead wire type","-25 to 105 (85)","Bulk (Bag packing)",100,"https://industrial.panasonic.com/ww/products/pt/film-cap-electroequip/models/ECWH12332HV","≤18","≤ 8","≤14.5",{"$f":"pana_film[[#This Row],[Body length / dia\n(mm)]]&\" x \"&pana_film[[#This Row],[Body width\n(mm)]]","v":"18 x 7.5"},"-","-"]
[null,"Std","dip","PP","No","ECWH(V)","ECWH12302HV",1250,"DC",3.0000000000000001E-3,"± 3",18,7.5,14,15,"Straight lead wire type","-25 to 105 (85)","Bulk (Bag packing)",100,"https://industrial.panasonic.com/ww/products/pt/film-cap-electroequip/models/ECWH12302HV","≤18","≤ 8","≤14",{"$f":"pana_film[[#This Row],[Body length / dia\n(mm)]]&\" x \"&pana_film[[#This Row],[Body width\n(mm)]]","v":"18 x 7.5"},"-","-"]
[null,"Std","dip","PP","No","ECWH(V)","ECWH12273RJV",1250,"DC",2.7E-2,"± 5",23,9,22.5,7.5,"Inner crimped lead wire type (Style B)","-25 to 105 (85)","30.0P crimped lead taping (ammo packing)",400,"https://industrial.panasonic.com/ww/products/pt/film-cap-electroequip/models/ECWH12273RJV","≤23","≤ 9","≤22.5",{"$f":"pana_film[[#This Row],[Body length / dia\n(mm)]]&\" x \"&pana_film[[#This Row],[Body width\n(mm)]]","v":"23 x 9"},"-","-"]
[null,"Std","dip","PP","No","ECWH(V)","ECWH12272JV",1250,"DC",2.7000000000000001E-3,"± 5",18,7,14,15,"Straight lead wire type","-25 to 105 (85)","Bulk (Bag packing)",100,"https://industrial.panasonic.com/ww/products/pt/film-cap-electroequip/models/ECWH12272JV","≤18","≤ 7","≤14",{"$f":"pana_film[[#This Row],[Body length / dia\n(mm)]]&\" x \"&pana_film[[#This Row],[Body width\n(mm)]]","v":"18 x 7"},"-","-"]
[null,"Std","dip","PP","No","ECWH(V)","ECWH12243HVB",1250,"DC",2.4E-2,"± 3",23,8.5,22,15,"Inner crimped lead wire type (Style B)","-25 to 105 (85)","Bulk (Bag packing)",100,"https://industrial.panasonic.com/ww/products/pt/film-cap-electroequip/models/ECWH12243HVB","≤23","≤ 9","≤22",{"$f":"pana_film[[#This Row],[Body length / dia\n(mm)]]&\" x \"&pana_film[[#This Row],[Body width\n(mm)]]","v":"23 x 8.5"},"-","-"]
[null,"Std","dip","PP","No","ECWH(V)","ECWH12242RHV",1250,"DC",2.3999999999999998E-3,"± 3",18,7,18.5,7.5,"Inner crimped lead wire type (Style B)","-25 to 105 (85)","30.0P crimped lead taping (ammo packing)",500,"https://industrial.panasonic.com/ww/products/pt/film-cap-electroequip/models/ECWH12242RHV","≤18","≤ 7","≤18.5",{"$f":"pana_film[[#This Row],[Body length / dia\n(mm)]]&\" x \"&pana_film[[#This Row],[Body width\n(mm)]]","v":"18 x 7"},"-","-"]
[null,"Std","dip","PP","No","ECWH(V)","ECWH12223HVB",1250,"DC",2.1999999999999999E-2,"± 3",23,8.5,21.5,15,"Inner crimped lead wire type (Style B)","-25 to 105 (85)","Bulk (Bag packing)",100,"https://industrial.panasonic.com/ww/products/pt/film-cap-electroequip/models/ECWH12223HVB","≤23","≤ 9","≤21.5",{"$f":"pana_film[[#This Row],[Body length / dia\n(mm)]]&\" x \"&pana_film[[#This Row],[Body width\n(mm)]]","v":"23 x 8.5"},"-","-"]
[null,"Std","dip","PP","No","ECWH(V)","ECWH12222HV",1250,"DC",2.2000000000000001E-3,"± 3",18,6.5,13.5,15,"Straight lead wire type","-25 to 105 (85)","Bulk (Bag packing)",100,"https://industrial.panasonic.com/ww/products/pt/film-cap-electroequip/models/ECWH12222HV","≤18","≤ 7","≤13.5",{"$f":"pana_film[[#This Row],[Body length / dia\n(mm)]]&\" x \"&pana_film[[#This Row],[Body width\n(mm)]]","v":"18 x 6.5"},"-","-"]
[null,"Std","dip","PP","No","ECWH(V)","ECWH12203JV",1250,"DC",0.02,"± 5",23,8,16.5,20,"Straight lead wire type","-25 to 105 (85)","Bulk (Bag packing)",100,"https://industrial.panasonic.com/ww/products/pt/film-cap-electroequip/models/ECWH12203JV","≤23","≤ 8","≤16.5",{"$f":"pana_film[[#This Row],[Body length / dia\n(mm)]]&\" x \"&pana_film[[#This Row],[Body width\n(mm)]]","v":"23 x 8"},"-","-"]
[null,"Std","dip","PP","No","ECWH(V)","ECWH12202HVB",1250,"DC",2E-3,"± 3",18,7,19,10,"Inner crimped lead wire type (Style B)","-25 to 105 (85)","Bulk (Bag packing)",100,"https://industrial.panasonic.com/ww/products/pt/film-cap-electroequip/models/ECWH12202HVB","≤18","≤ 7","≤19",{"$f":"pana_film[[#This Row],[Body length / dia\n(mm)]]&\" x \"&pana_film[[#This Row],[Body width\n(mm)]]","v":"18 x 7"},"-","-"]
[null,"Std","dip","PP","No","ECWH(V)","ECWH12183RHV",1250,"DC",1.7999999999999999E-2,"± 3",23,7.5,21,7.5,"Inner crimped lead wire type (Style B)","-25 to 105 (85)","30.0P crimped lead taping (ammo packing)",500,"https://industrial.panasonic.com/ww/products/pt/film-cap-electroequip/models/ECWH12183RHV","≤23","≤ 8","≤21",{"$f":"pana_film[[#This Row],[Body length / dia\n(mm)]]&\" x \"&pana_film[[#This Row],[Body width\n(mm)]]","v":"23 x 7.5"},"-","-"]
[null,"Std","dip","PP","No","ECWH(V)","ECWH12182HVB",1250,"DC",1.8E-3,"± 3",18,7,19,10,"Inner crimped lead wire type (Style B)","-25 to 105 (85)","Bulk (Bag packing)",100,"https://industrial.panasonic.com/ww/products/pt/film-cap-electroequip/models/ECWH12182HVB","≤18","≤ 7","≤19",{"$f":"pana_film[[#This Row],[Body length / dia\n(mm)]]&\" x \"&pana_film[[#This Row],[Body width\n(mm)]]","v":"18 x 7"},"-","-"]
[null,"Std","dip","PP","No","ECWH(V)","ECWH12163HV",1250,"DC",1.6E-2,"± 3",23,7.5,16,20,"Straight lead wire type","-25 to 105 (85)","Bulk (Bag packing)",100,"https://industrial.panasonic.com/ww/products/pt/film-cap-electroequip/models/ECWH12163HV","≤23","≤ 8","≤16",{"$f":"pana_film[[#This Row],[Body length / dia\n(mm)]]&\" x \"&pana_film[[#This Row],[Body width\n(mm)]]","v":"23 x 7.5"},"-","-"]
[null,"Std","dip","PP","No","ECWH(V)","ECWH12153RJV",1250,"DC",1.4999999999999999E-2,"± 5",18,9.5,21,7.5,"Inner crimped lead wire type (Style B)","-25 to 105 (85)","30.0P crimped lead taping (ammo packing)",400,"https://industrial.panasonic.com/ww/products/pt/film-cap-electroequip/models/ECWH12153RJV","≤18","≤10","≤21",{"$f":"pana_film[[#This Row],[Body length / dia\n(mm)]]&\" x \"&pana_film[[#This Row],[Body width\n(mm)]]","v":"18 x 9.5"},"-","-"]
[null,"Std","dip","PP","No","ECWH(V)","ECWH12152RJV",1250,"DC",1.5E-3,"± 5",18,6.5,18.5,7.5,"Inner crimped lead wire type (Style B)","-25 to 105 (85)","30.0P crimped lead taping (ammo packing)",500,"https://industrial.panasonic.com/ww/products/pt/film-cap-electroequip/models/ECWH12152RJV","≤18","≤ 7","≤18.5",{"$f":"pana_film[[#This Row],[Body length / dia\n(mm)]]&\" x \"&pana_film[[#This Row],[Body width\n(mm)]]","v":"18 x 6.5"},"-","-"]
[null,"Std","dip","PP","No","ECWH(V)","ECWH12133RHV",1250,"DC",1.2999999999999999E-2,"± 3",18,9,20.5,7.5,"Inner crimped lead wire type (Style B)","-25 to 105 (85)","30.0P crimped lead taping (ammo packing)",400,"https://industrial.panasonic.com/ww/products/pt/film-cap-electroequip/models/ECWH12133RHV","≤18","≤ 9","≤20.5",{"$f":"pana_film[[#This Row],[Body length / dia\n(mm)]]&\" x \"&pana_film[[#This Row],[Body width\n(mm)]]","v":"18 x 9"},"-","-"]
[null,"Std","dip","PP","No","ECWH(V)","ECWH12133HVB",1250,"DC",1.2999999999999999E-2,"± 3",18,9,20.5,10,"Inner crimped lead wire type (Style B)","-25 to 105 (85)","Bulk (Bag packing)",100,"https://industrial.panasonic.com/ww/products/pt/film-cap-electroequip/models/ECWH12133HVB","≤18","≤ 9","≤20.5",{"$f":"pana_film[[#This Row],[Body length / dia\n(mm)]]&\" x \"&pana_film[[#This Row],[Body width\n(mm)]]","v":"18 x 9"},"-","-"]
[null,"Std","dip","PP","No","ECWH(V)","ECWH12132HV",1250,"DC",1.2999999999999999E-3,"± 3",18,6.5,13,15,"Straight lead wire type","-25 to 105 (85)","Bulk (Bag packing)",100,"https://industrial.panasonic.com/ww/products/pt/film-cap-electroequip/models/ECWH12132HV","≤18","≤ 7","≤13",{"$f":"pana_film[[#This Row],[Body length / dia\n(mm)]]&\" x \"&pana_film[[#This Row],[Body width\n(mm)]]","v":"18 x 6.5"},"-","-"]
[null,"Std","dip","PP","No","ECWH(V)","ECWH12123JVB",1250,"DC",1.2E-2,"± 5",18,8.5,20.5,10,"Inner crimped lead wire type (Style B)","-25 to 105 (85)","Bulk (Bag packing)",100,"https://industrial.panasonic.com/ww/products/pt/film-cap-electroequip/models/ECWH12123JVB","≤18","≤ 9","≤20.5",{"$f":"pana_film[[#This Row],[Body length / dia\n(mm)]]&\" x \"&pana_film[[#This Row],[Body width\n(mm)]]","v":"18 x 8.5"},"-","-"]
[null,"Std","dip","PP","No","ECWH(V)","ECWH12113RHV",1250,"DC",1.0999999999999999E-2,"± 3",18,8.5,20,7.5,"Inner crimped lead wire type (Style B)","-25 to 105 (85)","30.0P crimped lead taping (ammo packing)",400,"https://industrial.panasonic.com/ww/products/pt/film-cap-electroequip/models/ECWH12113RHV","≤18","≤ 9","≤20",{"$f":"pana_film[[#This Row],[Body length / dia\n(mm)]]&\" x \"&pana_film[[#This Row],[Body width\n(mm)]]","v":"18 x 8.5"},"-","-"]
[null,"Std","dip","PP","No","ECWH(V)","ECWH12112RHV",1250,"DC",1.1000000000000001E-3,"± 3",18,6.5,18.5,7.5,"Inner crimped lead wire type (Style B)","-25 to 105 (85)","30.0P crimped lead taping (ammo packing)",500,"https://industrial.panasonic.com/ww/products/pt/film-cap-electroequip/models/ECWH12112RHV","≤18","≤ 7","≤18.5",{"$f":"pana_film[[#This Row],[Body length / dia\n(mm)]]&\" x \"&pana_film[[#This Row],[Body width\n(mm)]]","v":"18 x 6.5"},"-","-"]
[null,"Std","dip","PP","No","ECWH(V)","ECWH12112HVB",1250,"DC",1.1000000000000001E-3,"± 3",18,6.5,18.5,10,"Inner crimped lead wire type (Style B)","-25 to 105 (85)","Bulk (Bag packing)",100,"https://industrial.panasonic.com/ww/products/pt/film-cap-electroequip/models/ECWH12112HVB","≤18","≤ 7","≤18.5",{"$f":"pana_film[[#This Row],[Body length / dia\n(mm)]]&\" x \"&pana_film[[#This Row],[Body width\n(mm)]]","v":"18 x 6.5"},"-","-"]
[null,"Std","dip","PP","No","ECWH(V)","ECWH12103JV",1250,"DC",0.01,"± 5",18,8,15,15,"Straight lead wire type","-25 to 105 (85)","Bulk (Bag packing)",100,"https://industrial.panasonic.com/ww/products/pt/film-cap-electroequip/models/ECWH12103JV","≤18","≤ 8","≤15",{"$f":"pana_film[[#This Row],[Body length / dia\n(mm)]]&\" x \"&pana_film[[#This Row],[Body width\n(mm)]]","v":"18 x 8"},"-","-"]
[null,"Std","dip","PP","No","ECWH(V)","ECWH12102HVB",1250,"DC",1E-3,"± 3",18,6.5,18.5,10,"Inner crimped lead wire type (Style B)","-25 to 105 (85)","Bulk (Bag packing)",100,"https://industrial.panasonic.com/ww/products/pt/film-cap-electroequip/models/ECWH12102HVB","≤18","≤ 7","≤18.5",{"$f":"pana_film[[#This Row],[Body length / dia\n(mm)]]&\" x \"&pana_film[[#This Row],[Body width\n(mm)]]","v":"18 x 6.5"},"-","-"]
[null,"Std","dip","PP","No","ECWH(V)","ECWH10913RHV",1000,"DC",9.0999999999999998E-2,"± 3",23,11.5,25.5,7.5,"Inner crimped lead wire type (Style B)","-25 to 105 (85)","30.0P crimped lead taping (ammo packing)",300,"https://industrial.panasonic.com/ww/products/pt/film-cap-electroequip/models/ECWH10913RHV","≤23","≤12","≤25.5",{"$f":"pana_film[[#This Row],[Body length / dia\n(mm)]]&\" x \"&pana_film[[#This Row],[Body width\n(mm)]]","v":"23 x 11.5"},"-","-"]
[null,"Std","dip","PP","No","ECWH(V)","ECWH10912RHV",1000,"DC",9.1000000000000004E-3,"± 3",18,6,18,7.5,"Inner crimped lead wire type (Style B)","-25 to 105 (85)","30.0P crimped lead taping (ammo packing)",500,"https://industrial.panasonic.com/ww/products/pt/film-cap-electroequip/models/ECWH10912RHV","≤18","≤ 6","≤18",{"$f":"pana_film[[#This Row],[Body length / dia\n(mm)]]&\" x \"&pana_film[[#This Row],[Body width\n(mm)]]","v":"18 x 6"},"-","-"]
[null,"Std","dip","PP","No","ECWH(V)","ECWH10823RJV",1000,"DC",8.2000000000000003E-2,"± 5",23,11,25,7.5,"Inner crimped lead wire type (Style B)","-25 to 105 (85)","30.0P crimped lead taping (ammo packing)",300,"https://industrial.panasonic.com/ww/products/pt/film-cap-electroequip/models/ECWH10823RJV","≤23","≤11","≤25",{"$f":"pana_film[[#This Row],[Body length / dia\n(mm)]]&\" x \"&pana_film[[#This Row],[Body width\n(mm)]]","v":"23 x 11"},"-","-"]
[null,"Std","dip","PP","No","ECWH(V)","ECWH10822JV",1000,"DC",8.2000000000000007E-3,"± 5",18,6,12.5,15,"Straight lead wire type","-25 to 105 (85)","Bulk (Bag packing)",100,"https://industrial.panasonic.com/ww/products/pt/film-cap-electroequip/models/ECWH10822JV","≤18","≤ 6","≤12.5",{"$f":"pana_film[[#This Row],[Body length / dia\n(mm)]]&\" x \"&pana_film[[#This Row],[Body width\n(mm)]]","v":"18 x 6"},"-","-"]
[null,"Std","dip","PP","No","ECWH(V)","ECWH10753HVB",1000,"DC",7.4999999999999997E-2,"± 3",23,10.5,24.5,15,"Inner crimped lead wire type (Style B)","-25 to 105 (85)","Bulk (Bag packing)",100,"https://industrial.panasonic.com/ww/products/pt/film-cap-electroequip/models/ECWH10753HVB","≤23","≤11","≤24.5",{"$f":"pana_film[[#This Row],[Body length / dia\n(mm)]]&\" x \"&pana_film[[#This Row],[Body width\n(mm)]]","v":"23 x 10.5"},"-","-"]
[null,"Std","dip","PP","No","ECWH(V)","ECWH10752RHV",1000,"DC",7.4999999999999997E-3,"± 3",18,6,17.5,7.5,"Inner crimped lead wire type (Style B)","-25 to 105 (85)","30.0P crimped lead taping (ammo packing)",500,"https://industrial.panasonic.com/ww/products/pt/film-cap-electroequip/models/ECWH10752RHV","≤18","≤ 6","≤17.5",{"$f":"pana_film[[#This Row],[Body length / dia\n(mm)]]&\" x \"&pana_film[[#This Row],[Body width\n(mm)]]","v":"18 x 6"},"-","-"]
[null,"Std","dip","PP","No","ECWH(V)","ECWH10683JVB",1000,"DC",6.8000000000000005E-2,"± 5",23,10,24,15,"Inner crimped lead wire type (Style B)","-25 to 105 (85)","Bulk (Bag packing)",100,"https://industrial.panasonic.com/ww/products/pt/film-cap-electroequip/models/ECWH10683JVB","≤23","≤10","≤24",{"$f":"pana_film[[#This Row],[Body length / dia\n(mm)]]&\" x \"&pana_film[[#This Row],[Body width\n(mm)]]","v":"23 x 10"},"-","-"]
[null,"Std","dip","PP","No","ECWH(V)","ECWH10682JVB",1000,"DC",6.7999999999999996E-3,"± 5",18,7,18.5,10,"Inner crimped lead wire type (Style B)","-25 to 105 (85)","Bulk (Bag packing)",100,"https://industrial.panasonic.com/ww/products/pt/film-cap-electroequip/models/ECWH10682JVB","≤18","≤ 7","≤18.5",{"$f":"pana_film[[#This Row],[Body length / dia\n(mm)]]&\" x \"&pana_film[[#This Row],[Body width\n(mm)]]","v":"18 x 7"},"-","-"]
[null,"Std","dip","PP","No","ECWH(V)","ECWH10623JV",1000,"DC",6.2E-2,"± 5",23,9.5,18,20,"Straight lead wire type","-25 to 105 (85)","Bulk (Bag packing)",100,"https://industrial.panasonic.com/ww/products/pt/film-cap-electroequip/models/ECWH10623JV","≤23","≤10","≤18",{"$f":"pana_film[[#This Row],[Body length / dia\n(mm)]]&\" x \"&pana_film[[#This Row],[Body width\n(mm)]]","v":"23 x 9.5"},"-","-"]
[null,"Std","dip","PP","No","ECWH(V)","ECWH10622HVB",1000,"DC",6.1999999999999998E-3,"± 3",18,6.5,18.5,10,"Inner crimped lead wire type (Style B)","-25 to 105 (85)","Bulk (Bag packing)",100,"https://industrial.panasonic.com/ww/products/pt/film-cap-electroequip/models/ECWH10622HVB","≤18","≤ 7","≤18.5",{"$f":"pana_film[[#This Row],[Body length / dia\n(mm)]]&\" x \"&pana_film[[#This Row],[Body width\n(mm)]]","v":"18 x 6.5"},"-","-"]
[null,"Std","dip","PP","No","ECWH(V)","ECWH10563RHV",1000,"DC",5.6000000000000001E-2,"± 3",23,9.5,22.5,7.5,"Inner crimped lead wire type (Style B)","-25 to 105 (85)","30.0P crimped lead taping (ammo packing)",300,"https://industrial.panasonic.com/ww/products/pt/film-cap-electroequip/models/ECWH10563RHV","≤23","≤10","≤22.5",{"$f":"pana_film[[#This Row],[Body length / dia\n(mm)]]&\" x \"&pana_film[[#This Row],[Body width\n(mm)]]","v":"23 x 9.5"},"-","-"]
[null,"Std","dip","PP","No","ECWH(V)","ECWH10562HVB",1000,"DC",5.5999999999999999E-3,"± 3",18,6.5,18.5,10,"Inner crimped lead wire type (Style B)","-25 to 105 (85)","Bulk (Bag packing)",100,"https://industrial.panasonic.com/ww/products/pt/film-cap-electroequip/models/ECWH10562HVB","≤18","≤ 7","≤18.5",{"$f":"pana_film[[#This Row],[Body length / dia\n(mm)]]&\" x \"&pana_film[[#This Row],[Body width\n(mm)]]","v":"18 x 6.5"},"-","-"]
[null,"Std","dip","PP","No","ECWH(V)","ECWH10513HV",1000,"DC",5.0999999999999997E-2,"± 3",23,9,17.5,20,"Straight lead wire type","-25 to 105 (85)","Bulk (Bag packing)",100,"https://industrial.panasonic.com/ww/products/pt/film-cap-electroequip/models/ECWH10513HV","≤23","≤ 9","≤17.5",{"$f":"pana_film[[#This Row],[Body length / dia\n(mm)]]&\" x \"&pana_film[[#This Row],[Body width\n(mm)]]","v":"23 x 9"},"-","-"]
[null,"Std","dip","PP","No","ECWH(V)","ECWH10512JV",1000,"DC",5.1000000000000004E-3,"± 5",18,6.5,13,15,"Straight lead wire type","-25 to 105 (85)","Bulk (Bag packing)",100,"https://industrial.panasonic.com/ww/products/pt/film-cap-electroequip/models/ECWH10512JV","≤18","≤ 7","≤13",{"$f":"pana_film[[#This Row],[Body length / dia\n(mm)]]&\" x \"&pana_film[[#This Row],[Body width\n(mm)]]","v":"18 x 6.5"},"-","-"]
[null,"Std","dip","PP","No","ECWH(V)","ECWH10473HVB",1000,"DC",4.7E-2,"± 3",23,8.5,22,15,"Inner crimped lead wire type (Style B)","-25 to 105 (85)","Bulk (Bag packing)",100,"https://industrial.panasonic.com/ww/products/pt/film-cap-electroequip/models/ECWH10473HVB","≤23","≤ 9","≤22",{"$f":"pana_film[[#This Row],[Body length / dia\n(mm)]]&\" x \"&pana_film[[#This Row],[Body width\n(mm)]]","v":"23 x 8.5"},"-","-"]
[null,"Std","dip","PP","No","ECWH(V)","ECWH10433RHV",1000,"DC",4.2999999999999997E-2,"± 3",23,8.5,21.5,7.5,"Inner crimped lead wire type (Style B)","-25 to 105 (85)","30.0P crimped lead taping (ammo packing)",400,"https://industrial.panasonic.com/ww/products/pt/film-cap-electroequip/models/ECWH10433RHV","≤23","≤ 9","≤21.5",{"$f":"pana_film[[#This Row],[Body length / dia\n(mm)]]&\" x \"&pana_film[[#This Row],[Body width\n(mm)]]","v":"23 x 8.5"},"-","-"]
[null,"Std","dip","PP","No","ECWH(V)","ECWH10433HVB",1000,"DC",4.2999999999999997E-2,"± 3",23,8.5,21.5,15,"Inner crimped lead wire type (Style B)","-25 to 105 (85)","Bulk (Bag packing)",100,"https://industrial.panasonic.com/ww/products/pt/film-cap-electroequip/models/ECWH10433HVB","≤23","≤ 9","≤21.5",{"$f":"pana_film[[#This Row],[Body length / dia\n(mm)]]&\" x \"&pana_film[[#This Row],[Body width\n(mm)]]","v":"23 x 8.5"},"-","-"]
[null,"Std","dip","PP","No","ECWH(V)","ECWH10432HV",1000,"DC",4.3E-3,"± 3",18,6,13,15,"Straight lead wire type","-25 to 105 (85)","Bulk (Bag packing)",100,"https://industrial.panasonic.com/ww/products/pt/film-cap-electroequip/models/ECWH10432HV","≤18","≤ 6","≤13",{"$f":"pana_film[[#This Row],[Body length / dia\n(mm)]]&\" x \"&pana_film[[#This Row],[Body width\n(mm)]]","v":"18 x 6"},"-","-"]
[null,"Std","dip","PP","No","ECWH(V)","ECWH10393JVB",1000,"DC",3.9E-2,"± 5",23,8,21.5,15,"Inner crimped lead wire type (Style B)","-25 to 105 (85)","Bulk (Bag packing)",100,"https://industrial.panasonic.com/ww/products/pt/film-cap-electroequip/models/ECWH10393JVB","≤23","≤ 8","≤21.5",{"$f":"pana_film[[#This Row],[Body length / dia\n(mm)]]&\" x \"&pana_film[[#This Row],[Body width\n(mm)]]","v":"23 x 8"},"-","-"]
[null,"Std","dip","PP","No","ECWH(V)","ECWH10392JV",1000,"DC",3.8999999999999998E-3,"± 5",18,6,12.5,15,"Straight lead wire type","-25 to 105 (85)","Bulk (Bag packing)",100,"https://industrial.panasonic.com/ww/products/pt/film-cap-electroequip/models/ECWH10392JV","≤18","≤ 6","≤12.5",{"$f":"pana_film[[#This Row],[Body length / dia\n(mm)]]&\" x \"&pana_film[[#This Row],[Body width\n(mm)]]","v":"18 x 6"},"-","-"]
[null,"Std","dip","PP","No","ECWH(V)","ECWH10363JVB",1000,"DC",3.5999999999999997E-2,"± 5",23,7.5,21,15,"Inner crimped lead wire type (Style B)","-25 to 105 (85)","Bulk (Bag packing)",100,"https://industrial.panasonic.com/ww/products/pt/film-cap-electroequip/models/ECWH10363JVB","≤23","≤ 8","≤21",{"$f":"pana_film[[#This Row],[Body length / dia\n(mm)]]&\" x \"&pana_film[[#This Row],[Body width\n(mm)]]","v":"23 x 7.5"},"-","-"]
[null,"Std","dip","PP","No","ECWH(V)","ECWH10362HVB",1000,"DC",3.5999999999999999E-3,"± 3",18,6,17.5,10,"Inner crimped lead wire type (Style B)","-25 to 105 (85)","Bulk (Bag packing)",100,"https://industrial.panasonic.com/ww/products/pt/film-cap-electroequip/models/ECWH10362HVB","≤18","≤ 6","≤17.5",{"$f":"pana_film[[#This Row],[Body length / dia\n(mm)]]&\" x \"&pana_film[[#This Row],[Body width\n(mm)]]","v":"18 x 6"},"-","-"]
[null,"Std","dip","PP","No","ECWH(V)","ECWH10333HV",1000,"DC",3.3000000000000002E-2,"± 3",23,7.5,16,20,"Straight lead wire type","-25 to 105 (85)","Bulk (Bag packing)",100,"https://industrial.panasonic.com/ww/products/pt/film-cap-electroequip/models/ECWH10333HV","≤23","≤ 8","≤16",{"$f":"pana_film[[#This Row],[Body length / dia\n(mm)]]&\" x \"&pana_film[[#This Row],[Body width\n(mm)]]","v":"23 x 7.5"},"-","-"]
[null,"Std","dip","PP","No","ECWH(V)","ECWH10303JVB",1000,"DC",0.03,"± 5",18,9.5,21.5,10,"Inner crimped lead wire type (Style B)","-25 to 105 (85)","Bulk (Bag packing)",100,"https://industrial.panasonic.com/ww/products/pt/film-cap-electroequip/models/ECWH10303JVB","≤18","≤10","≤21.5",{"$f":"pana_film[[#This Row],[Body length / dia\n(mm)]]&\" x \"&pana_film[[#This Row],[Body width\n(mm)]]","v":"18 x 9.5"},"-","-"]
[null,"Std","dip","PP","No","ECWH(V)","ECWH10303HV",1000,"DC",0.03,"± 3",18,9.5,16.5,15,"Straight lead wire type","-25 to 105 (85)","Bulk (Bag packing)",100,"https://industrial.panasonic.com/ww/products/pt/film-cap-electroequip/models/ECWH10303HV","≤18","≤10","≤16.5",{"$f":"pana_film[[#This Row],[Body length / dia\n(mm)]]&\" x \"&pana_film[[#This Row],[Body width\n(mm)]]","v":"18 x 9.5"},"-","-"]
[null,"Std","dip","PP","No","ECWH(V)","ECWH10273RJV",1000,"DC",2.7E-2,"± 5",18,9,21,7.5,"Inner crimped lead wire type (Style B)","-25 to 105 (85)","30.0P crimped lead taping (ammo packing)",300,"https://industrial.panasonic.com/ww/products/pt/film-cap-electroequip/models/ECWH10273RJV","≤18","≤ 9","≤21",{"$f":"pana_film[[#This Row],[Body length / dia\n(mm)]]&\" x \"&pana_film[[#This Row],[Body width\n(mm)]]","v":"18 x 9"},"-","-"]
[null,"Std","dip","PP","No","ECWH(V)","ECWH10273JV",1000,"DC",2.7E-2,"± 5",18,9,16,15,"Straight lead wire type","-25 to 105 (85)","Bulk (Bag packing)",100,"https://industrial.panasonic.com/ww/products/pt/film-cap-electroequip/models/ECWH10273JV","≤18","≤ 9","≤16",{"$f":"pana_film[[#This Row],[Body length / dia\n(mm)]]&\" x \"&pana_film[[#This Row],[Body width\n(mm)]]","v":"18 x 9"},"-","-"]
[null,"Std","dip","PP","No","ECWH(V)","ECWH10272HV",1000,"DC",2.7000000000000001E-3,"± 3",18,7,14,15,"Straight lead wire type","-25 to 105 (85)","Bulk (Bag packing)",100,"https://industrial.panasonic.com/ww/products/pt/film-cap-electroequip/models/ECWH10272HV","≤18","≤ 7","≤14",{"$f":"pana_film[[#This Row],[Body length / dia\n(mm)]]&\" x \"&pana_film[[#This Row],[Body width\n(mm)]]","v":"18 x 7"},"-","-"]
[null,"Std","dip","PP","No","ECWH(V)","ECWH10242JVB",1000,"DC",2.3999999999999998E-3,"± 5",18,7,18.5,10,"Inner crimped lead wire type (Style B)","-25 to 105 (85)","Bulk (Bag packing)",100,"https://industrial.panasonic.com/ww/products/pt/film-cap-electroequip/models/ECWH10242JVB","≤18","≤ 7","≤18.5",{"$f":"pana_film[[#This Row],[Body length / dia\n(mm)]]&\" x \"&pana_film[[#This Row],[Body width\n(mm)]]","v":"18 x 7"},"-","-"]
[null,"Std","dip","PP","No","ECWH(V)","ECWH10242HV",1000,"DC",2.3999999999999998E-3,"± 3",18,7,13.5,15,"Straight lead wire type","-25 to 105 (85)","Bulk (Bag packing)",100,"https://industrial.panasonic.com/ww/products/pt/film-cap-electroequip/models/ECWH10242HV","≤18","≤ 7","≤13.5",{"$f":"pana_film[[#This Row],[Body length / dia\n(mm)]]&\" x \"&pana_film[[#This Row],[Body width\n(mm)]]","v":"18 x 7"},"-","-"]
[null,"Std","dip","PP","No","ECWH(V)","ECWH10222RJV",1000,"DC",2.2000000000000001E-3,"± 5",18,6.5,18.5,7.5,"Inner crimped lead wire type (Style B)","-25 to 105 (85)","30.0P crimped lead taping (ammo packing)",500,"https://industrial.panasonic.com/ww/products/pt/film-cap-electroequip/models/ECWH10222RJV","≤18","≤ 7","≤18.5",{"$f":"pana_film[[#This Row],[Body length / dia\n(mm)]]&\" x \"&pana_film[[#This Row],[Body width\n(mm)]]","v":"18 x 6.5"},"-","-"]
[null,"Std","dip","PP","No","ECWH(V)","ECWH10203JV",1000,"DC",0.02,"± 5",18,8,15,15,"Straight lead wire type","-25 to 105 (85)","Bulk (Bag packing)",100,"https://industrial.panasonic.com/ww/products/pt/film-cap-electroequip/models/ECWH10203JV","≤18","≤ 8","≤15",{"$f":"pana_film[[#This Row],[Body length / dia\n(mm)]]&\" x \"&pana_film[[#This Row],[Body width\n(mm)]]","v":"18 x 8"},"-","-"]
[null,"Std","dip","PP","No","ECWH(V)","ECWH10203HVB",1000,"DC",0.02,"± 3",18,8,20,10,"Inner crimped lead wire type (Style B)","-25 to 105 (85)","Bulk (Bag packing)",100,"https://industrial.panasonic.com/ww/products/pt/film-cap-electroequip/models/ECWH10203HVB","≤18","≤ 8","≤20",{"$f":"pana_film[[#This Row],[Body length / dia\n(mm)]]&\" x \"&pana_film[[#This Row],[Body width\n(mm)]]","v":"18 x 8"},"-","-"]
[null,"Std","dip","PP","No","ECWH(V)","ECWH10183JVB",1000,"DC",1.7999999999999999E-2,"± 5",18,7.5,19.5,10,"Inner crimped lead wire type (Style B)","-25 to 105 (85)","Bulk (Bag packing)",100,"https://industrial.panasonic.com/ww/products/pt/film-cap-electroequip/models/ECWH10183JVB","≤18","≤ 8","≤19.5",{"$f":"pana_film[[#This Row],[Body length / dia\n(mm)]]&\" x \"&pana_film[[#This Row],[Body width\n(mm)]]","v":"18 x 7.5"},"-","-"]
[null,"Std","dip","PP","No","ECWH(V)","ECWH10183HV",1000,"DC",1.7999999999999999E-2,"± 3",18,7.5,14.5,15,"Straight lead wire type","-25 to 105 (85)","Bulk (Bag packing)",100,"https://industrial.panasonic.com/ww/products/pt/film-cap-electroequip/models/ECWH10183HV","≤18","≤ 8","≤14.5",{"$f":"pana_film[[#This Row],[Body length / dia\n(mm)]]&\" x \"&pana_film[[#This Row],[Body width\n(mm)]]","v":"18 x 7.5"},"-","-"]
[null,"Std","dip","PP","No","ECWH(V)","ECWH10163RJV",1000,"DC",1.6E-2,"± 5",18,7.5,19,7.5,"Inner crimped lead wire type (Style B)","-25 to 105 (85)","30.0P crimped lead taping (ammo packing)",500,"https://industrial.panasonic.com/ww/products/pt/film-cap-electroequip/models/ECWH10163RJV","≤18","≤ 8","≤19",{"$f":"pana_film[[#This Row],[Body length / dia\n(mm)]]&\" x \"&pana_film[[#This Row],[Body width\n(mm)]]","v":"18 x 7.5"},"-","-"]
[null,"Std","dip","PP","No","ECWH(V)","ECWH10162JV",1000,"DC",1.6000000000000001E-3,"± 5",18,7,13.5,15,"Straight lead wire type","-25 to 105 (85)","Bulk (Bag packing)",100,"https://industrial.panasonic.com/ww/products/pt/film-cap-electroequip/models/ECWH10162JV","≤18","≤ 7","≤13.5",{"$f":"pana_film[[#This Row],[Body length / dia\n(mm)]]&\" x \"&pana_film[[#This Row],[Body width\n(mm)]]","v":"18 x 7"},"-","-"]
[null,"Std","dip","PP","No","ECWH(V)","ECWH10153RJV",1000,"DC",1.4999999999999999E-2,"± 5",18,7,19,7.5,"Inner crimped lead wire type (Style B)","-25 to 105 (85)","30.0P crimped lead taping (ammo packing)",500,"https://industrial.panasonic.com/ww/products/pt/film-cap-electroequip/models/ECWH10153RJV","≤18","≤ 7","≤19",{"$f":"pana_film[[#This Row],[Body length / dia\n(mm)]]&\" x \"&pana_film[[#This Row],[Body width\n(mm)]]","v":"18 x 7"},"-","-"]
[null,"Std","dip","PP","No","ECWH(V)","ECWH10152JV",1000,"DC",1.5E-3,"± 5",18,6.5,13.5,15,"Straight lead wire type","-25 to 105 (85)","Bulk (Bag packing)",100,"https://industrial.panasonic.com/ww/products/pt/film-cap-electroequip/models/ECWH10152JV",{"$f":"IF(L1799<=9.5,\"≤ \"&ROUNDUP(L1799*1,0)/1,\"≤\"&ROUNDUP(L1799*1,0)/1)","v":"≤18"},{"$f":"IF(M1799<=9,\"≤ \"&ROUNDUP(M1799*1,0)/1,\"≤\"&ROUNDUP(M1799*1,0)/1)","v":"≤ 7"},{"$f":"IF(N1799<=9.5,\"≤ \"&ROUNDUP(N1799*2,0)/2,\"≤\"&ROUNDUP(N1799*2,0)/2)","v":"≤13.5"},{"$f":"pana_film[[#This Row],[Body length / dia\n(mm)]]&\" x \"&pana_film[[#This Row],[Body width\n(mm)]]","v":"18 x 6.5"},"-","-"]
[null,"Std","dip","PP","No","ECWH(V)","ECWH10133HV",1000,"DC",1.2999999999999999E-2,"± 3",18,7,13.5,15,"Straight lead wire type","-25 to 105 (85)","Bulk (Bag packing)",100,"https://industrial.panasonic.com/ww/products/pt/film-cap-electroequip/models/ECWH10133HV","≤18","≤ 7","≤13.5",{"$f":"pana_film[[#This Row],[Body length / dia\n(mm)]]&\" x \"&pana_film[[#This Row],[Body width\n(mm)]]","v":"18 x 7"},"-","-"]
[null,"Std","dip","PP","No","ECWH(V)","ECWH10132RJV",1000,"DC",1.2999999999999999E-3,"± 5",18,6.5,18,7.5,"Inner crimped lead wire type (Style B)","-25 to 105 (85)","30.0P crimped lead taping (ammo packing)",500,"https://industrial.panasonic.com/ww/products/pt/film-cap-electroequip/models/ECWH10132RJV","≤18","≤ 7","≤18",{"$f":"pana_film[[#This Row],[Body length / dia\n(mm)]]&\" x \"&pana_film[[#This Row],[Body width\n(mm)]]","v":"18 x 6.5"},"-","-"]
[null,"Std","dip","PP","No","ECWH(V)","ECWH10123JV",1000,"DC",1.2E-2,"± 5",18,6.5,13.5,15,"Straight lead wire type","-25 to 105 (85)","Bulk (Bag packing)",100,"https://industrial.panasonic.com/ww/products/pt/film-cap-electroequip/models/ECWH10123JV","≤18","≤ 7","≤13.5",{"$f":"pana_film[[#This Row],[Body length / dia\n(mm)]]&\" x \"&pana_film[[#This Row],[Body width\n(mm)]]","v":"18 x 6.5"},"-","-"]
[null,"Std","dip","PP","No","ECWH(V)","ECWH10122RJV",1000,"DC",1.1999999999999999E-3,"± 5",18,7,18.5,7.5,"Inner crimped lead wire type (Style B)","-25 to 105 (85)","30.0P crimped lead taping (ammo packing)",500,"https://industrial.panasonic.com/ww/products/pt/film-cap-electroequip/models/ECWH10122RJV","≤18","≤ 7","≤18.5",{"$f":"pana_film[[#This Row],[Body length / dia\n(mm)]]&\" x \"&pana_film[[#This Row],[Body width\n(mm)]]","v":"18 x 7"},"-","-"]
[null,"Std","dip","PP","No","ECWH(V)","ECWH10113RHV",1000,"DC",1.0999999999999999E-2,"± 3",18,6.5,18.5,7.5,"Inner crimped lead wire type (Style B)","-25 to 105 (85)","30.0P crimped lead taping (ammo packing)",500,"https://industrial.panasonic.com/ww/products/pt/film-cap-electroequip/models/ECWH10113RHV","≤18","≤ 7","≤18.5",{"$f":"pana_film[[#This Row],[Body length / dia\n(mm)]]&\" x \"&pana_film[[#This Row],[Body width\n(mm)]]","v":"18 x 6.5"},"-","-"]
[null,"Std","dip","PP","No","ECWH(V)","ECWH10112HVB",1000,"DC",1.1000000000000001E-3,"± 3",18,6.5,18.5,10,"Inner crimped lead wire type (Style B)","-25 to 105 (85)","Bulk (Bag packing)",100,"https://industrial.panasonic.com/ww/products/pt/film-cap-electroequip/models/ECWH10112HVB","≤18","≤ 7","≤18.5",{"$f":"pana_film[[#This Row],[Body length / dia\n(mm)]]&\" x \"&pana_film[[#This Row],[Body width\n(mm)]]","v":"18 x 6.5"},"-","-"]
[null,"Std","dip","PP","No","ECWH(V)","ECWH10104JVB",1000,"DC",0.1,"± 5",23,12,26,15,"Inner crimped lead wire type (Style B)","-25 to 105 (85)","Bulk (Bag packing)",100,"https://industrial.panasonic.com/ww/products/pt/film-cap-electroequip/models/ECWH10104JVB","≤23","≤12","≤26",{"$f":"pana_film[[#This Row],[Body length / dia\n(mm)]]&\" x \"&pana_film[[#This Row],[Body width\n(mm)]]","v":"23 x 12"},"-","-"]
[null,"Std","dip","PP","No","ECWH(V)","ECWH10103JV",1000,"DC",0.01,"± 5",18,6.5,13,15,"Straight lead wire type","-25 to 105 (85)","Bulk (Bag packing)",100,"https://industrial.panasonic.com/ww/products/pt/film-cap-electroequip/models/ECWH10103JV","≤18","≤ 7","≤13",{"$f":"pana_film[[#This Row],[Body length / dia\n(mm)]]&\" x \"&pana_film[[#This Row],[Body width\n(mm)]]","v":"18 x 6.5"},"-","-"]
[null,"Std","box","PP","Yes","ECWFG","ECWFG80805JA",800,"DC",8,"± 5",31.5,17.5,32.5,27.5,"Short cut lead wire type","-40 to 110","Bulk (Bag packing)",100,"https://industrial.panasonic.com/ww/products/pt/automotive-film-cap/models/ECWFG80805JA","≤32","≤18","≤32.5",{"$f":"pana_film[[#This Row],[Body length / dia\n(mm)]]&\" x \"&pana_film[[#This Row],[Body width\n(mm)]]","v":"31.5 x 17.5"},{"$f":"INDEX('IR Data'!K:K,MATCH(LEFT(pana_film[[#This Row],[PartNumber]],10),'IR Data'!I:I,0))","v":9.1},{"$f":"INDEX('IR Data'!L:L,MATCH(LEFT(pana_film[[#This Row],[PartNumber]],10),'IR Data'!I:I,0))","v":5}]
[null,"Std","box","PP","Yes","ECWFG","ECWFG80805J",800,"DC",8,"± 5",31.5,17.5,32.5,27.5,"Straight lead wire type","-40 to 110","Bulk (Bag packing)",150,"https://industrial.panasonic.com/ww/products/pt/automotive-film-cap/models/ECWFG80805J","≤32","≤18","≤32.5",{"$f":"pana_film[[#This Row],[Body length / dia\n(mm)]]&\" x \"&pana_film[[#This Row],[Body width\n(mm)]]","v":"31.5 x 17.5"},{"$f":"INDEX('IR Data'!K:K,MATCH(LEFT(pana_film[[#This Row],[PartNumber]],10),'IR Data'!I:I,0))","v":9.1},{"$f":"INDEX('IR Data'!L:L,MATCH(LEFT(pana_film[[#This Row],[PartNumber]],10),'IR Data'!I:I,0))","v":5}]
[null,"Std","box","PP","Yes","ECWFG","ECWFG80565JA",800,"DC",5.6,"± 5",31.5,16,29.5,27.5,"Short cut lead wire type","-40 to 110","Bulk (Bag packing)",100,"https://industrial.panasonic.com/ww/products/pt/automotive-film-cap/models/ECWFG80565JA","≤32","≤16","≤29.5",{"$f":"pana_film[[#This Row],[Body length / dia\n(mm)]]&\" x \"&pana_film[[#This Row],[Body width\n(mm)]]","v":"31.5 x 16"},{"$f":"INDEX('IR Data'!K:K,MATCH(LEFT(pana_film[[#This Row],[PartNumber]],10),'IR Data'!I:I,0))","v":7.5},{"$f":"INDEX('IR Data'!L:L,MATCH(LEFT(pana_film[[#This Row],[PartNumber]],10),'IR Data'!I:I,0))","v":7}]
[null,"Std","box","PP","Yes","ECWFG","ECWFG80405J",800,"DC",4,"± 5",31.5,13.5,28.5,27.5,"Straight lead wire type","-40 to 110","Bulk (Bag packing)",150,"https://industrial.panasonic.com/ww/products/pt/automotive-film-cap/models/ECWFG80405J","≤32","≤14","≤28.5",{"$f":"pana_film[[#This Row],[Body length / dia\n(mm)]]&\" x \"&pana_film[[#This Row],[Body width\n(mm)]]","v":"31.5 x 13.5"},{"$f":"INDEX('IR Data'!K:K,MATCH(LEFT(pana_film[[#This Row],[PartNumber]],10),'IR Data'!I:I,0))","v":6.2},{"$f":"INDEX('IR Data'!L:L,MATCH(LEFT(pana_film[[#This Row],[PartNumber]],10),'IR Data'!I:I,0))","v":9.5}]
[null,"Std","box","PP","Yes","ECWFG","ECWFG80355J",800,"DC",3.5,"± 5",31.5,13.5,28.5,27.5,"Straight lead wire type","-40 to 110","Bulk (Bag packing)",150,"https://industrial.panasonic.com/ww/products/pt/automotive-film-cap/models/ECWFG80355J","≤32","≤14","≤28.5",{"$f":"pana_film[[#This Row],[Body length / dia\n(mm)]]&\" x \"&pana_film[[#This Row],[Body width\n(mm)]]","v":"31.5 x 13.5"},{"$f":"INDEX('IR Data'!K:K,MATCH(LEFT(pana_film[[#This Row],[PartNumber]],10),'IR Data'!I:I,0))","v":5.8},{"$f":"INDEX('IR Data'!L:L,MATCH(LEFT(pana_film[[#This Row],[PartNumber]],10),'IR Data'!I:I,0))","v":10.7}]
[null,"Std","box","PP","Yes","ECWFG","ECWFG80205JA",800,"DC",2,"± 5",31.5,10.5,21,27.5,"Short cut lead wire type","-40 to 110","Bulk (Bag packing)",300,"https://industrial.panasonic.com/ww/products/pt/automotive-film-cap/models/ECWFG80205JA","≤32","≤11","≤21",{"$f":"pana_film[[#This Row],[Body length / dia\n(mm)]]&\" x \"&pana_film[[#This Row],[Body width\n(mm)]]","v":"31.5 x 10.5"},{"$f":"INDEX('IR Data'!K:K,MATCH(LEFT(pana_film[[#This Row],[PartNumber]],10),'IR Data'!I:I,0))","v":4.2},{"$f":"INDEX('IR Data'!L:L,MATCH(LEFT(pana_film[[#This Row],[PartNumber]],10),'IR Data'!I:I,0))","v":18}]
[null,"Std","box","PP","Yes","ECWFG","ECWFG70395K",700,"DC",3.9,"±10",31.5,17.5,32.5,27.5,"Straight lead wire type","-40 to 110","Bulk (Bag packing)",100,"https://industrial.panasonic.com/ww/products/pt/automotive-film-cap/models/ECWFG70395K","≤32","≤18","≤32.5",{"$f":"pana_film[[#This Row],[Body length / dia\n(mm)]]&\" x \"&pana_film[[#This Row],[Body width\n(mm)]]","v":"31.5 x 17.5"},{"$f":"INDEX('IR Data'!K:K,MATCH(LEFT(pana_film[[#This Row],[PartNumber]],10),'IR Data'!I:I,0))","v":9.1},{"$f":"INDEX('IR Data'!L:L,MATCH(LEFT(pana_film[[#This Row],[PartNumber]],10),'IR Data'!I:I,0))","v":6.3}]
[null,"Std","box","PP","Yes","ECWFG","ECWFG70305KA",700,"DC",3,"±10",31.5,13.5,28.5,27.5,"Short cut lead wire type","-40 to 110","Bulk (Bag packing)",150,"https://industrial.panasonic.com/ww/products/pt/automotive-film-cap/models/ECWFG70305KA","≤32","≤14","≤28.5",{"$f":"pana_film[[#This Row],[Body length / dia\n(mm)]]&\" x \"&pana_film[[#This Row],[Body width\n(mm)]]","v":"31.5 x 13.5"},{"$f":"INDEX('IR Data'!K:K,MATCH(LEFT(pana_film[[#This Row],[PartNumber]],10),'IR Data'!I:I,0))","v":7.8},{"$f":"INDEX('IR Data'!L:L,MATCH(LEFT(pana_film[[#This Row],[PartNumber]],10),'IR Data'!I:I,0))","v":6.9}]
[null,"Std","box","PP","Yes","ECWFG","ECWFG70205K",700,"DC",2,"±10",31.5,12,24.5,27.5,"Straight lead wire type","-40 to 110","Bulk (Bag packing)",200,"https://industrial.panasonic.com/ww/products/pt/automotive-film-cap/models/ECWFG70205K","≤32","≤12","≤24.5",{"$f":"pana_film[[#This Row],[Body length / dia\n(mm)]]&\" x \"&pana_film[[#This Row],[Body width\n(mm)]]","v":"31.5 x 12"},{"$f":"INDEX('IR Data'!K:K,MATCH(LEFT(pana_film[[#This Row],[PartNumber]],10),'IR Data'!I:I,0))","v":6.2},{"$f":"INDEX('IR Data'!L:L,MATCH(LEFT(pana_film[[#This Row],[PartNumber]],10),'IR Data'!I:I,0))","v":10.4}]
[null,"Std","box","PP","Yes","ECWFG","ECWFG70205JA",700,"DC",2,"± 5",31.5,12,24.5,27.5,"Short cut lead wire type","-40 to 110","Bulk (Bag packing)",250,"https://industrial.panasonic.com/ww/products/pt/automotive-film-cap/models/ECWFG70205JA","≤32","≤12","≤24.5",{"$f":"pana_film[[#This Row],[Body length / dia\n(mm)]]&\" x \"&pana_film[[#This Row],[Body width\n(mm)]]","v":"31.5 x 12"},{"$f":"INDEX('IR Data'!K:K,MATCH(LEFT(pana_film[[#This Row],[PartNumber]],10),'IR Data'!I:I,0))","v":6.2},{"$f":"INDEX('IR Data'!L:L,MATCH(LEFT(pana_film[[#This Row],[PartNumber]],10),'IR Data'!I:I,0))","v":10.4}]
[null,"Std","box","PP","Yes","ECWFG","ECWFG70105JA",700,"DC",1,"± 5",31.5,9.5,18,27.5,"Short cut lead wire type","-40 to 110","Bulk (Bag packing)",350,"https://industrial.panasonic.com/ww/products/pt/automotive-film-cap/models/ECWFG70105JA","≤32","≤10","≤18",{"$f":"pana_film[[#This Row],[Body length / dia\n(mm)]]&\" x \"&pana_film[[#This Row],[Body width\n(mm)]]","v":"31.5 x 9.5"},{"$f":"INDEX('IR Data'!K:K,MATCH(LEFT(pana_film[[#This Row],[PartNumber]],10),'IR Data'!I:I,0))","v":4},{"$f":"INDEX('IR Data'!L:L,MATCH(LEFT(pana_film[[#This Row],[PartNumber]],10),'IR Data'!I:I,0))","v":20.8}]
[null,"Std","box","PP","Yes","ECWFG","ECWFG60825J",600,"DC",8.1999999999999993,"± 5",31.5,13.5,28.5,27.5,"Straight lead wire type","-40 to 110","Bulk (Bag packing)",150,"https://industrial.panasonic.com/ww/products/pt/automotive-film-cap/models/ECWFG60825J","≤32","≤14","≤28.5",{"$f":"pana_film[[#This Row],[Body length / dia\n(mm)]]&\" x \"&pana_film[[#This Row],[Body width\n(mm)]]","v":"31.5 x 13.5"},{"$f":"INDEX('IR Data'!K:K,MATCH(LEFT(pana_film[[#This Row],[PartNumber]],10),'IR Data'!I:I,0))","v":7.6},{"$f":"INDEX('IR Data'!L:L,MATCH(LEFT(pana_film[[#This Row],[PartNumber]],10),'IR Data'!I:I,0))","v":6.6}]
[null,"Std","box","PP","Yes","ECWFG","ECWFG60685JA",600,"DC",6.8,"± 5",31.5,12,24.5,27.5,"Short cut lead wire type","-40 to 110","Tray packing",250,"https://industrial.panasonic.com/ww/products/pt/automotive-film-cap/models/ECWFG60685JA","≤32","≤12","≤24.5",{"$f":"pana_film[[#This Row],[Body length / dia\n(mm)]]&\" x \"&pana_film[[#This Row],[Body width\n(mm)]]","v":"31.5 x 12"},{"$f":"INDEX('IR Data'!K:K,MATCH(LEFT(pana_film[[#This Row],[PartNumber]],10),'IR Data'!I:I,0))","v":6.8},{"$f":"INDEX('IR Data'!L:L,MATCH(LEFT(pana_film[[#This Row],[PartNumber]],10),'IR Data'!I:I,0))","v":7.9}]
[null,"Std","box","PP","Yes","ECWFG","ECWFG60475J",600,"DC",4.7,"± 5",31.5,12,24.5,27.5,"Straight lead wire type","-40 to 110","Bulk (Bag packing)",200,"https://industrial.panasonic.com/ww/products/pt/automotive-film-cap/models/ECWFG60475J","≤32","≤12","≤24.5",{"$f":"pana_film[[#This Row],[Body length / dia\n(mm)]]&\" x \"&pana_film[[#This Row],[Body width\n(mm)]]","v":"31.5 x 12"},{"$f":"INDEX('IR Data'!K:K,MATCH(LEFT(pana_film[[#This Row],[PartNumber]],10),'IR Data'!I:I,0))","v":5.6},{"$f":"INDEX('IR Data'!L:L,MATCH(LEFT(pana_film[[#This Row],[PartNumber]],10),'IR Data'!I:I,0))","v":11.2}]
[null,"Std","box","PP","Yes","ECWFG","ECWFG60335JA",600,"DC",3.3,"± 5",31.5,9.5,18,27.5,"Short cut lead wire type","-40 to 110","Tray packing",350,"https://industrial.panasonic.com/ww/products/pt/automotive-film-cap/models/ECWFG60335JA","≤32","≤10","≤18",{"$f":"pana_film[[#This Row],[Body length / dia\n(mm)]]&\" x \"&pana_film[[#This Row],[Body width\n(mm)]]","v":"31.5 x 9.5"},{"$f":"INDEX('IR Data'!K:K,MATCH(LEFT(pana_film[[#This Row],[PartNumber]],10),'IR Data'!I:I,0))","v":4.5999999999999996},{"$f":"INDEX('IR Data'!L:L,MATCH(LEFT(pana_film[[#This Row],[PartNumber]],10),'IR Data'!I:I,0))","v":15.7}]
[null,"Std","box","PP","Yes","ECWFG","ECWFG60305J",600,"DC",3,"± 5",31.5,9.5,18,27.5,"Straight lead wire type","-40 to 110","Bulk (Bag packing)",400,"https://industrial.panasonic.com/ww/products/pt/automotive-film-cap/models/ECWFG60305J","≤32","≤10","≤18",{"$f":"pana_film[[#This Row],[Body length / dia\n(mm)]]&\" x \"&pana_film[[#This Row],[Body width\n(mm)]]","v":"31.5 x 9.5"},{"$f":"INDEX('IR Data'!K:K,MATCH(LEFT(pana_film[[#This Row],[PartNumber]],10),'IR Data'!I:I,0))","v":4.3},{"$f":"INDEX('IR Data'!L:L,MATCH(LEFT(pana_film[[#This Row],[PartNumber]],10),'IR Data'!I:I,0))","v":17.2}]
[null,"Std","box","PP","Yes","ECWFG","ECWFG60205J",600,"DC",2,"± 5",31.5,8,17,27.5,"Straight lead wire type","-40 to 110","Bulk (Bag packing)",400,"https://industrial.panasonic.com/ww/products/pt/automotive-film-cap/models/ECWFG60205J","≤32","≤ 8","≤17",{"$f":"pana_film[[#This Row],[Body length / dia\n(mm)]]&\" x \"&pana_film[[#This Row],[Body width\n(mm)]]","v":"31.5 x 8"},{"$f":"INDEX('IR Data'!K:K,MATCH(LEFT(pana_film[[#This Row],[PartNumber]],10),'IR Data'!I:I,0))","v":3.4},{"$f":"INDEX('IR Data'!L:L,MATCH(LEFT(pana_film[[#This Row],[PartNumber]],10),'IR Data'!I:I,0))","v":25.3}]
[null,"Std","box","PP","Yes","ECWFG","ECWFG2J475KA",630,"DC",4.7,"±10",31.5,17.5,32.5,27.5,"Short cut lead wire type","-40 to 110","Tray packing",100,"https://industrial.panasonic.com/ww/products/pt/automotive-film-cap/models/ECWFG2J475KA","≤32","≤18","≤32.5",{"$f":"pana_film[[#This Row],[Body length / dia\n(mm)]]&\" x \"&pana_film[[#This Row],[Body width\n(mm)]]","v":"31.5 x 17.5"},{"$f":"INDEX('IR Data'!K:K,MATCH(LEFT(pana_film[[#This Row],[PartNumber]],10),'IR Data'!I:I,0))","v":10.1},{"$f":"INDEX('IR Data'!L:L,MATCH(LEFT(pana_film[[#This Row],[PartNumber]],10),'IR Data'!I:I,0))","v":4.4000000000000004}]
[null,"Std","box","PP","Yes","ECWFG","ECWFG2J305K",630,"DC",3,"±10",31.5,13.5,28.5,27.5,"Straight lead wire type","-40 to 110","Bulk (Bag packing)",150,"https://industrial.panasonic.com/ww/products/pt/automotive-film-cap/models/ECWFG2J305K","≤32","≤14","≤28.5",{"$f":"pana_film[[#This Row],[Body length / dia\n(mm)]]&\" x \"&pana_film[[#This Row],[Body width\n(mm)]]","v":"31.5 x 13.5"},{"$f":"INDEX('IR Data'!K:K,MATCH(LEFT(pana_film[[#This Row],[PartNumber]],10),'IR Data'!I:I,0))","v":9.8000000000000007},{"$f":"INDEX('IR Data'!L:L,MATCH(LEFT(pana_film[[#This Row],[PartNumber]],10),'IR Data'!I:I,0))","v":4.7}]
[null,"Std","box","PP","Yes","ECWFG","ECWFG2J225QA",630,"DC",2.2000000000000002,"±10",27,15.5,24,22.5,"Short cut lead wire type","-40 to 110","Tray packing",250,"https://industrial.panasonic.com/ww/products/pt/automotive-film-cap/models/ECWFG2J225QA","≤27","≤16","≤24",{"$f":"pana_film[[#This Row],[Body length / dia\n(mm)]]&\" x \"&pana_film[[#This Row],[Body width\n(mm)]]","v":"27 x 15.5"},{"$f":"INDEX('IR Data'!K:K,MATCH(LEFT(pana_film[[#This Row],[PartNumber]],10),'IR Data'!I:I,0))","v":8.1},{"$f":"INDEX('IR Data'!L:L,MATCH(LEFT(pana_film[[#This Row],[PartNumber]],10),'IR Data'!I:I,0))","v":6.2}]
[null,"Std","box","PP","Yes","ECWFG","ECWFG2J225J",630,"DC",2.2000000000000002,"± 5",31.5,12,24.5,27.5,"Straight lead wire type","-40 to 110","Bulk (Bag packing)",200,"https://industrial.panasonic.com/ww/products/pt/automotive-film-cap/models/ECWFG2J225J","≤32","≤12","≤24.5",{"$f":"pana_film[[#This Row],[Body length / dia\n(mm)]]&\" x \"&pana_film[[#This Row],[Body width\n(mm)]]","v":"31.5 x 12"},{"$f":"INDEX('IR Data'!K:K,MATCH(LEFT(pana_film[[#This Row],[PartNumber]],10),'IR Data'!I:I,0))","v":8.1},{"$f":"INDEX('IR Data'!L:L,MATCH(LEFT(pana_film[[#This Row],[PartNumber]],10),'IR Data'!I:I,0))","v":6.2}]
[null,"Std","box","PP","Yes","ECWFG","ECWFG2J105QA",630,"DC",1,"±10",27,10.5,19,22.5,"Short cut lead wire type","-40 to 110","Tray packing",350,"https://industrial.panasonic.com/ww/products/pt/automotive-film-cap/models/ECWFG2J105QA","≤27","≤11","≤19",{"$f":"pana_film[[#This Row],[Body length / dia\n(mm)]]&\" x \"&pana_film[[#This Row],[Body width\n(mm)]]","v":"27 x 10.5"},{"$f":"INDEX('IR Data'!K:K,MATCH(LEFT(pana_film[[#This Row],[PartNumber]],10),'IR Data'!I:I,0))","v":4.7},{"$f":"INDEX('IR Data'!L:L,MATCH(LEFT(pana_film[[#This Row],[PartNumber]],10),'IR Data'!I:I,0))","v":12.9}]
[null,"Std","box","PP","Yes","ECWFG","ECWFG1B505JA",1100,"DC",5,"± 5",31.5,18.5,35,27.5,"Short cut lead wire type","-40 to 110","Tray packing",100,"https://industrial.panasonic.com/ww/products/pt/automotive-film-cap/models/ECWFG1B505JA","≤32","≤19","≤35",{"$f":"pana_film[[#This Row],[Body length / dia\n(mm)]]&\" x \"&pana_film[[#This Row],[Body width\n(mm)]]","v":"31.5 x 18.5"},{"$f":"INDEX('IR Data'!K:K,MATCH(LEFT(pana_film[[#This Row],[PartNumber]],10),'IR Data'!I:I,0))","v":8.6},{"$f":"INDEX('IR Data'!L:L,MATCH(LEFT(pana_film[[#This Row],[PartNumber]],10),'IR Data'!I:I,0))","v":7.7}]
[null,"Std","box","PP","Yes","ECWFG","ECWFG1B475J",1100,"DC",4.7,"± 5",31.5,18.5,35,27.5,"Straight lead wire type","-40 to 110","Bulk (Bag packing)",100,"https://industrial.panasonic.com/ww/products/pt/automotive-film-cap/models/ECWFG1B475J","≤32","≤19","≤35",{"$f":"pana_film[[#This Row],[Body length / dia\n(mm)]]&\" x \"&pana_film[[#This Row],[Body width\n(mm)]]","v":"31.5 x 18.5"},{"$f":"INDEX('IR Data'!K:K,MATCH(LEFT(pana_film[[#This Row],[PartNumber]],10),'IR Data'!I:I,0))","v":8.3000000000000007},{"$f":"INDEX('IR Data'!L:L,MATCH(LEFT(pana_film[[#This Row],[PartNumber]],10),'IR Data'!I:I,0))","v":8.1999999999999993}]
[null,"Std","box","PP","Yes","ECWFG","ECWFG1B205JA",1100,"DC",2,"± 5",31.5,12,24.5,27.5,"Short cut lead wire type","-40 to 110","Tray packing",250,"https://industrial.panasonic.com/ww/products/pt/automotive-film-cap/models/ECWFG1B205JA","≤32","≤12","≤24.5",{"$f":"pana_film[[#This Row],[Body length / dia\n(mm)]]&\" x \"&pana_film[[#This Row],[Body width\n(mm)]]","v":"31.5 x 12"},{"$f":"INDEX('IR Data'!K:K,MATCH(LEFT(pana_film[[#This Row],[PartNumber]],10),'IR Data'!I:I,0))","v":4.8},{"$f":"INDEX('IR Data'!L:L,MATCH(LEFT(pana_film[[#This Row],[PartNumber]],10),'IR Data'!I:I,0))","v":18.7}]
[null,"Std","box","PP","Yes","ECWFG","ECWFG1B205J",1100,"DC",2,"± 5",31.5,12,24.5,27.5,"Straight lead wire type","-40 to 110","Bulk (Bag packing)",200,"https://industrial.panasonic.com/ww/products/pt/automotive-film-cap/models/ECWFG1B205J","≤32","≤12","≤24.5",{"$f":"pana_film[[#This Row],[Body length / dia\n(mm)]]&\" x \"&pana_film[[#This Row],[Body width\n(mm)]]","v":"31.5 x 12"},{"$f":"INDEX('IR Data'!K:K,MATCH(LEFT(pana_film[[#This Row],[PartNumber]],10),'IR Data'!I:I,0))","v":4.8},{"$f":"INDEX('IR Data'!L:L,MATCH(LEFT(pana_film[[#This Row],[PartNumber]],10),'IR Data'!I:I,0))","v":18.7}]
[null,"Std","box","PP","No","ECWFE","ECWFE2W475QD",450,"DC",4.7,"±10",31,15.5,25.5,27.5,"Short cut lead wire type","-40 to 105 (85)","Bulk (Bag packing)",100,"https://industrial.panasonic.com/ww/products/pt/film-cap-electroequip/models/ECWFE2W475QD","≤31","≤16","≤25.5",{"$f":"pana_film[[#This Row],[Body length / dia\n(mm)]]&\" x \"&pana_film[[#This Row],[Body width\n(mm)]]","v":"31 x 15.5"},"-","-"]
[null,"Std","box","PP","No","ECWFE","ECWFE2W475J",450,"DC",4.7,"± 5",26,12,19,22.5,"Straight lead wire type","-40 to 105 (85)","Bulk (Bag packing)",300,"https://industrial.panasonic.com/ww/products/pt/film-cap-electroequip/models/ECWFE2W475J","≤26","≤12","≤19",{"$f":"pana_film[[#This Row],[Body length / dia\n(mm)]]&\" x \"&pana_film[[#This Row],[Body width\n(mm)]]","v":"26 x 12"},"-","-"]
[null,"Std","box","PP","No","ECWFE","ECWFE2W474J",450,"DC",0.47,"± 5",17.5,6,11.5,15,"Straight lead wire type","-40 to 105 (85)","Bulk (Bag packing)",1000,"https://industrial.panasonic.com/ww/products/pt/film-cap-electroequip/models/ECWFE2W474J","≤18","≤ 6","≤11.5",{"$f":"pana_film[[#This Row],[Body length / dia\n(mm)]]&\" x \"&pana_film[[#This Row],[Body width\n(mm)]]","v":"17.5 x 6"},"-","-"]
[null,"Std","box","PP","No","ECWFE","ECWFE2W335KA",450,"DC",3.3,"±10",26,10,17,22.5,"Short cut lead wire type","-40 to 105 (85)","Bulk (Bag packing)",300,"https://industrial.panasonic.com/ww/products/pt/film-cap-electroequip/models/ECWFE2W335KA","≤26","≤10","≤17",{"$f":"pana_film[[#This Row],[Body length / dia\n(mm)]]&\" x \"&pana_film[[#This Row],[Body width\n(mm)]]","v":"26 x 10"},"-","-"]
[null,"Std","box","PP","No","ECWFE","ECWFE2W334P5",450,"DC",0.33,"± 5",17.5,5,10.5,15,"Straight lead wire type","-40 to 105 (85)","Bulk (Bag packing)",1000,"https://industrial.panasonic.com/ww/products/pt/film-cap-electroequip/models/ECWFE2W334P5","≤18","≤ 5","≤10.5",{"$f":"pana_film[[#This Row],[Body length / dia\n(mm)]]&\" x \"&pana_film[[#This Row],[Body width\n(mm)]]","v":"17.5 x 5"},"-","-"]
[null,"Std","box","PP","No","ECWFE","ECWFE2W334JA",450,"DC",0.33,"± 5",13,6,12,10,"Short cut lead wire type","-40 to 105 (85)","Bulk (Bag packing)",1000,"https://industrial.panasonic.com/ww/products/pt/film-cap-electroequip/models/ECWFE2W334JA","≤13","≤ 6","≤12",{"$f":"pana_film[[#This Row],[Body length / dia\n(mm)]]&\" x \"&pana_film[[#This Row],[Body width\n(mm)]]","v":"13 x 6"},"-","-"]
[null,"Std","box","PP","No","ECWFE","ECWFE2W225J",450,"DC",2.2000000000000002,"± 5",17.5,10,15.5,15,"Straight lead wire type","-40 to 105 (85)","Bulk (Bag packing)",1000,"https://industrial.panasonic.com/ww/products/pt/film-cap-electroequip/models/ECWFE2W225J","≤18","≤10","≤15.5",{"$f":"pana_film[[#This Row],[Body length / dia\n(mm)]]&\" x \"&pana_film[[#This Row],[Body width\n(mm)]]","v":"17.5 x 10"},"-","-"]
[null,"Std","box","PP","No","ECWFE","ECWFE2W224QD",450,"DC",0.22,"±10",17.5,5,10.5,15,"Short cut lead wire type","-40 to 105 (85)","Bulk (Bag packing)",1000,"https://industrial.panasonic.com/ww/products/pt/film-cap-electroequip/models/ECWFE2W224QD","≤18","≤ 5","≤10.5",{"$f":"pana_film[[#This Row],[Body length / dia\n(mm)]]&\" x \"&pana_film[[#This Row],[Body width\n(mm)]]","v":"17.5 x 5"},"-","-"]
[null,"Std","box","PP","No","ECWFE","ECWFE2W155KA",450,"DC",1.5,"±10",17.5,10,15.5,15,"Short cut lead wire type","-40 to 105 (85)","Bulk (Bag packing)",600,"https://industrial.panasonic.com/ww/products/pt/film-cap-electroequip/models/ECWFE2W155KA","≤18","≤10","≤15.5",{"$f":"pana_film[[#This Row],[Body length / dia\n(mm)]]&\" x \"&pana_film[[#This Row],[Body width\n(mm)]]","v":"17.5 x 10"},"-","-"]
[null,"Std","box","PP","No","ECWFE","ECWFE2W154Q5",450,"DC",0.15,"±10",17.5,5,10.5,15,"Straight lead wire type","-40 to 105 (85)","Bulk (Bag packing)",1000,"https://industrial.panasonic.com/ww/products/pt/film-cap-electroequip/models/ECWFE2W154Q5","≤18","≤ 5","≤10.5",{"$f":"pana_film[[#This Row],[Body length / dia\n(mm)]]&\" x \"&pana_film[[#This Row],[Body width\n(mm)]]","v":"17.5 x 5"},"-","-"]
[null,"Std","box","PP","No","ECWFE","ECWFE2W154KA",450,"DC",0.15,"±10",13,5,10.5,10,"Short cut lead wire type","-40 to 105 (85)","Bulk (Bag packing)",1000,"https://industrial.panasonic.com/ww/products/pt/film-cap-electroequip/models/ECWFE2W154KA","≤13","≤ 5","≤10.5",{"$f":"pana_film[[#This Row],[Body length / dia\n(mm)]]&\" x \"&pana_film[[#This Row],[Body width\n(mm)]]","v":"13 x 5"},"-","-"]
[null,"Std","box","PP","No","ECWFE","ECWFE2W104Q5",450,"DC",0.1,"±10",17.5,5,10.5,15,"Straight lead wire type","-40 to 105 (85)","Bulk (Bag packing)",1000,"https://industrial.panasonic.com/ww/products/pt/film-cap-electroequip/models/ECWFE2W104Q5","≤18","≤ 5","≤10.5",{"$f":"pana_film[[#This Row],[Body length / dia\n(mm)]]&\" x \"&pana_film[[#This Row],[Body width\n(mm)]]","v":"17.5 x 5"},"-","-"]
[null,"Std","box","PP","No","ECWFE","ECWFE2J684KA",630,"DC",0.68,"±10",17.5,11,17.5,15,"Short cut lead wire type","-40 to 105 (85)","Bulk (Bag packing)",600,"https://industrial.panasonic.com/ww/products/pt/film-cap-electroequip/models/ECWFE2J684KA","≤18","≤11","≤17.5",{"$f":"pana_film[[#This Row],[Body length / dia\n(mm)]]&\" x \"&pana_film[[#This Row],[Body width\n(mm)]]","v":"17.5 x 11"},"-","-"]
[null,"Std","box","PP","No","ECWFE","ECWFE2J684J",630,"DC",0.68,"± 5",17.5,11,17.5,15,"Straight lead wire type","-40 to 105 (85)","Bulk (Bag packing)",600,"https://industrial.panasonic.com/ww/products/pt/film-cap-electroequip/models/ECWFE2J684J","≤18","≤11","≤17.5",{"$f":"pana_film[[#This Row],[Body length / dia\n(mm)]]&\" x \"&pana_film[[#This Row],[Body width\n(mm)]]","v":"17.5 x 11"},"-","-"]
[null,"Std","box","PP","No","ECWFE","ECWFE2J334QD",630,"DC",0.33,"±10",26,7,14,22.5,"Short cut lead wire type","-40 to 105 (85)","Bulk (Bag packing)",500,"https://industrial.panasonic.com/ww/products/pt/film-cap-electroequip/models/ECWFE2J334QD","≤26","≤ 7","≤14",{"$f":"pana_film[[#This Row],[Body length / dia\n(mm)]]&\" x \"&pana_film[[#This Row],[Body width\n(mm)]]","v":"26 x 7"},"-","-"]
[null,"Std","box","PP","No","ECWFE","ECWFE2J334K",630,"DC",0.33,"±10",17.5,8.5,14.5,15,"Straight lead wire type","-40 to 105 (85)","Bulk (Bag packing)",1000,"https://industrial.panasonic.com/ww/products/pt/film-cap-electroequip/models/ECWFE2J334K","≤18","≤ 9","≤14.5",{"$f":"pana_film[[#This Row],[Body length / dia\n(mm)]]&\" x \"&pana_film[[#This Row],[Body width\n(mm)]]","v":"17.5 x 8.5"},"-","-"]
[null,"Std","box","PP","No","ECWFE","ECWFE2J225P5",630,"DC",2.2000000000000002,"± 5",31,13,23,27.5,"Straight lead wire type","-40 to 105 (85)","Bulk (Bag packing)",200,"https://industrial.panasonic.com/ww/products/pt/film-cap-electroequip/models/ECWFE2J225P5","≤31","≤13","≤23",{"$f":"pana_film[[#This Row],[Body length / dia\n(mm)]]&\" x \"&pana_film[[#This Row],[Body width\n(mm)]]","v":"31 x 13"},"-","-"]
[null,"Std","box","PP","No","ECWFE","ECWFE2J224PD",630,"DC",0.22,"± 5",26,6,13,22.5,"Short cut lead wire type","-40 to 105 (85)","Bulk (Bag packing)",700,"https://industrial.panasonic.com/ww/products/pt/film-cap-electroequip/models/ECWFE2J224PD","≤26","≤ 6","≤13",{"$f":"pana_film[[#This Row],[Body length / dia\n(mm)]]&\" x \"&pana_film[[#This Row],[Body width\n(mm)]]","v":"26 x 6"},"-","-"]
[null,"Std","box","PP","No","ECWFE","ECWFE2J224K",630,"DC",0.22,"±10",17.5,7,12.5,15,"Straight lead wire type","-40 to 105 (85)","Bulk (Bag packing)",1000,"https://industrial.panasonic.com/ww/products/pt/film-cap-electroequip/models/ECWFE2J224K","≤18","≤ 7","≤12.5",{"$f":"pana_film[[#This Row],[Body length / dia\n(mm)]]&\" x \"&pana_film[[#This Row],[Body width\n(mm)]]","v":"17.5 x 7"},"-","-"]
[null,"Std","box","PP","No","ECWFE","ECWFE2J155JA",630,"DC",1.5,"± 5",26,12,19,22.5,"Short cut lead wire type","-40 to 105 (85)","Bulk (Bag packing)",200,"https://industrial.panasonic.com/ww/products/pt/film-cap-electroequip/models/ECWFE2J155JA","≤26","≤12","≤19",{"$f":"pana_film[[#This Row],[Body length / dia\n(mm)]]&\" x \"&pana_film[[#This Row],[Body width\n(mm)]]","v":"26 x 12"},"-","-"]
[null,"Std","box","PP","No","ECWFE","ECWFE2J154K",630,"DC",0.15,"±10",17.5,6,11.5,15,"Straight lead wire type","-40 to 105 (85)","Bulk (Bag packing)",1000,"https://industrial.panasonic.com/ww/products/pt/film-cap-electroequip/models/ECWFE2J154K","≤18","≤ 6","≤11.5",{"$f":"pana_film[[#This Row],[Body length / dia\n(mm)]]&\" x \"&pana_film[[#This Row],[Body width\n(mm)]]","v":"17.5 x 6"},"-","-"]
[null,"Std","box","PP","No","ECWFE","ECWFE2J105PD",630,"DC",1,"± 5",31,9,19,27.5,"Short cut lead wire type","-40 to 105 (85)","Bulk (Bag packing)",300,"https://industrial.panasonic.com/ww/products/pt/film-cap-electroequip/models/ECWFE2J105PD","≤31","≤ 9","≤19",{"$f":"pana_film[[#This Row],[Body length / dia\n(mm)]]&\" x \"&pana_film[[#This Row],[Body width\n(mm)]]","v":"31 x 9"},"-","-"]
[null,"Std","box","PP","No","ECWFE","ECWFE2J104QD",630,"DC",0.1,"±10",26,6,13,22.5,"Short cut lead wire type","-40 to 105 (85)","Bulk (Bag packing)",700,"https://industrial.panasonic.com/ww/products/pt/film-cap-electroequip/models/ECWFE2J104QD","≤26","≤ 6","≤13",{"$f":"pana_film[[#This Row],[Body length / dia\n(mm)]]&\" x \"&pana_film[[#This Row],[Body width\n(mm)]]","v":"26 x 6"},"-","-"]
[null,"Std","box","PP","No","ECWFE","ECWFE2J104P5",630,"DC",0.1,"± 5",26,6,13,22.5,"Straight lead wire type","-40 to 105 (85)","Bulk (Bag packing)",900,"https://industrial.panasonic.com/ww/products/pt/film-cap-electroequip/models/ECWFE2J104P5","≤26","≤ 6","≤13",{"$f":"pana_film[[#This Row],[Body length / dia\n(mm)]]&\" x \"&pana_film[[#This Row],[Body width\n(mm)]]","v":"26 x 6"},"-","-"]
[null,"Std","dip","PP","No","ECWFD","ECWFD2W824K",450,"DC",0.82,"±10",17.5,7.2,10.4,15,"Straight lead wire type","-40 to 110","Bulk (Bag packing)",1000,"https://industrial.panasonic.com/ww/products/pt/film-cap-electroequip/models/ECWFD2W824K","≤18","≤ 8","≤10.5",{"$f":"pana_film[[#This Row],[Body length / dia\n(mm)]]&\" x \"&pana_film[[#This Row],[Body width\n(mm)]]","v":"17.5 x 7.2"},"-","-"]
[null,"Std","dip","PP","No","ECWFD","ECWFD2W684QC",450,"DC",0.68,"±10",12.6,7.7,12.4,10,"Short cut lead wire type","-40 to 110","Bulk (Bag packing)",1000,"https://industrial.panasonic.com/ww/products/pt/film-cap-electroequip/models/ECWFD2W684QC","≤13","≤ 8","≤12.5",{"$f":"pana_film[[#This Row],[Body length / dia\n(mm)]]&\" x \"&pana_film[[#This Row],[Body width\n(mm)]]","v":"12.6 x 7.7"},"-","-"]
[null,"Std","dip","PP","No","ECWFD","ECWFD2W684Q3",450,"DC",0.68,"±10",12.6,7.7,17.399999999999999,5,"Inner crimped lead wire type (Style B)","-40 to 110","12.7P crimped lead taping (ammo packing)",800,"https://industrial.panasonic.com/ww/products/pt/film-cap-electroequip/models/ECWFD2W684Q3","≤13","≤ 8","≤17.5",{"$f":"pana_film[[#This Row],[Body length / dia\n(mm)]]&\" x \"&pana_film[[#This Row],[Body width\n(mm)]]","v":"12.6 x 7.7"},"-","-"]
[null,"Std","dip","PP","No","ECWFD","ECWFD2W684KC",450,"DC",0.68,"±10",17.5,6.7,9.9,15,"Short cut lead wire type","-40 to 110","Bulk (Bag packing)",1000,"https://industrial.panasonic.com/ww/products/pt/film-cap-electroequip/models/ECWFD2W684KC","≤18","≤ 7","≤10",{"$f":"pana_film[[#This Row],[Body length / dia\n(mm)]]&\" x \"&pana_film[[#This Row],[Body width\n(mm)]]","v":"17.5 x 6.7"},"-","-"]
[null,"Std","dip","PP","No","ECWFD","ECWFD2W684J",450,"DC",0.68,"± 5",17.5,6.7,9.9,15,"Straight lead wire type","-40 to 110","Bulk (Bag packing)",1000,"https://industrial.panasonic.com/ww/products/pt/film-cap-electroequip/models/ECWFD2W684J","≤18","≤ 7","≤10",{"$f":"pana_film[[#This Row],[Body length / dia\n(mm)]]&\" x \"&pana_film[[#This Row],[Body width\n(mm)]]","v":"17.5 x 6.7"},"-","-"]
[null,"Std","dip","PP","No","ECWFD","ECWFD2W564KB",450,"DC",0.56000000000000005,"±10",17.5,6.2,14.4,7.5,"Inner crimped lead wire type (Style B)","-40 to 110","Bulk (Bag packing)",1000,"https://industrial.panasonic.com/ww/products/pt/film-cap-electroequip/models/ECWFD2W564KB","≤18","≤ 7","≤14.5",{"$f":"pana_film[[#This Row],[Body length / dia\n(mm)]]&\" x \"&pana_film[[#This Row],[Body width\n(mm)]]","v":"17.5 x 6.2"},"-","-"]
[null,"Std","dip","PP","No","ECWFD","ECWFD2W564J",450,"DC",0.56000000000000005,"± 5",17.5,6.2,9.4,15,"Straight lead wire type","-40 to 110","Bulk (Bag packing)",1000,"https://industrial.panasonic.com/ww/products/pt/film-cap-electroequip/models/ECWFD2W564J","≤18","≤ 7","≤ 9.5",{"$f":"pana_film[[#This Row],[Body length / dia\n(mm)]]&\" x \"&pana_film[[#This Row],[Body width\n(mm)]]","v":"17.5 x 6.2"},"-","-"]
[null,"Std","dip","PP","No","ECWFD","ECWFD2W475KB",450,"DC",4.7,"±10",25.3,11.7,21.4,15,"Inner crimped lead wire type (Style B)","-40 to 110","Bulk (Bag packing)",600,"https://industrial.panasonic.com/ww/products/pt/film-cap-electroequip/models/ECWFD2W475KB","≤26","≤12","≤21.5",{"$f":"pana_film[[#This Row],[Body length / dia\n(mm)]]&\" x \"&pana_film[[#This Row],[Body width\n(mm)]]","v":"25.3 x 11.7"},"-","-"]
[null,"Std","dip","PP","No","ECWFD","ECWFD2W474Q4",450,"DC",0.47,"±10",12.6,6.5,16.2,7.5,"Inner crimped lead wire type (Style B)","-40 to 110","15.0P crimped lead taping (ammo packing)",900,"https://industrial.panasonic.com/ww/products/pt/film-cap-electroequip/models/ECWFD2W474Q4","≤13","≤ 7","≤16.5",{"$f":"pana_film[[#This Row],[Body length / dia\n(mm)]]&\" x \"&pana_film[[#This Row],[Body width\n(mm)]]","v":"12.6 x 6.5"},"-","-"]
[null,"Std","dip","PP","No","ECWFD","ECWFD2W474PC",450,"DC",0.47,"± 5",12.6,6.5,11.2,10,"Short cut lead wire type","-40 to 110","Bulk (Bag packing)",1000,"https://industrial.panasonic.com/ww/products/pt/film-cap-electroequip/models/ECWFD2W474PC","≤13","≤ 7","≤11.5",{"$f":"pana_film[[#This Row],[Body length / dia\n(mm)]]&\" x \"&pana_film[[#This Row],[Body width\n(mm)]]","v":"12.6 x 6.5"},"-","-"]
[null,"Std","dip","PP","No","ECWFD","ECWFD2W474KB",450,"DC",0.47,"±10",17.5,5.8,14,7.5,"Inner crimped lead wire type (Style B)","-40 to 110","Bulk (Bag packing)",1000,"https://industrial.panasonic.com/ww/products/pt/film-cap-electroequip/models/ECWFD2W474KB","≤18","≤ 6","≤14",{"$f":"pana_film[[#This Row],[Body length / dia\n(mm)]]&\" x \"&pana_film[[#This Row],[Body width\n(mm)]]","v":"17.5 x 5.8"},"-","-"]
[null,"Std","dip","PP","No","ECWFD","ECWFD2W474J",450,"DC",0.47,"± 5",17.5,5.8,9,15,"Straight lead wire type","-40 to 110","Bulk (Bag packing)",1000,"https://industrial.panasonic.com/ww/products/pt/film-cap-electroequip/models/ECWFD2W474J","≤18","≤ 6","≤ 9",{"$f":"pana_film[[#This Row],[Body length / dia\n(mm)]]&\" x \"&pana_film[[#This Row],[Body width\n(mm)]]","v":"17.5 x 5.8"},"-","-"]
[null,"Std","dip","PP","No","ECWFD","ECWFD2W394KQ",450,"DC",0.39,"±10",12.6,6,15.7,10,"Crimped lead wire type (Style D)","-40 to 110","Bulk (Bag packing)",1000,"https://industrial.panasonic.com/ww/products/pt/film-cap-electroequip/models/ECWFD2W394KQ","≤13","≤ 6","≤16",{"$f":"pana_film[[#This Row],[Body length / dia\n(mm)]]&\" x \"&pana_film[[#This Row],[Body width\n(mm)]]","v":"12.6 x 6"},"-","-"]
[null,"Std","dip","PP","No","ECWFD","ECWFD2W394K3",450,"DC",0.39,"±10",12.6,6,15.7,5,"Inner crimped lead wire type (Style B)","-40 to 110","12.7P crimped lead taping (ammo packing)",1100,"https://industrial.panasonic.com/ww/products/pt/film-cap-electroequip/models/ECWFD2W394K3","≤13","≤ 6","≤16",{"$f":"pana_film[[#This Row],[Body length / dia\n(mm)]]&\" x \"&pana_film[[#This Row],[Body width\n(mm)]]","v":"12.6 x 6"},"-","-"]
[null,"Std","dip","PP","No","ECWFD","ECWFD2W335KB",450,"DC",3.3,"±10",25.3,9.8000000000000007,19.600000000000001,15,"Inner crimped lead wire type (Style B)","-40 to 110","Bulk (Bag packing)",1000,"https://industrial.panasonic.com/ww/products/pt/film-cap-electroequip/models/ECWFD2W335KB","≤26","≤10","≤20",{"$f":"pana_film[[#This Row],[Body length / dia\n(mm)]]&\" x \"&pana_film[[#This Row],[Body width\n(mm)]]","v":"25.3 x 9.8"},"-","-"]
[null,"Std","dip","PP","No","ECWFD","ECWFD2W335JB",450,"DC",3.3,"± 5",25.3,9.8000000000000007,19.600000000000001,15,"Inner crimped lead wire type (Style B)","-40 to 110","Bulk (Bag packing)",1000,"https://industrial.panasonic.com/ww/products/pt/film-cap-electroequip/models/ECWFD2W335JB","≤26","≤10","≤20",{"$f":"pana_film[[#This Row],[Body length / dia\n(mm)]]&\" x \"&pana_film[[#This Row],[Body width\n(mm)]]","v":"25.3 x 9.8"},"-","-"]
[null,"Std","dip","PP","No","ECWFD","ECWFD2W334J3",450,"DC",0.33,"± 5",12.6,5.6,15.4,5,"Inner crimped lead wire type (Style B)","-40 to 110","12.7P crimped lead taping (ammo packing)",1200,"https://industrial.panasonic.com/ww/products/pt/film-cap-electroequip/models/ECWFD2W334J3","≤13","≤ 6","≤15.5",{"$f":"pana_film[[#This Row],[Body length / dia\n(mm)]]&\" x \"&pana_film[[#This Row],[Body width\n(mm)]]","v":"12.6 x 5.6"},"-","-"]
[null,"Std","dip","PP","No","ECWFD","ECWFD2W275JB",450,"DC",2.7,"± 5",25.3,9,18.7,15,"Inner crimped lead wire type (Style B)","-40 to 110","Bulk (Bag packing)",1000,"https://industrial.panasonic.com/ww/products/pt/film-cap-electroequip/models/ECWFD2W275JB","≤26","≤ 9","≤19",{"$f":"pana_film[[#This Row],[Body length / dia\n(mm)]]&\" x \"&pana_film[[#This Row],[Body width\n(mm)]]","v":"25.3 x 9"},"-","-"]
[null,"Std","dip","PP","No","ECWFD","ECWFD2W274KB",450,"DC",0.27,"±10",12.6,5.3,15,7.5,"Inner crimped lead wire type (Style B)","-40 to 110","Bulk (Bag packing)",1000,"https://industrial.panasonic.com/ww/products/pt/film-cap-electroequip/models/ECWFD2W274KB","≤13","≤ 6","≤15",{"$f":"pana_film[[#This Row],[Body length / dia\n(mm)]]&\" x \"&pana_film[[#This Row],[Body width\n(mm)]]","v":"12.6 x 5.3"},"-","-"]
[null,"Std","dip","PP","No","ECWFD","ECWFD2W225KQ",450,"DC",2.2000000000000002,"±10",17.5,11.1,21.3,15,"Crimped lead wire type (Style D)","-40 to 110","Bulk (Bag packing)",1000,"https://industrial.panasonic.com/ww/products/pt/film-cap-electroequip/models/ECWFD2W225KQ","≤18","≤12","≤21.5",{"$f":"pana_film[[#This Row],[Body length / dia\n(mm)]]&\" x \"&pana_film[[#This Row],[Body width\n(mm)]]","v":"17.5 x 11.1"},"-","-"]
[null,"Std","dip","PP","No","ECWFD","ECWFD2W225J",450,"DC",2.2000000000000002,"± 5",17.5,11.1,14.3,15,"Straight lead wire type","-40 to 110","Bulk (Bag packing)",1000,"https://industrial.panasonic.com/ww/products/pt/film-cap-electroequip/models/ECWFD2W225J","≤18","≤12","≤14.5",{"$f":"pana_film[[#This Row],[Body length / dia\n(mm)]]&\" x \"&pana_film[[#This Row],[Body width\n(mm)]]","v":"17.5 x 11.1"},"-","-"]
[null,"Std","dip","PP","No","ECWFD","ECWFD2W224KB",450,"DC",0.22,"±10",12.6,5,14.6,7.5,"Inner crimped lead wire type (Style B)","-40 to 110","Bulk (Bag packing)",1000,"https://industrial.panasonic.com/ww/products/pt/film-cap-electroequip/models/ECWFD2W224KB","≤13","≤ 5","≤15",{"$f":"pana_film[[#This Row],[Body length / dia\n(mm)]]&\" x \"&pana_film[[#This Row],[Body width\n(mm)]]","v":"12.6 x 5"},"-","-"]
[null,"Std","dip","PP","No","ECWFD","ECWFD2W185KB",450,"DC",1.8,"±10",17.5,10.1,18.3,7.5,"Inner crimped lead wire type (Style B)","-40 to 110","Bulk (Bag packing)",1000,"https://industrial.panasonic.com/ww/products/pt/film-cap-electroequip/models/ECWFD2W185KB","≤18","≤11","≤18.5",{"$f":"pana_film[[#This Row],[Body length / dia\n(mm)]]&\" x \"&pana_film[[#This Row],[Body width\n(mm)]]","v":"17.5 x 10.1"},"-","-"]
[null,"Std","dip","PP","No","ECWFD","ECWFD2W185JQ",450,"DC",1.8,"± 5",17.5,10.1,20.3,15,"Crimped lead wire type (Style D)","-40 to 110","Bulk (Bag packing)",1000,"https://industrial.panasonic.com/ww/products/pt/film-cap-electroequip/models/ECWFD2W185JQ","≤18","≤11","≤20.5",{"$f":"pana_film[[#This Row],[Body length / dia\n(mm)]]&\" x \"&pana_film[[#This Row],[Body width\n(mm)]]","v":"17.5 x 10.1"},"-","-"]
[null,"Std","dip","PP","No","ECWFD","ECWFD2W184JQ",450,"DC",0.18,"± 5",12.6,4.8,14.3,10,"Crimped lead wire type (Style D)","-40 to 110","Bulk (Bag packing)",1000,"https://industrial.panasonic.com/ww/products/pt/film-cap-electroequip/models/ECWFD2W184JQ","≤13","≤ 5","≤14.5",{"$f":"pana_film[[#This Row],[Body length / dia\n(mm)]]&\" x \"&pana_film[[#This Row],[Body width\n(mm)]]","v":"12.6 x 4.8"},"-","-"]
[null,"Std","dip","PP","No","ECWFD","ECWFD2W155K4",450,"DC",1.5,"±10",17.5,9.3000000000000007,17.5,7.5,"Inner crimped lead wire type (Style B)","-40 to 110","30.0P crimped lead taping (ammo packing)",300,"https://industrial.panasonic.com/ww/products/pt/film-cap-electroequip/models/ECWFD2W155K4","≤18","≤10","≤17.5",{"$f":"pana_film[[#This Row],[Body length / dia\n(mm)]]&\" x \"&pana_film[[#This Row],[Body width\n(mm)]]","v":"17.5 x 9.3"},"-","-"]
[null,"Std","dip","PP","No","ECWFD","ECWFD2W155JC",450,"DC",1.5,"± 5",17.5,9.3000000000000007,12.5,15,"Short cut lead wire type","-40 to 110","Bulk (Bag packing)",1000,"https://industrial.panasonic.com/ww/products/pt/film-cap-electroequip/models/ECWFD2W155JC","≤18","≤10","≤12.5",{"$f":"pana_film[[#This Row],[Body length / dia\n(mm)]]&\" x \"&pana_film[[#This Row],[Body width\n(mm)]]","v":"17.5 x 9.3"},"-","-"]
[null,"Std","dip","PP","No","ECWFD","ECWFD2W154K3",450,"DC",0.15,"±10",12.6,4.5999999999999996,14.1,5,"Inner crimped lead wire type (Style B)","-40 to 110","12.7P crimped lead taping (ammo packing)",1500,"https://industrial.panasonic.com/ww/products/pt/film-cap-electroequip/models/ECWFD2W154K3","≤13","≤ 5","≤14.5",{"$f":"pana_film[[#This Row],[Body length / dia\n(mm)]]&\" x \"&pana_film[[#This Row],[Body width\n(mm)]]","v":"12.6 x 4.6"},"-","-"]
[null,"Std","dip","PP","No","ECWFD","ECWFD2W125JQ",450,"DC",1.2,"± 5",17.5,8.5,18.600000000000001,15,"Crimped lead wire type (Style D)","-40 to 110","Bulk (Bag packing)",1000,"https://industrial.panasonic.com/ww/products/pt/film-cap-electroequip/models/ECWFD2W125JQ","≤18","≤ 9","≤19",{"$f":"pana_film[[#This Row],[Body length / dia\n(mm)]]&\" x \"&pana_film[[#This Row],[Body width\n(mm)]]","v":"17.5 x 8.5"},"-","-"]
[null,"Std","dip","PP","No","ECWFD","ECWFD2W125J4",450,"DC",1.2,"± 5",17.5,8.5,16.600000000000001,7.5,"Inner crimped lead wire type (Style B)","-40 to 110","30.0P crimped lead taping (ammo packing)",300,"https://industrial.panasonic.com/ww/products/pt/film-cap-electroequip/models/ECWFD2W125J4","≤18","≤ 9","≤17",{"$f":"pana_film[[#This Row],[Body length / dia\n(mm)]]&\" x \"&pana_film[[#This Row],[Body width\n(mm)]]","v":"17.5 x 8.5"},"-","-"]
[null,"Std","dip","PP","No","ECWFD","ECWFD2W124JB",450,"DC",0.12,"± 5",12.6,4.5999999999999996,14,7.5,"Inner crimped lead wire type (Style B)","-40 to 110","Bulk (Bag packing)",1000,"https://industrial.panasonic.com/ww/products/pt/film-cap-electroequip/models/ECWFD2W124JB","≤13","≤ 5","≤14",{"$f":"pana_film[[#This Row],[Body length / dia\n(mm)]]&\" x \"&pana_film[[#This Row],[Body width\n(mm)]]","v":"12.6 x 4.6"},"-","-"]
[null,"Std","dip","PP","No","ECWFD","ECWFD2W105QQ",450,"DC",1,"±10",12.6,9.1999999999999993,18.899999999999999,10,"Crimped lead wire type (Style D)","-40 to 110","Bulk (Bag packing)",1000,"https://industrial.panasonic.com/ww/products/pt/film-cap-electroequip/models/ECWFD2W105QQ","≤13","≤10","≤19",{"$f":"pana_film[[#This Row],[Body length / dia\n(mm)]]&\" x \"&pana_film[[#This Row],[Body width\n(mm)]]","v":"12.6 x 9.2"},"-","-"]
[null,"Std","dip","PP","No","ECWFD","ECWFD2W105PC",450,"DC",1,"± 5",12.6,9.1999999999999993,13.9,10,"Short cut lead wire type","-40 to 110","Bulk (Bag packing)",1000,"https://industrial.panasonic.com/ww/products/pt/film-cap-electroequip/models/ECWFD2W105PC","≤13","≤10","≤14",{"$f":"pana_film[[#This Row],[Body length / dia\n(mm)]]&\" x \"&pana_film[[#This Row],[Body width\n(mm)]]","v":"12.6 x 9.2"},"-","-"]
[null,"Std","dip","PP","No","ECWFD","ECWFD2W105K",450,"DC",1,"±10",17.5,7.8,11,15,"Straight lead wire type","-40 to 110","Bulk (Bag packing)",1000,"https://industrial.panasonic.com/ww/products/pt/film-cap-electroequip/models/ECWFD2W105K","≤18","≤ 8","≤11",{"$f":"pana_film[[#This Row],[Body length / dia\n(mm)]]&\" x \"&pana_film[[#This Row],[Body width\n(mm)]]","v":"17.5 x 7.8"},"-","-"]
[null,"Std","dip","PP","No","ECWFD","ECWFD2W104K4",450,"DC",0.1,"±10",12.6,4.5,13.9,7.5,"Inner crimped lead wire type (Style B)","-40 to 110","15.0P crimped lead taping (ammo packing)",1400,"https://industrial.panasonic.com/ww/products/pt/film-cap-electroequip/models/ECWFD2W104K4","≤13","≤ 5","≤14",{"$f":"pana_film[[#This Row],[Body length / dia\n(mm)]]&\" x \"&pana_film[[#This Row],[Body width\n(mm)]]","v":"12.6 x 4.5"},"-","-"]
[null,"Std","dip","PP","No","ECWFD","ECWFD2W104JB",450,"DC",0.1,"± 5",12.6,4.5,13.9,7.5,"Inner crimped lead wire type (Style B)","-40 to 110","Bulk (Bag packing)",1000,"https://industrial.panasonic.com/ww/products/pt/film-cap-electroequip/models/ECWFD2W104JB","≤13","≤ 5","≤14",{"$f":"pana_film[[#This Row],[Body length / dia\n(mm)]]&\" x \"&pana_film[[#This Row],[Body width\n(mm)]]","v":"12.6 x 4.5"},"-","-"]
[null,"Std","dip","PP","No","ECWFD","ECWFD2J824JC",630,"DC",0.82,"± 5",17.8,10.199999999999999,15.1,15,"Short cut lead wire type","-40 to 105 (85)","Bulk (Bag packing)",1000,"https://industrial.panasonic.com/ww/products/pt/film-cap-electroequip/models/ECWFD2J824JC","≤18","≤11","≤15.5",{"$f":"pana_film[[#This Row],[Body length / dia\n(mm)]]&\" x \"&pana_film[[#This Row],[Body width\n(mm)]]","v":"17.8 x 10.2"},"-","-"]
[null,"Std","dip","PP","No","ECWFD","ECWFD2J824J",630,"DC",0.82,"± 5",17.8,10.199999999999999,15.1,15,"Straight lead wire type","-40 to 105 (85)","Bulk (Bag packing)",1000,"https://industrial.panasonic.com/ww/products/pt/film-cap-electroequip/models/ECWFD2J824J","≤18","≤11","≤15.5",{"$f":"pana_film[[#This Row],[Body length / dia\n(mm)]]&\" x \"&pana_film[[#This Row],[Body width\n(mm)]]","v":"17.8 x 10.2"},"-","-"]
[null,"Std","dip","PP","No","ECWFD","ECWFD2J684KQ",630,"DC",0.68,"±10",17.8,9.3000000000000007,21.2,15,"Crimped lead wire type (Style D)","-40 to 105 (85)","Bulk (Bag packing)",1000,"https://industrial.panasonic.com/ww/products/pt/film-cap-electroequip/models/ECWFD2J684KQ","≤18","≤10","≤21.5",{"$f":"pana_film[[#This Row],[Body length / dia\n(mm)]]&\" x \"&pana_film[[#This Row],[Body width\n(mm)]]","v":"17.8 x 9.3"},"-","-"]
[null,"Std","dip","PP","No","ECWFD","ECWFD2J684K4",630,"DC",0.68,"±10",17.8,9.3000000000000007,14.2,7.5,"Inner crimped lead wire type (Style B)","-40 to 105 (85)","30.0P crimped lead taping (ammo packing)",300,"https://industrial.panasonic.com/ww/products/pt/film-cap-electroequip/models/ECWFD2J684K4","≤18","≤10","≤14.5",{"$f":"pana_film[[#This Row],[Body length / dia\n(mm)]]&\" x \"&pana_film[[#This Row],[Body width\n(mm)]]","v":"17.8 x 9.3"},"-","-"]
[null,"Std","dip","PP","No","ECWFD","ECWFD2J683K4",630,"DC",6.8000000000000005E-2,"±10",12.6,5,8.4,7.5,"Inner crimped lead wire type (Style B)","-40 to 105 (85)","15.0P crimped lead taping (ammo packing)",1200,"https://industrial.panasonic.com/ww/products/pt/film-cap-electroequip/models/ECWFD2J683K4","≤13","≤ 5","≤ 8.5",{"$f":"pana_film[[#This Row],[Body length / dia\n(mm)]]&\" x \"&pana_film[[#This Row],[Body width\n(mm)]]","v":"12.6 x 5"},"-","-"]
[null,"Std","dip","PP","No","ECWFD","ECWFD2J564K",630,"DC",0.56000000000000005,"±10",17.8,8.4,13.3,15,"Straight lead wire type","-40 to 105 (85)","Bulk (Bag packing)",1000,"https://industrial.panasonic.com/ww/products/pt/film-cap-electroequip/models/ECWFD2J564K","≤18","≤ 9","≤13.5",{"$f":"pana_film[[#This Row],[Body length / dia\n(mm)]]&\" x \"&pana_film[[#This Row],[Body width\n(mm)]]","v":"17.8 x 8.4"},"-","-"]
[null,"Std","dip","PP","No","ECWFD","ECWFD2J564JB",630,"DC",0.56000000000000005,"± 5",17.8,8.4,18.3,7.5,"Inner crimped lead wire type (Style B)","-40 to 105 (85)","Bulk (Bag packing)",1000,"https://industrial.panasonic.com/ww/products/pt/film-cap-electroequip/models/ECWFD2J564JB","≤18","≤ 9","≤18.5",{"$f":"pana_film[[#This Row],[Body length / dia\n(mm)]]&\" x \"&pana_film[[#This Row],[Body width\n(mm)]]","v":"17.8 x 8.4"},"-","-"]
[null,"Std","dip","PP","No","ECWFD","ECWFD2J563JB",630,"DC",5.6000000000000001E-2,"± 5",12.6,4.7,13.1,7.5,"Inner crimped lead wire type (Style B)","-40 to 105 (85)","Bulk (Bag packing)",1000,"https://industrial.panasonic.com/ww/products/pt/film-cap-electroequip/models/ECWFD2J563JB","≤13","≤ 5","≤13.5",{"$f":"pana_film[[#This Row],[Body length / dia\n(mm)]]&\" x \"&pana_film[[#This Row],[Body width\n(mm)]]","v":"12.6 x 4.7"},"-","-"]
[null,"Std","dip","PP","No","ECWFD","ECWFD2J475J",630,"DC",4.7,"± 5",25.3,18.3,23.9,22.5,"Straight lead wire type","-40 to 105 (85)","Bulk (Bag packing)",300,"https://industrial.panasonic.com/ww/products/pt/film-cap-electroequip/models/ECWFD2J475J","≤26","≤19","≤24",{"$f":"pana_film[[#This Row],[Body length / dia\n(mm)]]&\" x \"&pana_film[[#This Row],[Body width\n(mm)]]","v":"25.3 x 18.3"},"-","-"]
[null,"Std","dip","PP","No","ECWFD","ECWFD2J474KB",630,"DC",0.47,"±10",17.8,7.8,17.7,7.5,"Inner crimped lead wire type (Style B)","-40 to 105 (85)","Bulk (Bag packing)",1000,"https://industrial.panasonic.com/ww/products/pt/film-cap-electroequip/models/ECWFD2J474KB","≤18","≤ 8","≤18",{"$f":"pana_film[[#This Row],[Body length / dia\n(mm)]]&\" x \"&pana_film[[#This Row],[Body width\n(mm)]]","v":"17.8 x 7.8"},"-","-"]
[null,"Std","dip","PP","No","ECWFD","ECWFD2J474J",630,"DC",0.47,"± 5",17.8,7.8,12.7,15,"Straight lead wire type","-40 to 105 (85)","Bulk (Bag packing)",1000,"https://industrial.panasonic.com/ww/products/pt/film-cap-electroequip/models/ECWFD2J474J","≤18","≤ 8","≤13",{"$f":"pana_film[[#This Row],[Body length / dia\n(mm)]]&\" x \"&pana_film[[#This Row],[Body width\n(mm)]]","v":"17.8 x 7.8"},"-","-"]
[null,"Std","dip","PP","No","ECWFD","ECWFD2J473JQ",630,"DC",4.7E-2,"± 5",12.6,4.4000000000000004,12.8,10,"Crimped lead wire type (Style D)","-40 to 105 (85)","Bulk (Bag packing)",1000,"https://industrial.panasonic.com/ww/products/pt/film-cap-electroequip/models/ECWFD2J473JQ","≤13","≤ 5","≤13",{"$f":"pana_film[[#This Row],[Body length / dia\n(mm)]]&\" x \"&pana_film[[#This Row],[Body width\n(mm)]]","v":"12.6 x 4.4"},"-","-"]
[null,"Std","dip","PP","No","ECWFD","ECWFD2J395JQ",630,"DC",3.9,"± 5",25.3,16.600000000000001,29.1,22.5,"Crimped lead wire type (Style D)","-40 to 105 (85)","Bulk (Bag packing)",500,"https://industrial.panasonic.com/ww/products/pt/film-cap-electroequip/models/ECWFD2J395JQ","≤26","≤17","≤29.5",{"$f":"pana_film[[#This Row],[Body length / dia\n(mm)]]&\" x \"&pana_film[[#This Row],[Body width\n(mm)]]","v":"25.3 x 16.6"},"-","-"]
[null,"Std","dip","PP","No","ECWFD","ECWFD2J394JQ",630,"DC",0.39,"± 5",17.8,7.1,19,15,"Crimped lead wire type (Style D)","-40 to 105 (85)","Bulk (Bag packing)",1000,"https://industrial.panasonic.com/ww/products/pt/film-cap-electroequip/models/ECWFD2J394JQ","≤18","≤ 8","≤19",{"$f":"pana_film[[#This Row],[Body length / dia\n(mm)]]&\" x \"&pana_film[[#This Row],[Body width\n(mm)]]","v":"17.8 x 7.1"},"-","-"]
[null,"Std","dip","PP","No","ECWFD","ECWFD2J394J4",630,"DC",0.39,"± 5",17.8,7.1,12,7.5,"Inner crimped lead wire type (Style B)","-40 to 105 (85)","30.0P crimped lead taping (ammo packing)",400,"https://industrial.panasonic.com/ww/products/pt/film-cap-electroequip/models/ECWFD2J394J4","≤18","≤ 8","≤12",{"$f":"pana_film[[#This Row],[Body length / dia\n(mm)]]&\" x \"&pana_film[[#This Row],[Body width\n(mm)]]","v":"17.8 x 7.1"},"-","-"]
[null,"Std","dip","PP","No","ECWFD","ECWFD2J335KC",630,"DC",3.3,"±10",25.3,15.3,20.7,22.5,"Short cut lead wire type","-40 to 105 (85)","Bulk (Bag packing)",600,"https://industrial.panasonic.com/ww/products/pt/film-cap-electroequip/models/ECWFD2J335KC","≤26","≤16","≤21",{"$f":"pana_film[[#This Row],[Body length / dia\n(mm)]]&\" x \"&pana_film[[#This Row],[Body width\n(mm)]]","v":"25.3 x 15.3"},"-","-"]
[null,"Std","dip","PP","No","ECWFD","ECWFD2J334KQ",630,"DC",0.33,"±10",17.8,6.6,18.5,15,"Crimped lead wire type (Style D)","-40 to 105 (85)","Bulk (Bag packing)",1000,"https://industrial.panasonic.com/ww/products/pt/film-cap-electroequip/models/ECWFD2J334KQ","≤18","≤ 7","≤18.5",{"$f":"pana_film[[#This Row],[Body length / dia\n(mm)]]&\" x \"&pana_film[[#This Row],[Body width\n(mm)]]","v":"17.8 x 6.6"},"-","-"]
[null,"Std","dip","PP","No","ECWFD","ECWFD2J334K",630,"DC",0.33,"±10",17.8,6.6,11.5,15,"Straight lead wire type","-40 to 105 (85)","Bulk (Bag packing)",1000,"https://industrial.panasonic.com/ww/products/pt/film-cap-electroequip/models/ECWFD2J334K","≤18","≤ 7","≤11.5",{"$f":"pana_film[[#This Row],[Body length / dia\n(mm)]]&\" x \"&pana_film[[#This Row],[Body width\n(mm)]]","v":"17.8 x 6.6"},"-","-"]
[null,"Std","dip","PP","No","ECWFD","ECWFD2J333JB",630,"DC",3.3000000000000002E-2,"± 5",12.6,7.5,15.5,7.5,"Inner crimped lead wire type (Style B)","-40 to 105 (85)","Bulk (Bag packing)",1000,"https://industrial.panasonic.com/ww/products/pt/film-cap-electroequip/models/ECWFD2J333JB","≤13","≤ 8","≤15.5",{"$f":"pana_film[[#This Row],[Body length / dia\n(mm)]]&\" x \"&pana_film[[#This Row],[Body width\n(mm)]]","v":"12.6 x 7.5"},"-","-"]
[null,"Std","dip","PP","No","ECWFD","ECWFD2J275KB",630,"DC",2.7,"±10",25.3,13.8,24.2,15,"Inner crimped lead wire type (Style B)","-40 to 105 (85)","Bulk (Bag packing)",700,"https://industrial.panasonic.com/ww/products/pt/film-cap-electroequip/models/ECWFD2J275KB","≤26","≤14","≤24.5",{"$f":"pana_film[[#This Row],[Body length / dia\n(mm)]]&\" x \"&pana_film[[#This Row],[Body width\n(mm)]]","v":"25.3 x 13.8"},"-","-"]
[null,"Std","dip","PP","No","ECWFD","ECWFD2J274KC",630,"DC",0.27,"±10",17.8,6,11,15,"Short cut lead wire type","-40 to 105 (85)","Bulk (Bag packing)",1000,"https://industrial.panasonic.com/ww/products/pt/film-cap-electroequip/models/ECWFD2J274KC","≤18","≤ 6","≤11",{"$f":"pana_film[[#This Row],[Body length / dia\n(mm)]]&\" x \"&pana_film[[#This Row],[Body width\n(mm)]]","v":"17.8 x 6"},"-","-"]
[null,"Std","dip","PP","No","ECWFD","ECWFD2J273KQ",630,"DC",2.7E-2,"±10",12.6,6.9,14.9,10,"Crimped lead wire type (Style D)","-40 to 105 (85)","Bulk (Bag packing)",1000,"https://industrial.panasonic.com/ww/products/pt/film-cap-electroequip/models/ECWFD2J273KQ","≤13","≤ 7","≤15",{"$f":"pana_film[[#This Row],[Body length / dia\n(mm)]]&\" x \"&pana_film[[#This Row],[Body width\n(mm)]]","v":"12.6 x 6.9"},"-","-"]
[null,"Std","dip","PP","No","ECWFD","ECWFD2J225KC",630,"DC",2.2000000000000002,"±10",25.3,12.4,17.7,22.5,"Short cut lead wire type","-40 to 105 (85)","Bulk (Bag packing)",800,"https://industrial.panasonic.com/ww/products/pt/film-cap-electroequip/models/ECWFD2J225KC","≤26","≤13","≤18",{"$f":"pana_film[[#This Row],[Body length / dia\n(mm)]]&\" x \"&pana_film[[#This Row],[Body width\n(mm)]]","v":"25.3 x 12.4"},"-","-"]
[null,"Std","dip","PP","No","ECWFD","ECWFD2J225J",630,"DC",2.2000000000000002,"± 5",25.3,12.4,17.7,22.5,"Straight lead wire type","-40 to 105 (85)","Bulk (Bag packing)",600,"https://industrial.panasonic.com/ww/products/pt/film-cap-electroequip/models/ECWFD2J225J","≤26","≤13","≤18",{"$f":"pana_film[[#This Row],[Body length / dia\n(mm)]]&\" x \"&pana_film[[#This Row],[Body width\n(mm)]]","v":"25.3 x 12.4"},"-","-"]
[null,"Std","dip","PP","No","ECWFD","ECWFD2J223JQ",630,"DC",2.1999999999999999E-2,"± 5",12.6,6.4,14.4,10,"Crimped lead wire type (Style D)","-40 to 105 (85)","Bulk (Bag packing)",1000,"https://industrial.panasonic.com/ww/products/pt/film-cap-electroequip/models/ECWFD2J223JQ","≤13","≤ 7","≤14.5",{"$f":"pana_film[[#This Row],[Body length / dia\n(mm)]]&\" x \"&pana_film[[#This Row],[Body width\n(mm)]]","v":"12.6 x 6.4"},"-","-"]
[null,"Std","dip","PP","No","ECWFD","ECWFD2J223JB",630,"DC",2.1999999999999999E-2,"± 5",12.6,6.4,14.4,7.5,"Inner crimped lead wire type (Style B)","-40 to 105 (85)","Bulk (Bag packing)",1000,"https://industrial.panasonic.com/ww/products/pt/film-cap-electroequip/models/ECWFD2J223JB","≤13","≤ 7","≤14.5",{"$f":"pana_film[[#This Row],[Body length / dia\n(mm)]]&\" x \"&pana_film[[#This Row],[Body width\n(mm)]]","v":"12.6 x 6.4"},"-","-"]
[null,"Std","dip","PP","No","ECWFD","ECWFD2J184KQ",630,"DC",0.18,"±10",12.6,7.4,15.7,10,"Crimped lead wire type (Style D)","-40 to 105 (85)","Bulk (Bag packing)",1000,"https://industrial.panasonic.com/ww/products/pt/film-cap-electroequip/models/ECWFD2J184KQ","≤13","≤ 8","≤16",{"$f":"pana_film[[#This Row],[Body length / dia\n(mm)]]&\" x \"&pana_film[[#This Row],[Body width\n(mm)]]","v":"12.6 x 7.4"},"-","-"]
[null,"Std","dip","PP","No","ECWFD","ECWFD2J184JQ",630,"DC",0.18,"± 5",12.6,7.4,15.7,10,"Crimped lead wire type (Style D)","-40 to 105 (85)","Bulk (Bag packing)",1000,"https://industrial.panasonic.com/ww/products/pt/film-cap-electroequip/models/ECWFD2J184JQ","≤13","≤ 8","≤16",{"$f":"pana_film[[#This Row],[Body length / dia\n(mm)]]&\" x \"&pana_film[[#This Row],[Body width\n(mm)]]","v":"12.6 x 7.4"},"-","-"]
[null,"Std","dip","PP","No","ECWFD","ECWFD2J155KQ",630,"DC",1.5,"±10",25.3,10.3,22.5,22.5,"Crimped lead wire type (Style D)","-40 to 105 (85)","Bulk (Bag packing)",1000,"https://industrial.panasonic.com/ww/products/pt/film-cap-electroequip/models/ECWFD2J155KQ","≤26","≤11","≤22.5",{"$f":"pana_film[[#This Row],[Body length / dia\n(mm)]]&\" x \"&pana_film[[#This Row],[Body width\n(mm)]]","v":"25.3 x 10.3"},"-","-"]
[null,"Std","dip","PP","No","ECWFD","ECWFD2J155JB",630,"DC",1.5,"± 5",25.3,10.3,20.5,15,"Inner crimped lead wire type (Style B)","-40 to 105 (85)","Bulk (Bag packing)",1000,"https://industrial.panasonic.com/ww/products/pt/film-cap-electroequip/models/ECWFD2J155JB","≤26","≤11","≤20.5",{"$f":"pana_film[[#This Row],[Body length / dia\n(mm)]]&\" x \"&pana_film[[#This Row],[Body width\n(mm)]]","v":"25.3 x 10.3"},"-","-"]
[null,"Std","dip","PP","No","ECWFD","ECWFD2J153JB",630,"DC",1.4999999999999999E-2,"± 5",12.6,5.6,13.6,7.5,"Inner crimped lead wire type (Style B)","-40 to 105 (85)","Bulk (Bag packing)",1000,"https://industrial.panasonic.com/ww/products/pt/film-cap-electroequip/models/ECWFD2J153JB","≤13","≤ 6","≤14",{"$f":"pana_film[[#This Row],[Body length / dia\n(mm)]]&\" x \"&pana_film[[#This Row],[Body width\n(mm)]]","v":"12.6 x 5.6"},"-","-"]
[null,"Std","dip","PP","No","ECWFD","ECWFD2J125KB",630,"DC",1.2,"±10",25.3,9.1999999999999993,19.3,15,"Inner crimped lead wire type (Style B)","-40 to 105 (85)","Bulk (Bag packing)",1000,"https://industrial.panasonic.com/ww/products/pt/film-cap-electroequip/models/ECWFD2J125KB","≤26","≤10","≤19.5",{"$f":"pana_film[[#This Row],[Body length / dia\n(mm)]]&\" x \"&pana_film[[#This Row],[Body width\n(mm)]]","v":"25.3 x 9.2"},"-","-"]
[null,"Std","dip","PP","No","ECWFD","ECWFD2J124JQ",630,"DC",0.12,"± 5",12.6,6.2,14.6,10,"Crimped lead wire type (Style D)","-40 to 105 (85)","Bulk (Bag packing)",1000,"https://industrial.panasonic.com/ww/products/pt/film-cap-electroequip/models/ECWFD2J124JQ","≤13","≤ 7","≤15",{"$f":"pana_film[[#This Row],[Body length / dia\n(mm)]]&\" x \"&pana_film[[#This Row],[Body width\n(mm)]]","v":"12.6 x 6.2"},"-","-"]
[null,"Std","dip","PP","No","ECWFD","ECWFD2J124JB",630,"DC",0.12,"± 5",12.6,6.2,14.6,7.5,"Inner crimped lead wire type (Style B)","-40 to 105 (85)","Bulk (Bag packing)",1000,"https://industrial.panasonic.com/ww/products/pt/film-cap-electroequip/models/ECWFD2J124JB","≤13","≤ 7","≤15",{"$f":"pana_film[[#This Row],[Body length / dia\n(mm)]]&\" x \"&pana_film[[#This Row],[Body width\n(mm)]]","v":"12.6 x 6.2"},"-","-"]
[null,"Std","dip","PP","No","ECWFD","ECWFD2J105Q4",630,"DC",1,"±10",17.8,11.2,16.100000000000001,7.5,"Inner crimped lead wire type (Style B)","-40 to 105 (85)","30.0P crimped lead taping (ammo packing)",200,"https://industrial.panasonic.com/ww/products/pt/film-cap-electroequip/models/ECWFD2J105Q4","≤18","≤12","≤16.5",{"$f":"pana_film[[#This Row],[Body length / dia\n(mm)]]&\" x \"&pana_film[[#This Row],[Body width\n(mm)]]","v":"17.8 x 11.2"},"-","-"]
[null,"Std","dip","PP","No","ECWFD","ECWFD2J105PB",630,"DC",1,"± 5",17.8,11.2,21.1,7.5,"Inner crimped lead wire type (Style B)","-40 to 105 (85)","Bulk (Bag packing)",1000,"https://industrial.panasonic.com/ww/products/pt/film-cap-electroequip/models/ECWFD2J105PB","≤18","≤12","≤21.5",{"$f":"pana_film[[#This Row],[Body length / dia\n(mm)]]&\" x \"&pana_film[[#This Row],[Body width\n(mm)]]","v":"17.8 x 11.2"},"-","-"]
[null,"Std","dip","PP","No","ECWFD","ECWFD2J105JQ",630,"DC",1,"± 5",25.3,8.4,20.5,22.5,"Crimped lead wire type (Style D)","-40 to 105 (85)","Bulk (Bag packing)",1000,"https://industrial.panasonic.com/ww/products/pt/film-cap-electroequip/models/ECWFD2J105JQ","≤26","≤ 9","≤20.5",{"$f":"pana_film[[#This Row],[Body length / dia\n(mm)]]&\" x \"&pana_film[[#This Row],[Body width\n(mm)]]","v":"25.3 x 8.4"},"-","-"]
[null,"Std","dip","PP","No","ECWFD","ECWFD2J104J4",630,"DC",0.1,"± 5",12.6,5.8,9.1999999999999993,7.5,"Inner crimped lead wire type (Style B)","-40 to 105 (85)","15.0P crimped lead taping (ammo packing)",1000,"https://industrial.panasonic.com/ww/products/pt/film-cap-electroequip/models/ECWFD2J104J4","≤13","≤ 6","≤ 9.5",{"$f":"pana_film[[#This Row],[Body length / dia\n(mm)]]&\" x \"&pana_film[[#This Row],[Body width\n(mm)]]","v":"12.6 x 5.8"},"-","-"]
[null,"Std","dip","PP","No","ECWF(A)","ECWFA2J824JB",630,"DC",0.82,"± 5",26,10.1,20.3,15,"Inner crimped lead wire type (Style B)","-40 to 105 (85)","Bulk (Bag packing)",1000,"https://industrial.panasonic.com/ww/products/pt/film-cap-electroequip/models/ECWFA2J824JB","≤26","≤11","≤20.5",{"$f":"pana_film[[#This Row],[Body length / dia\n(mm)]]&\" x \"&pana_film[[#This Row],[Body width\n(mm)]]","v":"26 x 10.1"},"-","-"]
[null,"Std","dip","PP","No","ECWF(A)","ECWFA2J684JC",630,"DC",0.68,"± 5",18.2,12,17.100000000000001,15,"Straight lead wire type","-40 to 105 (85)","Bulk (Bag packing)",1000,"https://industrial.panasonic.com/ww/products/pt/film-cap-electroequip/models/ECWFA2J684JC","≤19","≤12","≤17.5",{"$f":"pana_film[[#This Row],[Body length / dia\n(mm)]]&\" x \"&pana_film[[#This Row],[Body width\n(mm)]]","v":"18.2 x 12"},"-","-"]
[null,"Std","dip","PP","No","ECWF(A)","ECWFA2J474JQ",630,"DC",0.47,"± 5",18.2,10,20.100000000000001,15,"Crimped lead wire type (Style D)","-40 to 105 (85)","Bulk (Bag packing)",1000,"https://industrial.panasonic.com/ww/products/pt/film-cap-electroequip/models/ECWFA2J474JQ","≤19","≤10","≤20.5",{"$f":"pana_film[[#This Row],[Body length / dia\n(mm)]]&\" x \"&pana_film[[#This Row],[Body width\n(mm)]]","v":"18.2 x 10"},"-","-"]
[null,"Std","dip","PP","No","ECWF(A)","ECWFA2J394JC",630,"DC",0.39,"± 5",18.2,9.1999999999999993,14.3,15,"Straight lead wire type","-40 to 105 (85)","Bulk (Bag packing)",1000,"https://industrial.panasonic.com/ww/products/pt/film-cap-electroequip/models/ECWFA2J394JC","≤19","≤10","≤14.5",{"$f":"pana_film[[#This Row],[Body length / dia\n(mm)]]&\" x \"&pana_film[[#This Row],[Body width\n(mm)]]","v":"18.2 x 9.2"},"-","-"]
[null,"Std","dip","PP","No","ECWF(A)","ECWFA2J334JC",630,"DC",0.33,"± 5",18.2,8.5,13.6,15,"Straight lead wire type","-40 to 105 (85)","Bulk (Bag packing)",1000,"https://industrial.panasonic.com/ww/products/pt/film-cap-electroequip/models/ECWFA2J334JC","≤19","≤ 9","≤14",{"$f":"pana_film[[#This Row],[Body length / dia\n(mm)]]&\" x \"&pana_film[[#This Row],[Body width\n(mm)]]","v":"18.2 x 8.5"},"-","-"]
[null,"Std","dip","PP","No","ECWF(A)","ECWFA2J334J",630,"DC",0.33,"± 5",18.2,8.5,13.6,15,"Straight lead wire type","-40 to 105 (85)","Bulk (Bag packing)",1000,"https://industrial.panasonic.com/ww/products/pt/film-cap-electroequip/models/ECWFA2J334J","≤19","≤ 9","≤14",{"$f":"pana_film[[#This Row],[Body length / dia\n(mm)]]&\" x \"&pana_film[[#This Row],[Body width\n(mm)]]","v":"18.2 x 8.5"},"-","-"]
[null,"Std","dip","PP","No","ECWF(A)","ECWFA2J225JC",630,"DC",2.2000000000000002,"± 5",26,16.3,21.4,22.5,"Straight lead wire type","-40 to 105 (85)","Bulk (Bag packing)",500,"https://industrial.panasonic.com/ww/products/pt/film-cap-electroequip/models/ECWFA2J225JC","≤26","≤17","≤21.5",{"$f":"pana_film[[#This Row],[Body length / dia\n(mm)]]&\" x \"&pana_film[[#This Row],[Body width\n(mm)]]","v":"26 x 16.3"},"-","-"]
[null,"Std","dip","PP","No","ECWF(A)","ECWFA2J185JC",630,"DC",1.8,"± 5",26,14.8,19.8,22.5,"Straight lead wire type","-40 to 105 (85)","Bulk (Bag packing)",500,"https://industrial.panasonic.com/ww/products/pt/film-cap-electroequip/models/ECWFA2J185JC","≤26","≤15","≤20",{"$f":"pana_film[[#This Row],[Body length / dia\n(mm)]]&\" x \"&pana_film[[#This Row],[Body width\n(mm)]]","v":"26 x 14.8"},"-","-"]
[null,"Std","dip","PP","No","ECWF(A)","ECWFA2J184J",630,"DC",0.18,"± 5",18.2,6.5,11.7,15,"Straight lead wire type","-40 to 105 (85)","Bulk (Bag packing)",1000,"https://industrial.panasonic.com/ww/products/pt/film-cap-electroequip/models/ECWFA2J184J","≤19","≤ 7","≤12",{"$f":"pana_film[[#This Row],[Body length / dia\n(mm)]]&\" x \"&pana_film[[#This Row],[Body width\n(mm)]]","v":"18.2 x 6.5"},"-","-"]
[null,"Std","dip","PP","No","ECWF(A)","ECWFA2J154JC",630,"DC",0.15,"± 5",18.2,6,11.2,15,"Straight lead wire type","-40 to 105 (85)","Bulk (Bag packing)",1000,"https://industrial.panasonic.com/ww/products/pt/film-cap-electroequip/models/ECWFA2J154JC","≤19","≤ 6","≤11.5",{"$f":"pana_film[[#This Row],[Body length / dia\n(mm)]]&\" x \"&pana_film[[#This Row],[Body width\n(mm)]]","v":"18.2 x 6"},"-","-"]
[null,"Std","dip","PP","No","ECWF(A)","ECWFA2J125J",630,"DC",1.2,"± 5",26,12.1,17.2,22.5,"Straight lead wire type","-40 to 105 (85)","Bulk (Bag packing)",600,"https://industrial.panasonic.com/ww/products/pt/film-cap-electroequip/models/ECWFA2J125J","≤26","≤13","≤17.5",{"$f":"pana_film[[#This Row],[Body length / dia\n(mm)]]&\" x \"&pana_film[[#This Row],[Body width\n(mm)]]","v":"26 x 12.1"},"-","-"]
[null,"Std","dip","PP","No","ECWF(A)","ECWFA2J124JQ",630,"DC",0.12,"± 5",18.2,5.5,15.8,15,"Crimped lead wire type (Style D)","-40 to 105 (85)","Bulk (Bag packing)",1000,"https://industrial.panasonic.com/ww/products/pt/film-cap-electroequip/models/ECWFA2J124JQ","≤19","≤ 6","≤16",{"$f":"pana_film[[#This Row],[Body length / dia\n(mm)]]&\" x \"&pana_film[[#This Row],[Body width\n(mm)]]","v":"18.2 x 5.5"},"-","-"]
[null,"Std","dip","PP","No","ECWF(A)","ECWFA2J104JQ",630,"DC",0.1,"± 5",18.2,5.2,15.4,15,"Crimped lead wire type (Style D)","-40 to 105 (85)","Bulk (Bag packing)",1000,"https://industrial.panasonic.com/ww/products/pt/film-cap-electroequip/models/ECWFA2J104JQ","≤19","≤ 6","≤15.5",{"$f":"pana_film[[#This Row],[Body length / dia\n(mm)]]&\" x \"&pana_film[[#This Row],[Body width\n(mm)]]","v":"18.2 x 5.2"},"-","-"]
[null,"Std","dip","PP","No","ECWF(L)","ECWF6914HLB",630,"DC",0.91,"± 3",28,14.6,26.2,17.5,"Inner crimped lead wire type (Style B)","-40 to 105 (85)","Bulk (Bag packing)",100,"https://industrial.panasonic.com/ww/products/pt/film-cap-electroequip/models/ECWF6914HLB","≤28","≤15","≤26.5",{"$f":"pana_film[[#This Row],[Body length / dia\n(mm)]]&\" x \"&pana_film[[#This Row],[Body width\n(mm)]]","v":"28 x 14.6"},"-","-"]
[null,"Std","dip","PP","No","ECWF(L)","ECWF6913RHL",630,"DC",9.0999999999999998E-2,"± 3",15.5,8.3000000000000007,17.7,7.5,"Inner crimped lead wire type (Style B)","-40 to 105 (85)","30.0P crimped lead taping (ammo packing)",400,"https://industrial.panasonic.com/ww/products/pt/film-cap-electroequip/models/ECWF6913RHL","≤16","≤ 9","≤18",{"$f":"pana_film[[#This Row],[Body length / dia\n(mm)]]&\" x \"&pana_film[[#This Row],[Body width\n(mm)]]","v":"15.5 x 8.3"},"-","-"]
[null,"Std","dip","PP","No","ECWF(L)","ECWF6823RHL",630,"DC",8.2000000000000003E-2,"± 3",15.5,8,17.399999999999999,7.5,"Inner crimped lead wire type (Style B)","-40 to 105 (85)","30.0P crimped lead taping (ammo packing)",400,"https://industrial.panasonic.com/ww/products/pt/film-cap-electroequip/models/ECWF6823RHL","≤16","≤ 8","≤17.5",{"$f":"pana_film[[#This Row],[Body length / dia\n(mm)]]&\" x \"&pana_film[[#This Row],[Body width\n(mm)]]","v":"15.5 x 8"},"-","-"]
[null,"Std","dip","PP","No","ECWF(L)","ECWF6754HLB",630,"DC",0.75,"± 3",28,13.3,24.9,17.5,"Inner crimped lead wire type (Style B)","-40 to 105 (85)","Bulk (Bag packing)",100,"https://industrial.panasonic.com/ww/products/pt/film-cap-electroequip/models/ECWF6754HLB","≤28","≤14","≤25",{"$f":"pana_film[[#This Row],[Body length / dia\n(mm)]]&\" x \"&pana_film[[#This Row],[Body width\n(mm)]]","v":"28 x 13.3"},"-","-"]
[null,"Std","dip","PP","No","ECWF(L)","ECWF6753RHL",630,"DC",7.4999999999999997E-2,"± 3",15.5,7.7,17.100000000000001,7.5,"Inner crimped lead wire type (Style B)","-40 to 105 (85)","30.0P crimped lead taping (ammo packing)",400,"https://industrial.panasonic.com/ww/products/pt/film-cap-electroequip/models/ECWF6753RHL","≤16","≤ 8","≤17.5",{"$f":"pana_film[[#This Row],[Body length / dia\n(mm)]]&\" x \"&pana_film[[#This Row],[Body width\n(mm)]]","v":"15.5 x 7.7"},"-","-"]
[null,"Std","dip","PP","No","ECWF(L)","ECWF6683RJL",630,"DC",6.8000000000000005E-2,"± 5",15.5,7.4,16.8,7.5,"Inner crimped lead wire type (Style B)","-40 to 105 (85)","30.0P crimped lead taping (ammo packing)",400,"https://industrial.panasonic.com/ww/products/pt/film-cap-electroequip/models/ECWF6683RJL","≤16","≤ 8","≤17",{"$f":"pana_film[[#This Row],[Body length / dia\n(mm)]]&\" x \"&pana_film[[#This Row],[Body width\n(mm)]]","v":"15.5 x 7.4"},"-","-"]
[null,"Std","dip","PP","No","ECWF(L)","ECWF6683RHL",630,"DC",6.8000000000000005E-2,"± 3",15.5,7.4,16.8,7.5,"Inner crimped lead wire type (Style B)","-40 to 105 (85)","30.0P crimped lead taping (ammo packing)",400,"https://industrial.panasonic.com/ww/products/pt/film-cap-electroequip/models/ECWF6683RHL","≤16","≤ 8","≤17",{"$f":"pana_film[[#This Row],[Body length / dia\n(mm)]]&\" x \"&pana_film[[#This Row],[Body width\n(mm)]]","v":"15.5 x 7.4"},"-","-"]
[null,"Std","dip","PP","No","ECWF(L)","ECWF6623RJL",630,"DC",6.2E-2,"± 5",15.5,7.1,16.5,7.5,"Inner crimped lead wire type (Style B)","-40 to 105 (85)","30.0P crimped lead taping (ammo packing)",400,"https://industrial.panasonic.com/ww/products/pt/film-cap-electroequip/models/ECWF6623RJL","≤16","≤ 8","≤16.5",{"$f":"pana_film[[#This Row],[Body length / dia\n(mm)]]&\" x \"&pana_film[[#This Row],[Body width\n(mm)]]","v":"15.5 x 7.1"},"-","-"]
[null,"Std","dip","PP","No","ECWF(L)","ECWF6623HL",630,"DC",6.2E-2,"± 3",15.5,7.1,11.5,12.5,"Straight lead wire type","-40 to 105 (85)","Bulk (Bag packing)",100,"https://industrial.panasonic.com/ww/products/pt/film-cap-electroequip/models/ECWF6623HL","≤16","≤ 8","≤11.5",{"$f":"pana_film[[#This Row],[Body length / dia\n(mm)]]&\" x \"&pana_film[[#This Row],[Body width\n(mm)]]","v":"15.5 x 7.1"},"-","-"]
[null,"Std","dip","PP","No","ECWF(L)","ECWF6563RHL",630,"DC",5.6000000000000001E-2,"± 3",15.5,6.8,16.2,7.5,"Inner crimped lead wire type (Style B)","-40 to 105 (85)","30.0P crimped lead taping (ammo packing)",400,"https://industrial.panasonic.com/ww/products/pt/film-cap-electroequip/models/ECWF6563RHL","≤16","≤ 7","≤16.5",{"$f":"pana_film[[#This Row],[Body length / dia\n(mm)]]&\" x \"&pana_film[[#This Row],[Body width\n(mm)]]","v":"15.5 x 6.8"},"-","-"]
[null,"Std","dip","PP","No","ECWF(L)","ECWF6513RJL",630,"DC",5.0999999999999997E-2,"± 5",15.5,6.6,16,7.5,"Inner crimped lead wire type (Style B)","-40 to 105 (85)","30.0P crimped lead taping (ammo packing)",500,"https://industrial.panasonic.com/ww/products/pt/film-cap-electroequip/models/ECWF6513RJL","≤16","≤ 7","≤16",{"$f":"pana_film[[#This Row],[Body length / dia\n(mm)]]&\" x \"&pana_film[[#This Row],[Body width\n(mm)]]","v":"15.5 x 6.6"},"-","-"]
[null,"Std","dip","PP","No","ECWF(L)","ECWF6474JL",630,"DC",0.47,"± 5",20.5,13.5,20.100000000000001,17.5,"Straight lead wire type","-40 to 105 (85)","Bulk (Bag packing)",100,"https://industrial.panasonic.com/ww/products/pt/film-cap-electroequip/models/ECWF6474JL","≤21","≤14","≤20.5",{"$f":"pana_film[[#This Row],[Body length / dia\n(mm)]]&\" x \"&pana_film[[#This Row],[Body width\n(mm)]]","v":"20.5 x 13.5"},"-","-"]
[null,"Std","dip","PP","No","ECWF(L)","ECWF6473RJL",630,"DC",4.7E-2,"± 5",15.5,6.4,15.8,7.5,"Inner crimped lead wire type (Style B)","-40 to 105 (85)","30.0P crimped lead taping (ammo packing)",500,"https://industrial.panasonic.com/ww/products/pt/film-cap-electroequip/models/ECWF6473RJL","≤16","≤ 7","≤16",{"$f":"pana_film[[#This Row],[Body length / dia\n(mm)]]&\" x \"&pana_film[[#This Row],[Body width\n(mm)]]","v":"15.5 x 6.4"},"-","-"]
[null,"Std","dip","PP","No","ECWF(L)","ECWF6434RHL",630,"DC",0.43,"± 3",20.5,13,24.5,12.5,"Inner crimped lead wire type (Style B)","-40 to 105 (85)","30.0P crimped lead taping (ammo packing)",200,"https://industrial.panasonic.com/ww/products/pt/film-cap-electroequip/models/ECWF6434RHL","≤21","≤13","≤24.5",{"$f":"pana_film[[#This Row],[Body length / dia\n(mm)]]&\" x \"&pana_film[[#This Row],[Body width\n(mm)]]","v":"20.5 x 13"},"-","-"]
[null,"Std","dip","PP","No","ECWF(L)","ECWF6434HLB",630,"DC",0.43,"± 3",20.5,13,24.5,12.5,"Inner crimped lead wire type (Style B)","-40 to 105 (85)","Bulk (Bag packing)",100,"https://industrial.panasonic.com/ww/products/pt/film-cap-electroequip/models/ECWF6434HLB","≤21","≤13","≤24.5",{"$f":"pana_film[[#This Row],[Body length / dia\n(mm)]]&\" x \"&pana_film[[#This Row],[Body width\n(mm)]]","v":"20.5 x 13"},"-","-"]
[null,"Std","dip","PP","No","ECWF(L)","ECWF6394RHL",630,"DC",0.39,"± 3",20.5,12.4,24,12.5,"Inner crimped lead wire type (Style B)","-40 to 105 (85)","30.0P crimped lead taping (ammo packing)",200,"https://industrial.panasonic.com/ww/products/pt/film-cap-electroequip/models/ECWF6394RHL","≤21","≤13","≤24",{"$f":"pana_film[[#This Row],[Body length / dia\n(mm)]]&\" x \"&pana_film[[#This Row],[Body width\n(mm)]]","v":"20.5 x 12.4"},"-","-"]
[null,"Std","dip","PP","No","ECWF(L)","ECWF6393JL",630,"DC",3.9E-2,"± 5",13,7.6,10.4,10,"Straight lead wire type","-40 to 105 (85)","Bulk (Bag packing)",100,"https://industrial.panasonic.com/ww/products/pt/film-cap-electroequip/models/ECWF6393JL","≤13","≤ 8","≤10.5",{"$f":"pana_film[[#This Row],[Body length / dia\n(mm)]]&\" x \"&pana_film[[#This Row],[Body width\n(mm)]]","v":"13 x 7.6"},"-","-"]
[null,"Std","dip","PP","No","ECWF(L)","ECWF6364RJL",630,"DC",0.36,"± 5",20.5,11.9,23.5,12.5,"Inner crimped lead wire type (Style B)","-40 to 105 (85)","30.0P crimped lead taping (ammo packing)",200,"https://industrial.panasonic.com/ww/products/pt/film-cap-electroequip/models/ECWF6364RJL","≤21","≤12","≤23.5",{"$f":"pana_film[[#This Row],[Body length / dia\n(mm)]]&\" x \"&pana_film[[#This Row],[Body width\n(mm)]]","v":"20.5 x 11.9"},"-","-"]
[null,"Std","dip","PP","No","ECWF(L)","ECWF6363JL",630,"DC",3.5999999999999997E-2,"± 5",13,7.3,10.199999999999999,10,"Straight lead wire type","-40 to 105 (85)","Bulk (Bag packing)",100,"https://industrial.panasonic.com/ww/products/pt/film-cap-electroequip/models/ECWF6363JL","≤13","≤ 8","≤10.5",{"$f":"pana_film[[#This Row],[Body length / dia\n(mm)]]&\" x \"&pana_film[[#This Row],[Body width\n(mm)]]","v":"13 x 7.3"},"-","-"]
[null,"Std","dip","PP","No","ECWF(L)","ECWF6334HLB",630,"DC",0.33,"± 3",20.5,11.4,22.7,12.5,"Inner crimped lead wire type (Style B)","-40 to 105 (85)","Bulk (Bag packing)",100,"https://industrial.panasonic.com/ww/products/pt/film-cap-electroequip/models/ECWF6334HLB","≤21","≤12","≤23",{"$f":"pana_film[[#This Row],[Body length / dia\n(mm)]]&\" x \"&pana_film[[#This Row],[Body width\n(mm)]]","v":"20.5 x 11.4"},"-","-"]
[null,"Std","dip","PP","No","ECWF(L)","ECWF6333RHL",630,"DC",3.3000000000000002E-2,"± 3",13,7.1,15,7.5,"Crimped lead wire type (Style D)","-40 to 105 (85)","15.0P crimped lead taping (ammo packing)",900,"https://industrial.panasonic.com/ww/products/pt/film-cap-electroequip/models/ECWF6333RHL","≤13","≤ 8","≤15",{"$f":"pana_film[[#This Row],[Body length / dia\n(mm)]]&\" x \"&pana_film[[#This Row],[Body width\n(mm)]]","v":"13 x 7.1"},"-","-"]
[null,"Std","dip","PP","No","ECWF(L)","ECWF6333HL",630,"DC",3.3000000000000002E-2,"± 3",13,7.1,10,10,"Straight lead wire type","-40 to 105 (85)","Bulk (Bag packing)",100,"https://industrial.panasonic.com/ww/products/pt/film-cap-electroequip/models/ECWF6333HL","≤13","≤ 8","≤10",{"$f":"pana_film[[#This Row],[Body length / dia\n(mm)]]&\" x \"&pana_film[[#This Row],[Body width\n(mm)]]","v":"13 x 7.1"},"-","-"]
[null,"Std","dip","PP","No","ECWF(L)","ECWF6303RJL",630,"DC",0.03,"± 5",13,6.9,14.7,7.5,"Crimped lead wire type (Style D)","-40 to 105 (85)","15.0P crimped lead taping (ammo packing)",900,"https://industrial.panasonic.com/ww/products/pt/film-cap-electroequip/models/ECWF6303RJL","≤13","≤ 7","≤15",{"$f":"pana_film[[#This Row],[Body length / dia\n(mm)]]&\" x \"&pana_film[[#This Row],[Body width\n(mm)]]","v":"13 x 6.9"},"-","-"]
[null,"Std","dip","PP","No","ECWF(L)","ECWF6274JL",630,"DC",0.27,"± 5",20.5,10.4,16.7,17.5,"Straight lead wire type","-40 to 105 (85)","Bulk (Bag packing)",100,"https://industrial.panasonic.com/ww/products/pt/film-cap-electroequip/models/ECWF6274JL","≤21","≤11","≤17",{"$f":"pana_film[[#This Row],[Body length / dia\n(mm)]]&\" x \"&pana_film[[#This Row],[Body width\n(mm)]]","v":"20.5 x 10.4"},"-","-"]
[null,"Std","dip","PP","No","ECWF(L)","ECWF6273HLB",630,"DC",2.7E-2,"± 3",13,6.6,14.5,7.5,"Inner crimped lead wire type (Style B)","-40 to 105 (85)","Bulk (Bag packing)",100,"https://industrial.panasonic.com/ww/products/pt/film-cap-electroequip/models/ECWF6273HLB","≤13","≤ 7","≤14.5",{"$f":"pana_film[[#This Row],[Body length / dia\n(mm)]]&\" x \"&pana_film[[#This Row],[Body width\n(mm)]]","v":"13 x 6.6"},"-","-"]
[null,"Std","dip","PP","No","ECWF(L)","ECWF6244RHL",630,"DC",0.24,"± 3",18,11.2,20.9,10,"Inner crimped lead wire type (Style B)","-40 to 105 (85)","30.0P crimped lead taping (ammo packing)",200,"https://industrial.panasonic.com/ww/products/pt/film-cap-electroequip/models/ECWF6244RHL","≤18","≤12","≤21",{"$f":"pana_film[[#This Row],[Body length / dia\n(mm)]]&\" x \"&pana_film[[#This Row],[Body width\n(mm)]]","v":"18 x 11.2"},"-","-"]
[null,"Std","dip","PP","No","ECWF(L)","ECWF6243HLB",630,"DC",2.4E-2,"± 3",12.5,6.4,14.2,7.5,"Inner crimped lead wire type (Style B)","-40 to 105 (85)","Bulk (Bag packing)",100,"https://industrial.panasonic.com/ww/products/pt/film-cap-electroequip/models/ECWF6243HLB","≤13","≤ 7","≤14.5",{"$f":"pana_film[[#This Row],[Body length / dia\n(mm)]]&\" x \"&pana_film[[#This Row],[Body width\n(mm)]]","v":"12.5 x 6.4"},"-","-"]
[null,"Std","dip","PP","No","ECWF(L)","ECWF6224RJL",630,"DC",0.22,"± 5",18,10.8,20.5,10,"Inner crimped lead wire type (Style B)","-40 to 105 (85)","30.0P crimped lead taping (ammo packing)",300,"https://industrial.panasonic.com/ww/products/pt/film-cap-electroequip/models/ECWF6224RJL","≤18","≤11","≤20.5",{"$f":"pana_film[[#This Row],[Body length / dia\n(mm)]]&\" x \"&pana_film[[#This Row],[Body width\n(mm)]]","v":"18 x 10.8"},"-","-"]
[null,"Std","dip","PP","No","ECWF(L)","ECWF6223JL",630,"DC",2.1999999999999999E-2,"± 5",12.5,6.2,9,10,"Straight lead wire type","-40 to 105 (85)","Bulk (Bag packing)",100,"https://industrial.panasonic.com/ww/products/pt/film-cap-electroequip/models/ECWF6223JL","≤13","≤ 7","≤ 9",{"$f":"pana_film[[#This Row],[Body length / dia\n(mm)]]&\" x \"&pana_film[[#This Row],[Body width\n(mm)]]","v":"12.5 x 6.2"},"-","-"]
[null,"Std","dip","PP","No","ECWF(L)","ECWF6204HLB",630,"DC",0.2,"± 3",18,10.3,19.7,10,"Inner crimped lead wire type (Style B)","-40 to 105 (85)","Bulk (Bag packing)",100,"https://industrial.panasonic.com/ww/products/pt/film-cap-electroequip/models/ECWF6204HLB","≤18","≤11","≤20",{"$f":"pana_film[[#This Row],[Body length / dia\n(mm)]]&\" x \"&pana_film[[#This Row],[Body width\n(mm)]]","v":"18 x 10.3"},"-","-"]
[null,"Std","dip","PP","No","ECWF(L)","ECWF6203RHL",630,"DC",0.02,"± 3",12.5,6.5,14.3,7.5,"Crimped lead wire type (Style D)","-40 to 105 (85)","15.0P crimped lead taping (ammo packing)",1000,"https://industrial.panasonic.com/ww/products/pt/film-cap-electroequip/models/ECWF6203RHL","≤13","≤ 7","≤14.5",{"$f":"pana_film[[#This Row],[Body length / dia\n(mm)]]&\" x \"&pana_film[[#This Row],[Body width\n(mm)]]","v":"12.5 x 6.5"},"-","-"]
[null,"Std","dip","PP","No","ECWF(L)","ECWF6184HLB",630,"DC",0.18,"± 3",18,9.8000000000000007,19.100000000000001,10,"Inner crimped lead wire type (Style B)","-40 to 105 (85)","Bulk (Bag packing)",100,"https://industrial.panasonic.com/ww/products/pt/film-cap-electroequip/models/ECWF6184HLB","≤18","≤10","≤19.5",{"$f":"pana_film[[#This Row],[Body length / dia\n(mm)]]&\" x \"&pana_film[[#This Row],[Body width\n(mm)]]","v":"18 x 9.8"},"-","-"]
[null,"Std","dip","PP","No","ECWF(L)","ECWF6183HL",630,"DC",1.7999999999999999E-2,"± 3",12.5,6.2,9.1,10,"Straight lead wire type","-40 to 105 (85)","Bulk (Bag packing)",100,"https://industrial.panasonic.com/ww/products/pt/film-cap-electroequip/models/ECWF6183HL","≤13","≤ 7","≤ 9.5",{"$f":"pana_film[[#This Row],[Body length / dia\n(mm)]]&\" x \"&pana_film[[#This Row],[Body width\n(mm)]]","v":"12.5 x 6.2"},"-","-"]
[null,"Std","dip","PP","No","ECWF(L)","ECWF6164RHL",630,"DC",0.16,"± 3",18,9.3000000000000007,18.8,10,"Inner crimped lead wire type (Style B)","-40 to 105 (85)","30.0P crimped lead taping (ammo packing)",300,"https://industrial.panasonic.com/ww/products/pt/film-cap-electroequip/models/ECWF6164RHL","≤18","≤10","≤19",{"$f":"pana_film[[#This Row],[Body length / dia\n(mm)]]&\" x \"&pana_film[[#This Row],[Body width\n(mm)]]","v":"18 x 9.3"},"-","-"]
[null,"Std","dip","PP","No","ECWF(L)","ECWF6163HLB",630,"DC",1.6E-2,"± 3",12.5,6,13.9,7.5,"Inner crimped lead wire type (Style B)","-40 to 105 (85)","Bulk (Bag packing)",100,"https://industrial.panasonic.com/ww/products/pt/film-cap-electroequip/models/ECWF6163HLB","≤13","≤ 6","≤14",{"$f":"pana_film[[#This Row],[Body length / dia\n(mm)]]&\" x \"&pana_film[[#This Row],[Body width\n(mm)]]","v":"12.5 x 6"},"-","-"]
[null,"Std","dip","PP","No","ECWF(L)","ECWF6153RHL",630,"DC",1.4999999999999999E-2,"± 3",12.5,5.9,13.7,7.5,"Crimped lead wire type (Style D)","-40 to 105 (85)","15.0P crimped lead taping (ammo packing)",1100,"https://industrial.panasonic.com/ww/products/pt/film-cap-electroequip/models/ECWF6153RHL","≤13","≤ 6","≤14",{"$f":"pana_film[[#This Row],[Body length / dia\n(mm)]]&\" x \"&pana_film[[#This Row],[Body width\n(mm)]]","v":"12.5 x 5.9"},"-","-"]
[null,"Std","dip","PP","No","ECWF(L)","ECWF6153HLB",630,"DC",1.4999999999999999E-2,"± 3",12.5,5.9,13.7,7.5,"Inner crimped lead wire type (Style B)","-40 to 105 (85)","Bulk (Bag packing)",100,"https://industrial.panasonic.com/ww/products/pt/film-cap-electroequip/models/ECWF6153HLB","≤13","≤ 6","≤14",{"$f":"pana_film[[#This Row],[Body length / dia\n(mm)]]&\" x \"&pana_film[[#This Row],[Body width\n(mm)]]","v":"12.5 x 5.9"},"-","-"]
[null,"Std","dip","PP","No","ECWF(L)","ECWF6134RHL",630,"DC",0.13,"± 3",18,8.5,18,10,"Inner crimped lead wire type (Style B)","-40 to 105 (85)","30.0P crimped lead taping (ammo packing)",300,"https://industrial.panasonic.com/ww/products/pt/film-cap-electroequip/models/ECWF6134RHL","≤18","≤ 9","≤18",{"$f":"pana_film[[#This Row],[Body length / dia\n(mm)]]&\" x \"&pana_film[[#This Row],[Body width\n(mm)]]","v":"18 x 8.5"},"-","-"]
[null,"Std","dip","PP","No","ECWF(L)","ECWF6134HLB",630,"DC",0.13,"± 3",18,8.5,18,10,"Inner crimped lead wire type (Style B)","-40 to 105 (85)","Bulk (Bag packing)",100,"https://industrial.panasonic.com/ww/products/pt/film-cap-electroequip/models/ECWF6134HLB","≤18","≤ 9","≤18",{"$f":"pana_film[[#This Row],[Body length / dia\n(mm)]]&\" x \"&pana_film[[#This Row],[Body width\n(mm)]]","v":"18 x 8.5"},"-","-"]
[null,"Std","dip","PP","No","ECWF(L)","ECWF6133HLB",630,"DC",1.2999999999999999E-2,"± 3",12.5,5.6,13.5,7.5,"Inner crimped lead wire type (Style B)","-40 to 105 (85)","Bulk (Bag packing)",100,"https://industrial.panasonic.com/ww/products/pt/film-cap-electroequip/models/ECWF6133HLB","≤13","≤ 6","≤13.5",{"$f":"pana_film[[#This Row],[Body length / dia\n(mm)]]&\" x \"&pana_film[[#This Row],[Body width\n(mm)]]","v":"12.5 x 5.6"},"-","-"]
[null,"Std","dip","PP","No","ECWF(L)","ECWF6124HL",630,"DC",0.12,"± 3",18,8.3000000000000007,12.7,15,"Straight lead wire type","-40 to 105 (85)","Bulk (Bag packing)",100,"https://industrial.panasonic.com/ww/products/pt/film-cap-electroequip/models/ECWF6124HL","≤18","≤ 9","≤13",{"$f":"pana_film[[#This Row],[Body length / dia\n(mm)]]&\" x \"&pana_film[[#This Row],[Body width\n(mm)]]","v":"18 x 8.3"},"-","-"]
[null,"Std","dip","PP","No","ECWF(L)","ECWF6123JLB",630,"DC",1.2E-2,"± 5",12.5,5.5,13.3,7.5,"Inner crimped lead wire type (Style B)","-40 to 105 (85)","Bulk (Bag packing)",100,"https://industrial.panasonic.com/ww/products/pt/film-cap-electroequip/models/ECWF6123JLB","≤13","≤ 6","≤13.5",{"$f":"pana_film[[#This Row],[Body length / dia\n(mm)]]&\" x \"&pana_film[[#This Row],[Body width\n(mm)]]","v":"12.5 x 5.5"},"-","-"]
[null,"Std","dip","PP","No","ECWF(L)","ECWF6115HL",630,"DC",1.1000000000000001,"± 3",28,16.3,23,25,"Straight lead wire type","-40 to 105 (85)","Bulk (Bag packing)",100,"https://industrial.panasonic.com/ww/products/pt/film-cap-electroequip/models/ECWF6115HL","≤28","≤17","≤23",{"$f":"pana_film[[#This Row],[Body length / dia\n(mm)]]&\" x \"&pana_film[[#This Row],[Body width\n(mm)]]","v":"28 x 16.3"},"-","-"]
[null,"Std","dip","PP","No","ECWF(L)","ECWF6113JLB",630,"DC",1.0999999999999999E-2,"± 5",12.5,5.4,13.2,7.5,"Inner crimped lead wire type (Style B)","-40 to 105 (85)","Bulk (Bag packing)",100,"https://industrial.panasonic.com/ww/products/pt/film-cap-electroequip/models/ECWF6113JLB","≤13","≤ 6","≤13.5",{"$f":"pana_film[[#This Row],[Body length / dia\n(mm)]]&\" x \"&pana_film[[#This Row],[Body width\n(mm)]]","v":"12.5 x 5.4"},"-","-"]
[null,"Std","dip","PP","No","ECWF(L)","ECWF6113HL",630,"DC",1.0999999999999999E-2,"± 3",12.5,5.4,8.1999999999999993,10,"Straight lead wire type","-40 to 105 (85)","Bulk (Bag packing)",100,"https://industrial.panasonic.com/ww/products/pt/film-cap-electroequip/models/ECWF6113HL","≤13","≤ 6","≤ 8.5",{"$f":"pana_film[[#This Row],[Body length / dia\n(mm)]]&\" x \"&pana_film[[#This Row],[Body width\n(mm)]]","v":"12.5 x 5.4"},"-","-"]
[null,"Std","dip","PP","No","ECWF(L)","ECWF6104JL",630,"DC",0.1,"± 5",18,7.7,12.1,15,"Straight lead wire type","-40 to 105 (85)","Bulk (Bag packing)",100,"https://industrial.panasonic.com/ww/products/pt/film-cap-electroequip/models/ECWF6104JL","≤18","≤ 8","≤12.5",{"$f":"pana_film[[#This Row],[Body length / dia\n(mm)]]&\" x \"&pana_film[[#This Row],[Body width\n(mm)]]","v":"18 x 7.7"},"-","-"]
[null,"Std","dip","PP","No","ECWF(L)","ECWF6103RJL",630,"DC",0.01,"± 5",12.5,5.2,13,7.5,"Crimped lead wire type (Style D)","-40 to 105 (85)","15.0P crimped lead taping (ammo packing)",1200,"https://industrial.panasonic.com/ww/products/pt/film-cap-electroequip/models/ECWF6103RJL","≤13","≤ 6","≤13",{"$f":"pana_film[[#This Row],[Body length / dia\n(mm)]]&\" x \"&pana_film[[#This Row],[Body width\n(mm)]]","v":"12.5 x 5.2"},"-","-"]
[null,"Std","dip","PP","No","ECWF(L)","ECWF4914JL",400,"DC",0.91,"± 5",23,12.4,19.2,20,"Straight lead wire type","-40 to 105 (85)","Bulk (Bag packing)",100,"https://industrial.panasonic.com/ww/products/pt/film-cap-electroequip/models/ECWF4914JL","≤23","≤13","≤19.5",{"$f":"pana_film[[#This Row],[Body length / dia\n(mm)]]&\" x \"&pana_film[[#This Row],[Body width\n(mm)]]","v":"23 x 12.4"},"-","-"]
[null,"Std","dip","PP","No","ECWF(L)","ECWF4913HLB",400,"DC",9.0999999999999998E-2,"± 3",13,7.8,15.7,7.5,"Inner crimped lead wire type (Style B)","-40 to 105 (85)","Bulk (Bag packing)",100,"https://industrial.panasonic.com/ww/products/pt/film-cap-electroequip/models/ECWF4913HLB","≤13","≤ 8","≤16",{"$f":"pana_film[[#This Row],[Body length / dia\n(mm)]]&\" x \"&pana_film[[#This Row],[Body width\n(mm)]]","v":"13 x 7.8"},"-","-"]
[null,"Std","dip","PP","No","ECWF(L)","ECWF4824RHL",400,"DC",0.82,"± 3",23,11.8,23.5,12.5,"Inner crimped lead wire type (Style B)","-40 to 105 (85)","30.0P crimped lead taping (ammo packing)",200,"https://industrial.panasonic.com/ww/products/pt/film-cap-electroequip/models/ECWF4824RHL","≤23","≤12","≤23.5",{"$f":"pana_film[[#This Row],[Body length / dia\n(mm)]]&\" x \"&pana_film[[#This Row],[Body width\n(mm)]]","v":"23 x 11.8"},"-","-"]
[null,"Std","dip","PP","No","ECWF(L)","ECWF4823JLB",400,"DC",8.2000000000000003E-2,"± 5",13,7.5,15.4,7.5,"Inner crimped lead wire type (Style B)","-40 to 105 (85)","Bulk (Bag packing)",100,"https://industrial.panasonic.com/ww/products/pt/film-cap-electroequip/models/ECWF4823JLB","≤13","≤ 8","≤15.5",{"$f":"pana_film[[#This Row],[Body length / dia\n(mm)]]&\" x \"&pana_film[[#This Row],[Body width\n(mm)]]","v":"13 x 7.5"},"-","-"]
[null,"Std","dip","PP","No","ECWF(L)","ECWF4754HL",400,"DC",0.75,"± 3",20.5,12.3,19.100000000000001,17.5,"Straight lead wire type","-40 to 105 (85)","Bulk (Bag packing)",100,"https://industrial.panasonic.com/ww/products/pt/film-cap-electroequip/models/ECWF4754HL","≤21","≤13","≤19.5",{"$f":"pana_film[[#This Row],[Body length / dia\n(mm)]]&\" x \"&pana_film[[#This Row],[Body width\n(mm)]]","v":"20.5 x 12.3"},"-","-"]
[null,"Std","dip","PP","No","ECWF(L)","ECWF4753HL",400,"DC",7.4999999999999997E-2,"± 3",13,7.3,10.1,10,"Straight lead wire type","-40 to 105 (85)","Bulk (Bag packing)",100,"https://industrial.panasonic.com/ww/products/pt/film-cap-electroequip/models/ECWF4753HL","≤13","≤ 8","≤10.5",{"$f":"pana_film[[#This Row],[Body length / dia\n(mm)]]&\" x \"&pana_film[[#This Row],[Body width\n(mm)]]","v":"13 x 7.3"},"-","-"]
[null,"Std","dip","PP","No","ECWF(L)","ECWF4684HLB",400,"DC",0.68,"± 3",20.5,11.8,23.5,12.5,"Inner crimped lead wire type (Style B)","-40 to 105 (85)","Bulk (Bag packing)",100,"https://industrial.panasonic.com/ww/products/pt/film-cap-electroequip/models/ECWF4684HLB","≤21","≤12","≤23.5",{"$f":"pana_film[[#This Row],[Body length / dia\n(mm)]]&\" x \"&pana_film[[#This Row],[Body width\n(mm)]]","v":"20.5 x 11.8"},"-","-"]
[null,"Std","dip","PP","No","ECWF(L)","ECWF4683RHL",400,"DC",6.8000000000000005E-2,"± 3",13,7,14.9,7.5,"Crimped lead wire type (Style D)","-40 to 105 (85)","15.0P crimped lead taping (ammo packing)",900,"https://industrial.panasonic.com/ww/products/pt/film-cap-electroequip/models/ECWF4683RHL","≤13","≤ 7","≤15",{"$f":"pana_film[[#This Row],[Body length / dia\n(mm)]]&\" x \"&pana_film[[#This Row],[Body width\n(mm)]]","v":"13 x 7"},"-","-"]
[null,"Std","dip","PP","No","ECWF(L)","ECWF4624JLB",400,"DC",0.62,"± 5",20.5,11.3,22.9,12.5,"Inner crimped lead wire type (Style B)","-40 to 105 (85)","Bulk (Bag packing)",100,"https://industrial.panasonic.com/ww/products/pt/film-cap-electroequip/models/ECWF4624JLB","≤21","≤12","≤23",{"$f":"pana_film[[#This Row],[Body length / dia\n(mm)]]&\" x \"&pana_film[[#This Row],[Body width\n(mm)]]","v":"20.5 x 11.3"},"-","-"]
[null,"Std","dip","PP","No","ECWF(L)","ECWF4623HL",400,"DC",6.2E-2,"± 3",13,6.8,9.6,10,"Straight lead wire type","-40 to 105 (85)","Bulk (Bag packing)",100,"https://industrial.panasonic.com/ww/products/pt/film-cap-electroequip/models/ECWF4623HL","≤13","≤ 7","≤10",{"$f":"pana_film[[#This Row],[Body length / dia\n(mm)]]&\" x \"&pana_film[[#This Row],[Body width\n(mm)]]","v":"13 x 6.8"},"-","-"]
[null,"Std","dip","PP","No","ECWF(L)","ECWF4564JLB",400,"DC",0.56000000000000005,"± 5",20.5,10.7,22.3,12.5,"Inner crimped lead wire type (Style B)","-40 to 105 (85)","Bulk (Bag packing)",100,"https://industrial.panasonic.com/ww/products/pt/film-cap-electroequip/models/ECWF4564JLB","≤21","≤11","≤22.5",{"$f":"pana_film[[#This Row],[Body length / dia\n(mm)]]&\" x \"&pana_film[[#This Row],[Body width\n(mm)]]","v":"20.5 x 10.7"},"-","-"]
[null,"Std","dip","PP","No","ECWF(L)","ECWF4563JL",400,"DC",5.6000000000000001E-2,"± 5",12.5,6.6,9.4,10,"Straight lead wire type","-40 to 105 (85)","Bulk (Bag packing)",100,"https://industrial.panasonic.com/ww/products/pt/film-cap-electroequip/models/ECWF4563JL","≤13","≤ 7","≤ 9.5",{"$f":"pana_film[[#This Row],[Body length / dia\n(mm)]]&\" x \"&pana_film[[#This Row],[Body width\n(mm)]]","v":"12.5 x 6.6"},"-","-"]
[null,"Std","dip","PP","No","ECWF(L)","ECWF4513RHL",400,"DC",5.0999999999999997E-2,"± 3",12.5,6.4,14.2,7.5,"Crimped lead wire type (Style D)","-40 to 105 (85)","15.0P crimped lead taping (ammo packing)",1000,"https://industrial.panasonic.com/ww/products/pt/film-cap-electroequip/models/ECWF4513RHL","≤13","≤ 7","≤14.5",{"$f":"pana_film[[#This Row],[Body length / dia\n(mm)]]&\" x \"&pana_film[[#This Row],[Body width\n(mm)]]","v":"12.5 x 6.4"},"-","-"]
[null,"Std","dip","PP","No","ECWF(L)","ECWF4513HLB",400,"DC",5.0999999999999997E-2,"± 3",12.5,6.4,14.2,7.5,"Inner crimped lead wire type (Style B)","-40 to 105 (85)","Bulk (Bag packing)",100,"https://industrial.panasonic.com/ww/products/pt/film-cap-electroequip/models/ECWF4513HLB","≤13","≤ 7","≤14.5",{"$f":"pana_film[[#This Row],[Body length / dia\n(mm)]]&\" x \"&pana_film[[#This Row],[Body width\n(mm)]]","v":"12.5 x 6.4"},"-","-"]
[null,"Std","dip","PP","No","ECWF(L)","ECWF4474HL",400,"DC",0.47,"± 3",18,11.2,16.100000000000001,15,"Straight lead wire type","-40 to 105 (85)","Bulk (Bag packing)",100,"https://industrial.panasonic.com/ww/products/pt/film-cap-electroequip/models/ECWF4474HL","≤18","≤12","≤16.5",{"$f":"pana_film[[#This Row],[Body length / dia\n(mm)]]&\" x \"&pana_film[[#This Row],[Body width\n(mm)]]","v":"18 x 11.2"},"-","-"]
[null,"Std","dip","PP","No","ECWF(L)","ECWF4473JLB",400,"DC",4.7E-2,"± 5",12.5,6.2,14,7.5,"Inner crimped lead wire type (Style B)","-40 to 105 (85)","Bulk (Bag packing)",100,"https://industrial.panasonic.com/ww/products/pt/film-cap-electroequip/models/ECWF4473JLB","≤13","≤ 7","≤14",{"$f":"pana_film[[#This Row],[Body length / dia\n(mm)]]&\" x \"&pana_film[[#This Row],[Body width\n(mm)]]","v":"12.5 x 6.2"},"-","-"]
[null,"Std","dip","PP","No","ECWF(L)","ECWF4434JL",400,"DC",0.43,"± 5",18,10.7,15.6,15,"Straight lead wire type","-40 to 105 (85)","Bulk (Bag packing)",100,"https://industrial.panasonic.com/ww/products/pt/film-cap-electroequip/models/ECWF4434JL","≤18","≤11","≤16",{"$f":"pana_film[[#This Row],[Body length / dia\n(mm)]]&\" x \"&pana_film[[#This Row],[Body width\n(mm)]]","v":"18 x 10.7"},"-","-"]
[null,"Std","dip","PP","No","ECWF(L)","ECWF4433HLB",400,"DC",4.2999999999999997E-2,"± 3",12.5,6,13.8,7.5,"Inner crimped lead wire type (Style B)","-40 to 105 (85)","Bulk (Bag packing)",100,"https://industrial.panasonic.com/ww/products/pt/film-cap-electroequip/models/ECWF4433HLB","≤13","≤ 6","≤14",{"$f":"pana_film[[#This Row],[Body length / dia\n(mm)]]&\" x \"&pana_film[[#This Row],[Body width\n(mm)]]","v":"12.5 x 6"},"-","-"]
[null,"Std","dip","PP","No","ECWF(L)","ECWF4394HLB",400,"DC",0.39,"± 3",18,10.3,20.100000000000001,10,"Inner crimped lead wire type (Style B)","-40 to 105 (85)","Bulk (Bag packing)",100,"https://industrial.panasonic.com/ww/products/pt/film-cap-electroequip/models/ECWF4394HLB","≤18","≤11","≤20.5",{"$f":"pana_film[[#This Row],[Body length / dia\n(mm)]]&\" x \"&pana_film[[#This Row],[Body width\n(mm)]]","v":"18 x 10.3"},"-","-"]
[null,"Std","dip","PP","No","ECWF(L)","ECWF4393HL",400,"DC",3.9E-2,"± 3",12.5,5.8,8.6,10,"Straight lead wire type","-40 to 105 (85)","Bulk (Bag packing)",100,"https://industrial.panasonic.com/ww/products/pt/film-cap-electroequip/models/ECWF4393HL","≤13","≤ 6","≤ 9",{"$f":"pana_film[[#This Row],[Body length / dia\n(mm)]]&\" x \"&pana_film[[#This Row],[Body width\n(mm)]]","v":"12.5 x 5.8"},"-","-"]
[null,"Std","dip","PP","No","ECWF(L)","ECWF4363JLB",400,"DC",3.5999999999999997E-2,"± 5",12.5,5.7,13.4,7.5,"Inner crimped lead wire type (Style B)","-40 to 105 (85)","Bulk (Bag packing)",100,"https://industrial.panasonic.com/ww/products/pt/film-cap-electroequip/models/ECWF4363JLB","≤13","≤ 6","≤13.5",{"$f":"pana_film[[#This Row],[Body length / dia\n(mm)]]&\" x \"&pana_film[[#This Row],[Body width\n(mm)]]","v":"12.5 x 5.7"},"-","-"]
[null,"Std","dip","PP","No","ECWF(L)","ECWF4363JL",400,"DC",3.5999999999999997E-2,"± 5",12.5,5.7,8.4,10,"Straight lead wire type","-40 to 105 (85)","Bulk (Bag packing)",100,"https://industrial.panasonic.com/ww/products/pt/film-cap-electroequip/models/ECWF4363JL","≤13","≤ 6","≤ 8.5",{"$f":"pana_film[[#This Row],[Body length / dia\n(mm)]]&\" x \"&pana_film[[#This Row],[Body width\n(mm)]]","v":"12.5 x 5.7"},"-","-"]
[null,"Std","dip","PP","No","ECWF(L)","ECWF4333RJL",400,"DC",3.3000000000000002E-2,"± 5",12.5,6.7,14.5,7.5,"Crimped lead wire type (Style D)","-40 to 105 (85)","15.0P crimped lead taping (ammo packing)",900,"https://industrial.panasonic.com/ww/products/pt/film-cap-electroequip/models/ECWF4333RJL","≤13","≤ 7","≤14.5",{"$f":"pana_film[[#This Row],[Body length / dia\n(mm)]]&\" x \"&pana_film[[#This Row],[Body width\n(mm)]]","v":"12.5 x 6.7"},"-","-"]
[null,"Std","dip","PP","No","ECWF(L)","ECWF4333HL",400,"DC",3.3000000000000002E-2,"± 3",12.5,6.7,9.5,10,"Straight lead wire type","-40 to 105 (85)","Bulk (Bag packing)",100,"https://industrial.panasonic.com/ww/products/pt/film-cap-electroequip/models/ECWF4333HL","≤13","≤ 7","≤ 9.5",{"$f":"pana_film[[#This Row],[Body length / dia\n(mm)]]&\" x \"&pana_film[[#This Row],[Body width\n(mm)]]","v":"12.5 x 6.7"},"-","-"]
[null,"Std","dip","PP","No","ECWF(L)","ECWF4304HL",400,"DC",0.3,"± 3",18,9.1999999999999993,13.9,15,"Straight lead wire type","-40 to 105 (85)","Bulk (Bag packing)",100,"https://industrial.panasonic.com/ww/products/pt/film-cap-electroequip/models/ECWF4304HL","≤18","≤10","≤14",{"$f":"pana_film[[#This Row],[Body length / dia\n(mm)]]&\" x \"&pana_film[[#This Row],[Body width\n(mm)]]","v":"18 x 9.2"},"-","-"]
[null,"Std","dip","PP","No","ECWF(L)","ECWF4274JLB",400,"DC",0.27,"± 5",18,8.8000000000000007,18.399999999999999,10,"Inner crimped lead wire type (Style B)","-40 to 105 (85)","Bulk (Bag packing)",100,"https://industrial.panasonic.com/ww/products/pt/film-cap-electroequip/models/ECWF4274JLB",{"$f":"IF(L3143<=9.5,\"≤ \"&ROUNDUP(L3143*1,0)/1,\"≤\"&ROUNDUP(L3143*1,0)/1)","v":"≤18"},{"$f":"IF(M3143<=9,\"≤ \"&ROUNDUP(M3143*1,0)/1,\"≤\"&ROUNDUP(M3143*1,0)/1)","v":"≤ 9"},{"$f":"IF(N3143<=9.5,\"≤ \"&ROUNDUP(N3143*2,0)/2,\"≤\"&ROUNDUP(N3143*2,0)/2)","v":"≤18.5"},{"$f":"pana_film[[#This Row],[Body length / dia\n(mm)]]&\" x \"&pana_film[[#This Row],[Body width\n(mm)]]","v":"18 x 8.8"},"-","-"]
[null,"Std","dip","PP","No","ECWF(L)","ECWF4274HL",400,"DC",0.27,"± 3",18,8.8000000000000007,13.4,15,"Straight lead wire type","-40 to 105 (85)","Bulk (Bag packing)",100,"https://industrial.panasonic.com/ww/products/pt/film-cap-electroequip/models/ECWF4274HL","≤18","≤ 9","≤13.5",{"$f":"pana_film[[#This Row],[Body length / dia\n(mm)]]&\" x \"&pana_film[[#This Row],[Body width\n(mm)]]","v":"18 x 8.8"},"-","-"]
[null,"Std","dip","PP","No","ECWF(L)","ECWF4245JLB",400,"DC",2.4,"± 5",28,17.5,29.8,17.5,"Inner crimped lead wire type (Style B)","-40 to 105 (85)","Bulk (Bag packing)",100,"https://industrial.panasonic.com/ww/products/pt/film-cap-electroequip/models/ECWF4245JLB","≤28","≤18","≤30",{"$f":"pana_film[[#This Row],[Body length / dia\n(mm)]]&\" x \"&pana_film[[#This Row],[Body width\n(mm)]]","v":"28 x 17.5"},"-","-"]
[null,"Std","dip","PP","No","ECWF(L)","ECWF4244HL",400,"DC",0.24,"± 3",18,8.3000000000000007,13,15,"Straight lead wire type","-40 to 105 (85)","Bulk (Bag packing)",100,"https://industrial.panasonic.com/ww/products/pt/film-cap-electroequip/models/ECWF4244HL","≤18","≤ 9","≤13",{"$f":"pana_film[[#This Row],[Body length / dia\n(mm)]]&\" x \"&pana_film[[#This Row],[Body width\n(mm)]]","v":"18 x 8.3"},"-","-"]
[null,"Std","dip","PP","No","ECWF(L)","ECWF4225JLB",400,"DC",2.2000000000000002,"± 5",28,16.8,29,17.5,"Inner crimped lead wire type (Style B)","-40 to 105 (85)","Bulk (Bag packing)",100,"https://industrial.panasonic.com/ww/products/pt/film-cap-electroequip/models/ECWF4225JLB","≤28","≤17","≤29",{"$f":"pana_film[[#This Row],[Body length / dia\n(mm)]]&\" x \"&pana_film[[#This Row],[Body width\n(mm)]]","v":"28 x 16.8"},"-","-"]
[null,"Std","dip","PP","No","ECWF(L)","ECWF4224RJL",400,"DC",0.22,"± 5",15.5,9,18.600000000000001,7.5,"Inner crimped lead wire type (Style B)","-40 to 105 (85)","30.0P crimped lead taping (ammo packing)",300,"https://industrial.panasonic.com/ww/products/pt/film-cap-electroequip/models/ECWF4224RJL","≤16","≤ 9","≤19",{"$f":"pana_film[[#This Row],[Body length / dia\n(mm)]]&\" x \"&pana_film[[#This Row],[Body width\n(mm)]]","v":"15.5 x 9"},"-","-"]
[null,"Std","dip","PP","No","ECWF(L)","ECWF4224JL",400,"DC",0.22,"± 5",15.5,9,13.6,12.5,"Straight lead wire type","-40 to 105 (85)","Bulk (Bag packing)",100,"https://industrial.panasonic.com/ww/products/pt/film-cap-electroequip/models/ECWF4224JL","≤16","≤ 9","≤14",{"$f":"pana_film[[#This Row],[Body length / dia\n(mm)]]&\" x \"&pana_film[[#This Row],[Body width\n(mm)]]","v":"15.5 x 9"},"-","-"]
[null,"Std","dip","PP","No","ECWF(L)","ECWF4223HLB",400,"DC",2.1999999999999999E-2,"± 3",12.5,5.8,13.6,7.5,"Inner crimped lead wire type (Style B)","-40 to 105 (85)","Bulk (Bag packing)",100,"https://industrial.panasonic.com/ww/products/pt/film-cap-electroequip/models/ECWF4223HLB","≤13","≤ 6","≤14",{"$f":"pana_film[[#This Row],[Body length / dia\n(mm)]]&\" x \"&pana_film[[#This Row],[Body width\n(mm)]]","v":"12.5 x 5.8"},"-","-"]
[null,"Std","dip","PP","No","ECWF(L)","ECWF4204JL",400,"DC",0.2,"± 5",15.5,8.6,13.3,12.5,"Straight lead wire type","-40 to 105 (85)","Bulk (Bag packing)",100,"https://industrial.panasonic.com/ww/products/pt/film-cap-electroequip/models/ECWF4204JL","≤16","≤ 9","≤13.5",{"$f":"pana_film[[#This Row],[Body length / dia\n(mm)]]&\" x \"&pana_film[[#This Row],[Body width\n(mm)]]","v":"15.5 x 8.6"},"-","-"]
[null,"Std","dip","PP","No","ECWF(L)","ECWF4185JLB",400,"DC",1.8,"± 5",28,15.2,27.2,17.5,"Inner crimped lead wire type (Style B)","-40 to 105 (85)","Bulk (Bag packing)",100,"https://industrial.panasonic.com/ww/products/pt/film-cap-electroequip/models/ECWF4185JLB","≤28","≤16","≤27.5",{"$f":"pana_film[[#This Row],[Body length / dia\n(mm)]]&\" x \"&pana_film[[#This Row],[Body width\n(mm)]]","v":"28 x 15.2"},"-","-"]
[null,"Std","dip","PP","No","ECWF(L)","ECWF4184JL",400,"DC",0.18,"± 5",15.5,8.1999999999999993,12.8,12.5,"Straight lead wire type","-40 to 105 (85)","Bulk (Bag packing)",100,"https://industrial.panasonic.com/ww/products/pt/film-cap-electroequip/models/ECWF4184JL","≤16","≤ 9","≤13",{"$f":"pana_film[[#This Row],[Body length / dia\n(mm)]]&\" x \"&pana_film[[#This Row],[Body width\n(mm)]]","v":"15.5 x 8.2"},"-","-"]
[null,"Std","dip","PP","No","ECWF(L)","ECWF4165JL",400,"DC",1.6,"± 5",28,14.2,21.2,25,"Straight lead wire type","-40 to 105 (85)","Bulk (Bag packing)",100,"https://industrial.panasonic.com/ww/products/pt/film-cap-electroequip/models/ECWF4165JL","≤28","≤15","≤21.5",{"$f":"pana_film[[#This Row],[Body length / dia\n(mm)]]&\" x \"&pana_film[[#This Row],[Body width\n(mm)]]","v":"28 x 14.2"},"-","-"]
[null,"Std","dip","PP","No","ECWF(L)","ECWF4164HLB",400,"DC",0.16,"± 3",15.5,7.8,17.399999999999999,7.5,"Inner crimped lead wire type (Style B)","-40 to 105 (85)","Bulk (Bag packing)",100,"https://industrial.panasonic.com/ww/products/pt/film-cap-electroequip/models/ECWF4164HLB","≤16","≤ 8","≤17.5",{"$f":"pana_film[[#This Row],[Body length / dia\n(mm)]]&\" x \"&pana_film[[#This Row],[Body width\n(mm)]]","v":"15.5 x 7.8"},"-","-"]
[null,"Std","dip","PP","No","ECWF(L)","ECWF4154JL",400,"DC",0.15,"± 5",15.5,7.6,12.2,12.5,"Straight lead wire type","-40 to 105 (85)","Bulk (Bag packing)",100,"https://industrial.panasonic.com/ww/products/pt/film-cap-electroequip/models/ECWF4154JL","≤16","≤ 8","≤12.5",{"$f":"pana_film[[#This Row],[Body length / dia\n(mm)]]&\" x \"&pana_film[[#This Row],[Body width\n(mm)]]","v":"15.5 x 7.6"},"-","-"]
[null,"Std","dip","PP","No","ECWF(L)","ECWF4135JLB",400,"DC",1.3,"± 5",28,12.8,24.6,17.5,"Inner crimped lead wire type (Style B)","-40 to 105 (85)","Bulk (Bag packing)",100,"https://industrial.panasonic.com/ww/products/pt/film-cap-electroequip/models/ECWF4135JLB","≤28","≤13","≤25",{"$f":"pana_film[[#This Row],[Body length / dia\n(mm)]]&\" x \"&pana_film[[#This Row],[Body width\n(mm)]]","v":"28 x 12.8"},"-","-"]
[null,"Std","dip","PP","No","ECWF(L)","ECWF4134JL",400,"DC",0.13,"± 5",15.5,7.2,11.8,12.5,"Straight lead wire type","-40 to 105 (85)","Bulk (Bag packing)",100,"https://industrial.panasonic.com/ww/products/pt/film-cap-electroequip/models/ECWF4134JL","≤16","≤ 8","≤12",{"$f":"pana_film[[#This Row],[Body length / dia\n(mm)]]&\" x \"&pana_film[[#This Row],[Body width\n(mm)]]","v":"15.5 x 7.2"},"-","-"]
[null,"Std","dip","PP","No","ECWF(L)","ECWF4124JLB",400,"DC",0.12,"± 5",15.5,7,16.5,7.5,"Inner crimped lead wire type (Style B)","-40 to 105 (85)","Bulk (Bag packing)",100,"https://industrial.panasonic.com/ww/products/pt/film-cap-electroequip/models/ECWF4124JLB","≤16","≤ 7","≤16.5",{"$f":"pana_film[[#This Row],[Body length / dia\n(mm)]]&\" x \"&pana_film[[#This Row],[Body width\n(mm)]]","v":"15.5 x 7"},"-","-"]
[null,"Std","dip","PP","No","ECWF(L)","ECWF4115HLB",400,"DC",1.1000000000000001,"± 3",23,13.6,25.5,12.5,"Inner crimped lead wire type (Style B)","-40 to 105 (85)","Bulk (Bag packing)",100,"https://industrial.panasonic.com/ww/products/pt/film-cap-electroequip/models/ECWF4115HLB","≤23","≤14","≤25.5",{"$f":"pana_film[[#This Row],[Body length / dia\n(mm)]]&\" x \"&pana_film[[#This Row],[Body width\n(mm)]]","v":"23 x 13.6"},"-","-"]
[null,"Std","dip","PP","No","ECWF(L)","ECWF4114JL",400,"DC",0.11,"± 5",15.5,6.8,11.3,12.5,"Straight lead wire type","-40 to 105 (85)","Bulk (Bag packing)",100,"https://industrial.panasonic.com/ww/products/pt/film-cap-electroequip/models/ECWF4114JL","≤16","≤ 7","≤11.5",{"$f":"pana_film[[#This Row],[Body length / dia\n(mm)]]&\" x \"&pana_film[[#This Row],[Body width\n(mm)]]","v":"15.5 x 6.8"},"-","-"]
[null,"Std","dip","PP","No","ECWF(L)","ECWF4104RJL",400,"DC",0.1,"± 5",15.5,6.5,16,7.5,"Inner crimped lead wire type (Style B)","-40 to 105 (85)","30.0P crimped lead taping (ammo packing)",500,"https://industrial.panasonic.com/ww/products/pt/film-cap-electroequip/models/ECWF4104RJL","≤16","≤ 7","≤16",{"$f":"pana_film[[#This Row],[Body length / dia\n(mm)]]&\" x \"&pana_film[[#This Row],[Body width\n(mm)]]","v":"15.5 x 6.5"},"-","-"]
[null,"Std","dip","PP","No","ECWF(L)","ECWF4104RHL",400,"DC",0.1,"± 3",15.5,6.5,16,7.5,"Inner crimped lead wire type (Style B)","-40 to 105 (85)","30.0P crimped lead taping (ammo packing)",500,"https://industrial.panasonic.com/ww/products/pt/film-cap-electroequip/models/ECWF4104RHL","≤16","≤ 7","≤16",{"$f":"pana_film[[#This Row],[Body length / dia\n(mm)]]&\" x \"&pana_film[[#This Row],[Body width\n(mm)]]","v":"15.5 x 6.5"},"-","-"]
[null,"Std","dip","PP","No","ECWF(A)","ECWF2W824KA",450,"DC",0.82,"±10",18.100000000000001,8.1999999999999993,12.7,15,"Straight lead wire type","-40 to 105 (85)","Bulk (Bag packing)",100,"https://industrial.panasonic.com/ww/products/pt/film-cap-electroequip/models/ECWF2W824KA",{"$f":"IF(L3271<=9.5,\"≤ \"&ROUNDUP(L3271*1,0)/1,\"≤\"&ROUNDUP(L3271*1,0)/1)","v":"≤19"},{"$f":"IF(M3271<=9,\"≤ \"&ROUNDUP(M3271*1,0)/1,\"≤\"&ROUNDUP(M3271*1,0)/1)","v":"≤ 9"},{"$f":"IF(N3271<=9.5,\"≤ \"&ROUNDUP(N3271*2,0)/2,\"≤\"&ROUNDUP(N3271*2,0)/2)","v":"≤13"},{"$f":"pana_film[[#This Row],[Body length / dia\n(mm)]]&\" x \"&pana_film[[#This Row],[Body width\n(mm)]]","v":"18.1 x 8.2"},"-","-"]
[null,"Std","dip","PP","No","ECWF(A)","ECWF2W824JA",450,"DC",0.82,"± 5",18.100000000000001,8.1999999999999993,12.7,15,"Straight lead wire type","-40 to 105 (85)","Bulk (Bag packing)",100,"https://industrial.panasonic.com/ww/products/pt/film-cap-electroequip/models/ECWF2W824JA","≤19","≤ 9","≤13",{"$f":"pana_film[[#This Row],[Body length / dia\n(mm)]]&\" x \"&pana_film[[#This Row],[Body width\n(mm)]]","v":"18.1 x 8.2"},"-","-"]
[null,"Std","dip","PP","No","ECWF(A)","ECWF2W564RJA",450,"DC",0.56000000000000005,"± 5",18.100000000000001,7,16.5,7.5,"Inner crimped lead wire type (Style B)","-40 to 105 (85)","30.0P crimped lead taping (ammo packing)",400,"https://industrial.panasonic.com/ww/products/pt/film-cap-electroequip/models/ECWF2W564RJA","≤19","≤ 7","≤16.5",{"$f":"pana_film[[#This Row],[Body length / dia\n(mm)]]&\" x \"&pana_film[[#This Row],[Body width\n(mm)]]","v":"18.1 x 7"},"-","-"]
[null,"Std","dip","PP","No","ECWF(A)","ECWF2W475KAQ",450,"DC",4.7,"±10",26.3,13.8,26.6,22.5,"Inner crimped lead wire type (Style B)","-40 to 105 (85)","Bulk (Bag packing)",100,"https://industrial.panasonic.com/ww/products/pt/film-cap-electroequip/models/ECWF2W475KAQ","≤27","≤14","≤27",{"$f":"pana_film[[#This Row],[Body length / dia\n(mm)]]&\" x \"&pana_film[[#This Row],[Body width\n(mm)]]","v":"26.3 x 13.8"},"-","-"]
[null,"Std","dip","PP","No","ECWF(A)","ECWF2W474RJA",450,"DC",0.47,"± 5",13,8.6999999999999993,17.899999999999999,7.5,"Crimped lead wire type (Style Y)","-40 to 105 (85)","15.0P crimped lead taping (ammo packing)",600,"https://industrial.panasonic.com/ww/products/pt/film-cap-electroequip/models/ECWF2W474RJA","≤13","≤ 9","≤18",{"$f":"pana_film[[#This Row],[Body length / dia\n(mm)]]&\" x \"&pana_film[[#This Row],[Body width\n(mm)]]","v":"13 x 8.7"},"-","-"]
[null,"Std","dip","PP","No","ECWF(A)","ECWF2W474JAQ",450,"DC",0.47,"± 5",13,8.6999999999999993,17.899999999999999,10,"Inner crimped lead wire type (Style B)","-40 to 105 (85)","Bulk (Bag packing)",100,"https://industrial.panasonic.com/ww/products/pt/film-cap-electroequip/models/ECWF2W474JAQ","≤13","≤ 9","≤18",{"$f":"pana_film[[#This Row],[Body length / dia\n(mm)]]&\" x \"&pana_film[[#This Row],[Body width\n(mm)]]","v":"13 x 8.7"},"-","-"]
[null,"Std","dip","PP","No","ECWF(A)","ECWF2W394RJA",450,"DC",0.39,"± 5",13,8.1,17.2,7.5,"Crimped lead wire type (Style Y)","-40 to 105 (85)","15.0P crimped lead taping (ammo packing)",800,"https://industrial.panasonic.com/ww/products/pt/film-cap-electroequip/models/ECWF2W394RJA","≤13","≤ 9","≤17.5",{"$f":"pana_film[[#This Row],[Body length / dia\n(mm)]]&\" x \"&pana_film[[#This Row],[Body width\n(mm)]]","v":"13 x 8.1"},"-","-"]
[null,"Std","dip","PP","No","ECWF(A)","ECWF2W394KAQ",450,"DC",0.39,"±10",13,8.1,17.2,10,"Inner crimped lead wire type (Style B)","-40 to 105 (85)","Bulk (Bag packing)",100,"https://industrial.panasonic.com/ww/products/pt/film-cap-electroequip/models/ECWF2W394KAQ","≤13","≤ 9","≤17.5",{"$f":"pana_film[[#This Row],[Body length / dia\n(mm)]]&\" x \"&pana_film[[#This Row],[Body width\n(mm)]]","v":"13 x 8.1"},"-","-"]
[null,"Std","dip","PP","No","ECWF(A)","ECWF2W334RKA",450,"DC",0.33,"±10",13,7.6,16.7,7.5,"Crimped lead wire type (Style Y)","-40 to 105 (85)","15.0P crimped lead taping (ammo packing)",800,"https://industrial.panasonic.com/ww/products/pt/film-cap-electroequip/models/ECWF2W334RKA","≤13","≤ 8","≤17",{"$f":"pana_film[[#This Row],[Body length / dia\n(mm)]]&\" x \"&pana_film[[#This Row],[Body width\n(mm)]]","v":"13 x 7.6"},"-","-"]
[null,"Std","dip","PP","No","ECWF(A)","ECWF2W275KAB",450,"DC",2.7,"±10",26.3,10.6,21.5,15,"Inner crimped lead wire type (Style B)","-40 to 105 (85)","Bulk (Bag packing)",100,"https://industrial.panasonic.com/ww/products/pt/film-cap-electroequip/models/ECWF2W275KAB","≤27","≤11","≤21.5",{"$f":"pana_film[[#This Row],[Body length / dia\n(mm)]]&\" x \"&pana_film[[#This Row],[Body width\n(mm)]]","v":"26.3 x 10.6"},"-","-"]
[null,"Std","dip","PP","No","ECWF(A)","ECWF2W275JAB",450,"DC",2.7,"± 5",26.3,10.6,21.5,15,"Inner crimped lead wire type (Style B)","-40 to 105 (85)","Bulk (Bag packing)",100,"https://industrial.panasonic.com/ww/products/pt/film-cap-electroequip/models/ECWF2W275JAB","≤27","≤11","≤21.5",{"$f":"pana_film[[#This Row],[Body length / dia\n(mm)]]&\" x \"&pana_film[[#This Row],[Body width\n(mm)]]","v":"26.3 x 10.6"},"-","-"]
[null,"Std","dip","PP","No","ECWF(A)","ECWF2W225RJA",450,"DC",2.2000000000000002,"± 5",18.8,12.8,22.9,7.5,"Inner crimped lead wire type (Style B)","-40 to 105 (85)","30.0P crimped lead taping (ammo packing)",200,"https://industrial.panasonic.com/ww/products/pt/film-cap-electroequip/models/ECWF2W225RJA","≤19","≤13","≤23",{"$f":"pana_film[[#This Row],[Body length / dia\n(mm)]]&\" x \"&pana_film[[#This Row],[Body width\n(mm)]]","v":"18.8 x 12.8"},"-","-"]
[null,"Std","dip","PP","No","ECWF(A)","ECWF2W224RKA",450,"DC",0.22,"±10",13,6.5,15.6,7.5,"Crimped lead wire type (Style Y)","-40 to 105 (85)","15.0P crimped lead taping (ammo packing)",1000,"https://industrial.panasonic.com/ww/products/pt/film-cap-electroequip/models/ECWF2W224RKA","≤13","≤ 7","≤16",{"$f":"pana_film[[#This Row],[Body length / dia\n(mm)]]&\" x \"&pana_film[[#This Row],[Body width\n(mm)]]","v":"13 x 6.5"},"-","-"]
[null,"Std","dip","PP","No","ECWF(A)","ECWF2W224KAB",450,"DC",0.22,"±10",13,6.5,15.6,7.5,"Inner crimped lead wire type (Style B)","-40 to 105 (85)","Bulk (Bag packing)",100,"https://industrial.panasonic.com/ww/products/pt/film-cap-electroequip/models/ECWF2W224KAB","≤13","≤ 7","≤16",{"$f":"pana_film[[#This Row],[Body length / dia\n(mm)]]&\" x \"&pana_film[[#This Row],[Body width\n(mm)]]","v":"13 x 6.5"},"-","-"]
[null,"Std","dip","PP","No","ECWF(A)","ECWF2W185JAQ",450,"DC",1.8,"± 5",18.8,11.6,23.7,15,"Inner crimped lead wire type (Style B)","-40 to 105 (85)","Bulk (Bag packing)",100,"https://industrial.panasonic.com/ww/products/pt/film-cap-electroequip/models/ECWF2W185JAQ","≤19","≤12","≤24",{"$f":"pana_film[[#This Row],[Body length / dia\n(mm)]]&\" x \"&pana_film[[#This Row],[Body width\n(mm)]]","v":"18.8 x 11.6"},"-","-"]
[null,"Std","dip","PP","No","ECWF(A)","ECWF2W184RKA",450,"DC",0.18,"±10",13,6.1,15.2,7.5,"Crimped lead wire type (Style Y)","-40 to 105 (85)","15.0P crimped lead taping (ammo packing)",1000,"https://industrial.panasonic.com/ww/products/pt/film-cap-electroequip/models/ECWF2W184RKA","≤13","≤ 7","≤15.5",{"$f":"pana_film[[#This Row],[Body length / dia\n(mm)]]&\" x \"&pana_film[[#This Row],[Body width\n(mm)]]","v":"13 x 6.1"},"-","-"]
[null,"Std","dip","PP","No","ECWF(A)","ECWF2W155KAB",450,"DC",1.5,"±10",18.8,10.7,20.8,7.5,"Inner crimped lead wire type (Style B)","-40 to 105 (85)","Bulk (Bag packing)",100,"https://industrial.panasonic.com/ww/products/pt/film-cap-electroequip/models/ECWF2W155KAB","≤19","≤11","≤21",{"$f":"pana_film[[#This Row],[Body length / dia\n(mm)]]&\" x \"&pana_film[[#This Row],[Body width\n(mm)]]","v":"18.8 x 10.7"},"-","-"]
[null,"Std","dip","PP","No","ECWF(A)","ECWF2W154KAQ",450,"DC",0.15,"±10",13,5.7,14.9,10,"Inner crimped lead wire type (Style B)","-40 to 105 (85)","Bulk (Bag packing)",100,"https://industrial.panasonic.com/ww/products/pt/film-cap-electroequip/models/ECWF2W154KAQ","≤13","≤ 6","≤15",{"$f":"pana_film[[#This Row],[Body length / dia\n(mm)]]&\" x \"&pana_film[[#This Row],[Body width\n(mm)]]","v":"13 x 5.7"},"-","-"]
[null,"Std","dip","PP","No","ECWF(A)","ECWF2W154JAB",450,"DC",0.15,"± 5",13,5.7,14.9,7.5,"Inner crimped lead wire type (Style B)","-40 to 105 (85)","Bulk (Bag packing)",100,"https://industrial.panasonic.com/ww/products/pt/film-cap-electroequip/models/ECWF2W154JAB","≤13","≤ 6","≤15",{"$f":"pana_film[[#This Row],[Body length / dia\n(mm)]]&\" x \"&pana_film[[#This Row],[Body width\n(mm)]]","v":"13 x 5.7"},"-","-"]
[null,"Std","dip","PP","No","ECWF(A)","ECWF2W124RKA",450,"DC",0.12,"±10",13,5.4,14.5,7.5,"Crimped lead wire type (Style Y)","-40 to 105 (85)","15.0P crimped lead taping (ammo packing)",1200,"https://industrial.panasonic.com/ww/products/pt/film-cap-electroequip/models/ECWF2W124RKA","≤13","≤ 6","≤14.5",{"$f":"pana_film[[#This Row],[Body length / dia\n(mm)]]&\" x \"&pana_film[[#This Row],[Body width\n(mm)]]","v":"13 x 5.4"},"-","-"]
[null,"Std","dip","PP","No","ECWF(A)","ECWF2W124KAB",450,"DC",0.12,"±10",13,5.4,14.5,7.5,"Inner crimped lead wire type (Style B)","-40 to 105 (85)","Bulk (Bag packing)",100,"https://industrial.panasonic.com/ww/products/pt/film-cap-electroequip/models/ECWF2W124KAB","≤13","≤ 6","≤14.5",{"$f":"pana_film[[#This Row],[Body length / dia\n(mm)]]&\" x \"&pana_film[[#This Row],[Body width\n(mm)]]","v":"13 x 5.4"},"-","-"]
[null,"Std","dip","PP","No","ECWF(A)","ECWF2W105KA",450,"DC",1,"±10",18.100000000000001,9.3000000000000007,12.6,15,"Straight lead wire type","-40 to 105 (85)","Bulk (Bag packing)",100,"https://industrial.panasonic.com/ww/products/pt/film-cap-electroequip/models/ECWF2W105KA","≤19","≤10","≤13",{"$f":"pana_film[[#This Row],[Body length / dia\n(mm)]]&\" x \"&pana_film[[#This Row],[Body width\n(mm)]]","v":"18.1 x 9.3"},"-","-"]
[null,"Std","dip","PP","No","ECWF(A)","ECWF2W104JAB",450,"DC",0.1,"± 5",13,5.0999999999999996,14.3,7.5,"Inner crimped lead wire type (Style B)","-40 to 105 (85)","Bulk (Bag packing)",100,"https://industrial.panasonic.com/ww/products/pt/film-cap-electroequip/models/ECWF2W104JAB","≤13","≤ 6","≤14.5",{"$f":"pana_film[[#This Row],[Body length / dia\n(mm)]]&\" x \"&pana_film[[#This Row],[Body width\n(mm)]]","v":"13 x 5.1"},"-","-"]
[null,"Std","dip","PP","No","ECWF(A)","ECWF2824RJA",250,"DC",0.82,"± 5",18.100000000000001,8,17.600000000000001,7.5,"Inner crimped lead wire type (Style B)","-40 to 105 (85)","30.0P crimped lead taping (ammo packing)",400,"https://industrial.panasonic.com/ww/products/pt/film-cap-electroequip/models/ECWF2824RJA","≤19","≤ 8","≤18",{"$f":"pana_film[[#This Row],[Body length / dia\n(mm)]]&\" x \"&pana_film[[#This Row],[Body width\n(mm)]]","v":"18.1 x 8"},"-","-"]
[null,"Std","dip","PP","No","ECWF(A)","ECWF2685HAQ",250,"DC",6.8,"± 3",23.8,17.8,30.5,20,"Crimped lead wire type (Style D)","-40 to 105 (85)","Bulk (Bag packing)",500,"https://industrial.panasonic.com/ww/products/pt/film-cap-electroequip/models/ECWF2685HAQ","≤24","≤18","≤30.5",{"$f":"pana_film[[#This Row],[Body length / dia\n(mm)]]&\" x \"&pana_film[[#This Row],[Body width\n(mm)]]","v":"23.8 x 17.8"},"-","-"]
[null,"Std","dip","PP","No","ECWF(A)","ECWF2684HAQ",250,"DC",0.68,"± 3",18.100000000000001,7.4,19,15,"Crimped lead wire type (Style D)","-40 to 105 (85)","Bulk (Bag packing)",500,"https://industrial.panasonic.com/ww/products/pt/film-cap-electroequip/models/ECWF2684HAQ","≤19","≤ 8","≤19",{"$f":"pana_film[[#This Row],[Body length / dia\n(mm)]]&\" x \"&pana_film[[#This Row],[Body width\n(mm)]]","v":"18.1 x 7.4"},"-","-"]
[null,"Std","dip","PP","No","ECWF(A)","ECWF2565JAB",250,"DC",5.6,"± 5",23.8,16.2,26.9,12.5,"Inner crimped lead wire type (Style B)","-40 to 105 (85)","Bulk (Bag packing)",500,"https://industrial.panasonic.com/ww/products/pt/film-cap-electroequip/models/ECWF2565JAB","≤24","≤17","≤27",{"$f":"pana_film[[#This Row],[Body length / dia\n(mm)]]&\" x \"&pana_film[[#This Row],[Body width\n(mm)]]","v":"23.8 x 16.2"},"-","-"]
[null,"Std","dip","PP","No","ECWF(A)","ECWF2564JAQ",250,"DC",0.56000000000000005,"± 5",18.100000000000001,6.9,18.399999999999999,15,"Crimped lead wire type (Style D)","-40 to 105 (85)","Bulk (Bag packing)",500,"https://industrial.panasonic.com/ww/products/pt/film-cap-electroequip/models/ECWF2564JAQ","≤19","≤ 7","≤18.5",{"$f":"pana_film[[#This Row],[Body length / dia\n(mm)]]&\" x \"&pana_film[[#This Row],[Body width\n(mm)]]","v":"18.1 x 6.9"},"-","-"]
[null,"Std","dip","PP","No","ECWF(A)","ECWF2474RJA",250,"DC",0.47,"± 5",13,8.4,17.600000000000001,7.5,"Crimped lead wire type (Style D)","-40 to 105 (85)","15.0P crimped lead taping (ammo packing)",700,"https://industrial.panasonic.com/ww/products/pt/film-cap-electroequip/models/ECWF2474RJA","≤13","≤ 9","≤18",{"$f":"pana_film[[#This Row],[Body length / dia\n(mm)]]&\" x \"&pana_film[[#This Row],[Body width\n(mm)]]","v":"13 x 8.4"},"-","-"]
[null,"Std","dip","PP","No","ECWF(A)","ECWF2474JAB",250,"DC",0.47,"± 5",13,8.4,17.600000000000001,7.5,"Inner crimped lead wire type (Style B)","-40 to 105 (85)","Bulk (Bag packing)",500,"https://industrial.panasonic.com/ww/products/pt/film-cap-electroequip/models/ECWF2474JAB","≤13","≤ 9","≤18",{"$f":"pana_film[[#This Row],[Body length / dia\n(mm)]]&\" x \"&pana_film[[#This Row],[Body width\n(mm)]]","v":"13 x 8.4"},"-","-"]
[null,"Std","dip","PP","No","ECWF(A)","ECWF2395HAQ",250,"DC",3.9,"± 3",23.8,13.5,26.3,20,"Crimped lead wire type (Style D)","-40 to 105 (85)","Bulk (Bag packing)",500,"https://industrial.panasonic.com/ww/products/pt/film-cap-electroequip/models/ECWF2395HAQ","≤24","≤14","≤26.5",{"$f":"pana_film[[#This Row],[Body length / dia\n(mm)]]&\" x \"&pana_film[[#This Row],[Body width\n(mm)]]","v":"23.8 x 13.5"},"-","-"]
[null,"Std","dip","PP","No","ECWF(A)","ECWF2394RJA",250,"DC",0.39,"± 5",13,7.8,16.899999999999999,7.5,"Crimped lead wire type (Style D)","-40 to 105 (85)","15.0P crimped lead taping (ammo packing)",800,"https://industrial.panasonic.com/ww/products/pt/film-cap-electroequip/models/ECWF2394RJA","≤13","≤ 8","≤17",{"$f":"pana_film[[#This Row],[Body length / dia\n(mm)]]&\" x \"&pana_film[[#This Row],[Body width\n(mm)]]","v":"13 x 7.8"},"-","-"]
[null,"Std","dip","PP","No","ECWF(A)","ECWF2335JAB",250,"DC",3.3,"± 5",23.8,12.5,23.3,12.5,"Inner crimped lead wire type (Style B)","-40 to 105 (85)","Bulk (Bag packing)",500,"https://industrial.panasonic.com/ww/products/pt/film-cap-electroequip/models/ECWF2335JAB","≤24","≤13","≤23.5",{"$f":"pana_film[[#This Row],[Body length / dia\n(mm)]]&\" x \"&pana_film[[#This Row],[Body width\n(mm)]]","v":"23.8 x 12.5"},"-","-"]
[null,"Std","dip","PP","No","ECWF(A)","ECWF2334HAQ",250,"DC",0.33,"± 3",13,7.3,16.399999999999999,10,"Crimped lead wire type (Style D)","-40 to 105 (85)","Bulk (Bag packing)",500,"https://industrial.panasonic.com/ww/products/pt/film-cap-electroequip/models/ECWF2334HAQ","≤13","≤ 8","≤16.5",{"$f":"pana_film[[#This Row],[Body length / dia\n(mm)]]&\" x \"&pana_film[[#This Row],[Body width\n(mm)]]","v":"13 x 7.3"},"-","-"]
[null,"Std","dip","PP","No","ECWF(A)","ECWF2275RJA",250,"DC",2.7,"± 5",23.8,11.4,22.2,12.5,"Inner crimped lead wire type (Style B)","-40 to 105 (85)","30.0P crimped lead taping (ammo packing)",300,"https://industrial.panasonic.com/ww/products/pt/film-cap-electroequip/models/ECWF2275RJA","≤24","≤12","≤22.5",{"$f":"pana_film[[#This Row],[Body length / dia\n(mm)]]&\" x \"&pana_film[[#This Row],[Body width\n(mm)]]","v":"23.8 x 11.4"},"-","-"]
[null,"Std","dip","PP","No","ECWF(A)","ECWF2274RHA",250,"DC",0.27,"± 3",13,6.8,15.9,7.5,"Crimped lead wire type (Style D)","-40 to 105 (85)","15.0P crimped lead taping (ammo packing)",900,"https://industrial.panasonic.com/ww/products/pt/film-cap-electroequip/models/ECWF2274RHA","≤13","≤ 7","≤16",{"$f":"pana_film[[#This Row],[Body length / dia\n(mm)]]&\" x \"&pana_film[[#This Row],[Body width\n(mm)]]","v":"13 x 6.8"},"-","-"]
[null,"Std","dip","PP","No","ECWF(A)","ECWF2225JAQ",250,"DC",2.2000000000000002,"± 5",18.8,12.6,24.6,15,"Crimped lead wire type (Style D)","-40 to 105 (85)","Bulk (Bag packing)",500,"https://industrial.panasonic.com/ww/products/pt/film-cap-electroequip/models/ECWF2225JAQ","≤19","≤13","≤25",{"$f":"pana_film[[#This Row],[Body length / dia\n(mm)]]&\" x \"&pana_film[[#This Row],[Body width\n(mm)]]","v":"18.8 x 12.6"},"-","-"]
[null,"Std","dip","PP","No","ECWF(A)","ECWF2225HAQ",250,"DC",2.2000000000000002,"± 3",18.8,12.6,24.6,15,"Crimped lead wire type (Style D)","-40 to 105 (85)","Bulk (Bag packing)",500,"https://industrial.panasonic.com/ww/products/pt/film-cap-electroequip/models/ECWF2225HAQ","≤19","≤13","≤25",{"$f":"pana_film[[#This Row],[Body length / dia\n(mm)]]&\" x \"&pana_film[[#This Row],[Body width\n(mm)]]","v":"18.8 x 12.6"},"-","-"]
[null,"Std","dip","PP","No","ECWF(A)","ECWF2224HAQ",250,"DC",0.22,"± 3",13,6.3,15.4,10,"Crimped lead wire type (Style D)","-40 to 105 (85)","Bulk (Bag packing)",500,"https://industrial.panasonic.com/ww/products/pt/film-cap-electroequip/models/ECWF2224HAQ","≤13","≤ 7","≤15.5",{"$f":"pana_film[[#This Row],[Body length / dia\n(mm)]]&\" x \"&pana_film[[#This Row],[Body width\n(mm)]]","v":"13 x 6.3"},"-","-"]
[null,"Std","dip","PP","No","ECWF(A)","ECWF2185HA",250,"DC",1.8,"± 3",18.8,11.4,16.5,15,"Straight lead wire type","-40 to 105 (85)","Bulk (Bag packing)",500,"https://industrial.panasonic.com/ww/products/pt/film-cap-electroequip/models/ECWF2185HA","≤19","≤12","≤16.5",{"$f":"pana_film[[#This Row],[Body length / dia\n(mm)]]&\" x \"&pana_film[[#This Row],[Body width\n(mm)]]","v":"18.8 x 11.4"},"-","-"]
[null,"Std","dip","PP","No","ECWF(A)","ECWF2184JAB",250,"DC",0.18,"± 5",13,5.9,15.1,7.5,"Inner crimped lead wire type (Style B)","-40 to 105 (85)","Bulk (Bag packing)",500,"https://industrial.panasonic.com/ww/products/pt/film-cap-electroequip/models/ECWF2184JAB","≤13","≤ 6","≤15.5",{"$f":"pana_film[[#This Row],[Body length / dia\n(mm)]]&\" x \"&pana_film[[#This Row],[Body width\n(mm)]]","v":"13 x 5.9"},"-","-"]
[null,"Std","dip","PP","No","ECWF(A)","ECWF2155JA",250,"DC",1.5,"± 5",18.8,10.5,15.6,15,"Straight lead wire type","-40 to 105 (85)","Bulk (Bag packing)",500,"https://industrial.panasonic.com/ww/products/pt/film-cap-electroequip/models/ECWF2155JA","≤19","≤11","≤16",{"$f":"pana_film[[#This Row],[Body length / dia\n(mm)]]&\" x \"&pana_film[[#This Row],[Body width\n(mm)]]","v":"18.8 x 10.5"},"-","-"]
[null,"Std","dip","PP","No","ECWF(A)","ECWF2155HA",250,"DC",1.5,"± 3",18.8,10.5,15.6,15,"Straight lead wire type","-40 to 105 (85)","Bulk (Bag packing)",500,"https://industrial.panasonic.com/ww/products/pt/film-cap-electroequip/models/ECWF2155HA","≤19","≤11","≤16",{"$f":"pana_film[[#This Row],[Body length / dia\n(mm)]]&\" x \"&pana_film[[#This Row],[Body width\n(mm)]]","v":"18.8 x 10.5"},"-","-"]
[null,"Std","dip","PP","No","ECWF(A)","ECWF2125JAQ",250,"DC",1.2,"± 5",18.8,9.5,21.6,15,"Crimped lead wire type (Style D)","-40 to 105 (85)","Bulk (Bag packing)",500,"https://industrial.panasonic.com/ww/products/pt/film-cap-electroequip/models/ECWF2125JAQ","≤19","≤10","≤22",{"$f":"pana_film[[#This Row],[Body length / dia\n(mm)]]&\" x \"&pana_film[[#This Row],[Body width\n(mm)]]","v":"18.8 x 9.5"},"-","-"]
[null,"Std","dip","PP","No","ECWF(A)","ECWF2124RHA",250,"DC",0.12,"± 3",13,5.3,14.4,7.5,"Crimped lead wire type (Style D)","-40 to 105 (85)","15.0P crimped lead taping (ammo packing)",1200,"https://industrial.panasonic.com/ww/products/pt/film-cap-electroequip/models/ECWF2124RHA","≤13","≤ 6","≤14.5",{"$f":"pana_film[[#This Row],[Body length / dia\n(mm)]]&\" x \"&pana_film[[#This Row],[Body width\n(mm)]]","v":"13 x 5.3"},"-","-"]
[null,"Std","dip","PP","No","ECWF(A)","ECWF2105JAQ",250,"DC",1,"± 5",18.100000000000001,8.5,20.3,15,"Crimped lead wire type (Style D)","-40 to 105 (85)","Bulk (Bag packing)",500,"https://industrial.panasonic.com/ww/products/pt/film-cap-electroequip/models/ECWF2105JAQ","≤19","≤ 9","≤20.5",{"$f":"pana_film[[#This Row],[Body length / dia\n(mm)]]&\" x \"&pana_film[[#This Row],[Body width\n(mm)]]","v":"18.1 x 8.5"},"-","-"]
[null,"Std","dip","PP","No","ECWF(A)","ECWF2105HAB",250,"DC",1,"± 3",18.100000000000001,8.5,18.3,7.5,"Inner crimped lead wire type (Style B)","-40 to 105 (85)","Bulk (Bag packing)",500,"https://industrial.panasonic.com/ww/products/pt/film-cap-electroequip/models/ECWF2105HAB","≤19","≤ 9","≤18.5",{"$f":"pana_film[[#This Row],[Body length / dia\n(mm)]]&\" x \"&pana_film[[#This Row],[Body width\n(mm)]]","v":"18.1 x 8.5"},"-","-"]
[null,"Std","dip","PP","No","ECWF(A)","ECWF2104RHA",250,"DC",0.1,"± 3",13,5,14.1,7.5,"Crimped lead wire type (Style D)","-40 to 105 (85)","15.0P crimped lead taping (ammo packing)",1300,"https://industrial.panasonic.com/ww/products/pt/film-cap-electroequip/models/ECWF2104RHA","≤13","≤ 5","≤14.5",{"$f":"pana_film[[#This Row],[Body length / dia\n(mm)]]&\" x \"&pana_film[[#This Row],[Body width\n(mm)]]","v":"13 x 5"},"-","-"]
[null,"Std","dip","PET","No","ECQE(F)[DC]","ECQE6824KF",630,"DC",0.82,"±10",31,11.3,20.5,27.5,"Straight lead wire type","-40 to 105 (85)","Bulk (Bag packing)",100,"https://industrial.panasonic.com/ww/products/pt/film-cap-electroequip/models/ECQE6824KF","≤31","≤12","≤20.5",{"$f":"pana_film[[#This Row],[Body length / dia\n(mm)]]&\" x \"&pana_film[[#This Row],[Body width\n(mm)]]","v":"31 x 11.3"},"-","-"]
[null,"Std","dip","PET","No","ECQE(F)[DC]","ECQE6823RKF",630,"DC",8.2000000000000003E-2,"±10",18.5,6.5,17,7.5,"Inner crimped lead wire type (Style B)","-40 to 105 (85)","30.0P crimped lead taping (ammo packing)",500,"https://industrial.panasonic.com/ww/products/pt/film-cap-electroequip/models/ECQE6823RKF","≤19","≤ 7","≤17",{"$f":"pana_film[[#This Row],[Body length / dia\n(mm)]]&\" x \"&pana_film[[#This Row],[Body width\n(mm)]]","v":"18.5 x 6.5"},"-","-"]
[null,"Std","dip","PET","No","ECQE(T)[DC]","ECQE6823KTB",630,"DC",8.2000000000000003E-2,"±10",19,6.5,17,10,"Crimped lead wire type (Style Y)","-40 to 105 (85)","Bulk (Bag packing)",100,"https://industrial.panasonic.com/ww/products/pt/film-cap-electroequip/models/ECQE6823KTB","≤19","≤ 7","≤17",{"$f":"pana_film[[#This Row],[Body length / dia\n(mm)]]&\" x \"&pana_film[[#This Row],[Body width\n(mm)]]","v":"19 x 6.5"},"-","-"]
[null,"Std","dip","PET","No","ECQE(T)[DC]","ECQE6823JT3",630,"DC",8.2000000000000003E-2,"± 5",19,6.5,17,5,"Inner crimped lead wire type (Style B)","-40 to 105 (85)","25.4P crimped lead taping (ammo packing)",600,"https://industrial.panasonic.com/ww/products/pt/film-cap-electroequip/models/ECQE6823JT3","≤19","≤ 7","≤17",{"$f":"pana_film[[#This Row],[Body length / dia\n(mm)]]&\" x \"&pana_film[[#This Row],[Body width\n(mm)]]","v":"19 x 6.5"},"-","-"]
[null,"Std","dip","PET","No","ECQE(F)[DC]","ECQE6822KFB",630,"DC",8.2000000000000007E-3,"±10",12,4.5,15,10,"Crimped lead wire type (Style D)","-40 to 105 (85)","Bulk (Bag packing)",100,"https://industrial.panasonic.com/ww/products/pt/film-cap-electroequip/models/ECQE6822KFB","≤12","≤ 5","≤15",{"$f":"pana_film[[#This Row],[Body length / dia\n(mm)]]&\" x \"&pana_film[[#This Row],[Body width\n(mm)]]","v":"12 x 4.5"},"-","-"]
[null,"Std","dip","PET","No","ECQE(F)[DC]","ECQE6822JFW",630,"DC",8.2000000000000007E-3,"± 5",12,4.5,15,10,"Double crimped lead wire type (Style N)","-40 to 105 (85)","Bulk (Bag packing)",100,"https://industrial.panasonic.com/ww/products/pt/film-cap-electroequip/models/ECQE6822JFW","≤12","≤ 5","≤15",{"$f":"pana_film[[#This Row],[Body length / dia\n(mm)]]&\" x \"&pana_film[[#This Row],[Body width\n(mm)]]","v":"12 x 4.5"},"-","-"]
[null,"Std","dip","PET","No","ECQE(F)[DC]","ECQE6684KFB",630,"DC",0.68,"±10",26,11.5,26,15,"Inner crimped lead wire type (Style B)","-40 to 105 (85)","Bulk (Bag packing)",100,"https://industrial.panasonic.com/ww/products/pt/film-cap-electroequip/models/ECQE6684KFB","≤26","≤12","≤26",{"$f":"pana_film[[#This Row],[Body length / dia\n(mm)]]&\" x \"&pana_film[[#This Row],[Body width\n(mm)]]","v":"26 x 11.5"},"-","-"]
[null,"Std","dip","PET","No","ECQE(T)[DC]","ECQE6684JT",630,"DC",0.68,"± 5",26.5,11.5,21,22.5,"Straight lead wire type","-40 to 105 (85)","Bulk (Bag packing)",100,"https://industrial.panasonic.com/ww/products/pt/film-cap-electroequip/models/ECQE6684JT","≤27","≤12","≤21",{"$f":"pana_film[[#This Row],[Body length / dia\n(mm)]]&\" x \"&pana_film[[#This Row],[Body width\n(mm)]]","v":"26.5 x 11.5"},"-","-"]
[null,"Std","dip","PET","No","ECQE(T)[DC]","ECQE6683KT3",630,"DC",6.8000000000000005E-2,"±10",19,5.8,16,5,"Inner crimped lead wire type (Style B)","-40 to 105 (85)","25.4P crimped lead taping (ammo packing)",700,"https://industrial.panasonic.com/ww/products/pt/film-cap-electroequip/models/ECQE6683KT3","≤19","≤ 6","≤16",{"$f":"pana_film[[#This Row],[Body length / dia\n(mm)]]&\" x \"&pana_film[[#This Row],[Body width\n(mm)]]","v":"19 x 5.8"},"-","-"]
[null,"Std","dip","PET","No","ECQE(T)[DC]","ECQE6683JTB",630,"DC",6.8000000000000005E-2,"± 5",19,5.8,16,10,"Crimped lead wire type (Style Y)","-40 to 105 (85)","Bulk (Bag packing)",100,"https://industrial.panasonic.com/ww/products/pt/film-cap-electroequip/models/ECQE6683JTB","≤19","≤ 6","≤16",{"$f":"pana_film[[#This Row],[Body length / dia\n(mm)]]&\" x \"&pana_film[[#This Row],[Body width\n(mm)]]","v":"19 x 5.8"},"-","-"]
[null,"Std","dip","PET","No","ECQE(F)[DC]","ECQE6683JF3",630,"DC",6.8000000000000005E-2,"± 5",18.5,5.8,16,5,"Inner crimped lead wire type (Style B)","-40 to 105 (85)","25.4P crimped lead taping (ammo packing)",500,"https://industrial.panasonic.com/ww/products/pt/film-cap-electroequip/models/ECQE6683JF3","≤19","≤ 6","≤16",{"$f":"pana_film[[#This Row],[Body length / dia\n(mm)]]&\" x \"&pana_film[[#This Row],[Body width\n(mm)]]","v":"18.5 x 5.8"},"-","-"]
[null,"Std","dip","PET","No","ECQE(F)[DC]","ECQE6682KF",630,"DC",6.7999999999999996E-3,"±10",12,4.9000000000000004,10,10,"Straight lead wire type","-40 to 105 (85)","Bulk (Bag packing)",100,"https://industrial.panasonic.com/ww/products/pt/film-cap-electroequip/models/ECQE6682KF","≤12","≤ 5","≤10",{"$f":"pana_film[[#This Row],[Body length / dia\n(mm)]]&\" x \"&pana_film[[#This Row],[Body width\n(mm)]]","v":"12 x 4.9"},"-","-"]
[null,"Std","dip","PET","No","ECQE(F)[DC]","ECQE6564KF",630,"DC",0.56000000000000005,"±10",26,10,20,22.5,"Straight lead wire type","-40 to 105 (85)","Bulk (Bag packing)",100,"https://industrial.panasonic.com/ww/products/pt/film-cap-electroequip/models/ECQE6564KF","≤26","≤10","≤20",{"$f":"pana_film[[#This Row],[Body length / dia\n(mm)]]&\" x \"&pana_film[[#This Row],[Body width\n(mm)]]","v":"26 x 10"},"-","-"]
[null,"Std","dip","PET","No","ECQE(F)[DC]","ECQE6564JFW",630,"DC",0.56000000000000005,"± 5",26,10,25,15,"Double crimped lead wire type (Style T)","-40 to 105 (85)","Bulk (Bag packing)",100,"https://industrial.panasonic.com/ww/products/pt/film-cap-electroequip/models/ECQE6564JFW","≤26","≤10","≤25",{"$f":"pana_film[[#This Row],[Body length / dia\n(mm)]]&\" x \"&pana_film[[#This Row],[Body width\n(mm)]]","v":"26 x 10"},"-","-"]
[null,"Std","dip","PET","No","ECQE(T)[DC]","ECQE6563KTB",630,"DC",5.6000000000000001E-2,"±10",19,5.4,15.5,10,"Crimped lead wire type (Style Y)","-40 to 105 (85)","Bulk (Bag packing)",100,"https://industrial.panasonic.com/ww/products/pt/film-cap-electroequip/models/ECQE6563KTB","≤19","≤ 6","≤15.5",{"$f":"pana_film[[#This Row],[Body length / dia\n(mm)]]&\" x \"&pana_film[[#This Row],[Body width\n(mm)]]","v":"19 x 5.4"},"-","-"]
[null,"Std","dip","PET","No","ECQE(F)[DC]","ECQE6563KFW",630,"DC",5.6000000000000001E-2,"±10",18.5,5.4,15.5,10,"Double crimped lead wire type (Style T)","-40 to 105 (85)","Bulk (Bag packing)",100,"https://industrial.panasonic.com/ww/products/pt/film-cap-electroequip/models/ECQE6563KFW","≤19","≤ 6","≤15.5",{"$f":"pana_film[[#This Row],[Body length / dia\n(mm)]]&\" x \"&pana_film[[#This Row],[Body width\n(mm)]]","v":"18.5 x 5.4"},"-","-"]
[null,"Std","dip","PET","No","ECQE(F)[DC]","ECQE6563JFW",630,"DC",5.6000000000000001E-2,"± 5",18.5,5.4,15.5,10,"Double crimped lead wire type (Style T)","-40 to 105 (85)","Bulk (Bag packing)",100,"https://industrial.panasonic.com/ww/products/pt/film-cap-electroequip/models/ECQE6563JFW","≤19","≤ 6","≤15.5",{"$f":"pana_film[[#This Row],[Body length / dia\n(mm)]]&\" x \"&pana_film[[#This Row],[Body width\n(mm)]]","v":"18.5 x 5.4"},"-","-"]
[null,"Std","dip","PET","No","ECQE(F)[DC]","ECQE6562JFW",630,"DC",5.5999999999999999E-3,"± 5",12,4.5,15,10,"Double crimped lead wire type (Style N)","-40 to 105 (85)","Bulk (Bag packing)",100,"https://industrial.panasonic.com/ww/products/pt/film-cap-electroequip/models/ECQE6562JFW","≤12","≤ 5","≤15",{"$f":"pana_film[[#This Row],[Body length / dia\n(mm)]]&\" x \"&pana_film[[#This Row],[Body width\n(mm)]]","v":"12 x 4.5"},"-","-"]
[null,"Std","dip","PET","No","ECQE(F)[DC]","ECQE6562JF",630,"DC",5.5999999999999999E-3,"± 5",12,4.5,10,10,"Straight lead wire type","-40 to 105 (85)","Bulk (Bag packing)",100,"https://industrial.panasonic.com/ww/products/pt/film-cap-electroequip/models/ECQE6562JF","≤12","≤ 5","≤10",{"$f":"pana_film[[#This Row],[Body length / dia\n(mm)]]&\" x \"&pana_film[[#This Row],[Body width\n(mm)]]","v":"12 x 4.5"},"-","-"]
[null,"Std","dip","PET","No","ECQE(T)[DC]","ECQE6474JT",630,"DC",0.47,"± 5",26.5,9.3000000000000007,18.5,22.5,"Straight lead wire type","-40 to 105 (85)","Bulk (Bag packing)",100,"https://industrial.panasonic.com/ww/products/pt/film-cap-electroequip/models/ECQE6474JT","≤27","≤10","≤18.5",{"$f":"pana_film[[#This Row],[Body length / dia\n(mm)]]&\" x \"&pana_film[[#This Row],[Body width\n(mm)]]","v":"26.5 x 9.3"},"-","-"]
[null,"Std","dip","PET","No","ECQE(T)[DC]","ECQE6473KT3",630,"DC",4.7E-2,"±10",12.5,6.5,18.5,5,"Inner crimped lead wire type (Style B)","-40 to 105 (85)","25.4P crimped lead taping (ammo packing)",600,"https://industrial.panasonic.com/ww/products/pt/film-cap-electroequip/models/ECQE6473KT3","≤13","≤ 7","≤18.5",{"$f":"pana_film[[#This Row],[Body length / dia\n(mm)]]&\" x \"&pana_film[[#This Row],[Body width\n(mm)]]","v":"12.5 x 6.5"},"-","-"]
[null,"Std","dip","PET","No","ECQE(F)[DC]","ECQE6473KFB",630,"DC",4.7E-2,"±10",12,6.5,18.5,10,"Crimped lead wire type (Style D)","-40 to 105 (85)","Bulk (Bag packing)",100,"https://industrial.panasonic.com/ww/products/pt/film-cap-electroequip/models/ECQE6473KFB","≤12","≤ 7","≤18.5",{"$f":"pana_film[[#This Row],[Body length / dia\n(mm)]]&\" x \"&pana_film[[#This Row],[Body width\n(mm)]]","v":"12 x 6.5"},"-","-"]
[null,"Std","dip","PET","No","ECQE(T)[DC]","ECQE6473JT3",630,"DC",4.7E-2,"± 5",12.5,6.5,18.5,5,"Inner crimped lead wire type (Style B)","-40 to 105 (85)","25.4P crimped lead taping (ammo packing)",600,"https://industrial.panasonic.com/ww/products/pt/film-cap-electroequip/models/ECQE6473JT3","≤13","≤ 7","≤18.5",{"$f":"pana_film[[#This Row],[Body length / dia\n(mm)]]&\" x \"&pana_film[[#This Row],[Body width\n(mm)]]","v":"12.5 x 6.5"},"-","-"]
[null,"Std","dip","PET","No","ECQE(F)[DC]","ECQE6473JF",630,"DC",4.7E-2,"± 5",12,6.5,13.5,10,"Straight lead wire type","-40 to 105 (85)","Bulk (Bag packing)",100,"https://industrial.panasonic.com/ww/products/pt/film-cap-electroequip/models/ECQE6473JF","≤12","≤ 7","≤13.5",{"$f":"pana_film[[#This Row],[Body length / dia\n(mm)]]&\" x \"&pana_film[[#This Row],[Body width\n(mm)]]","v":"12 x 6.5"},"-","-"]
[null,"Std","dip","PET","No","ECQE(T)[DC]","ECQE6394JT",630,"DC",0.39,"± 5",26.5,8.5,17.899999999999999,22.5,"Straight lead wire type","-40 to 105 (85)","Bulk (Bag packing)",100,"https://industrial.panasonic.com/ww/products/pt/film-cap-electroequip/models/ECQE6394JT","≤27","≤ 9","≤18",{"$f":"pana_film[[#This Row],[Body length / dia\n(mm)]]&\" x \"&pana_film[[#This Row],[Body width\n(mm)]]","v":"26.5 x 8.5"},"-","-"]
[null,"Std","dip","PET","No","ECQE(T)[DC]","ECQE6393KT3",630,"DC",3.9E-2,"±10",12.5,6,18.399999999999999,5,"Inner crimped lead wire type (Style B)","-40 to 105 (85)","25.4P crimped lead taping (ammo packing)",700,"https://industrial.panasonic.com/ww/products/pt/film-cap-electroequip/models/ECQE6393KT3","≤13","≤ 6","≤18.5",{"$f":"pana_film[[#This Row],[Body length / dia\n(mm)]]&\" x \"&pana_film[[#This Row],[Body width\n(mm)]]","v":"12.5 x 6"},"-","-"]
[null,"Std","dip","PET","No","ECQE(F)[DC]","ECQE6393KFB",630,"DC",3.9E-2,"±10",12,6,18.399999999999999,10,"Crimped lead wire type (Style D)","-40 to 105 (85)","Bulk (Bag packing)",100,"https://industrial.panasonic.com/ww/products/pt/film-cap-electroequip/models/ECQE6393KFB","≤12","≤ 6","≤18.5",{"$f":"pana_film[[#This Row],[Body length / dia\n(mm)]]&\" x \"&pana_film[[#This Row],[Body width\n(mm)]]","v":"12 x 6"},"-","-"]
[null,"Std","dip","PET","No","ECQE(F)[DC]","ECQE6393JFW",630,"DC",3.9E-2,"± 5",12,6,18.399999999999999,10,"Double crimped lead wire type (Style N)","-40 to 105 (85)","Bulk (Bag packing)",100,"https://industrial.panasonic.com/ww/products/pt/film-cap-electroequip/models/ECQE6393JFW","≤12","≤ 6","≤18.5",{"$f":"pana_film[[#This Row],[Body length / dia\n(mm)]]&\" x \"&pana_film[[#This Row],[Body width\n(mm)]]","v":"12 x 6"},"-","-"]
[null,"Std","dip","PET","No","ECQE(T)[DC]","ECQE6334KTB",630,"DC",0.33,"±10",26.5,7.8,22,15,"Crimped lead wire type (Style Y)","-40 to 105 (85)","Bulk (Bag packing)",100,"https://industrial.panasonic.com/ww/products/pt/film-cap-electroequip/models/ECQE6334KTB","≤27","≤ 8","≤22",{"$f":"pana_film[[#This Row],[Body length / dia\n(mm)]]&\" x \"&pana_film[[#This Row],[Body width\n(mm)]]","v":"26.5 x 7.8"},"-","-"]
[null,"Std","dip","PET","No","ECQE(F)[DC]","ECQE6334JFB",630,"DC",0.33,"± 5",26,7.8,22,15,"Inner crimped lead wire type (Style B)","-40 to 105 (85)","Bulk (Bag packing)",100,"https://industrial.panasonic.com/ww/products/pt/film-cap-electroequip/models/ECQE6334JFB","≤26","≤ 8","≤22",{"$f":"pana_film[[#This Row],[Body length / dia\n(mm)]]&\" x \"&pana_film[[#This Row],[Body width\n(mm)]]","v":"26 x 7.8"},"-","-"]
[null,"Std","dip","PET","No","ECQE(T)[DC]","ECQE6333KT3",630,"DC",3.3000000000000002E-2,"±10",12.5,6,16.899999999999999,5,"Inner crimped lead wire type (Style B)","-40 to 105 (85)","25.4P crimped lead taping (ammo packing)",700,"https://industrial.panasonic.com/ww/products/pt/film-cap-electroequip/models/ECQE6333KT3","≤13","≤ 6","≤17",{"$f":"pana_film[[#This Row],[Body length / dia\n(mm)]]&\" x \"&pana_film[[#This Row],[Body width\n(mm)]]","v":"12.5 x 6"},"-","-"]
[null,"Std","dip","PET","No","ECQE(F)[DC]","ECQE6333KFB",630,"DC",3.3000000000000002E-2,"±10",12,6,16.899999999999999,10,"Crimped lead wire type (Style D)","-40 to 105 (85)","Bulk (Bag packing)",100,"https://industrial.panasonic.com/ww/products/pt/film-cap-electroequip/models/ECQE6333KFB","≤12","≤ 6","≤17",{"$f":"pana_film[[#This Row],[Body length / dia\n(mm)]]&\" x \"&pana_film[[#This Row],[Body width\n(mm)]]","v":"12 x 6"},"-","-"]
[null,"Std","dip","PET","No","ECQE(F)[DC]","ECQE6333JFW",630,"DC",3.3000000000000002E-2,"± 5",12,6,16.899999999999999,10,"Double crimped lead wire type (Style N)","-40 to 105 (85)","Bulk (Bag packing)",100,"https://industrial.panasonic.com/ww/products/pt/film-cap-electroequip/models/ECQE6333JFW","≤12","≤ 6","≤17",{"$f":"pana_film[[#This Row],[Body length / dia\n(mm)]]&\" x \"&pana_film[[#This Row],[Body width\n(mm)]]","v":"12 x 6"},"-","-"]
[null,"Std","dip","PET","No","ECQE(F)[DC]","ECQE6274KF",630,"DC",0.27,"±10",26,7,16.5,22.5,"Straight lead wire type","-40 to 105 (85)","Bulk (Bag packing)",100,"https://industrial.panasonic.com/ww/products/pt/film-cap-electroequip/models/ECQE6274KF","≤26","≤ 7","≤16.5",{"$f":"pana_film[[#This Row],[Body length / dia\n(mm)]]&\" x \"&pana_film[[#This Row],[Body width\n(mm)]]","v":"26 x 7"},"-","-"]
[null,"Std","dip","PET","No","ECQE(F)[DC]","ECQE6274JFW",630,"DC",0.27,"± 5",26,7,21.5,15,"Double crimped lead wire type (Style T)","-40 to 105 (85)","Bulk (Bag packing)",100,"https://industrial.panasonic.com/ww/products/pt/film-cap-electroequip/models/ECQE6274JFW","≤26","≤ 7","≤21.5",{"$f":"pana_film[[#This Row],[Body length / dia\n(mm)]]&\" x \"&pana_film[[#This Row],[Body width\n(mm)]]","v":"26 x 7"},"-","-"]
[null,"Std","dip","PET","No","ECQE(T)[DC]","ECQE6273KT3",630,"DC",2.7E-2,"±10",12.5,5.5,15.9,5,"Inner crimped lead wire type (Style B)","-40 to 105 (85)","25.4P crimped lead taping (ammo packing)",800,"https://industrial.panasonic.com/ww/products/pt/film-cap-electroequip/models/ECQE6273KT3",{"$f":"IF(L3782<=9.5,\"≤ \"&ROUNDUP(L3782*1,0)/1,\"≤\"&ROUNDUP(L3782*1,0)/1)","v":"≤13"},{"$f":"IF(M3782<=9,\"≤ \"&ROUNDUP(M3782*1,0)/1,\"≤\"&ROUNDUP(M3782*1,0)/1)","v":"≤ 6"},{"$f":"IF(N3782<=9.5,\"≤ \"&ROUNDUP(N3782*2,0)/2,\"≤\"&ROUNDUP(N3782*2,0)/2)","v":"≤16"},{"$f":"pana_film[[#This Row],[Body length / dia\n(mm)]]&\" x \"&pana_film[[#This Row],[Body width\n(mm)]]","v":"12.5 x 5.5"},"-","-"]
[null,"Std","dip","PET","No","ECQE(T)[DC]","ECQE6273JT",630,"DC",2.7E-2,"± 5",12.5,5.5,10.9,10,"Straight lead wire type","-40 to 105 (85)","Bulk (Bag packing)",100,"https://industrial.panasonic.com/ww/products/pt/film-cap-electroequip/models/ECQE6273JT","≤13","≤ 6","≤11",{"$f":"pana_film[[#This Row],[Body length / dia\n(mm)]]&\" x \"&pana_film[[#This Row],[Body width\n(mm)]]","v":"12.5 x 5.5"},"-","-"]
[null,"Std","dip","PET","No","ECQE(F)[DC]","ECQE6273JFW",630,"DC",2.7E-2,"± 5",12,5.5,15.9,10,"Double crimped lead wire type (Style N)","-40 to 105 (85)","Bulk (Bag packing)",100,"https://industrial.panasonic.com/ww/products/pt/film-cap-electroequip/models/ECQE6273JFW","≤12","≤ 6","≤16",{"$f":"pana_film[[#This Row],[Body length / dia\n(mm)]]&\" x \"&pana_film[[#This Row],[Body width\n(mm)]]","v":"12 x 5.5"},"-","-"]
[null,"Std","dip","PET","No","ECQE(F)[DC]","ECQE6225KF",630,"DC",2.2000000000000002,"±10",31,19.5,29,27.5,"Straight lead wire type","-40 to 105 (85)","Bulk (Bag packing)",100,"https://industrial.panasonic.com/ww/products/pt/film-cap-electroequip/models/ECQE6225KF","≤31","≤20","≤29",{"$f":"pana_film[[#This Row],[Body length / dia\n(mm)]]&\" x \"&pana_film[[#This Row],[Body width\n(mm)]]","v":"31 x 19.5"},"-","-"]
[null,"Std","dip","PET","No","ECQE(F)[DC]","ECQE6225JFW",630,"DC",2.2000000000000002,"± 5",31,19.5,34,22.5,"Double crimped lead wire type (Style T)","-40 to 105 (85)","Bulk (Bag packing)",100,"https://industrial.panasonic.com/ww/products/pt/film-cap-electroequip/models/ECQE6225JFW","≤31","≤20","≤34",{"$f":"pana_film[[#This Row],[Body length / dia\n(mm)]]&\" x \"&pana_film[[#This Row],[Body width\n(mm)]]","v":"31 x 19.5"},"-","-"]
[null,"Std","dip","PET","No","ECQE(F)[DC]","ECQE6224KFB",630,"DC",0.22,"±10",18.5,9,21.5,10,"Inner crimped lead wire type (Style B)","-40 to 105 (85)","Bulk (Bag packing)",100,"https://industrial.panasonic.com/ww/products/pt/film-cap-electroequip/models/ECQE6224KFB","≤19","≤ 9","≤21.5",{"$f":"pana_film[[#This Row],[Body length / dia\n(mm)]]&\" x \"&pana_film[[#This Row],[Body width\n(mm)]]","v":"18.5 x 9"},"-","-"]
[null,"Std","dip","PET","No","ECQE(F)[DC]","ECQE6224JFW",630,"DC",0.22,"± 5",18.5,9,21.5,10,"Double crimped lead wire type (Style T)","-40 to 105 (85)","Bulk (Bag packing)",100,"https://industrial.panasonic.com/ww/products/pt/film-cap-electroequip/models/ECQE6224JFW","≤19","≤ 9","≤21.5",{"$f":"pana_film[[#This Row],[Body length / dia\n(mm)]]&\" x \"&pana_film[[#This Row],[Body width\n(mm)]]","v":"18.5 x 9"},"-","-"]
[null,"Std","dip","PET","No","ECQE(F)[DC]","ECQE6224JF",630,"DC",0.22,"± 5",18.5,9,16.5,15,"Straight lead wire type","-40 to 105 (85)","Bulk (Bag packing)",100,"https://industrial.panasonic.com/ww/products/pt/film-cap-electroequip/models/ECQE6224JF","≤19","≤ 9","≤16.5",{"$f":"pana_film[[#This Row],[Body length / dia\n(mm)]]&\" x \"&pana_film[[#This Row],[Body width\n(mm)]]","v":"18.5 x 9"},"-","-"]
[null,"Std","dip","PET","No","ECQE(T)[DC]","ECQE6223KT",630,"DC",2.1999999999999999E-2,"±10",12.5,5.3,10.5,10,"Straight lead wire type","-40 to 105 (85)","Bulk (Bag packing)",100,"https://industrial.panasonic.com/ww/products/pt/film-cap-electroequip/models/ECQE6223KT","≤13","≤ 6","≤10.5",{"$f":"pana_film[[#This Row],[Body length / dia\n(mm)]]&\" x \"&pana_film[[#This Row],[Body width\n(mm)]]","v":"12.5 x 5.3"},"-","-"]
[null,"Std","dip","PET","No","ECQE(F)[DC]","ECQE6223JFW",630,"DC",2.1999999999999999E-2,"± 5",12,5.3,15.5,10,"Double crimped lead wire type (Style N)","-40 to 105 (85)","Bulk (Bag packing)",100,"https://industrial.panasonic.com/ww/products/pt/film-cap-electroequip/models/ECQE6223JFW","≤12","≤ 6","≤15.5",{"$f":"pana_film[[#This Row],[Body length / dia\n(mm)]]&\" x \"&pana_film[[#This Row],[Body width\n(mm)]]","v":"12 x 5.3"},"-","-"]
[null,"Std","dip","PET","No","ECQE(F)[DC]","ECQE6223JFB",630,"DC",2.1999999999999999E-2,"± 5",12,5.3,15.5,10,"Crimped lead wire type (Style D)","-40 to 105 (85)","Bulk (Bag packing)",100,"https://industrial.panasonic.com/ww/products/pt/film-cap-electroequip/models/ECQE6223JFB","≤12","≤ 6","≤15.5",{"$f":"pana_film[[#This Row],[Body length / dia\n(mm)]]&\" x \"&pana_film[[#This Row],[Body width\n(mm)]]","v":"12 x 5.3"},"-","-"]
[null,"Std","dip","PET","No","ECQE(F)[DC]","ECQE6185JFW",630,"DC",1.8,"± 5",31,16.8,32,22.5,"Double crimped lead wire type (Style T)","-40 to 105 (85)","Bulk (Bag packing)",100,"https://industrial.panasonic.com/ww/products/pt/film-cap-electroequip/models/ECQE6185JFW","≤31","≤17","≤32",{"$f":"pana_film[[#This Row],[Body length / dia\n(mm)]]&\" x \"&pana_film[[#This Row],[Body width\n(mm)]]","v":"31 x 16.8"},"-","-"]
[null,"Std","dip","PET","No","ECQE(F)[DC]","ECQE6185JF",630,"DC",1.8,"± 5",31,16.8,27,27.5,"Straight lead wire type","-40 to 105 (85)","Bulk (Bag packing)",100,"https://industrial.panasonic.com/ww/products/pt/film-cap-electroequip/models/ECQE6185JF","≤31","≤17","≤27",{"$f":"pana_film[[#This Row],[Body length / dia\n(mm)]]&\" x \"&pana_film[[#This Row],[Body width\n(mm)]]","v":"31 x 16.8"},"-","-"]
[null,"Std","dip","PET","No","ECQE(T)[DC]","ECQE6184KT",630,"DC",0.18,"±10",19,8,16,15,"Straight lead wire type","-40 to 105 (85)","Bulk (Bag packing)",100,"https://industrial.panasonic.com/ww/products/pt/film-cap-electroequip/models/ECQE6184KT","≤19","≤ 8","≤16",{"$f":"pana_film[[#This Row],[Body length / dia\n(mm)]]&\" x \"&pana_film[[#This Row],[Body width\n(mm)]]","v":"19 x 8"},"-","-"]
[null,"Std","dip","PET","No","ECQE(F)[DC]","ECQE6184JFB",630,"DC",0.18,"± 5",18.5,8,21,10,"Inner crimped lead wire type (Style B)","-40 to 105 (85)","Bulk (Bag packing)",100,"https://industrial.panasonic.com/ww/products/pt/film-cap-electroequip/models/ECQE6184JFB","≤19","≤ 8","≤21",{"$f":"pana_film[[#This Row],[Body length / dia\n(mm)]]&\" x \"&pana_film[[#This Row],[Body width\n(mm)]]","v":"18.5 x 8"},"-","-"]
[null,"Std","dip","PET","No","ECQE(T)[DC]","ECQE6183RKT",630,"DC",1.7999999999999999E-2,"±10",12.5,4.9000000000000004,15,7.5,"Crimped lead wire type (Style Y)","-40 to 105 (85)","15.0P crimped lead taping (ammo packing)",1400,"https://industrial.panasonic.com/ww/products/pt/film-cap-electroequip/models/ECQE6183RKT","≤13","≤ 5","≤15",{"$f":"pana_film[[#This Row],[Body length / dia\n(mm)]]&\" x \"&pana_film[[#This Row],[Body width\n(mm)]]","v":"12.5 x 4.9"},"-","-"]
[null,"Std","dip","PET","No","ECQE(F)[DC]","ECQE6183KFW",630,"DC",1.7999999999999999E-2,"±10",12,4.9000000000000004,15,10,"Double crimped lead wire type (Style N)","-40 to 105 (85)","Bulk (Bag packing)",100,"https://industrial.panasonic.com/ww/products/pt/film-cap-electroequip/models/ECQE6183KFW","≤12","≤ 5","≤15",{"$f":"pana_film[[#This Row],[Body length / dia\n(mm)]]&\" x \"&pana_film[[#This Row],[Body width\n(mm)]]","v":"12 x 4.9"},"-","-"]
[null,"Std","dip","PET","No","ECQE(F)[DC]","ECQE6183JFB",630,"DC",1.7999999999999999E-2,"± 5",12,4.9000000000000004,15,10,"Crimped lead wire type (Style D)","-40 to 105 (85)","Bulk (Bag packing)",100,"https://industrial.panasonic.com/ww/products/pt/film-cap-electroequip/models/ECQE6183JFB","≤12","≤ 5","≤15",{"$f":"pana_film[[#This Row],[Body length / dia\n(mm)]]&\" x \"&pana_film[[#This Row],[Body width\n(mm)]]","v":"12 x 4.9"},"-","-"]
[null,"Std","dip","PET","No","ECQE(T)[DC]","ECQE6155KTB",630,"DC",1.5,"±10",31.5,15.3,29.7,22.5,"Crimped lead wire type (Style Y)","-40 to 105 (85)","Bulk (Bag packing)",100,"https://industrial.panasonic.com/ww/products/pt/film-cap-electroequip/models/ECQE6155KTB","≤32","≤16","≤30",{"$f":"pana_film[[#This Row],[Body length / dia\n(mm)]]&\" x \"&pana_film[[#This Row],[Body width\n(mm)]]","v":"31.5 x 15.3"},"-","-"]
[null,"Std","dip","PET","No","ECQE(F)[DC]","ECQE6155JFW",630,"DC",1.5,"± 5",31,15.3,29.7,22.5,"Double crimped lead wire type (Style T)","-40 to 105 (85)","Bulk (Bag packing)",100,"https://industrial.panasonic.com/ww/products/pt/film-cap-electroequip/models/ECQE6155JFW","≤31","≤16","≤30",{"$f":"pana_film[[#This Row],[Body length / dia\n(mm)]]&\" x \"&pana_film[[#This Row],[Body width\n(mm)]]","v":"31 x 15.3"},"-","-"]
[null,"Std","dip","PET","No","ECQE(T)[DC]","ECQE6154RKT",630,"DC",0.15,"±10",19,7.5,20.399999999999999,7.5,"Inner crimped lead wire type (Style B)","-40 to 105 (85)","30.0P crimped lead taping (ammo packing)",400,"https://industrial.panasonic.com/ww/products/pt/film-cap-electroequip/models/ECQE6154RKT","≤19","≤ 8","≤20.5",{"$f":"pana_film[[#This Row],[Body length / dia\n(mm)]]&\" x \"&pana_film[[#This Row],[Body width\n(mm)]]","v":"19 x 7.5"},"-","-"]
[null,"Std","dip","PET","No","ECQE(F)[DC]","ECQE6154KFW",630,"DC",0.15,"±10",18.5,7.5,20.399999999999999,10,"Double crimped lead wire type (Style T)","-40 to 105 (85)","Bulk (Bag packing)",100,"https://industrial.panasonic.com/ww/products/pt/film-cap-electroequip/models/ECQE6154KFW",{"$f":"IF(L3910<=9.5,\"≤ \"&ROUNDUP(L3910*1,0)/1,\"≤\"&ROUNDUP(L3910*1,0)/1)","v":"≤19"},{"$f":"IF(M3910<=9,\"≤ \"&ROUNDUP(M3910*1,0)/1,\"≤\"&ROUNDUP(M3910*1,0)/1)","v":"≤ 8"},{"$f":"IF(N3910<=9.5,\"≤ \"&ROUNDUP(N3910*2,0)/2,\"≤\"&ROUNDUP(N3910*2,0)/2)","v":"≤20.5"},{"$f":"pana_film[[#This Row],[Body length / dia\n(mm)]]&\" x \"&pana_film[[#This Row],[Body width\n(mm)]]","v":"18.5 x 7.5"},"-","-"]
[null,"Std","dip","PET","No","ECQE(F)[DC]","ECQE6154JF3",630,"DC",0.15,"± 5",18.5,7.5,20.399999999999999,5,"Inner crimped lead wire type (Style B)","-40 to 105 (85)","25.4P crimped lead taping (ammo packing)",500,"https://industrial.panasonic.com/ww/products/pt/film-cap-electroequip/models/ECQE6154JF3","≤19","≤ 8","≤20.5",{"$f":"pana_film[[#This Row],[Body length / dia\n(mm)]]&\" x \"&pana_film[[#This Row],[Body width\n(mm)]]","v":"18.5 x 7.5"},"-","-"]
[null,"Std","dip","PET","No","ECQE(T)[DC]","ECQE6153KT3",630,"DC",1.4999999999999999E-2,"±10",12.5,5,13.2,5,"Inner crimped lead wire type (Style B)","-40 to 105 (85)","25.4P crimped lead taping (ammo packing)",800,"https://industrial.panasonic.com/ww/products/pt/film-cap-electroequip/models/ECQE6153KT3","≤13","≤ 5","≤13.5",{"$f":"pana_film[[#This Row],[Body length / dia\n(mm)]]&\" x \"&pana_film[[#This Row],[Body width\n(mm)]]","v":"12.5 x 5"},"-","-"]
[null,"Std","dip","PET","No","ECQE(F)[DC]","ECQE6153KF9",630,"DC",1.4999999999999999E-2,"±10",12,5,13.2,5,"Crimped lead wire type (Style D)","-40 to 105 (85)","Reel packing (radial leaded)",1000,"https://industrial.panasonic.com/ww/products/pt/film-cap-electroequip/models/ECQE6153KF9","≤12","≤ 5","≤13.5",{"$f":"pana_film[[#This Row],[Body length / dia\n(mm)]]&\" x \"&pana_film[[#This Row],[Body width\n(mm)]]","v":"12 x 5"},"-","-"]
[null,"Std","dip","PET","No","ECQE(F)[DC]","ECQE6153JF3",630,"DC",1.4999999999999999E-2,"± 5",12,5,13.2,5,"Crimped lead wire type (Style D)","-40 to 105 (85)","12.7P crimped lead taping (ammo packing)",1000,"https://industrial.panasonic.com/ww/products/pt/film-cap-electroequip/models/ECQE6153JF3","≤12","≤ 5","≤13.5",{"$f":"pana_film[[#This Row],[Body length / dia\n(mm)]]&\" x \"&pana_film[[#This Row],[Body width\n(mm)]]","v":"12 x 5"},"-","-"]
[null,"Std","dip","PET","No","ECQE(F)[DC]","ECQE6153JF",630,"DC",1.4999999999999999E-2,"± 5",12,5,8.1999999999999993,10,"Straight lead wire type","-40 to 105 (85)","Bulk (Bag packing)",100,"https://industrial.panasonic.com/ww/products/pt/film-cap-electroequip/models/ECQE6153JF","≤12","≤ 5","≤ 8.5",{"$f":"pana_film[[#This Row],[Body length / dia\n(mm)]]&\" x \"&pana_film[[#This Row],[Body width\n(mm)]]","v":"12 x 5"},"-","-"]
[null,"Std","dip","PET","No","ECQE(F)[DC]","ECQE6125JFB",630,"DC",1.2,"± 5",31,13.5,28,22.5,"Inner crimped lead wire type (Style B)","-40 to 105 (85)","Bulk (Bag packing)",100,"https://industrial.panasonic.com/ww/products/pt/film-cap-electroequip/models/ECQE6125JFB","≤31","≤14","≤28",{"$f":"pana_film[[#This Row],[Body length / dia\n(mm)]]&\" x \"&pana_film[[#This Row],[Body width\n(mm)]]","v":"31 x 13.5"},"-","-"]
[null,"Std","dip","PET","No","ECQE(F)[DC]","ECQE6124RKF",630,"DC",0.12,"±10",18.5,6.3,19.5,7.5,"Inner crimped lead wire type (Style B)","-40 to 105 (85)","30.0P crimped lead taping (ammo packing)",500,"https://industrial.panasonic.com/ww/products/pt/film-cap-electroequip/models/ECQE6124RKF","≤19","≤ 7","≤19.5",{"$f":"pana_film[[#This Row],[Body length / dia\n(mm)]]&\" x \"&pana_film[[#This Row],[Body width\n(mm)]]","v":"18.5 x 6.3"},"-","-"]
[null,"Std","dip","PET","No","ECQE(F)[DC]","ECQE6124KFB",630,"DC",0.12,"±10",18.5,6.3,19.5,10,"Inner crimped lead wire type (Style B)","-40 to 105 (85)","Bulk (Bag packing)",100,"https://industrial.panasonic.com/ww/products/pt/film-cap-electroequip/models/ECQE6124KFB","≤19","≤ 7","≤19.5",{"$f":"pana_film[[#This Row],[Body length / dia\n(mm)]]&\" x \"&pana_film[[#This Row],[Body width\n(mm)]]","v":"18.5 x 6.3"},"-","-"]
[null,"Std","dip","PET","No","ECQE(F)[DC]","ECQE6124JF3",630,"DC",0.12,"± 5",18.5,6.3,19.5,5,"Inner crimped lead wire type (Style B)","-40 to 105 (85)","25.4P crimped lead taping (ammo packing)",500,"https://industrial.panasonic.com/ww/products/pt/film-cap-electroequip/models/ECQE6124JF3","≤19","≤ 7","≤19.5",{"$f":"pana_film[[#This Row],[Body length / dia\n(mm)]]&\" x \"&pana_film[[#This Row],[Body width\n(mm)]]","v":"18.5 x 6.3"},"-","-"]
[null,"Std","dip","PET","No","ECQE(F)[DC]","ECQE6123KFW",630,"DC",1.2E-2,"±10",12,4.5,12.8,10,"Double crimped lead wire type (Style N)","-40 to 105 (85)","Bulk (Bag packing)",100,"https://industrial.panasonic.com/ww/products/pt/film-cap-electroequip/models/ECQE6123KFW","≤12","≤ 5","≤13",{"$f":"pana_film[[#This Row],[Body length / dia\n(mm)]]&\" x \"&pana_film[[#This Row],[Body width\n(mm)]]","v":"12 x 4.5"},"-","-"]
[null,"Std","dip","PET","No","ECQE(F)[DC]","ECQE6123KF3",630,"DC",1.2E-2,"±10",12,4.5,12.8,5,"Crimped lead wire type (Style D)","-40 to 105 (85)","12.7P crimped lead taping (ammo packing)",1000,"https://industrial.panasonic.com/ww/products/pt/film-cap-electroequip/models/ECQE6123KF3","≤12","≤ 5","≤13",{"$f":"pana_film[[#This Row],[Body length / dia\n(mm)]]&\" x \"&pana_film[[#This Row],[Body width\n(mm)]]","v":"12 x 4.5"},"-","-"]
[null,"Std","dip","PET","No","ECQE(F)[DC]","ECQE6123JF",630,"DC",1.2E-2,"± 5",12,4.5,7.8,10,"Straight lead wire type","-40 to 105 (85)","Bulk (Bag packing)",100,"https://industrial.panasonic.com/ww/products/pt/film-cap-electroequip/models/ECQE6123JF","≤12","≤ 5","≤ 8",{"$f":"pana_film[[#This Row],[Body length / dia\n(mm)]]&\" x \"&pana_film[[#This Row],[Body width\n(mm)]]","v":"12 x 4.5"},"-","-"]
[null,"Std","dip","PET","No","ECQE(T)[DC]","ECQE6105KTB",630,"DC",1,"±10",31.5,12.5,26.9,22.5,"Crimped lead wire type (Style Y)","-40 to 105 (85)","Bulk (Bag packing)",100,"https://industrial.panasonic.com/ww/products/pt/film-cap-electroequip/models/ECQE6105KTB","≤32","≤13","≤27",{"$f":"pana_film[[#This Row],[Body length / dia\n(mm)]]&\" x \"&pana_film[[#This Row],[Body width\n(mm)]]","v":"31.5 x 12.5"},"-","-"]
[null,"Std","dip","PET","No","ECQE(F)[DC]","ECQE6105JF",630,"DC",1,"± 5",31,12.5,21.9,27.5,"Straight lead wire type","-40 to 105 (85)","Bulk (Bag packing)",100,"https://industrial.panasonic.com/ww/products/pt/film-cap-electroequip/models/ECQE6105JF","≤31","≤13","≤22",{"$f":"pana_film[[#This Row],[Body length / dia\n(mm)]]&\" x \"&pana_film[[#This Row],[Body width\n(mm)]]","v":"31 x 12.5"},"-","-"]
[null,"Std","dip","PET","No","ECQE(T)[DC]","ECQE6104RJT",630,"DC",0.1,"± 5",19,6.3,19,7.5,"Inner crimped lead wire type (Style B)","-40 to 105 (85)","30.0P crimped lead taping (ammo packing)",500,"https://industrial.panasonic.com/ww/products/pt/film-cap-electroequip/models/ECQE6104RJT","≤19","≤ 7","≤19",{"$f":"pana_film[[#This Row],[Body length / dia\n(mm)]]&\" x \"&pana_film[[#This Row],[Body width\n(mm)]]","v":"19 x 6.3"},"-","-"]
[null,"Std","dip","PET","No","ECQE(F)[DC]","ECQE6104KF",630,"DC",0.1,"±10",18.5,6.3,14,15,"Straight lead wire type","-40 to 105 (85)","Bulk (Bag packing)",100,"https://industrial.panasonic.com/ww/products/pt/film-cap-electroequip/models/ECQE6104KF","≤19","≤ 7","≤14",{"$f":"pana_film[[#This Row],[Body length / dia\n(mm)]]&\" x \"&pana_film[[#This Row],[Body width\n(mm)]]","v":"18.5 x 6.3"},"-","-"]
[null,"Std","dip","PET","No","ECQE(F)[DC]","ECQE6103RKF",630,"DC",6.7999999999999996E-3,"±10",12,4.9000000000000004,15,7.5,"Crimped lead wire type (Style D)","-40 to 105 (85)","15.0P crimped lead taping (ammo packing)",1000,"https://industrial.panasonic.com/ww/products/pt/film-cap-electroequip/models/ECQE6103RKF","≤12","≤ 5","≤15",{"$f":"pana_film[[#This Row],[Body length / dia\n(mm)]]&\" x \"&pana_film[[#This Row],[Body width\n(mm)]]","v":"12 x 4.9"},"-","-"]
[null,"Std","dip","PET","No","ECQE(F)[DC]","ECQE6103KFB",630,"DC",0.01,"±10",12,4.5,12.5,10,"Crimped lead wire type (Style D)","-40 to 105 (85)","Bulk (Bag packing)",100,"https://industrial.panasonic.com/ww/products/pt/film-cap-electroequip/models/ECQE6103KFB","≤12","≤ 5","≤12.5",{"$f":"pana_film[[#This Row],[Body length / dia\n(mm)]]&\" x \"&pana_film[[#This Row],[Body width\n(mm)]]","v":"12 x 4.5"},"-","-"]
[null,"Std","dip","PET","No","ECQE(F)[DC]","ECQE6103KF",630,"DC",0.01,"±10",12,4.5,7.5,10,"Straight lead wire type","-40 to 105 (85)","Bulk (Bag packing)",100,"https://industrial.panasonic.com/ww/products/pt/film-cap-electroequip/models/ECQE6103KF","≤12","≤ 5","≤ 7.5",{"$f":"pana_film[[#This Row],[Body length / dia\n(mm)]]&\" x \"&pana_film[[#This Row],[Body width\n(mm)]]","v":"12 x 4.5"},"-","-"]
[null,"Std","dip","PET","No","ECQE(T)[DC]","ECQE4824KTB",400,"DC",0.82,"±10",26.5,7.9,22.3,15,"Inner crimped lead wire type (Style B)","-40 to 105 (85)","Bulk (Bag packing)",100,"https://industrial.panasonic.com/ww/products/pt/film-cap-electroequip/models/ECQE4824KTB","≤27","≤ 8","≤22.5",{"$f":"pana_film[[#This Row],[Body length / dia\n(mm)]]&\" x \"&pana_film[[#This Row],[Body width\n(mm)]]","v":"26.5 x 7.9"},"-","-"]
[null,"Std","dip","PET","No","ECQE(T)[DC]","ECQE4824KT",400,"DC",0.82,"±10",26.5,7.9,17.3,22.5,"Straight lead wire type","-40 to 105 (85)","Bulk (Bag packing)",100,"https://industrial.panasonic.com/ww/products/pt/film-cap-electroequip/models/ECQE4824KT",{"$f":"IF(L4038<=9.5,\"≤ \"&ROUNDUP(L4038*1,0)/1,\"≤\"&ROUNDUP(L4038*1,0)/1)","v":"≤27"},{"$f":"IF(M4038<=9,\"≤ \"&ROUNDUP(M4038*1,0)/1,\"≤\"&ROUNDUP(M4038*1,0)/1)","v":"≤ 8"},{"$f":"IF(N4038<=9.5,\"≤ \"&ROUNDUP(N4038*2,0)/2,\"≤\"&ROUNDUP(N4038*2,0)/2)","v":"≤17.5"},{"$f":"pana_film[[#This Row],[Body length / dia\n(mm)]]&\" x \"&pana_film[[#This Row],[Body width\n(mm)]]","v":"26.5 x 7.9"},"-","-"]
[null,"Std","dip","PET","No","ECQE(F)[DC]","ECQE4823RKF",400,"DC",8.2000000000000003E-2,"±10",12,5.8,16,7.5,"Crimped lead wire type (Style D)","-40 to 105 (85)","15.0P crimped lead taping (ammo packing)",1000,"https://industrial.panasonic.com/ww/products/pt/film-cap-electroequip/models/ECQE4823RKF","≤12","≤ 6","≤16",{"$f":"pana_film[[#This Row],[Body length / dia\n(mm)]]&\" x \"&pana_film[[#This Row],[Body width\n(mm)]]","v":"12 x 5.8"},"-","-"]
[null,"Std","dip","PET","No","ECQE(F)[DC]","ECQE4823KFB",400,"DC",8.2000000000000003E-2,"±10",12,5.8,16,10,"Crimped lead wire type (Style D)","-40 to 105 (85)","Bulk (Bag packing)",100,"https://industrial.panasonic.com/ww/products/pt/film-cap-electroequip/models/ECQE4823KFB","≤12","≤ 6","≤16",{"$f":"pana_film[[#This Row],[Body length / dia\n(mm)]]&\" x \"&pana_film[[#This Row],[Body width\n(mm)]]","v":"12 x 5.8"},"-","-"]
[null,"Std","dip","PET","No","ECQE(F)[DC]","ECQE4823KF",400,"DC",8.2000000000000003E-2,"±10",12,5.8,11,10,"Straight lead wire type","-40 to 105 (85)","Bulk (Bag packing)",100,"https://industrial.panasonic.com/ww/products/pt/film-cap-electroequip/models/ECQE4823KF","≤12","≤ 6","≤11",{"$f":"pana_film[[#This Row],[Body length / dia\n(mm)]]&\" x \"&pana_film[[#This Row],[Body width\n(mm)]]","v":"12 x 5.8"},"-","-"]
[null,"Std","dip","PET","No","ECQE(T)[DC]","ECQE4684KTB",400,"DC",0.68,"±10",26.5,7,21.5,15,"Inner crimped lead wire type (Style B)","-40 to 105 (85)","Bulk (Bag packing)",100,"https://industrial.panasonic.com/ww/products/pt/film-cap-electroequip/models/ECQE4684KTB","≤27","≤ 7","≤21.5",{"$f":"pana_film[[#This Row],[Body length / dia\n(mm)]]&\" x \"&pana_film[[#This Row],[Body width\n(mm)]]","v":"26.5 x 7"},"-","-"]
[null,"Std","dip","PET","No","ECQE(F)[DC]","ECQE4684JFW",400,"DC",0.68,"± 5",26,7,21.5,15,"Double crimped lead wire type (Style T)","-40 to 105 (85)","Bulk (Bag packing)",100,"https://industrial.panasonic.com/ww/products/pt/film-cap-electroequip/models/ECQE4684JFW","≤26","≤ 7","≤21.5",{"$f":"pana_film[[#This Row],[Body length / dia\n(mm)]]&\" x \"&pana_film[[#This Row],[Body width\n(mm)]]","v":"26 x 7"},"-","-"]
[null,"Std","dip","PET","No","ECQE(F)[DC]","ECQE4684JFB",400,"DC",0.68,"± 5",26,7,21.5,15,"Inner crimped lead wire type (Style B)","-40 to 105 (85)","Bulk (Bag packing)",100,"https://industrial.panasonic.com/ww/products/pt/film-cap-electroequip/models/ECQE4684JFB","≤26","≤ 7","≤21.5",{"$f":"pana_film[[#This Row],[Body length / dia\n(mm)]]&\" x \"&pana_film[[#This Row],[Body width\n(mm)]]","v":"26 x 7"},"-","-"]
[null,"Std","dip","PET","No","ECQE(F)[DC]","ECQE4683KF3",400,"DC",6.8000000000000005E-2,"±10",12,5.4,15.5,5,"Crimped lead wire type (Style D)","-40 to 105 (85)","12.7P crimped lead taping (ammo packing)",500,"https://industrial.panasonic.com/ww/products/pt/film-cap-electroequip/models/ECQE4683KF3","≤12","≤ 6","≤15.5",{"$f":"pana_film[[#This Row],[Body length / dia\n(mm)]]&\" x \"&pana_film[[#This Row],[Body width\n(mm)]]","v":"12 x 5.4"},"-","-"]
[null,"Std","dip","PET","No","ECQE(F)[DC]","ECQE4683KF",400,"DC",6.8000000000000005E-2,"±10",12,5.4,10.5,10,"Straight lead wire type","-40 to 105 (85)","Bulk (Bag packing)",100,"https://industrial.panasonic.com/ww/products/pt/film-cap-electroequip/models/ECQE4683KF","≤12","≤ 6","≤10.5",{"$f":"pana_film[[#This Row],[Body length / dia\n(mm)]]&\" x \"&pana_film[[#This Row],[Body width\n(mm)]]","v":"12 x 5.4"},"-","-"]
[null,"Std","dip","PET","No","ECQE(T)[DC]","ECQE4564KTB",400,"DC",0.56000000000000005,"±10",26.5,6.5,21,15,"Inner crimped lead wire type (Style B)","-40 to 105 (85)","Bulk (Bag packing)",100,"https://industrial.panasonic.com/ww/products/pt/film-cap-electroequip/models/ECQE4564KTB","≤27","≤ 7","≤21",{"$f":"pana_film[[#This Row],[Body length / dia\n(mm)]]&\" x \"&pana_film[[#This Row],[Body width\n(mm)]]","v":"26.5 x 6.5"},"-","-"]
[null,"Std","dip","PET","No","ECQE(F)[DC]","ECQE4564JFW",400,"DC",0.56000000000000005,"± 5",26,6.5,21,15,"Double crimped lead wire type (Style T)","-40 to 105 (85)","Bulk (Bag packing)",100,"https://industrial.panasonic.com/ww/products/pt/film-cap-electroequip/models/ECQE4564JFW","≤26","≤ 7","≤21",{"$f":"pana_film[[#This Row],[Body length / dia\n(mm)]]&\" x \"&pana_film[[#This Row],[Body width\n(mm)]]","v":"26 x 6.5"},"-","-"]
[null,"Std","dip","PET","No","ECQE(T)[DC]","ECQE4563RKT",400,"DC",5.6000000000000001E-2,"±10",12.5,5,15,7.5,"Crimped lead wire type (Style Y)","-40 to 105 (85)","30.0P crimped lead taping (ammo packing)",900,"https://industrial.panasonic.com/ww/products/pt/film-cap-electroequip/models/ECQE4563RKT","≤13","≤ 5","≤15",{"$f":"pana_film[[#This Row],[Body length / dia\n(mm)]]&\" x \"&pana_film[[#This Row],[Body width\n(mm)]]","v":"12.5 x 5"},"-","-"]
[null,"Std","dip","PET","No","ECQE(F)[DC]","ECQE4563KF9",400,"DC",5.6000000000000001E-2,"±10",12,5,15,5,"Crimped lead wire type (Style D)","-40 to 105 (85)","Reel packing (radial leaded)",1000,"https://industrial.panasonic.com/ww/products/pt/film-cap-electroequip/models/ECQE4563KF9","≤12","≤ 5","≤15",{"$f":"pana_film[[#This Row],[Body length / dia\n(mm)]]&\" x \"&pana_film[[#This Row],[Body width\n(mm)]]","v":"12 x 5"},"-","-"]
[null,"Std","dip","PET","No","ECQE(F)[DC]","ECQE4563JFB",400,"DC",5.6000000000000001E-2,"± 5",12,5,15,10,"Crimped lead wire type (Style D)","-40 to 105 (85)","Bulk (Bag packing)",100,"https://industrial.panasonic.com/ww/products/pt/film-cap-electroequip/models/ECQE4563JFB","≤12","≤ 5","≤15",{"$f":"pana_film[[#This Row],[Body length / dia\n(mm)]]&\" x \"&pana_film[[#This Row],[Body width\n(mm)]]","v":"12 x 5"},"-","-"]
[null,"Std","dip","PET","No","ECQE(T)[DC]","ECQE4474RKT",400,"DC",0.47,"±10",19,7.8,22,7.5,"Inner crimped lead wire type (Style B)","-40 to 105 (85)","30.0P crimped lead taping (ammo packing)",500,"https://industrial.panasonic.com/ww/products/pt/film-cap-electroequip/models/ECQE4474RKT","≤19","≤ 8","≤22",{"$f":"pana_film[[#This Row],[Body length / dia\n(mm)]]&\" x \"&pana_film[[#This Row],[Body width\n(mm)]]","v":"19 x 7.8"},"-","-"]
[null,"Std","dip","PET","No","ECQE(F)[DC]","ECQE4474KFW",400,"DC",0.47,"±10",18.5,7.8,22,10,"Double crimped lead wire type (Style T)","-40 to 105 (85)","Bulk (Bag packing)",100,"https://industrial.panasonic.com/ww/products/pt/film-cap-electroequip/models/ECQE4474KFW","≤19","≤ 8","≤22",{"$f":"pana_film[[#This Row],[Body length / dia\n(mm)]]&\" x \"&pana_film[[#This Row],[Body width\n(mm)]]","v":"18.5 x 7.8"},"-","-"]
[null,"Std","dip","PET","No","ECQE(F)[DC]","ECQE4474KF",400,"DC",0.47,"±10",18.5,7.8,17,15,"Straight lead wire type","-40 to 105 (85)","Bulk (Bag packing)",100,"https://industrial.panasonic.com/ww/products/pt/film-cap-electroequip/models/ECQE4474KF","≤19","≤ 8","≤17",{"$f":"pana_film[[#This Row],[Body length / dia\n(mm)]]&\" x \"&pana_film[[#This Row],[Body width\n(mm)]]","v":"18.5 x 7.8"},"-","-"]
[null,"Std","dip","PET","No","ECQE(F)[DC]","ECQE4473RKF",400,"DC",4.7E-2,"±10",12,5,13.3,7.5,"Crimped lead wire type (Style D)","-40 to 105 (85)","15.0P crimped lead taping (ammo packing)",1000,"https://industrial.panasonic.com/ww/products/pt/film-cap-electroequip/models/ECQE4473RKF","≤12","≤ 5","≤13.5",{"$f":"pana_film[[#This Row],[Body length / dia\n(mm)]]&\" x \"&pana_film[[#This Row],[Body width\n(mm)]]","v":"12 x 5"},"-","-"]
[null,"Std","dip","PET","No","ECQE(F)[DC]","ECQE4473KFB",400,"DC",4.7E-2,"±10",12,5,13.3,10,"Crimped lead wire type (Style D)","-40 to 105 (85)","Bulk (Bag packing)",100,"https://industrial.panasonic.com/ww/products/pt/film-cap-electroequip/models/ECQE4473KFB","≤12","≤ 5","≤13.5",{"$f":"pana_film[[#This Row],[Body length / dia\n(mm)]]&\" x \"&pana_film[[#This Row],[Body width\n(mm)]]","v":"12 x 5"},"-","-"]
[null,"Std","dip","PET","No","ECQE(F)[DC]","ECQE4473JFW",400,"DC",4.7E-2,"± 5",12,5,13.3,10,"Double crimped lead wire type (Style N)","-40 to 105 (85)","Bulk (Bag packing)",100,"https://industrial.panasonic.com/ww/products/pt/film-cap-electroequip/models/ECQE4473JFW","≤12","≤ 5","≤13.5",{"$f":"pana_film[[#This Row],[Body length / dia\n(mm)]]&\" x \"&pana_film[[#This Row],[Body width\n(mm)]]","v":"12 x 5"},"-","-"]
[null,"Std","dip","PET","No","ECQE(F)[DC]","ECQE4394RKF",400,"DC",0.39,"±10",18.5,7.5,20.399999999999999,7.5,"Inner crimped lead wire type (Style B)","-40 to 105 (85)","30.0P crimped lead taping (ammo packing)",400,"https://industrial.panasonic.com/ww/products/pt/film-cap-electroequip/models/ECQE4394RKF",{"$f":"IF(L4166<=9.5,\"≤ \"&ROUNDUP(L4166*1,0)/1,\"≤\"&ROUNDUP(L4166*1,0)/1)","v":"≤19"},{"$f":"IF(M4166<=9,\"≤ \"&ROUNDUP(M4166*1,0)/1,\"≤\"&ROUNDUP(M4166*1,0)/1)","v":"≤ 8"},{"$f":"IF(N4166<=9.5,\"≤ \"&ROUNDUP(N4166*2,0)/2,\"≤\"&ROUNDUP(N4166*2,0)/2)","v":"≤20.5"},{"$f":"pana_film[[#This Row],[Body length / dia\n(mm)]]&\" x \"&pana_film[[#This Row],[Body width\n(mm)]]","v":"18.5 x 7.5"},"-","-"]
[null,"Std","dip","PET","No","ECQE(F)[DC]","ECQE4394KFB",400,"DC",0.39,"±10",18.5,7.5,20.399999999999999,10,"Inner crimped lead wire type (Style B)","-40 to 105 (85)","Bulk (Bag packing)",100,"https://industrial.panasonic.com/ww/products/pt/film-cap-electroequip/models/ECQE4394KFB","≤19","≤ 8","≤20.5",{"$f":"pana_film[[#This Row],[Body length / dia\n(mm)]]&\" x \"&pana_film[[#This Row],[Body width\n(mm)]]","v":"18.5 x 7.5"},"-","-"]
[null,"Std","dip","PET","No","ECQE(T)[DC]","ECQE4394JTB",400,"DC",0.39,"± 5",19,7.5,20.399999999999999,10,"Inner crimped lead wire type (Style B)","-40 to 105 (85)","Bulk (Bag packing)",100,"https://industrial.panasonic.com/ww/products/pt/film-cap-electroequip/models/ECQE4394JTB","≤19","≤ 8","≤20.5",{"$f":"pana_film[[#This Row],[Body length / dia\n(mm)]]&\" x \"&pana_film[[#This Row],[Body width\n(mm)]]","v":"19 x 7.5"},"-","-"]
[null,"Std","dip","PET","No","ECQE(T)[DC]","ECQE4393RKT",400,"DC",3.9E-2,"±10",12.5,4.9000000000000004,13,7.5,"Crimped lead wire type (Style Y)","-40 to 105 (85)","30.0P crimped lead taping (ammo packing)",900,"https://industrial.panasonic.com/ww/products/pt/film-cap-electroequip/models/ECQE4393RKT","≤13","≤ 5","≤13",{"$f":"pana_film[[#This Row],[Body length / dia\n(mm)]]&\" x \"&pana_film[[#This Row],[Body width\n(mm)]]","v":"12.5 x 4.9"},"-","-"]
[null,"Std","dip","PET","No","ECQE(F)[DC]","ECQE4393RJF",400,"DC",3.9E-2,"± 5",12,4.9000000000000004,13,7.5,"Crimped lead wire type (Style D)","-40 to 105 (85)","15.0P crimped lead taping (ammo packing)",1000,"https://industrial.panasonic.com/ww/products/pt/film-cap-electroequip/models/ECQE4393RJF","≤12","≤ 5","≤13",{"$f":"pana_film[[#This Row],[Body length / dia\n(mm)]]&\" x \"&pana_film[[#This Row],[Body width\n(mm)]]","v":"12 x 4.9"},"-","-"]
[null,"Std","dip","PET","No","ECQE(T)[DC]","ECQE4393JT",400,"DC",3.9E-2,"± 5",12.5,4.9000000000000004,8,10,"Straight lead wire type","-40 to 105 (85)","Bulk (Bag packing)",100,"https://industrial.panasonic.com/ww/products/pt/film-cap-electroequip/models/ECQE4393JT","≤13","≤ 5","≤ 8",{"$f":"pana_film[[#This Row],[Body length / dia\n(mm)]]&\" x \"&pana_film[[#This Row],[Body width\n(mm)]]","v":"12.5 x 4.9"},"-","-"]
[null,"Std","dip","PET","No","ECQE(T)[DC]","ECQE4334RKT",400,"DC",0.33,"±10",19,7,19.899999999999999,7.5,"Inner crimped lead wire type (Style B)","-40 to 105 (85)","30.0P crimped lead taping (ammo packing)",600,"https://industrial.panasonic.com/ww/products/pt/film-cap-electroequip/models/ECQE4334RKT","≤19","≤ 7","≤20",{"$f":"pana_film[[#This Row],[Body length / dia\n(mm)]]&\" x \"&pana_film[[#This Row],[Body width\n(mm)]]","v":"19 x 7"},"-","-"]
[null,"Std","dip","PET","No","ECQE(F)[DC]","ECQE4334RJF",400,"DC",0.33,"± 5",18.5,7,19.899999999999999,7.5,"Inner crimped lead wire type (Style B)","-40 to 105 (85)","30.0P crimped lead taping (ammo packing)",500,"https://industrial.panasonic.com/ww/products/pt/film-cap-electroequip/models/ECQE4334RJF","≤19","≤ 7","≤20",{"$f":"pana_film[[#This Row],[Body length / dia\n(mm)]]&\" x \"&pana_film[[#This Row],[Body width\n(mm)]]","v":"18.5 x 7"},"-","-"]
[null,"Std","dip","PET","No","ECQE(F)[DC]","ECQE4334KF",400,"DC",0.33,"±10",18.5,7,14.9,15,"Straight lead wire type","-40 to 105 (85)","Bulk (Bag packing)",100,"https://industrial.panasonic.com/ww/products/pt/film-cap-electroequip/models/ECQE4334KF","≤19","≤ 7","≤15",{"$f":"pana_film[[#This Row],[Body length / dia\n(mm)]]&\" x \"&pana_film[[#This Row],[Body width\n(mm)]]","v":"18.5 x 7"},"-","-"]
[null,"Std","dip","PET","No","ECQE(F)[DC]","ECQE4333RKF",400,"DC",3.3000000000000002E-2,"±10",10.3,6,14,7.5,"Crimped lead wire type (Style D)","-40 to 105 (85)","15.0P crimped lead taping (ammo packing)",1000,"https://industrial.panasonic.com/ww/products/pt/film-cap-electroequip/models/ECQE4333RKF","≤11","≤ 6","≤14",{"$f":"pana_film[[#This Row],[Body length / dia\n(mm)]]&\" x \"&pana_film[[#This Row],[Body width\n(mm)]]","v":"10.3 x 6"},"-","-"]
[null,"Std","dip","PET","No","ECQE(T)[DC]","ECQE4333KTB",400,"DC",3.3000000000000002E-2,"±10",10.8,6,14,7.5,"Crimped lead wire type (Style D)","-40 to 105 (85)","Bulk (Bag packing)",100,"https://industrial.panasonic.com/ww/products/pt/film-cap-electroequip/models/ECQE4333KTB","≤11","≤ 6","≤14",{"$f":"pana_film[[#This Row],[Body length / dia\n(mm)]]&\" x \"&pana_film[[#This Row],[Body width\n(mm)]]","v":"10.8 x 6"},"-","-"]
[null,"Std","dip","PET","No","ECQE(F)[DC]","ECQE4333KF3",400,"DC",3.3000000000000002E-2,"±10",10.3,6,14,5,"Crimped lead wire type (Style D)","-40 to 105 (85)","12.7P crimped lead taping (ammo packing)",500,"https://industrial.panasonic.com/ww/products/pt/film-cap-electroequip/models/ECQE4333KF3","≤11","≤ 6","≤14",{"$f":"pana_film[[#This Row],[Body length / dia\n(mm)]]&\" x \"&pana_film[[#This Row],[Body width\n(mm)]]","v":"10.3 x 6"},"-","-"]
[null,"Std","dip","PET","No","ECQE(F)[DC]","ECQE4333JFW",400,"DC",3.3000000000000002E-2,"± 5",10.3,6,14,7.5,"Double crimped lead wire type (Style N)","-40 to 105 (85)","Bulk (Bag packing)",100,"https://industrial.panasonic.com/ww/products/pt/film-cap-electroequip/models/ECQE4333JFW","≤11","≤ 6","≤14",{"$f":"pana_film[[#This Row],[Body length / dia\n(mm)]]&\" x \"&pana_film[[#This Row],[Body width\n(mm)]]","v":"10.3 x 6"},"-","-"]
[null,"Std","dip","PET","No","ECQE(T)[DC]","ECQE4274KTB",400,"DC",0.27,"±10",19,6.5,19.3,10,"Inner crimped lead wire type (Style B)","-40 to 105 (85)","Bulk (Bag packing)",100,"https://industrial.panasonic.com/ww/products/pt/film-cap-electroequip/models/ECQE4274KTB","≤19","≤ 7","≤19.5",{"$f":"pana_film[[#This Row],[Body length / dia\n(mm)]]&\" x \"&pana_film[[#This Row],[Body width\n(mm)]]","v":"19 x 6.5"},"-","-"]
[null,"Std","dip","PET","No","ECQE(T)[DC]","ECQE4274JTB",400,"DC",0.27,"± 5",19,6.5,19.3,10,"Inner crimped lead wire type (Style B)","-40 to 105 (85)","Bulk (Bag packing)",100,"https://industrial.panasonic.com/ww/products/pt/film-cap-electroequip/models/ECQE4274JTB","≤19","≤ 7","≤19.5",{"$f":"pana_film[[#This Row],[Body length / dia\n(mm)]]&\" x \"&pana_film[[#This Row],[Body width\n(mm)]]","v":"19 x 6.5"},"-","-"]
[null,"Std","dip","PET","No","ECQE(F)[DC]","ECQE4274JFW",400,"DC",0.27,"± 5",18.5,6.5,19.3,10,"Double crimped lead wire type (Style T)","-40 to 105 (85)","Bulk (Bag packing)",100,"https://industrial.panasonic.com/ww/products/pt/film-cap-electroequip/models/ECQE4274JFW","≤19","≤ 7","≤19.5",{"$f":"pana_film[[#This Row],[Body length / dia\n(mm)]]&\" x \"&pana_film[[#This Row],[Body width\n(mm)]]","v":"18.5 x 6.5"},"-","-"]
[null,"Std","dip","PET","No","ECQE(F)[DC]","ECQE4273RJF",400,"DC",2.7E-2,"± 5",10.3,5.5,13,7.5,"Crimped lead wire type (Style D)","-40 to 105 (85)","15.0P crimped lead taping (ammo packing)",1000,"https://industrial.panasonic.com/ww/products/pt/film-cap-electroequip/models/ECQE4273RJF","≤11","≤ 6","≤13",{"$f":"pana_film[[#This Row],[Body length / dia\n(mm)]]&\" x \"&pana_film[[#This Row],[Body width\n(mm)]]","v":"10.3 x 5.5"},"-","-"]
[null,"Std","dip","PET","No","ECQE(F)[DC]","ECQE4273KF9",400,"DC",2.7E-2,"±10",10.3,5.5,13,5,"Crimped lead wire type (Style D)","-40 to 105 (85)","Reel packing (radial leaded)",1000,"https://industrial.panasonic.com/ww/products/pt/film-cap-electroequip/models/ECQE4273KF9","≤11","≤ 6","≤13",{"$f":"pana_film[[#This Row],[Body length / dia\n(mm)]]&\" x \"&pana_film[[#This Row],[Body width\n(mm)]]","v":"10.3 x 5.5"},"-","-"]
[null,"Std","dip","PET","No","ECQE(F)[DC]","ECQE4273JFB",400,"DC",2.7E-2,"± 5",10.3,5.5,13,7.5,"Crimped lead wire type (Style D)","-40 to 105 (85)","Bulk (Bag packing)",100,"https://industrial.panasonic.com/ww/products/pt/film-cap-electroequip/models/ECQE4273JFB","≤11","≤ 6","≤13",{"$f":"pana_film[[#This Row],[Body length / dia\n(mm)]]&\" x \"&pana_film[[#This Row],[Body width\n(mm)]]","v":"10.3 x 5.5"},"-","-"]
[null,"Std","dip","PET","No","ECQE(F)[DC]","ECQE4225KFB",400,"DC",2.2000000000000002,"±10",31,11,27,22.5,"Inner crimped lead wire type (Style B)","-40 to 105 (85)","Bulk (Bag packing)",100,"https://industrial.panasonic.com/ww/products/pt/film-cap-electroequip/models/ECQE4225KFB","≤31","≤11","≤27",{"$f":"pana_film[[#This Row],[Body length / dia\n(mm)]]&\" x \"&pana_film[[#This Row],[Body width\n(mm)]]","v":"31 x 11"},"-","-"]
[null,"Std","dip","PET","No","ECQE(T)[DC]","ECQE4225JT",400,"DC",2.2000000000000002,"± 5",31.5,11,22,27.5,"Straight lead wire type","-40 to 105 (85)","Bulk (Bag packing)",100,"https://industrial.panasonic.com/ww/products/pt/film-cap-electroequip/models/ECQE4225JT","≤32","≤11","≤22",{"$f":"pana_film[[#This Row],[Body length / dia\n(mm)]]&\" x \"&pana_film[[#This Row],[Body width\n(mm)]]","v":"31.5 x 11"},"-","-"]
[null,"Std","dip","PET","No","ECQE(T)[DC]","ECQE4224KT3",400,"DC",0.22,"±10",19,5.9,18,5,"Inner crimped lead wire type (Style B)","-40 to 105 (85)","25.4P crimped lead taping (ammo packing)",700,"https://industrial.panasonic.com/ww/products/pt/film-cap-electroequip/models/ECQE4224KT3",{"$f":"IF(L4294<=9.5,\"≤ \"&ROUNDUP(L4294*1,0)/1,\"≤\"&ROUNDUP(L4294*1,0)/1)","v":"≤19"},{"$f":"IF(M4294<=9,\"≤ \"&ROUNDUP(M4294*1,0)/1,\"≤\"&ROUNDUP(M4294*1,0)/1)","v":"≤ 6"},{"$f":"IF(N4294<=9.5,\"≤ \"&ROUNDUP(N4294*2,0)/2,\"≤\"&ROUNDUP(N4294*2,0)/2)","v":"≤18"},{"$f":"pana_film[[#This Row],[Body length / dia\n(mm)]]&\" x \"&pana_film[[#This Row],[Body width\n(mm)]]","v":"19 x 5.9"},"-","-"]
[null,"Std","dip","PET","No","ECQE(T)[DC]","ECQE4224JT3",400,"DC",0.22,"± 5",19,5.9,18,5,"Inner crimped lead wire type (Style B)","-40 to 105 (85)","25.4P crimped lead taping (ammo packing)",700,"https://industrial.panasonic.com/ww/products/pt/film-cap-electroequip/models/ECQE4224JT3","≤19","≤ 6","≤18",{"$f":"pana_film[[#This Row],[Body length / dia\n(mm)]]&\" x \"&pana_film[[#This Row],[Body width\n(mm)]]","v":"19 x 5.9"},"-","-"]
[null,"Std","dip","PET","No","ECQE(F)[DC]","ECQE4224JFB",400,"DC",0.22,"± 5",18.5,5.9,18,10,"Inner crimped lead wire type (Style B)","-40 to 105 (85)","Bulk (Bag packing)",100,"https://industrial.panasonic.com/ww/products/pt/film-cap-electroequip/models/ECQE4224JFB","≤19","≤ 6","≤18",{"$f":"pana_film[[#This Row],[Body length / dia\n(mm)]]&\" x \"&pana_film[[#This Row],[Body width\n(mm)]]","v":"18.5 x 5.9"},"-","-"]
[null,"Std","dip","PET","No","ECQE(T)[DC]","ECQE4223RJT",400,"DC",2.1999999999999999E-2,"± 5",10.8,4.8,12.9,7.5,"Crimped lead wire type (Style Y)","-40 to 105 (85)","12.7P crimped lead taping (ammo packing)",1500,"https://industrial.panasonic.com/ww/products/pt/film-cap-electroequip/models/ECQE4223RJT","≤11","≤ 5","≤13",{"$f":"pana_film[[#This Row],[Body length / dia\n(mm)]]&\" x \"&pana_film[[#This Row],[Body width\n(mm)]]","v":"10.8 x 4.8"},"-","-"]
[null,"Std","dip","PET","No","ECQE(T)[DC]","ECQE4223JT",400,"DC",2.1999999999999999E-2,"± 5",10.8,4.8,7.9,7.5,"Straight lead wire type","-40 to 105 (85)","Bulk (Bag packing)",100,"https://industrial.panasonic.com/ww/products/pt/film-cap-electroequip/models/ECQE4223JT","≤11","≤ 5","≤ 8",{"$f":"pana_film[[#This Row],[Body length / dia\n(mm)]]&\" x \"&pana_film[[#This Row],[Body width\n(mm)]]","v":"10.8 x 4.8"},"-","-"]
[null,"Std","dip","PET","No","ECQE(F)[DC]","ECQE4223JF9",400,"DC",2.1999999999999999E-2,"± 5",10.3,4.8,12.9,5,"Crimped lead wire type (Style D)","-40 to 105 (85)","Reel packing (radial leaded)",1000,"https://industrial.panasonic.com/ww/products/pt/film-cap-electroequip/models/ECQE4223JF9","≤11","≤ 5","≤13",{"$f":"pana_film[[#This Row],[Body length / dia\n(mm)]]&\" x \"&pana_film[[#This Row],[Body width\n(mm)]]","v":"10.3 x 4.8"},"-","-"]
[null,"Std","dip","PET","No","ECQE(F)[DC]","ECQE4185KF",400,"DC",1.8,"±10",31,11,20.5,27.5,"Straight lead wire type","-40 to 105 (85)","Bulk (Bag packing)",100,"https://industrial.panasonic.com/ww/products/pt/film-cap-electroequip/models/ECQE4185KF","≤31","≤11","≤20.5",{"$f":"pana_film[[#This Row],[Body length / dia\n(mm)]]&\" x \"&pana_film[[#This Row],[Body width\n(mm)]]","v":"31 x 11"},"-","-"]
[null,"Std","dip","PET","No","ECQE(F)[DC]","ECQE4185JFW",400,"DC",1.8,"± 5",31,11,25.5,22.5,"Double crimped lead wire type (Style T)","-40 to 105 (85)","Bulk (Bag packing)",100,"https://industrial.panasonic.com/ww/products/pt/film-cap-electroequip/models/ECQE4185JFW","≤31","≤11","≤25.5",{"$f":"pana_film[[#This Row],[Body length / dia\n(mm)]]&\" x \"&pana_film[[#This Row],[Body width\n(mm)]]","v":"31 x 11"},"-","-"]
[null,"Std","dip","PET","No","ECQE(T)[DC]","ECQE4184KTB",400,"DC",0.18,"±10",19,5.4,17.5,10,"Inner crimped lead wire type (Style B)","-40 to 105 (85)","Bulk (Bag packing)",100,"https://industrial.panasonic.com/ww/products/pt/film-cap-electroequip/models/ECQE4184KTB","≤19","≤ 6","≤17.5",{"$f":"pana_film[[#This Row],[Body length / dia\n(mm)]]&\" x \"&pana_film[[#This Row],[Body width\n(mm)]]","v":"19 x 5.4"},"-","-"]
[null,"Std","dip","PET","No","ECQE(F)[DC]","ECQE4184KF3",400,"DC",0.18,"±10",18.5,5.4,17.5,5,"Inner crimped lead wire type (Style B)","-40 to 105 (85)","25.4P crimped lead taping (ammo packing)",500,"https://industrial.panasonic.com/ww/products/pt/film-cap-electroequip/models/ECQE4184KF3","≤19","≤ 6","≤17.5",{"$f":"pana_film[[#This Row],[Body length / dia\n(mm)]]&\" x \"&pana_film[[#This Row],[Body width\n(mm)]]","v":"18.5 x 5.4"},"-","-"]
[null,"Std","dip","PET","No","ECQE(F)[DC]","ECQE4184JF",400,"DC",0.18,"± 5",18.5,5.4,12.5,15,"Straight lead wire type","-40 to 105 (85)","Bulk (Bag packing)",100,"https://industrial.panasonic.com/ww/products/pt/film-cap-electroequip/models/ECQE4184JF","≤19","≤ 6","≤12.5",{"$f":"pana_film[[#This Row],[Body length / dia\n(mm)]]&\" x \"&pana_film[[#This Row],[Body width\n(mm)]]","v":"18.5 x 5.4"},"-","-"]
[null,"Std","dip","PET","No","ECQE(T)[DC]","ECQE4183KT",400,"DC",1.7999999999999999E-2,"±10",10.8,4.4000000000000004,7.5,7.5,"Straight lead wire type","-40 to 105 (85)","Bulk (Bag packing)",100,"https://industrial.panasonic.com/ww/products/pt/film-cap-electroequip/models/ECQE4183KT","≤11","≤ 5","≤ 7.5",{"$f":"pana_film[[#This Row],[Body length / dia\n(mm)]]&\" x \"&pana_film[[#This Row],[Body width\n(mm)]]","v":"10.8 x 4.4"},"-","-"]
[null,"Std","dip","PET","No","ECQE(F)[DC]","ECQE4183JFW",400,"DC",1.7999999999999999E-2,"± 5",10.3,4.4000000000000004,12.5,7.5,"Double crimped lead wire type (Style N)","-40 to 105 (85)","Bulk (Bag packing)",100,"https://industrial.panasonic.com/ww/products/pt/film-cap-electroequip/models/ECQE4183JFW","≤11","≤ 5","≤12.5",{"$f":"pana_film[[#This Row],[Body length / dia\n(mm)]]&\" x \"&pana_film[[#This Row],[Body width\n(mm)]]","v":"10.3 x 4.4"},"-","-"]
[null,"Std","dip","PET","No","ECQE(F)[DC]","ECQE4183JF3",400,"DC",1.7999999999999999E-2,"± 5",10.3,4.4000000000000004,12.5,5,"Crimped lead wire type (Style D)","-40 to 105 (85)","12.7P crimped lead taping (ammo packing)",1000,"https://industrial.panasonic.com/ww/products/pt/film-cap-electroequip/models/ECQE4183JF3","≤11","≤ 5","≤12.5",{"$f":"pana_film[[#This Row],[Body length / dia\n(mm)]]&\" x \"&pana_film[[#This Row],[Body width\n(mm)]]","v":"10.3 x 4.4"},"-","-"]
[null,"Std","dip","PET","No","ECQE(T)[DC]","ECQE4155JTB",400,"DC",1.5,"± 5",31.5,9.5,24,22.5,"Inner crimped lead wire type (Style B)","-40 to 105 (85)","Bulk (Bag packing)",100,"https://industrial.panasonic.com/ww/products/pt/film-cap-electroequip/models/ECQE4155JTB","≤32","≤10","≤24",{"$f":"pana_film[[#This Row],[Body length / dia\n(mm)]]&\" x \"&pana_film[[#This Row],[Body width\n(mm)]]","v":"31.5 x 9.5"},"-","-"]
[null,"Std","dip","PET","No","ECQE(F)[DC]","ECQE4155JFB",400,"DC",1.5,"± 5",31,9.5,24,22.5,"Inner crimped lead wire type (Style B)","-40 to 105 (85)","Bulk (Bag packing)",100,"https://industrial.panasonic.com/ww/products/pt/film-cap-electroequip/models/ECQE4155JFB","≤31","≤10","≤24",{"$f":"pana_film[[#This Row],[Body length / dia\n(mm)]]&\" x \"&pana_film[[#This Row],[Body width\n(mm)]]","v":"31 x 9.5"},"-","-"]
[null,"Std","dip","PET","No","ECQE(T)[DC]","ECQE4154KT",400,"DC",0.15,"±10",19,5,12.4,15,"Straight lead wire type","-40 to 105 (85)","Bulk (Bag packing)",100,"https://industrial.panasonic.com/ww/products/pt/film-cap-electroequip/models/ECQE4154KT","≤19","≤ 5","≤12.5",{"$f":"pana_film[[#This Row],[Body length / dia\n(mm)]]&\" x \"&pana_film[[#This Row],[Body width\n(mm)]]","v":"19 x 5"},"-","-"]
[null,"Std","dip","PET","No","ECQE(F)[DC]","ECQE4154JFB",400,"DC",0.15,"± 5",18.5,5,17.399999999999999,10,"Inner crimped lead wire type (Style B)","-40 to 105 (85)","Bulk (Bag packing)",100,"https://industrial.panasonic.com/ww/products/pt/film-cap-electroequip/models/ECQE4154JFB","≤19","≤ 5","≤17.5",{"$f":"pana_film[[#This Row],[Body length / dia\n(mm)]]&\" x \"&pana_film[[#This Row],[Body width\n(mm)]]","v":"18.5 x 5"},"-","-"]
[null,"Std","dip","PET","No","ECQE(T)[DC]","ECQE4153RKT",400,"DC",1.4999999999999999E-2,"±10",10.8,4.4000000000000004,12.5,7.5,"Crimped lead wire type (Style Y)","-40 to 105 (85)","12.7P crimped lead taping (ammo packing)",1500,"https://industrial.panasonic.com/ww/products/pt/film-cap-electroequip/models/ECQE4153RKT","≤11","≤ 5","≤12.5",{"$f":"pana_film[[#This Row],[Body length / dia\n(mm)]]&\" x \"&pana_film[[#This Row],[Body width\n(mm)]]","v":"10.8 x 4.4"},"-","-"]
[null,"Std","dip","PET","No","ECQE(F)[DC]","ECQE4153KFW",400,"DC",1.4999999999999999E-2,"±10",10.3,4.4000000000000004,12.5,7.5,"Double crimped lead wire type (Style N)","-40 to 105 (85)","Bulk (Bag packing)",100,"https://industrial.panasonic.com/ww/products/pt/film-cap-electroequip/models/ECQE4153KFW","≤11","≤ 5","≤12.5",{"$f":"pana_film[[#This Row],[Body length / dia\n(mm)]]&\" x \"&pana_film[[#This Row],[Body width\n(mm)]]","v":"10.3 x 4.4"},"-","-"]
[null,"Std","dip","PET","No","ECQE(F)[DC]","ECQE4153JFB",400,"DC",1.4999999999999999E-2,"± 5",10.3,4.4000000000000004,12.5,7.5,"Crimped lead wire type (Style D)","-40 to 105 (85)","Bulk (Bag packing)",100,"https://industrial.panasonic.com/ww/products/pt/film-cap-electroequip/models/ECQE4153JFB","≤11","≤ 5","≤12.5",{"$f":"pana_film[[#This Row],[Body length / dia\n(mm)]]&\" x \"&pana_film[[#This Row],[Body width\n(mm)]]","v":"10.3 x 4.4"},"-","-"]
[null,"Std","dip","PET","No","ECQE(F)[DC]","ECQE4153JF9",400,"DC",1.4999999999999999E-2,"± 5",10.3,4.4000000000000004,12.5,5,"Crimped lead wire type (Style D)","-40 to 105 (85)","Reel packing (radial leaded)",1000,"https://industrial.panasonic.com/ww/products/pt/film-cap-electroequip/models/ECQE4153JF9","≤11","≤ 5","≤12.5",{"$f":"pana_film[[#This Row],[Body length / dia\n(mm)]]&\" x \"&pana_film[[#This Row],[Body width\n(mm)]]","v":"10.3 x 4.4"},"-","-"]
[null,"Std","dip","PET","No","ECQE(F)[DC]","ECQE4125JFW",400,"DC",1.2,"± 5",26,9.5,23.9,15,"Double crimped lead wire type (Style T)","-40 to 105 (85)","Bulk (Bag packing)",100,"https://industrial.panasonic.com/ww/products/pt/film-cap-electroequip/models/ECQE4125JFW","≤26","≤10","≤24",{"$f":"pana_film[[#This Row],[Body length / dia\n(mm)]]&\" x \"&pana_film[[#This Row],[Body width\n(mm)]]","v":"26 x 9.5"},"-","-"]
[null,"Std","dip","PET","No","ECQE(T)[DC]","ECQE4124RKT",400,"DC",0.12,"±10",19,5,15,7.5,"Inner crimped lead wire type (Style B)","-40 to 105 (85)","30.0P crimped lead taping (ammo packing)",800,"https://industrial.panasonic.com/ww/products/pt/film-cap-electroequip/models/ECQE4124RKT","≤19","≤ 5","≤15",{"$f":"pana_film[[#This Row],[Body length / dia\n(mm)]]&\" x \"&pana_film[[#This Row],[Body width\n(mm)]]","v":"19 x 5"},"-","-"]
[null,"Std","dip","PET","No","ECQE(F)[DC]","ECQE4124KFW",400,"DC",0.12,"±10",18.5,5,15,10,"Double crimped lead wire type (Style T)","-40 to 105 (85)","Bulk (Bag packing)",100,"https://industrial.panasonic.com/ww/products/pt/film-cap-electroequip/models/ECQE4124KFW","≤19","≤ 5","≤15",{"$f":"pana_film[[#This Row],[Body length / dia\n(mm)]]&\" x \"&pana_film[[#This Row],[Body width\n(mm)]]","v":"18.5 x 5"},"-","-"]
[null,"Std","dip","PET","No","ECQE(F)[DC]","ECQE4124JF3",400,"DC",0.12,"± 5",18.5,5,15,5,"Inner crimped lead wire type (Style B)","-40 to 105 (85)","25.4P crimped lead taping (ammo packing)",500,"https://industrial.panasonic.com/ww/products/pt/film-cap-electroequip/models/ECQE4124JF3","≤19","≤ 5","≤15",{"$f":"pana_film[[#This Row],[Body length / dia\n(mm)]]&\" x \"&pana_film[[#This Row],[Body width\n(mm)]]","v":"18.5 x 5"},"-","-"]
[null,"Std","dip","PET","No","ECQE(F)[DC]","ECQE4123RKF",400,"DC",1.2E-2,"±10",10.3,4.4000000000000004,12.5,7.5,"Crimped lead wire type (Style D)","-40 to 105 (85)","15.0P crimped lead taping (ammo packing)",1000,"https://industrial.panasonic.com/ww/products/pt/film-cap-electroequip/models/ECQE4123RKF","≤11","≤ 5","≤12.5",{"$f":"pana_film[[#This Row],[Body length / dia\n(mm)]]&\" x \"&pana_film[[#This Row],[Body width\n(mm)]]","v":"10.3 x 4.4"},"-","-"]
[null,"Std","dip","PET","No","ECQE(F)[DC]","ECQE4123KF3",400,"DC",1.2E-2,"±10",10.3,4.4000000000000004,12.5,5,"Crimped lead wire type (Style D)","-40 to 105 (85)","12.7P crimped lead taping (ammo packing)",1000,"https://industrial.panasonic.com/ww/products/pt/film-cap-electroequip/models/ECQE4123KF3","≤11","≤ 5","≤12.5",{"$f":"pana_film[[#This Row],[Body length / dia\n(mm)]]&\" x \"&pana_film[[#This Row],[Body width\n(mm)]]","v":"10.3 x 4.4"},"-","-"]
[null,"Std","dip","PET","No","ECQE(F)[DC]","ECQE4123JF3",400,"DC",1.2E-2,"± 5",10.3,4.4000000000000004,12.5,5,"Crimped lead wire type (Style D)","-40 to 105 (85)","12.7P crimped lead taping (ammo packing)",1000,"https://industrial.panasonic.com/ww/products/pt/film-cap-electroequip/models/ECQE4123JF3","≤11","≤ 5","≤12.5",{"$f":"pana_film[[#This Row],[Body length / dia\n(mm)]]&\" x \"&pana_film[[#This Row],[Body width\n(mm)]]","v":"10.3 x 4.4"},"-","-"]
[null,"Std","dip","PET","No","ECQE(F)[DC]","ECQE4123JF",400,"DC",1.2E-2,"± 5",10.3,4.4000000000000004,7.5,7.5,"Straight lead wire type","-40 to 105 (85)","Bulk (Bag packing)",100,"https://industrial.panasonic.com/ww/products/pt/film-cap-electroequip/models/ECQE4123JF","≤11","≤ 5","≤ 7.5",{"$f":"pana_film[[#This Row],[Body length / dia\n(mm)]]&\" x \"&pana_film[[#This Row],[Body width\n(mm)]]","v":"10.3 x 4.4"},"-","-"]
[null,"Std","dip","PET","No","ECQE(F)[DC]","ECQE4105JFB",400,"DC",1,"± 5",26,8.5,23,15,"Inner crimped lead wire type (Style B)","-40 to 105 (85)","Bulk (Bag packing)",100,"https://industrial.panasonic.com/ww/products/pt/film-cap-electroequip/models/ECQE4105JFB","≤26","≤ 9","≤23",{"$f":"pana_film[[#This Row],[Body length / dia\n(mm)]]&\" x \"&pana_film[[#This Row],[Body width\n(mm)]]","v":"26 x 8.5"},"-","-"]
[null,"Std","dip","PET","No","ECQE(F)[DC]","ECQE4104RKF",400,"DC",0.1,"±10",12,6.3,17,7.5,"Crimped lead wire type (Style D)","-40 to 105 (85)","15.0P crimped lead taping (ammo packing)",1000,"https://industrial.panasonic.com/ww/products/pt/film-cap-electroequip/models/ECQE4104RKF","≤12","≤ 7","≤17",{"$f":"pana_film[[#This Row],[Body length / dia\n(mm)]]&\" x \"&pana_film[[#This Row],[Body width\n(mm)]]","v":"12 x 6.3"},"-","-"]
[null,"Std","dip","PET","No","ECQE(F)[DC]","ECQE4104KFB",400,"DC",0.1,"±10",12,6.3,17,10,"Double crimped lead wire type (Style N)","-40 to 105 (85)","Bulk (Bag packing)",100,"https://industrial.panasonic.com/ww/products/pt/film-cap-electroequip/models/ECQE4104KFB","≤12","≤ 7","≤17",{"$f":"pana_film[[#This Row],[Body length / dia\n(mm)]]&\" x \"&pana_film[[#This Row],[Body width\n(mm)]]","v":"12 x 6.3"},"-","-"]
[null,"Std","dip","PET","No","ECQE(F)[DC]","ECQE4104JF9",400,"DC",0.1,"± 5",12,6.3,17,5,"Crimped lead wire type (Style D)","-40 to 105 (85)","Reel packing (radial leaded)",1000,"https://industrial.panasonic.com/ww/products/pt/film-cap-electroequip/models/ECQE4104JF9","≤12","≤ 7","≤17",{"$f":"pana_film[[#This Row],[Body length / dia\n(mm)]]&\" x \"&pana_film[[#This Row],[Body width\n(mm)]]","v":"12 x 6.3"},"-","-"]
[null,"Std","dip","PET","No","ECQE(F)[DC]","ECQE4103RKF",400,"DC",0.01,"±10",10.3,4.3,12.4,7.5,"Crimped lead wire type (Style D)","-40 to 105 (85)","15.0P crimped lead taping (ammo packing)",1000,"https://industrial.panasonic.com/ww/products/pt/film-cap-electroequip/models/ECQE4103RKF","≤11","≤ 5","≤12.5",{"$f":"pana_film[[#This Row],[Body length / dia\n(mm)]]&\" x \"&pana_film[[#This Row],[Body width\n(mm)]]","v":"10.3 x 4.3"},"-","-"]
[null,"Std","dip","PET","No","ECQE(F)[DC]","ECQE4103KFB",400,"DC",0.01,"±10",10.3,4.3,12.4,7.5,"Crimped lead wire type (Style D)","-40 to 105 (85)","Bulk (Bag packing)",100,"https://industrial.panasonic.com/ww/products/pt/film-cap-electroequip/models/ECQE4103KFB","≤11","≤ 5","≤12.5",{"$f":"pana_film[[#This Row],[Body length / dia\n(mm)]]&\" x \"&pana_film[[#This Row],[Body width\n(mm)]]","v":"10.3 x 4.3"},"-","-"]
[null,"Std","dip","PET","No","ECQE(F)[DC]","ECQE4103JF9",400,"DC",0.01,"± 5",10.3,4.3,12.4,5,"Crimped lead wire type (Style D)","-40 to 105 (85)","Reel packing (radial leaded)",1000,"https://industrial.panasonic.com/ww/products/pt/film-cap-electroequip/models/ECQE4103JF9","≤11","≤ 5","≤12.5",{"$f":"pana_film[[#This Row],[Body length / dia\n(mm)]]&\" x \"&pana_film[[#This Row],[Body width\n(mm)]]","v":"10.3 x 4.3"},"-","-"]
[null,"Std","dip","PET","No","ECQE(F)[DC]","ECQE4103JF3",400,"DC",0.01,"± 5",10.3,4.3,12.4,5,"Crimped lead wire type (Style D)","-40 to 105 (85)","12.7P crimped lead taping (ammo packing)",1000,"https://industrial.panasonic.com/ww/products/pt/film-cap-electroequip/models/ECQE4103JF3","≤11","≤ 5","≤12.5",{"$f":"pana_film[[#This Row],[Body length / dia\n(mm)]]&\" x \"&pana_film[[#This Row],[Body width\n(mm)]]","v":"10.3 x 4.3"},"-","-"]
[null,"Std","dip","PET","No","ECQE(F)[AC]","ECQE2A823KF",250,"AC",8.2000000000000003E-2,"±10",18.5,6.3,12,15,"Straight lead wire type","-40 to 85","Bulk (Bag packing)",100,"https://industrial.panasonic.com/ww/products/pt/film-cap-electroequip/models/ECQE2A823KF","≤19","≤ 7","≤12",{"$f":"pana_film[[#This Row],[Body length / dia\n(mm)]]&\" x \"&pana_film[[#This Row],[Body width\n(mm)]]","v":"18.5 x 6.3"},"-","-"]
[null,"Std","dip","PET","No","ECQE(T)[AC]","ECQE2A823JT",250,"AC",8.2000000000000003E-2,"± 5",19,6.3,12,15,"Straight lead wire type","-40 to 85","Bulk (Bag packing)",100,"https://industrial.panasonic.com/ww/products/pt/film-cap-electroequip/models/ECQE2A823JT","≤19","≤ 7","≤12",{"$f":"pana_film[[#This Row],[Body length / dia\n(mm)]]&\" x \"&pana_film[[#This Row],[Body width\n(mm)]]","v":"19 x 6.3"},"-","-"]
[null,"Std","dip","PET","No","ECQE(T)[AC]","ECQE2A683KT",250,"AC",6.8000000000000005E-2,"±10",19,5.8,11,15,"Straight lead wire type","-40 to 85","Bulk (Bag packing)",100,"https://industrial.panasonic.com/ww/products/pt/film-cap-electroequip/models/ECQE2A683KT","≤19","≤ 6","≤11",{"$f":"pana_film[[#This Row],[Body length / dia\n(mm)]]&\" x \"&pana_film[[#This Row],[Body width\n(mm)]]","v":"19 x 5.8"},"-","-"]
[null,"Std","dip","PET","No","ECQE(F)[AC]","ECQE2A683JF",250,"AC",6.8000000000000005E-2,"± 5",18.5,5.8,11,15,"Straight lead wire type","-40 to 85","Bulk (Bag packing)",100,"https://industrial.panasonic.com/ww/products/pt/film-cap-electroequip/models/ECQE2A683JF","≤19","≤ 6","≤11",{"$f":"pana_film[[#This Row],[Body length / dia\n(mm)]]&\" x \"&pana_film[[#This Row],[Body width\n(mm)]]","v":"18.5 x 5.8"},"-","-"]
[null,"Std","dip","PET","No","ECQE(F)[AC]","ECQE2A563KFB",250,"AC",5.6000000000000001E-2,"±10",18.5,5.4,15.5,10,"Inner crimped lead wire type (Style B)","-40 to 85","Bulk (Bag packing)",100,"https://industrial.panasonic.com/ww/products/pt/film-cap-electroequip/models/ECQE2A563KFB","≤19","≤ 6","≤15.5",{"$f":"pana_film[[#This Row],[Body length / dia\n(mm)]]&\" x \"&pana_film[[#This Row],[Body width\n(mm)]]","v":"18.5 x 5.4"},"-","-"]
[null,"Std","dip","PET","No","ECQE(T)[AC]","ECQE2A563JT3",250,"AC",5.6000000000000001E-2,"± 5",19,5.4,15.5,5,"Inner crimped lead wire type (Style B)","-40 to 85","25.4P crimped lead taping (ammo packing)",800,"https://industrial.panasonic.com/ww/products/pt/film-cap-electroequip/models/ECQE2A563JT3","≤19","≤ 6","≤15.5",{"$f":"pana_film[[#This Row],[Body length / dia\n(mm)]]&\" x \"&pana_film[[#This Row],[Body width\n(mm)]]","v":"19 x 5.4"},"-","-"]
[null,"Std","dip","PET","No","ECQE(F)[AC]","ECQE2A474KF",250,"AC",0.47,"±10",26,9.3000000000000007,18.5,22.5,"Straight lead wire type","-40 to 85","Bulk (Bag packing)",100,"https://industrial.panasonic.com/ww/products/pt/film-cap-electroequip/models/ECQE2A474KF","≤26","≤10","≤18.5",{"$f":"pana_film[[#This Row],[Body length / dia\n(mm)]]&\" x \"&pana_film[[#This Row],[Body width\n(mm)]]","v":"26 x 9.3"},"-","-"]
[null,"Std","dip","PET","No","ECQE(T)[AC]","ECQE2A474JTB",250,"AC",0.47,"± 5",26.5,9.3000000000000007,23.5,15,"Inner crimped lead wire type (Style B)","-40 to 85","Bulk (Bag packing)",100,"https://industrial.panasonic.com/ww/products/pt/film-cap-electroequip/models/ECQE2A474JTB","≤27","≤10","≤23.5",{"$f":"pana_film[[#This Row],[Body length / dia\n(mm)]]&\" x \"&pana_film[[#This Row],[Body width\n(mm)]]","v":"26.5 x 9.3"},"-","-"]
[null,"Std","dip","PET","No","ECQE(T)[AC]","ECQE2A473KT6",250,"AC",4.7E-2,"±10",13,6.5,19.399999999999999,5,"Inner crimped lead wire type (Style B)","-40 to 85","25.4P crimped lead taping (ammo packing)",600,"https://industrial.panasonic.com/ww/products/pt/film-cap-electroequip/models/ECQE2A473KT6","≤13","≤ 7","≤19.5",{"$f":"pana_film[[#This Row],[Body length / dia\n(mm)]]&\" x \"&pana_film[[#This Row],[Body width\n(mm)]]","v":"13 x 6.5"},"-","-"]
[null,"Std","dip","PET","No","ECQE(T)[AC]","ECQE2A473JTB",250,"AC",4.7E-2,"± 5",13,6.5,19.399999999999999,10,"Crimped lead wire type (Style D)","-40 to 85","Bulk (Bag packing)",100,"https://industrial.panasonic.com/ww/products/pt/film-cap-electroequip/models/ECQE2A473JTB","≤13","≤ 7","≤19.5",{"$f":"pana_film[[#This Row],[Body length / dia\n(mm)]]&\" x \"&pana_film[[#This Row],[Body width\n(mm)]]","v":"13 x 6.5"},"-","-"]
[null,"Std","dip","PET","No","ECQE(T)[AC]","ECQE2A394KT",250,"AC",0.39,"±10",26.5,8.5,17.899999999999999,22.5,"Straight lead wire type","-40 to 85","Bulk (Bag packing)",100,"https://industrial.panasonic.com/ww/products/pt/film-cap-electroequip/models/ECQE2A394KT","≤27","≤ 9","≤18",{"$f":"pana_film[[#This Row],[Body length / dia\n(mm)]]&\" x \"&pana_film[[#This Row],[Body width\n(mm)]]","v":"26.5 x 8.5"},"-","-"]
[null,"Std","dip","PET","No","ECQE(F)[AC]","ECQE2A393RKF",250,"AC",3.9E-2,"±10",12.5,6,18.399999999999999,7.5,"Crimped lead wire type (Style D)","-40 to 85","15.0P crimped lead taping (ammo packing)",1000,"https://industrial.panasonic.com/ww/products/pt/film-cap-electroequip/models/ECQE2A393RKF","≤13","≤ 6","≤18.5",{"$f":"pana_film[[#This Row],[Body length / dia\n(mm)]]&\" x \"&pana_film[[#This Row],[Body width\n(mm)]]","v":"12.5 x 6"},"-","-"]
[null,"Std","dip","PET","No","ECQE(F)[AC]","ECQE2A393KF",250,"AC",3.9E-2,"±10",12.5,6,13.4,10,"Straight lead wire type","-40 to 85","Bulk (Bag packing)",100,"https://industrial.panasonic.com/ww/products/pt/film-cap-electroequip/models/ECQE2A393KF","≤13","≤ 6","≤13.5",{"$f":"pana_film[[#This Row],[Body length / dia\n(mm)]]&\" x \"&pana_film[[#This Row],[Body width\n(mm)]]","v":"12.5 x 6"},"-","-"]
[null,"Std","dip","PET","No","ECQE(T)[AC]","ECQE2A393JT",250,"AC",3.9E-2,"± 5",13,6,13.4,10,"Straight lead wire type","-40 to 85","Bulk (Bag packing)",100,"https://industrial.panasonic.com/ww/products/pt/film-cap-electroequip/models/ECQE2A393JT","≤13","≤ 6","≤13.5",{"$f":"pana_film[[#This Row],[Body length / dia\n(mm)]]&\" x \"&pana_film[[#This Row],[Body width\n(mm)]]","v":"13 x 6"},"-","-"]
[null,"Std","dip","PET","No","ECQE(F)[AC]","ECQE2A334KFW",250,"AC",0.33,"±10",26,7.8,22,15,"Double crimped lead wire type (Style T)","-40 to 85","Bulk (Bag packing)",100,"https://industrial.panasonic.com/ww/products/pt/film-cap-electroequip/models/ECQE2A334KFW","≤26","≤ 8","≤22",{"$f":"pana_film[[#This Row],[Body length / dia\n(mm)]]&\" x \"&pana_film[[#This Row],[Body width\n(mm)]]","v":"26 x 7.8"},"-","-"]
[null,"Std","dip","PET","No","ECQE(F)[AC]","ECQE2A334JFW",250,"AC",0.33,"± 5",26,7.8,22,15,"Double crimped lead wire type (Style T)","-40 to 85","Bulk (Bag packing)",100,"https://industrial.panasonic.com/ww/products/pt/film-cap-electroequip/models/ECQE2A334JFW","≤26","≤ 8","≤22",{"$f":"pana_film[[#This Row],[Body length / dia\n(mm)]]&\" x \"&pana_film[[#This Row],[Body width\n(mm)]]","v":"26 x 7.8"},"-","-"]
[null,"Std","dip","PET","No","ECQE(F)[AC]","ECQE2A333KFB",250,"AC",3.3000000000000002E-2,"±10",12.5,6,16.899999999999999,10,"Crimped lead wire type (Style D)","-40 to 85","Bulk (Bag packing)",100,"https://industrial.panasonic.com/ww/products/pt/film-cap-electroequip/models/ECQE2A333KFB","≤13","≤ 6","≤17",{"$f":"pana_film[[#This Row],[Body length / dia\n(mm)]]&\" x \"&pana_film[[#This Row],[Body width\n(mm)]]","v":"12.5 x 6"},"-","-"]
[null,"Std","dip","PET","No","ECQE(T)[AC]","ECQE2A333JTB",250,"AC",3.3000000000000002E-2,"± 5",13,6,16.899999999999999,10,"Crimped lead wire type (Style D)","-40 to 85","Bulk (Bag packing)",100,"https://industrial.panasonic.com/ww/products/pt/film-cap-electroequip/models/ECQE2A333JTB","≤13","≤ 6","≤17",{"$f":"pana_film[[#This Row],[Body length / dia\n(mm)]]&\" x \"&pana_film[[#This Row],[Body width\n(mm)]]","v":"13 x 6"},"-","-"]
[null,"Std","dip","PET","No","ECQE(T)[AC]","ECQE2A274KTB",250,"AC",0.27,"±10",26.5,7,21.5,15,"Inner crimped lead wire type (Style B)","-40 to 85","Bulk (Bag packing)",100,"https://industrial.panasonic.com/ww/products/pt/film-cap-electroequip/models/ECQE2A274KTB","≤27","≤ 7","≤21.5",{"$f":"pana_film[[#This Row],[Body length / dia\n(mm)]]&\" x \"&pana_film[[#This Row],[Body width\n(mm)]]","v":"26.5 x 7"},"-","-"]
[null,"Std","dip","PET","No","ECQE(F)[AC]","ECQE2A274JF",250,"AC",0.27,"± 5",26,7,16.5,22.5,"Straight lead wire type","-40 to 85","Bulk (Bag packing)",100,"https://industrial.panasonic.com/ww/products/pt/film-cap-electroequip/models/ECQE2A274JF","≤26","≤ 7","≤16.5",{"$f":"pana_film[[#This Row],[Body length / dia\n(mm)]]&\" x \"&pana_film[[#This Row],[Body width\n(mm)]]","v":"26 x 7"},"-","-"]
[null,"Std","dip","PET","No","ECQE(F)[AC]","ECQE2A273KF6",250,"AC",2.7E-2,"±10",12.5,5.5,15.9,5,"Inner crimped lead wire type (Style B)","-40 to 85","12.7P crimped lead taping (ammo packing)",500,"https://industrial.panasonic.com/ww/products/pt/film-cap-electroequip/models/ECQE2A273KF6","≤13","≤ 6","≤16",{"$f":"pana_film[[#This Row],[Body length / dia\n(mm)]]&\" x \"&pana_film[[#This Row],[Body width\n(mm)]]","v":"12.5 x 5.5"},"-","-"]
[null,"Std","dip","PET","No","ECQE(T)[AC]","ECQE2A273JT6",250,"AC",2.7E-2,"± 5",13,5.5,15.9,5,"Inner crimped lead wire type (Style B)","-40 to 85","25.4P crimped lead taping (ammo packing)",800,"https://industrial.panasonic.com/ww/products/pt/film-cap-electroequip/models/ECQE2A273JT6","≤13","≤ 6","≤16",{"$f":"pana_film[[#This Row],[Body length / dia\n(mm)]]&\" x \"&pana_film[[#This Row],[Body width\n(mm)]]","v":"13 x 5.5"},"-","-"]
[null,"Std","dip","PET","No","ECQE(T)[AC]","ECQE2A224KT3",250,"AC",0.22,"±10",19,9,21.9,5,"Inner crimped lead wire type (Style B)","-40 to 85","25.4P crimped lead taping (ammo packing)",400,"https://industrial.panasonic.com/ww/products/pt/film-cap-electroequip/models/ECQE2A224KT3","≤19","≤ 9","≤22",{"$f":"pana_film[[#This Row],[Body length / dia\n(mm)]]&\" x \"&pana_film[[#This Row],[Body width\n(mm)]]","v":"19 x 9"},"-","-"]
[null,"Std","dip","PET","No","ECQE(T)[AC]","ECQE2A224KT",250,"AC",0.22,"±10",19,9,16.899999999999999,15,"Straight lead wire type","-40 to 85","Bulk (Bag packing)",100,"https://industrial.panasonic.com/ww/products/pt/film-cap-electroequip/models/ECQE2A224KT","≤19","≤ 9","≤17",{"$f":"pana_film[[#This Row],[Body length / dia\n(mm)]]&\" x \"&pana_film[[#This Row],[Body width\n(mm)]]","v":"19 x 9"},"-","-"]
[null,"Std","dip","PET","No","ECQE(F)[AC]","ECQE2A224JF",250,"AC",0.22,"± 5",18.5,9,16.899999999999999,15,"Straight lead wire type","-40 to 85","Bulk (Bag packing)",100,"https://industrial.panasonic.com/ww/products/pt/film-cap-electroequip/models/ECQE2A224JF","≤19","≤ 9","≤17",{"$f":"pana_film[[#This Row],[Body length / dia\n(mm)]]&\" x \"&pana_film[[#This Row],[Body width\n(mm)]]","v":"18.5 x 9"},"-","-"]
[null,"Std","dip","PET","No","ECQE(F)[AC]","ECQE2A223KFB",250,"AC",2.1999999999999999E-2,"±10",12.5,6,16.5,10,"Crimped lead wire type (Style D)","-40 to 85","Bulk (Bag packing)",100,"https://industrial.panasonic.com/ww/products/pt/film-cap-electroequip/models/ECQE2A223KFB","≤13","≤ 6","≤16.5",{"$f":"pana_film[[#This Row],[Body length / dia\n(mm)]]&\" x \"&pana_film[[#This Row],[Body width\n(mm)]]","v":"12.5 x 6"},"-","-"]
[null,"Std","dip","PET","No","ECQE(F)[AC]","ECQE2A223JF6",250,"AC",2.1999999999999999E-2,"± 5",12.5,6,16.5,5,"Inner crimped lead wire type (Style B)","-40 to 85","12.7P crimped lead taping (ammo packing)",500,"https://industrial.panasonic.com/ww/products/pt/film-cap-electroequip/models/ECQE2A223JF6","≤13","≤ 6","≤16.5",{"$f":"pana_film[[#This Row],[Body length / dia\n(mm)]]&\" x \"&pana_film[[#This Row],[Body width\n(mm)]]","v":"12.5 x 6"},"-","-"]
[null,"Std","dip","PET","No","ECQE(T)[AC]","ECQE2A184KT3",250,"AC",0.18,"±10",19,8,21,5,"Inner crimped lead wire type (Style B)","-40 to 85","25.4P crimped lead taping (ammo packing)",500,"https://industrial.panasonic.com/ww/products/pt/film-cap-electroequip/models/ECQE2A184KT3","≤19","≤ 8","≤21",{"$f":"pana_film[[#This Row],[Body length / dia\n(mm)]]&\" x \"&pana_film[[#This Row],[Body width\n(mm)]]","v":"19 x 8"},"-","-"]
[null,"Std","dip","PET","No","ECQE(T)[AC]","ECQE2A184JT",250,"AC",0.18,"± 5",19,8,16,15,"Straight lead wire type","-40 to 85","Bulk (Bag packing)",100,"https://industrial.panasonic.com/ww/products/pt/film-cap-electroequip/models/ECQE2A184JT","≤19","≤ 8","≤16",{"$f":"pana_film[[#This Row],[Body length / dia\n(mm)]]&\" x \"&pana_film[[#This Row],[Body width\n(mm)]]","v":"19 x 8"},"-","-"]
[null,"Std","dip","PET","No","ECQE(F)[AC]","ECQE2A184JF",250,"AC",0.18,"± 5",18.5,8,16,15,"Straight lead wire type","-40 to 85","Bulk (Bag packing)",100,"https://industrial.panasonic.com/ww/products/pt/film-cap-electroequip/models/ECQE2A184JF","≤19","≤ 8","≤16",{"$f":"pana_film[[#This Row],[Body length / dia\n(mm)]]&\" x \"&pana_film[[#This Row],[Body width\n(mm)]]","v":"18.5 x 8"},"-","-"]
[null,"Std","dip","PET","No","ECQE(F)[AC]","ECQE2A183KF",250,"AC",1.7999999999999999E-2,"±10",12.5,6,11.9,10,"Straight lead wire type","-40 to 85","Bulk (Bag packing)",100,"https://industrial.panasonic.com/ww/products/pt/film-cap-electroequip/models/ECQE2A183KF","≤13","≤ 6","≤12",{"$f":"pana_film[[#This Row],[Body length / dia\n(mm)]]&\" x \"&pana_film[[#This Row],[Body width\n(mm)]]","v":"12.5 x 6"},"-","-"]
[null,"Std","dip","PET","No","ECQE(T)[AC]","ECQE2A183JTB",250,"AC",1.7999999999999999E-2,"± 5",13,6,16.899999999999999,10,"Crimped lead wire type (Style D)","-40 to 85","Bulk (Bag packing)",100,"https://industrial.panasonic.com/ww/products/pt/film-cap-electroequip/models/ECQE2A183JTB","≤13","≤ 6","≤17",{"$f":"pana_film[[#This Row],[Body length / dia\n(mm)]]&\" x \"&pana_film[[#This Row],[Body width\n(mm)]]","v":"13 x 6"},"-","-"]
[null,"Std","dip","PET","No","ECQE(F)[AC]","ECQE2A154KFW",250,"AC",0.15,"±10",18.5,7.5,19.399999999999999,10,"Double crimped lead wire type (Style T)","-40 to 85","Bulk (Bag packing)",100,"https://industrial.panasonic.com/ww/products/pt/film-cap-electroequip/models/ECQE2A154KFW","≤19","≤ 8","≤19.5",{"$f":"pana_film[[#This Row],[Body length / dia\n(mm)]]&\" x \"&pana_film[[#This Row],[Body width\n(mm)]]","v":"18.5 x 7.5"},"-","-"]
[null,"Std","dip","PET","No","ECQE(T)[AC]","ECQE2A154JT",250,"AC",0.15,"± 5",19,7.5,15.4,15,"Straight lead wire type","-40 to 85","Bulk (Bag packing)",100,"https://industrial.panasonic.com/ww/products/pt/film-cap-electroequip/models/ECQE2A154JT","≤19","≤ 8","≤15.5",{"$f":"pana_film[[#This Row],[Body length / dia\n(mm)]]&\" x \"&pana_film[[#This Row],[Body width\n(mm)]]","v":"19 x 7.5"},"-","-"]
[null,"Std","dip","PET","No","ECQE(F)[AC]","ECQE2A154JF",250,"AC",0.15,"± 5",18.5,7.5,15.4,15,"Straight lead wire type","-40 to 85","Bulk (Bag packing)",100,"https://industrial.panasonic.com/ww/products/pt/film-cap-electroequip/models/ECQE2A154JF","≤19","≤ 8","≤15.5",{"$f":"pana_film[[#This Row],[Body length / dia\n(mm)]]&\" x \"&pana_film[[#This Row],[Body width\n(mm)]]","v":"18.5 x 7.5"},"-","-"]
[null,"Std","dip","PET","No","ECQE(F)[AC]","ECQE2A153KF",250,"AC",1.4999999999999999E-2,"±10",12.5,6.3,9.9,10,"Straight lead wire type","-40 to 85","Bulk (Bag packing)",100,"https://industrial.panasonic.com/ww/products/pt/film-cap-electroequip/models/ECQE2A153KF","≤13","≤ 7","≤10",{"$f":"pana_film[[#This Row],[Body length / dia\n(mm)]]&\" x \"&pana_film[[#This Row],[Body width\n(mm)]]","v":"12.5 x 6.3"},"-","-"]
[null,"Std","dip","PET","No","ECQE(F)[AC]","ECQE2A153JF",250,"AC",1.4999999999999999E-2,"± 5",12.5,6.3,9.9,10,"Straight lead wire type","-40 to 85","Bulk (Bag packing)",100,"https://industrial.panasonic.com/ww/products/pt/film-cap-electroequip/models/ECQE2A153JF","≤13","≤ 7","≤10",{"$f":"pana_film[[#This Row],[Body length / dia\n(mm)]]&\" x \"&pana_film[[#This Row],[Body width\n(mm)]]","v":"12.5 x 6.3"},"-","-"]
[null,"Std","dip","PET","No","ECQE(T)[AC]","ECQE2A124KTB",250,"AC",0.12,"±10",19,6.8,19.5,10,"Inner crimped lead wire type (Style B)","-40 to 85","Bulk (Bag packing)",100,"https://industrial.panasonic.com/ww/products/pt/film-cap-electroequip/models/ECQE2A124KTB","≤19","≤ 7","≤19.5",{"$f":"pana_film[[#This Row],[Body length / dia\n(mm)]]&\" x \"&pana_film[[#This Row],[Body width\n(mm)]]","v":"19 x 6.8"},"-","-"]
[null,"Std","dip","PET","No","ECQE(F)[AC]","ECQE2A124JFW",250,"AC",0.12,"± 5",18.5,6.8,19.5,10,"Double crimped lead wire type (Style T)","-40 to 85","Bulk (Bag packing)",100,"https://industrial.panasonic.com/ww/products/pt/film-cap-electroequip/models/ECQE2A124JFW","≤19","≤ 7","≤19.5",{"$f":"pana_film[[#This Row],[Body length / dia\n(mm)]]&\" x \"&pana_film[[#This Row],[Body width\n(mm)]]","v":"18.5 x 6.8"},"-","-"]
[null,"Std","dip","PET","No","ECQE(T)[AC]","ECQE2A123KTB",250,"AC",1.2E-2,"±10",13,6,16.5,10,"Crimped lead wire type (Style D)","-40 to 85","Bulk (Bag packing)",100,"https://industrial.panasonic.com/ww/products/pt/film-cap-electroequip/models/ECQE2A123KTB","≤13","≤ 6","≤16.5",{"$f":"pana_film[[#This Row],[Body length / dia\n(mm)]]&\" x \"&pana_film[[#This Row],[Body width\n(mm)]]","v":"13 x 6"},"-","-"]
[null,"Std","dip","PET","No","ECQE(F)[AC]","ECQE2A123KF",250,"AC",1.2E-2,"±10",12.5,6,11.5,10,"Straight lead wire type","-40 to 85","Bulk (Bag packing)",100,"https://industrial.panasonic.com/ww/products/pt/film-cap-electroequip/models/ECQE2A123KF","≤13","≤ 6","≤11.5",{"$f":"pana_film[[#This Row],[Body length / dia\n(mm)]]&\" x \"&pana_film[[#This Row],[Body width\n(mm)]]","v":"12.5 x 6"},"-","-"]
[null,"Std","dip","PET","No","ECQE(F)[AC]","ECQE2A123JF",250,"AC",1.2E-2,"± 5",12.5,6,11.5,10,"Straight lead wire type","-40 to 85","Bulk (Bag packing)",100,"https://industrial.panasonic.com/ww/products/pt/film-cap-electroequip/models/ECQE2A123JF","≤13","≤ 6","≤11.5",{"$f":"pana_film[[#This Row],[Body length / dia\n(mm)]]&\" x \"&pana_film[[#This Row],[Body width\n(mm)]]","v":"12.5 x 6"},"-","-"]
[null,"Std","dip","PET","No","ECQE(T)[AC]","ECQE2A104KTB",250,"AC",0.1,"±10",19,6.3,19,10,"Inner crimped lead wire type (Style B)","-40 to 85","Bulk (Bag packing)",100,"https://industrial.panasonic.com/ww/products/pt/film-cap-electroequip/models/ECQE2A104KTB","≤19","≤ 7","≤19",{"$f":"pana_film[[#This Row],[Body length / dia\n(mm)]]&\" x \"&pana_film[[#This Row],[Body width\n(mm)]]","v":"19 x 6.3"},"-","-"]
[null,"Std","dip","PET","No","ECQE(F)[AC]","ECQE2A104JFW",250,"AC",0.1,"± 5",18.5,6.3,19,10,"Double crimped lead wire type (Style T)","-40 to 85","Bulk (Bag packing)",100,"https://industrial.panasonic.com/ww/products/pt/film-cap-electroequip/models/ECQE2A104JFW","≤19","≤ 7","≤19",{"$f":"pana_film[[#This Row],[Body length / dia\n(mm)]]&\" x \"&pana_film[[#This Row],[Body width\n(mm)]]","v":"18.5 x 6.3"},"-","-"]
[null,"Std","dip","PET","No","ECQE(T)[AC]","ECQE2A103KT",250,"AC",0.01,"±10",13,5.5,10.8,10,"Straight lead wire type","-40 to 85","Bulk (Bag packing)",100,"https://industrial.panasonic.com/ww/products/pt/film-cap-electroequip/models/ECQE2A103KT","≤13","≤ 6","≤11",{"$f":"pana_film[[#This Row],[Body length / dia\n(mm)]]&\" x \"&pana_film[[#This Row],[Body width\n(mm)]]","v":"13 x 5.5"},"-","-"]
[null,"Std","dip","PET","No","ECQE(T)[AC]","ECQE2A103JTB",250,"AC",0.01,"± 5",13,5.5,15.8,10,"Crimped lead wire type (Style D)","-40 to 85","Bulk (Bag packing)",100,"https://industrial.panasonic.com/ww/products/pt/film-cap-electroequip/models/ECQE2A103JTB",{"$f":"IF(L4806<=9.5,\"≤ \"&ROUNDUP(L4806*1,0)/1,\"≤\"&ROUNDUP(L4806*1,0)/1)","v":"≤13"},{"$f":"IF(M4806<=9,\"≤ \"&ROUNDUP(M4806*1,0)/1,\"≤\"&ROUNDUP(M4806*1,0)/1)","v":"≤ 6"},{"$f":"IF(N4806<=9.5,\"≤ \"&ROUNDUP(N4806*2,0)/2,\"≤\"&ROUNDUP(N4806*2,0)/2)","v":"≤16"},{"$f":"pana_film[[#This Row],[Body length / dia\n(mm)]]&\" x \"&pana_film[[#This Row],[Body width\n(mm)]]","v":"13 x 5.5"},"-","-"]
[null,"Std","dip","PET","No","ECQE(F)[AC]","ECQE2A103JF",250,"AC",0.01,"± 5",12.5,5.5,10.8,10,"Straight lead wire type","-40 to 85","Bulk (Bag packing)",100,"https://industrial.panasonic.com/ww/products/pt/film-cap-electroequip/models/ECQE2A103JF","≤13","≤ 6","≤11",{"$f":"pana_film[[#This Row],[Body length / dia\n(mm)]]&\" x \"&pana_film[[#This Row],[Body width\n(mm)]]","v":"12.5 x 5.5"},"-","-"]
[null,"Std","dip","PET","No","ECQE(F)[DC]","ECQE2825KFW",250,"DC",8.1999999999999993,"±10",31,14.3,28.5,22.5,"Double crimped lead wire type (Style T)","-40 to 105 (85)","Bulk (Bag packing)",100,"https://industrial.panasonic.com/ww/products/pt/film-cap-electroequip/models/ECQE2825KFW","≤31","≤15","≤28.5",{"$f":"pana_film[[#This Row],[Body length / dia\n(mm)]]&\" x \"&pana_film[[#This Row],[Body width\n(mm)]]","v":"31 x 14.3"},"-","-"]
[null,"Std","dip","PET","No","ECQE(F)[DC]","ECQE2824RKF",250,"DC",0.82,"±10",18.5,6.5,19.5,7.5,"Inner crimped lead wire type (Style B)","-40 to 105 (85)","30.0P crimped lead taping (ammo packing)",500,"https://industrial.panasonic.com/ww/products/pt/film-cap-electroequip/models/ECQE2824RKF","≤19","≤ 7","≤19.5",{"$f":"pana_film[[#This Row],[Body length / dia\n(mm)]]&\" x \"&pana_film[[#This Row],[Body width\n(mm)]]","v":"18.5 x 6.5"},"-","-"]
[null,"Std","dip","PET","No","ECQE(T)[DC]","ECQE2824KT",250,"DC",0.82,"±10",19,6.5,14.5,15,"Straight lead wire type","-40 to 105 (85)","Bulk (Bag packing)",100,"https://industrial.panasonic.com/ww/products/pt/film-cap-electroequip/models/ECQE2824KT","≤19","≤ 7","≤14.5",{"$f":"pana_film[[#This Row],[Body length / dia\n(mm)]]&\" x \"&pana_film[[#This Row],[Body width\n(mm)]]","v":"19 x 6.5"},"-","-"]
[null,"Std","dip","PET","No","ECQE(F)[DC]","ECQE2824KF3",250,"DC",0.82,"±10",18.5,6.5,19.5,5,"Inner crimped lead wire type (Style B)","-40 to 105 (85)","25.4P crimped lead taping (ammo packing)",500,"https://industrial.panasonic.com/ww/products/pt/film-cap-electroequip/models/ECQE2824KF3","≤19","≤ 7","≤19.5",{"$f":"pana_film[[#This Row],[Body length / dia\n(mm)]]&\" x \"&pana_film[[#This Row],[Body width\n(mm)]]","v":"18.5 x 6.5"},"-","-"]
[null,"Std","dip","PET","No","ECQE(F)[DC]","ECQE2824JFB",250,"DC",0.82,"± 5",18.5,6.5,19.5,10,"Inner crimped lead wire type (Style B)","-40 to 105 (85)","Bulk (Bag packing)",100,"https://industrial.panasonic.com/ww/products/pt/film-cap-electroequip/models/ECQE2824JFB","≤19","≤ 7","≤19.5",{"$f":"pana_film[[#This Row],[Body length / dia\n(mm)]]&\" x \"&pana_film[[#This Row],[Body width\n(mm)]]","v":"18.5 x 6.5"},"-","-"]
[null,"Std","dip","PET","No","ECQE(T)[DC]","ECQE2823RJT",250,"DC",8.2000000000000003E-2,"± 5",10.8,4.9000000000000004,13,7.5,"Crimped lead wire type (Style Y)","-40 to 105 (85)","15.0P crimped lead taping (ammo packing)",1500,"https://industrial.panasonic.com/ww/products/pt/film-cap-electroequip/models/ECQE2823RJT","≤11","≤ 5","≤13",{"$f":"pana_film[[#This Row],[Body length / dia\n(mm)]]&\" x \"&pana_film[[#This Row],[Body width\n(mm)]]","v":"10.8 x 4.9"},"-","-"]
[null,"Std","dip","PET","No","ECQE(T)[DC]","ECQE2823KT3",250,"DC",8.2000000000000003E-2,"±10",10.8,4.9000000000000004,13,5,"Crimped lead wire type (Style Y)","-40 to 105 (85)","12.7P crimped lead taping (ammo packing)",1500,"https://industrial.panasonic.com/ww/products/pt/film-cap-electroequip/models/ECQE2823KT3","≤11","≤ 5","≤13",{"$f":"pana_film[[#This Row],[Body length / dia\n(mm)]]&\" x \"&pana_film[[#This Row],[Body width\n(mm)]]","v":"10.8 x 4.9"},"-","-"]
[null,"Std","dip","PET","No","ECQE(B)[DC]","ECQE2823KBB",250,"DC",8.2000000000000003E-2,"±10",7.9,5.4,13.6,5,"Crimped lead wire type (Style D)","-40 to 105 (85)","Bulk (Bag packing)",100,"https://industrial.panasonic.com/ww/products/pt/film-cap-electroequip/models/ECQE2823KBB","≤ 8","≤ 6","≤14",{"$f":"pana_film[[#This Row],[Body length / dia\n(mm)]]&\" x \"&pana_film[[#This Row],[Body width\n(mm)]]","v":"7.9 x 5.4"},"-","-"]
[null,"Std","dip","PET","No","ECQE(B)[DC]","ECQE2823KB",250,"DC",8.2000000000000003E-2,"±10",7.9,5.4,8.6,5,"Straight lead wire type","-40 to 105 (85)","Bulk (Bag packing)",100,"https://industrial.panasonic.com/ww/products/pt/film-cap-electroequip/models/ECQE2823KB","≤ 8","≤ 6","≤ 9",{"$f":"pana_film[[#This Row],[Body length / dia\n(mm)]]&\" x \"&pana_film[[#This Row],[Body width\n(mm)]]","v":"7.9 x 5.4"},"-","-"]
[null,"Std","dip","PET","No","ECQE(B)[DC]","ECQE2823JBB",250,"DC",8.2000000000000003E-2,"± 5",7.9,5.4,13.6,5,"Crimped lead wire type (Style D)","-40 to 105 (85)","Bulk (Bag packing)",100,"https://industrial.panasonic.com/ww/products/pt/film-cap-electroequip/models/ECQE2823JBB","≤ 8","≤ 6","≤14",{"$f":"pana_film[[#This Row],[Body length / dia\n(mm)]]&\" x \"&pana_film[[#This Row],[Body width\n(mm)]]","v":"7.9 x 5.4"},"-","-"]
[null,"Std","dip","PET","No","ECQE(T)[DC]","ECQE2685KTB",250,"DC",6.8,"±10",31.5,13,27.4,22.5,"Inner crimped lead wire type (Style B)","-40 to 105 (85)","Bulk (Bag packing)",100,"https://industrial.panasonic.com/ww/products/pt/film-cap-electroequip/models/ECQE2685KTB","≤32","≤13","≤27.5",{"$f":"pana_film[[#This Row],[Body length / dia\n(mm)]]&\" x \"&pana_film[[#This Row],[Body width\n(mm)]]","v":"31.5 x 13"},"-","-"]
[null,"Std","dip","PET","No","ECQE(F)[DC]","ECQE2685JFW",250,"DC",6.8,"± 5",31,13,27.4,22.5,"Double crimped lead wire type (Style T)","-40 to 105 (85)","Bulk (Bag packing)",100,"https://industrial.panasonic.com/ww/products/pt/film-cap-electroequip/models/ECQE2685JFW","≤31","≤13","≤27.5",{"$f":"pana_film[[#This Row],[Body length / dia\n(mm)]]&\" x \"&pana_film[[#This Row],[Body width\n(mm)]]","v":"31 x 13"},"-","-"]
[null,"Std","dip","PET","No","ECQE(F)[DC]","ECQE2684RJF",250,"DC",0.68,"± 5",18.5,6,18.5,7.5,"Inner crimped lead wire type (Style B)","-40 to 105 (85)","30.0P crimped lead taping (ammo packing)",500,"https://industrial.panasonic.com/ww/products/pt/film-cap-electroequip/models/ECQE2684RJF","≤19","≤ 6","≤18.5",{"$f":"pana_film[[#This Row],[Body length / dia\n(mm)]]&\" x \"&pana_film[[#This Row],[Body width\n(mm)]]","v":"18.5 x 6"},"-","-"]
[null,"Std","dip","PET","No","ECQE(B)[DC]","ECQE2684KBB",250,"DC",0.68,"±10",12.3,7.3,17.7,5,"Crimped lead wire type (Style D)","-40 to 105 (85)","Bulk (Bag packing)",100,"https://industrial.panasonic.com/ww/products/pt/film-cap-electroequip/models/ECQE2684KBB","≤13","≤ 8","≤18",{"$f":"pana_film[[#This Row],[Body length / dia\n(mm)]]&\" x \"&pana_film[[#This Row],[Body width\n(mm)]]","v":"12.3 x 7.3"},"-","-"]
[null,"Std","dip","PET","No","ECQE(T)[DC]","ECQE2684JTB",250,"DC",0.68,"± 5",19,6,18.5,10,"Inner crimped lead wire type (Style B)","-40 to 105 (85)","Bulk (Bag packing)",100,"https://industrial.panasonic.com/ww/products/pt/film-cap-electroequip/models/ECQE2684JTB","≤19","≤ 6","≤18.5",{"$f":"pana_film[[#This Row],[Body length / dia\n(mm)]]&\" x \"&pana_film[[#This Row],[Body width\n(mm)]]","v":"19 x 6"},"-","-"]
[null,"Std","dip","PET","No","ECQE(B)[DC]","ECQE2684JBB",250,"DC",0.68,"± 5",12.3,7.3,17.7,5,"Crimped lead wire type (Style D)","-40 to 105 (85)","Bulk (Bag packing)",100,"https://industrial.panasonic.com/ww/products/pt/film-cap-electroequip/models/ECQE2684JBB","≤13","≤ 8","≤18",{"$f":"pana_film[[#This Row],[Body length / dia\n(mm)]]&\" x \"&pana_film[[#This Row],[Body width\n(mm)]]","v":"12.3 x 7.3"},"-","-"]
[null,"Std","dip","PET","No","ECQE(F)[DC]","ECQE2683RKF",250,"DC",6.8000000000000005E-2,"±10",10.3,4.5,12.5,7.5,"Crimped lead wire type (Style D)","-40 to 105 (85)","15.0P crimped lead taping (ammo packing)",1000,"https://industrial.panasonic.com/ww/products/pt/film-cap-electroequip/models/ECQE2683RKF","≤11","≤ 5","≤12.5",{"$f":"pana_film[[#This Row],[Body length / dia\n(mm)]]&\" x \"&pana_film[[#This Row],[Body width\n(mm)]]","v":"10.3 x 4.5"},"-","-"]
[null,"Std","dip","PET","No","ECQE(F)[DC]","ECQE2683KF3",250,"DC",6.8000000000000005E-2,"±10",10.3,4.5,12.5,5,"Crimped lead wire type (Style D)","-40 to 105 (85)","12.7P crimped lead taping (ammo packing)",1000,"https://industrial.panasonic.com/ww/products/pt/film-cap-electroequip/models/ECQE2683KF3","≤11","≤ 5","≤12.5",{"$f":"pana_film[[#This Row],[Body length / dia\n(mm)]]&\" x \"&pana_film[[#This Row],[Body width\n(mm)]]","v":"10.3 x 4.5"},"-","-"]
[null,"Std","dip","PET","No","ECQE(T)[DC]","ECQE2683JT3",250,"DC",6.8000000000000005E-2,"± 5",10.8,4.5,12.5,5,"Crimped lead wire type (Style Y)","-40 to 105 (85)","12.7P crimped lead taping (ammo packing)",1500,"https://industrial.panasonic.com/ww/products/pt/film-cap-electroequip/models/ECQE2683JT3","≤11","≤ 5","≤12.5",{"$f":"pana_film[[#This Row],[Body length / dia\n(mm)]]&\" x \"&pana_film[[#This Row],[Body width\n(mm)]]","v":"10.8 x 4.5"},"-","-"]
[null,"Std","dip","PET","No","ECQE(F)[DC]","ECQE2683JFB",250,"DC",6.8000000000000005E-2,"± 5",10.3,4.5,12.5,7.5,"Crimped lead wire type (Style D)","-40 to 105 (85)","Bulk (Bag packing)",100,"https://industrial.panasonic.com/ww/products/pt/film-cap-electroequip/models/ECQE2683JFB","≤11","≤ 5","≤12.5",{"$f":"pana_film[[#This Row],[Body length / dia\n(mm)]]&\" x \"&pana_film[[#This Row],[Body width\n(mm)]]","v":"10.3 x 4.5"},"-","-"]
[null,"Std","dip","PET","No","ECQE(B)[DC]","ECQE2683JB",250,"DC",6.8000000000000005E-2,"± 5",7.9,5.0999999999999996,8,5,"Straight lead wire type","-40 to 105 (85)","Bulk (Bag packing)",100,"https://industrial.panasonic.com/ww/products/pt/film-cap-electroequip/models/ECQE2683JB","≤ 8","≤ 6","≤ 8",{"$f":"pana_film[[#This Row],[Body length / dia\n(mm)]]&\" x \"&pana_film[[#This Row],[Body width\n(mm)]]","v":"7.9 x 5.1"},"-","-"]
[null,"Std","dip","PET","No","ECQE(F)[DC]","ECQE2565JFB",250,"DC",5.6,"± 5",31,11.8,26,22.5,"Inner crimped lead wire type (Style B)","-40 to 105 (85)","Bulk (Bag packing)",100,"https://industrial.panasonic.com/ww/products/pt/film-cap-electroequip/models/ECQE2565JFB","≤31","≤12","≤26",{"$f":"pana_film[[#This Row],[Body length / dia\n(mm)]]&\" x \"&pana_film[[#This Row],[Body width\n(mm)]]","v":"31 x 11.8"},"-","-"]
[null,"Std","dip","PET","No","ECQE(T)[DC]","ECQE2564RKT",250,"DC",0.56000000000000005,"±10",19,5.5,18,7.5,"Inner crimped lead wire type (Style B)","-40 to 105 (85)","30.0P crimped lead taping (ammo packing)",800,"https://industrial.panasonic.com/ww/products/pt/film-cap-electroequip/models/ECQE2564RKT","≤19","≤ 6","≤18",{"$f":"pana_film[[#This Row],[Body length / dia\n(mm)]]&\" x \"&pana_film[[#This Row],[Body width\n(mm)]]","v":"19 x 5.5"},"-","-"]
[null,"Std","dip","PET","No","ECQE(F)[DC]","ECQE2564KFW",250,"DC",0.56000000000000005,"±10",18.5,5.5,18,10,"Double crimped lead wire type (Style T)","-40 to 105 (85)","Bulk (Bag packing)",100,"https://industrial.panasonic.com/ww/products/pt/film-cap-electroequip/models/ECQE2564KFW","≤19","≤ 6","≤18",{"$f":"pana_film[[#This Row],[Body length / dia\n(mm)]]&\" x \"&pana_film[[#This Row],[Body width\n(mm)]]","v":"18.5 x 5.5"},"-","-"]
[null,"Std","dip","PET","No","ECQE(F)[DC]","ECQE2564KF",250,"DC",0.56000000000000005,"±10",18.5,5.5,13,15,"Straight lead wire type","-40 to 105 (85)","Bulk (Bag packing)",100,"https://industrial.panasonic.com/ww/products/pt/film-cap-electroequip/models/ECQE2564KF","≤19","≤ 6","≤13",{"$f":"pana_film[[#This Row],[Body length / dia\n(mm)]]&\" x \"&pana_film[[#This Row],[Body width\n(mm)]]","v":"18.5 x 5.5"},"-","-"]
[null,"Std","dip","PET","No","ECQE(F)[DC]","ECQE2564JF3",250,"DC",0.56000000000000005,"± 5",18.5,5.5,18,5,"Inner crimped lead wire type (Style B)","-40 to 105 (85)","25.4P crimped lead taping (ammo packing)",500,"https://industrial.panasonic.com/ww/products/pt/film-cap-electroequip/models/ECQE2564JF3","≤19","≤ 6","≤18",{"$f":"pana_film[[#This Row],[Body length / dia\n(mm)]]&\" x \"&pana_film[[#This Row],[Body width\n(mm)]]","v":"18.5 x 5.5"},"-","-"]
[null,"Std","dip","PET","No","ECQE(T)[DC]","ECQE2563RJT",250,"DC",5.6000000000000001E-2,"± 5",10.8,4.8,12.9,7.5,"Crimped lead wire type (Style Y)","-40 to 105 (85)","15.0P crimped lead taping (ammo packing)",1500,"https://industrial.panasonic.com/ww/products/pt/film-cap-electroequip/models/ECQE2563RJT","≤11","≤ 5","≤13",{"$f":"pana_film[[#This Row],[Body length / dia\n(mm)]]&\" x \"&pana_film[[#This Row],[Body width\n(mm)]]","v":"10.8 x 4.8"},"-","-"]
[null,"Std","dip","PET","No","ECQE(T)[DC]","ECQE2563KT3",250,"DC",5.6000000000000001E-2,"±10",10.8,4.8,12.9,5,"Crimped lead wire type (Style Y)","-40 to 105 (85)","12.7P crimped lead taping (ammo packing)",1500,"https://industrial.panasonic.com/ww/products/pt/film-cap-electroequip/models/ECQE2563KT3","≤11","≤ 5","≤13",{"$f":"pana_film[[#This Row],[Body length / dia\n(mm)]]&\" x \"&pana_film[[#This Row],[Body width\n(mm)]]","v":"10.8 x 4.8"},"-","-"]
[null,"Std","dip","PET","No","ECQE(B)[DC]","ECQE2563KBB",250,"DC",5.6000000000000001E-2,"±10",7.9,4.7,12.7,5,"Crimped lead wire type (Style D)","-40 to 105 (85)","Bulk (Bag packing)",100,"https://industrial.panasonic.com/ww/products/pt/film-cap-electroequip/models/ECQE2563KBB","≤ 8","≤ 5","≤13",{"$f":"pana_film[[#This Row],[Body length / dia\n(mm)]]&\" x \"&pana_film[[#This Row],[Body width\n(mm)]]","v":"7.9 x 4.7"},"-","-"]
[null,"Std","dip","PET","No","ECQE(F)[DC]","ECQE2563JF3",250,"DC",5.6000000000000001E-2,"± 5",10.3,4.8,12.9,5,"Crimped lead wire type (Style D)","-40 to 105 (85)","12.7P crimped lead taping (ammo packing)",1000,"https://industrial.panasonic.com/ww/products/pt/film-cap-electroequip/models/ECQE2563JF3","≤11","≤ 5","≤13",{"$f":"pana_film[[#This Row],[Body length / dia\n(mm)]]&\" x \"&pana_film[[#This Row],[Body width\n(mm)]]","v":"10.3 x 4.8"},"-","-"]
[null,"Std","dip","PET","No","ECQE(B)[DC]","ECQE2563JB3",250,"DC",5.6000000000000001E-2,"± 5",7.9,4.7,12.7,5,"Crimped lead wire type (Style D)","-40 to 105 (85)","12.7P crimped lead taping (ammo packing)",1500,"https://industrial.panasonic.com/ww/products/pt/film-cap-electroequip/models/ECQE2563JB3","≤ 8","≤ 5","≤13",{"$f":"pana_film[[#This Row],[Body length / dia\n(mm)]]&\" x \"&pana_film[[#This Row],[Body width\n(mm)]]","v":"7.9 x 4.7"},"-","-"]
[null,"Std","dip","PET","No","ECQE(F)[DC]","ECQE2475KFW",250,"DC",4.7,"±10",26,12,26.5,15,"Double crimped lead wire type (Style T)","-40 to 105 (85)","Bulk (Bag packing)",100,"https://industrial.panasonic.com/ww/products/pt/film-cap-electroequip/models/ECQE2475KFW","≤26","≤12","≤26.5",{"$f":"pana_film[[#This Row],[Body length / dia\n(mm)]]&\" x \"&pana_film[[#This Row],[Body width\n(mm)]]","v":"26 x 12"},"-","-"]
[null,"Std","dip","PET","No","ECQE(B)[DC]","ECQE2475KBB",250,"DC",4.7,"±10",20.8,11.9,26,5,"Inner crimped lead wire type (Style B)","-40 to 105 (85)","Bulk (Bag packing)",100,"https://industrial.panasonic.com/ww/products/pt/film-cap-electroequip/models/ECQE2475KBB","≤21","≤12","≤26",{"$f":"pana_film[[#This Row],[Body length / dia\n(mm)]]&\" x \"&pana_film[[#This Row],[Body width\n(mm)]]","v":"20.8 x 11.9"},"-","-"]
[null,"Std","dip","PET","No","ECQE(B)[DC]","ECQE2475JBB",250,"DC",4.7,"± 5",20.8,11.9,26,5,"Inner crimped lead wire type (Style B)","-40 to 105 (85)","Bulk (Bag packing)",100,"https://industrial.panasonic.com/ww/products/pt/film-cap-electroequip/models/ECQE2475JBB","≤21","≤12","≤26",{"$f":"pana_film[[#This Row],[Body length / dia\n(mm)]]&\" x \"&pana_film[[#This Row],[Body width\n(mm)]]","v":"20.8 x 11.9"},"-","-"]
[null,"Std","dip","PET","No","ECQE(T)[DC]","ECQE2474KT3",250,"DC",0.47,"±10",19,5.3,17.5,5,"Inner crimped lead wire type (Style B)","-40 to 105 (85)","25.4P crimped lead taping (ammo packing)",700,"https://industrial.panasonic.com/ww/products/pt/film-cap-electroequip/models/ECQE2474KT3","≤19","≤ 6","≤17.5",{"$f":"pana_film[[#This Row],[Body length / dia\n(mm)]]&\" x \"&pana_film[[#This Row],[Body width\n(mm)]]","v":"19 x 5.3"},"-","-"]
[null,"Std","dip","PET","No","ECQE(B)[DC]","ECQE2474KB",250,"DC",0.47,"±10",12.3,6.2,11.4,10,"Straight lead wire type","-40 to 105 (85)","Bulk (Bag packing)",100,"https://industrial.panasonic.com/ww/products/pt/film-cap-electroequip/models/ECQE2474KB","≤13","≤ 7","≤11.5",{"$f":"pana_film[[#This Row],[Body length / dia\n(mm)]]&\" x \"&pana_film[[#This Row],[Body width\n(mm)]]","v":"12.3 x 6.2"},"-","-"]
[null,"Std","dip","PET","No","ECQE(T)[DC]","ECQE2474JT",250,"DC",0.47,"± 5",19,5.3,12.5,15,"Straight lead wire type","-40 to 105 (85)","Bulk (Bag packing)",100,"https://industrial.panasonic.com/ww/products/pt/film-cap-electroequip/models/ECQE2474JT","≤19","≤ 6","≤12.5",{"$f":"pana_film[[#This Row],[Body length / dia\n(mm)]]&\" x \"&pana_film[[#This Row],[Body width\n(mm)]]","v":"19 x 5.3"},"-","-"]
[null,"Std","dip","PET","No","ECQE(F)[DC]","ECQE2473RKF",250,"DC",4.7E-2,"±10",10.3,4.5,12.5,7.5,"Crimped lead wire type (Style D)","-40 to 105 (85)","15.0P crimped lead taping (ammo packing)",1000,"https://industrial.panasonic.com/ww/products/pt/film-cap-electroequip/models/ECQE2473RKF","≤11","≤ 5","≤12.5",{"$f":"pana_film[[#This Row],[Body length / dia\n(mm)]]&\" x \"&pana_film[[#This Row],[Body width\n(mm)]]","v":"10.3 x 4.5"},"-","-"]
[null,"Std","dip","PET","No","ECQE(T)[DC]","ECQE2473KTB",250,"DC",4.7E-2,"±10",10.8,4.5,12.5,7.5,"Crimped lead wire type (Style Y)","-40 to 105 (85)","Bulk (Bag packing)",100,"https://industrial.panasonic.com/ww/products/pt/film-cap-electroequip/models/ECQE2473KTB","≤11","≤ 5","≤12.5",{"$f":"pana_film[[#This Row],[Body length / dia\n(mm)]]&\" x \"&pana_film[[#This Row],[Body width\n(mm)]]","v":"10.8 x 4.5"},"-","-"]
[null,"Std","dip","PET","No","ECQE(F)[DC]","ECQE2473KF",250,"DC",4.7E-2,"±10",10.3,4.5,7.5,7.5,"Straight lead wire type","-40 to 105 (85)","Bulk (Bag packing)",100,"https://industrial.panasonic.com/ww/products/pt/film-cap-electroequip/models/ECQE2473KF","≤11","≤ 5","≤ 7.5",{"$f":"pana_film[[#This Row],[Body length / dia\n(mm)]]&\" x \"&pana_film[[#This Row],[Body width\n(mm)]]","v":"10.3 x 4.5"},"-","-"]
[null,"Std","dip","PET","No","ECQE(B)[DC]","ECQE2473KB2",250,"DC",4.7E-2,"±10",7.9,4.5,7.4,5,"Straight lead wire type","-40 to 105 (85)","12.7P straight lead taping (ammo packing)",1500,"https://industrial.panasonic.com/ww/products/pt/film-cap-electroequip/models/ECQE2473KB2","≤ 8","≤ 5","≤ 7.5",{"$f":"pana_film[[#This Row],[Body length / dia\n(mm)]]&\" x \"&pana_film[[#This Row],[Body width\n(mm)]]","v":"7.9 x 4.5"},"-","-"]
[null,"Std","dip","PET","No","ECQE(F)[DC]","ECQE2473JF",250,"DC",4.7E-2,"± 5",10.3,4.5,7.5,7.5,"Straight lead wire type","-40 to 105 (85)","Bulk (Bag packing)",100,"https://industrial.panasonic.com/ww/products/pt/film-cap-electroequip/models/ECQE2473JF","≤11","≤ 5","≤ 7.5",{"$f":"pana_film[[#This Row],[Body length / dia\n(mm)]]&\" x \"&pana_film[[#This Row],[Body width\n(mm)]]","v":"10.3 x 4.5"},"-","-"]
[null,"Std","dip","PET","No","ECQE(T)[DC]","ECQE2395KT",250,"DC",3.9,"±10",26.5,11,20.5,22.5,"Straight lead wire type","-40 to 105 (85)","Bulk (Bag packing)",100,"https://industrial.panasonic.com/ww/products/pt/film-cap-electroequip/models/ECQE2395KT","≤27","≤11","≤20.5",{"$f":"pana_film[[#This Row],[Body length / dia\n(mm)]]&\" x \"&pana_film[[#This Row],[Body width\n(mm)]]","v":"26.5 x 11"},"-","-"]
[null,"Std","dip","PET","No","ECQE(F)[DC]","ECQE2395KF",250,"DC",3.9,"±10",26,11,20.5,22.5,"Straight lead wire type","-40 to 105 (85)","Bulk (Bag packing)",100,"https://industrial.panasonic.com/ww/products/pt/film-cap-electroequip/models/ECQE2395KF","≤26","≤11","≤20.5",{"$f":"pana_film[[#This Row],[Body length / dia\n(mm)]]&\" x \"&pana_film[[#This Row],[Body width\n(mm)]]","v":"26 x 11"},"-","-"]
[null,"Std","dip","PET","No","ECQE(F)[DC]","ECQE2395JF",250,"DC",3.9,"± 5",26,11,20.5,22.5,"Straight lead wire type","-40 to 105 (85)","Bulk (Bag packing)",100,"https://industrial.panasonic.com/ww/products/pt/film-cap-electroequip/models/ECQE2395JF","≤26","≤11","≤20.5",{"$f":"pana_film[[#This Row],[Body length / dia\n(mm)]]&\" x \"&pana_film[[#This Row],[Body width\n(mm)]]","v":"26 x 11"},"-","-"]
[null,"Std","dip","PET","No","ECQE(T)[DC]","ECQE2394KTB",250,"DC",0.39,"±10",19,4.9000000000000004,17,10,"Inner crimped lead wire type (Style B)","-40 to 105 (85)","Bulk (Bag packing)",100,"https://industrial.panasonic.com/ww/products/pt/film-cap-electroequip/models/ECQE2394KTB","≤19","≤ 5","≤17",{"$f":"pana_film[[#This Row],[Body length / dia\n(mm)]]&\" x \"&pana_film[[#This Row],[Body width\n(mm)]]","v":"19 x 4.9"},"-","-"]
[null,"Std","dip","PET","No","ECQE(T)[DC]","ECQE2394KT3",250,"DC",0.39,"±10",19,4.9000000000000004,17,5,"Inner crimped lead wire type (Style B)","-40 to 105 (85)","25.4P crimped lead taping (ammo packing)",800,"https://industrial.panasonic.com/ww/products/pt/film-cap-electroequip/models/ECQE2394KT3","≤19","≤ 5","≤17",{"$f":"pana_film[[#This Row],[Body length / dia\n(mm)]]&\" x \"&pana_film[[#This Row],[Body width\n(mm)]]","v":"19 x 4.9"},"-","-"]
[null,"Std","dip","PET","No","ECQE(T)[DC]","ECQE2394JTB",250,"DC",0.39,"± 5",19,4.9000000000000004,17,10,"Inner crimped lead wire type (Style B)","-40 to 105 (85)","Bulk (Bag packing)",100,"https://industrial.panasonic.com/ww/products/pt/film-cap-electroequip/models/ECQE2394JTB","≤19","≤ 5","≤17",{"$f":"pana_film[[#This Row],[Body length / dia\n(mm)]]&\" x \"&pana_film[[#This Row],[Body width\n(mm)]]","v":"19 x 4.9"},"-","-"]
[null,"Std","dip","PET","No","ECQE(F)[DC]","ECQE2394JFB",250,"DC",0.39,"± 5",18.5,4.9000000000000004,17,10,"Inner crimped lead wire type (Style B)","-40 to 105 (85)","Bulk (Bag packing)",100,"https://industrial.panasonic.com/ww/products/pt/film-cap-electroequip/models/ECQE2394JFB","≤19","≤ 5","≤17",{"$f":"pana_film[[#This Row],[Body length / dia\n(mm)]]&\" x \"&pana_film[[#This Row],[Body width\n(mm)]]","v":"18.5 x 4.9"},"-","-"]
[null,"Std","dip","PET","No","ECQE(F)[DC]","ECQE2393RKF",250,"DC",3.9E-2,"±10",10.3,4.5,12.5,7.5,"Crimped lead wire type (Style D)","-40 to 105 (85)","15.0P crimped lead taping (ammo packing)",1000,"https://industrial.panasonic.com/ww/products/pt/film-cap-electroequip/models/ECQE2393RKF","≤11","≤ 5","≤12.5",{"$f":"pana_film[[#This Row],[Body length / dia\n(mm)]]&\" x \"&pana_film[[#This Row],[Body width\n(mm)]]","v":"10.3 x 4.5"},"-","-"]
[null,"Std","dip","PET","No","ECQE(F)[DC]","ECQE2393KF",250,"DC",3.9E-2,"±10",10.3,4.5,7.5,7.5,"Straight lead wire type","-40 to 105 (85)","Bulk (Bag packing)",100,"https://industrial.panasonic.com/ww/products/pt/film-cap-electroequip/models/ECQE2393KF","≤11","≤ 5","≤ 7.5",{"$f":"pana_film[[#This Row],[Body length / dia\n(mm)]]&\" x \"&pana_film[[#This Row],[Body width\n(mm)]]","v":"10.3 x 4.5"},"-","-"]
[null,"Std","dip","PET","No","ECQE(B)[DC]","ECQE2393KB2",250,"DC",3.9E-2,"±10",7.9,4.5,7.4,5,"Straight lead wire type","-40 to 105 (85)","12.7P straight lead taping (ammo packing)",1500,"https://industrial.panasonic.com/ww/products/pt/film-cap-electroequip/models/ECQE2393KB2","≤ 8","≤ 5","≤ 7.5",{"$f":"pana_film[[#This Row],[Body length / dia\n(mm)]]&\" x \"&pana_film[[#This Row],[Body width\n(mm)]]","v":"7.9 x 4.5"},"-","-"]
[null,"Std","dip","PET","No","ECQE(F)[DC]","ECQE2393JF9",250,"DC",3.9E-2,"± 5",10.3,4.5,12.5,5,"Crimped lead wire type (Style D)","-40 to 105 (85)","Reel packing (radial leaded)",1000,"https://industrial.panasonic.com/ww/products/pt/film-cap-electroequip/models/ECQE2393JF9","≤11","≤ 5","≤12.5",{"$f":"pana_film[[#This Row],[Body length / dia\n(mm)]]&\" x \"&pana_film[[#This Row],[Body width\n(mm)]]","v":"10.3 x 4.5"},"-","-"]
[null,"Std","dip","PET","No","ECQE(B)[DC]","ECQE2335RKB",250,"DC",3.3,"±10",20.8,10.5,22.9,7.5,"Inner crimped lead wire type (Style B)","-40 to 105 (85)","30.0P crimped lead taping (ammo packing)",300,"https://industrial.panasonic.com/ww/products/pt/film-cap-electroequip/models/ECQE2335RKB","≤21","≤11","≤23",{"$f":"pana_film[[#This Row],[Body length / dia\n(mm)]]&\" x \"&pana_film[[#This Row],[Body width\n(mm)]]","v":"20.8 x 10.5"},"-","-"]
[null,"Std","dip","PET","No","ECQE(F)[DC]","ECQE2335KFW",250,"DC",3.3,"±10",26,10.3,23,15,"Double crimped lead wire type (Style T)","-40 to 105 (85)","Bulk (Bag packing)",100,"https://industrial.panasonic.com/ww/products/pt/film-cap-electroequip/models/ECQE2335KFW","≤26","≤11","≤23",{"$f":"pana_film[[#This Row],[Body length / dia\n(mm)]]&\" x \"&pana_film[[#This Row],[Body width\n(mm)]]","v":"26 x 10.3"},"-","-"]
[null,"Std","dip","PET","No","ECQE(F)[DC]","ECQE2335JF",250,"DC",3.3,"± 5",26,10.3,18,22.5,"Straight lead wire type","-40 to 105 (85)","Bulk (Bag packing)",100,"https://industrial.panasonic.com/ww/products/pt/film-cap-electroequip/models/ECQE2335JF","≤26","≤11","≤18",{"$f":"pana_film[[#This Row],[Body length / dia\n(mm)]]&\" x \"&pana_film[[#This Row],[Body width\n(mm)]]","v":"26 x 10.3"},"-","-"]
[null,"Std","dip","PET","No","ECQE(T)[DC]","ECQE2334RKT",250,"DC",0.33,"±10",12.5,6.5,17,7.5,"Crimped lead wire type (Style Y)","-40 to 105 (85)","15.0P crimped lead taping (ammo packing)",600,"https://industrial.panasonic.com/ww/products/pt/film-cap-electroequip/models/ECQE2334RKT","≤13","≤ 7","≤17",{"$f":"pana_film[[#This Row],[Body length / dia\n(mm)]]&\" x \"&pana_film[[#This Row],[Body width\n(mm)]]","v":"12.5 x 6.5"},"-","-"]
[null,"Std","dip","PET","No","ECQE(T)[DC]","ECQE2334KT3",250,"DC",0.33,"±10",12.5,6.5,17,5,"Inner crimped lead wire type (Style B)","-40 to 105 (85)","25.4P crimped lead taping (ammo packing)",600,"https://industrial.panasonic.com/ww/products/pt/film-cap-electroequip/models/ECQE2334KT3","≤13","≤ 7","≤17",{"$f":"pana_film[[#This Row],[Body length / dia\n(mm)]]&\" x \"&pana_film[[#This Row],[Body width\n(mm)]]","v":"12.5 x 6.5"},"-","-"]
[null,"Std","dip","PET","No","ECQE(B)[DC]","ECQE2334KB",250,"DC",0.33,"±10",10.3,6.4,11.3,7.5,"Straight lead wire type","-40 to 105 (85)","Bulk (Bag packing)",100,"https://industrial.panasonic.com/ww/products/pt/film-cap-electroequip/models/ECQE2334KB","≤11","≤ 7","≤11.5",{"$f":"pana_film[[#This Row],[Body length / dia\n(mm)]]&\" x \"&pana_film[[#This Row],[Body width\n(mm)]]","v":"10.3 x 6.4"},"-","-"]
[null,"Std","dip","PET","No","ECQE(T)[DC]","ECQE2334JT",250,"DC",0.33,"± 5",12.5,6.5,12,10,"Straight lead wire type","-40 to 105 (85)","Bulk (Bag packing)",100,"https://industrial.panasonic.com/ww/products/pt/film-cap-electroequip/models/ECQE2334JT","≤13","≤ 7","≤12",{"$f":"pana_film[[#This Row],[Body length / dia\n(mm)]]&\" x \"&pana_film[[#This Row],[Body width\n(mm)]]","v":"12.5 x 6.5"},"-","-"]
[null,"Std","dip","PET","No","ECQE(B)[DC]","ECQE2334JBB",250,"DC",0.33,"± 5",10.3,6.4,16.3,5,"Crimped lead wire type (Style D)","-40 to 105 (85)","Bulk (Bag packing)",100,"https://industrial.panasonic.com/ww/products/pt/film-cap-electroequip/models/ECQE2334JBB","≤11","≤ 7","≤16.5",{"$f":"pana_film[[#This Row],[Body length / dia\n(mm)]]&\" x \"&pana_film[[#This Row],[Body width\n(mm)]]","v":"10.3 x 6.4"},"-","-"]
[null,"Std","dip","PET","No","ECQE(F)[DC]","ECQE2333KFB",250,"DC",3.3000000000000002E-2,"±10",10.3,4.5,12.5,7.5,"Crimped lead wire type (Style D)","-40 to 105 (85)","Bulk (Bag packing)",100,"https://industrial.panasonic.com/ww/products/pt/film-cap-electroequip/models/ECQE2333KFB","≤11","≤ 5","≤12.5",{"$f":"pana_film[[#This Row],[Body length / dia\n(mm)]]&\" x \"&pana_film[[#This Row],[Body width\n(mm)]]","v":"10.3 x 4.5"},"-","-"]
[null,"Std","dip","PET","No","ECQE(F)[DC]","ECQE2333KF9",250,"DC",3.3000000000000002E-2,"±10",10.3,4.5,12.5,5,"Crimped lead wire type (Style D)","-40 to 105 (85)","Reel packing (radial leaded)",1000,"https://industrial.panasonic.com/ww/products/pt/film-cap-electroequip/models/ECQE2333KF9","≤11","≤ 5","≤12.5",{"$f":"pana_film[[#This Row],[Body length / dia\n(mm)]]&\" x \"&pana_film[[#This Row],[Body width\n(mm)]]","v":"10.3 x 4.5"},"-","-"]
[null,"Std","dip","PET","No","ECQE(T)[DC]","ECQE2333JT",250,"DC",3.3000000000000002E-2,"± 5",10.8,4.5,7.5,7.5,"Straight lead wire type","-40 to 105 (85)","Bulk (Bag packing)",100,"https://industrial.panasonic.com/ww/products/pt/film-cap-electroequip/models/ECQE2333JT","≤11","≤ 5","≤ 7.5",{"$f":"pana_film[[#This Row],[Body length / dia\n(mm)]]&\" x \"&pana_film[[#This Row],[Body width\n(mm)]]","v":"10.8 x 4.5"},"-","-"]
[null,"Std","dip","PET","No","ECQE(F)[DC]","ECQE2333JF9",250,"DC",3.3000000000000002E-2,"± 5",10.3,4.5,12.5,5,"Crimped lead wire type (Style D)","-40 to 105 (85)","Reel packing (radial leaded)",1000,"https://industrial.panasonic.com/ww/products/pt/film-cap-electroequip/models/ECQE2333JF9","≤11","≤ 5","≤12.5",{"$f":"pana_film[[#This Row],[Body length / dia\n(mm)]]&\" x \"&pana_film[[#This Row],[Body width\n(mm)]]","v":"10.3 x 4.5"},"-","-"]
[null,"Std","dip","PET","No","ECQE(B)[DC]","ECQE2275RKB",250,"DC",2.7,"±10",20.8,9.3000000000000007,21.7,7.5,"Inner crimped lead wire type (Style B)","-40 to 105 (85)","30.0P crimped lead taping (ammo packing)",300,"https://industrial.panasonic.com/ww/products/pt/film-cap-electroequip/models/ECQE2275RKB","≤21","≤10","≤22",{"$f":"pana_film[[#This Row],[Body length / dia\n(mm)]]&\" x \"&pana_film[[#This Row],[Body width\n(mm)]]","v":"20.8 x 9.3"},"-","-"]
[null,"Std","dip","PET","No","ECQE(F)[DC]","ECQE2275KF",250,"DC",2.7,"±10",26,9.4,17,22.5,"Straight lead wire type","-40 to 105 (85)","Bulk (Bag packing)",100,"https://industrial.panasonic.com/ww/products/pt/film-cap-electroequip/models/ECQE2275KF","≤26","≤10","≤17",{"$f":"pana_film[[#This Row],[Body length / dia\n(mm)]]&\" x \"&pana_film[[#This Row],[Body width\n(mm)]]","v":"26 x 9.4"},"-","-"]
[null,"Std","dip","PET","No","ECQE(F)[DC]","ECQE2274RKF",250,"DC",0.27,"±10",12,6,16.5,7.5,"Crimped lead wire type (Style D)","-40 to 105 (85)","15.0P crimped lead taping (ammo packing)",1000,"https://industrial.panasonic.com/ww/products/pt/film-cap-electroequip/models/ECQE2274RKF","≤12","≤ 6","≤16.5",{"$f":"pana_film[[#This Row],[Body length / dia\n(mm)]]&\" x \"&pana_film[[#This Row],[Body width\n(mm)]]","v":"12 x 6"},"-","-"]
[null,"Std","dip","PET","No","ECQE(F)[DC]","ECQE2274RJF",250,"DC",0.27,"± 5",12,6,16.5,7.5,"Crimped lead wire type (Style D)","-40 to 105 (85)","15.0P crimped lead taping (ammo packing)",1000,"https://industrial.panasonic.com/ww/products/pt/film-cap-electroequip/models/ECQE2274RJF","≤12","≤ 6","≤16.5",{"$f":"pana_film[[#This Row],[Body length / dia\n(mm)]]&\" x \"&pana_film[[#This Row],[Body width\n(mm)]]","v":"12 x 6"},"-","-"]
[null,"Std","dip","PET","No","ECQE(F)[DC]","ECQE2274KF",250,"DC",0.27,"±10",12,6,11.5,10,"Straight lead wire type","-40 to 105 (85)","Bulk (Bag packing)",100,"https://industrial.panasonic.com/ww/products/pt/film-cap-electroequip/models/ECQE2274KF","≤12","≤ 6","≤11.5",{"$f":"pana_film[[#This Row],[Body length / dia\n(mm)]]&\" x \"&pana_film[[#This Row],[Body width\n(mm)]]","v":"12 x 6"},"-","-"]
[null,"Std","dip","PET","No","ECQE(B)[DC]","ECQE2274KBB",250,"DC",0.27,"±10",10.3,5.9,15.8,5,"Crimped lead wire type (Style D)","-40 to 105 (85)","Bulk (Bag packing)",100,"https://industrial.panasonic.com/ww/products/pt/film-cap-electroequip/models/ECQE2274KBB","≤11","≤ 6","≤16",{"$f":"pana_film[[#This Row],[Body length / dia\n(mm)]]&\" x \"&pana_film[[#This Row],[Body width\n(mm)]]","v":"10.3 x 5.9"},"-","-"]
[null,"Std","dip","PET","No","ECQE(F)[DC]","ECQE2274JF3",250,"DC",0.27,"± 5",12,6,16.5,5,"Crimped lead wire type (Style D)","-40 to 105 (85)","12.7P crimped lead taping (ammo packing)",500,"https://industrial.panasonic.com/ww/products/pt/film-cap-electroequip/models/ECQE2274JF3","≤12","≤ 6","≤16.5",{"$f":"pana_film[[#This Row],[Body length / dia\n(mm)]]&\" x \"&pana_film[[#This Row],[Body width\n(mm)]]","v":"12 x 6"},"-","-"]
[null,"Std","dip","PET","No","ECQE(B)[DC]","ECQE2274JB",250,"DC",0.27,"± 5",10.3,5.9,10.8,7.5,"Straight lead wire type","-40 to 105 (85)","Bulk (Bag packing)",100,"https://industrial.panasonic.com/ww/products/pt/film-cap-electroequip/models/ECQE2274JB","≤11","≤ 6","≤11",{"$f":"pana_film[[#This Row],[Body length / dia\n(mm)]]&\" x \"&pana_film[[#This Row],[Body width\n(mm)]]","v":"10.3 x 5.9"},"-","-"]
[null,"Std","dip","PET","No","ECQE(T)[DC]","ECQE2273KT",250,"DC",2.7E-2,"±10",10.8,4.4000000000000004,7.5,7.5,"Straight lead wire type","-40 to 105 (85)","Bulk (Bag packing)",100,"https://industrial.panasonic.com/ww/products/pt/film-cap-electroequip/models/ECQE2273KT","≤11","≤ 5","≤ 7.5",{"$f":"pana_film[[#This Row],[Body length / dia\n(mm)]]&\" x \"&pana_film[[#This Row],[Body width\n(mm)]]","v":"10.8 x 4.4"},"-","-"]
[null,"Std","dip","PET","No","ECQE(B)[DC]","ECQE2273KB",250,"DC",2.7E-2,"±10",7.9,4.3,7.2,5,"Straight lead wire type","-40 to 105 (85)","Bulk (Bag packing)",100,"https://industrial.panasonic.com/ww/products/pt/film-cap-electroequip/models/ECQE2273KB","≤ 8","≤ 5","≤ 7.5",{"$f":"pana_film[[#This Row],[Body length / dia\n(mm)]]&\" x \"&pana_film[[#This Row],[Body width\n(mm)]]","v":"7.9 x 4.3"},"-","-"]
[null,"Std","dip","PET","No","ECQE(F)[DC]","ECQE2273JF3",250,"DC",2.7E-2,"± 5",10.3,4.4000000000000004,12.5,5,"Crimped lead wire type (Style D)","-40 to 105 (85)","12.7P crimped lead taping (ammo packing)",1000,"https://industrial.panasonic.com/ww/products/pt/film-cap-electroequip/models/ECQE2273JF3","≤11","≤ 5","≤12.5",{"$f":"pana_film[[#This Row],[Body length / dia\n(mm)]]&\" x \"&pana_film[[#This Row],[Body width\n(mm)]]","v":"10.3 x 4.4"},"-","-"]
[null,"Std","dip","PET","No","ECQE(B)[DC]","ECQE2273JB3",250,"DC",2.7E-2,"± 5",7.9,4.3,12.2,5,"Crimped lead wire type (Style D)","-40 to 105 (85)","12.7P crimped lead taping (ammo packing)",2000,"https://industrial.panasonic.com/ww/products/pt/film-cap-electroequip/models/ECQE2273JB3","≤ 8","≤ 5","≤12.5",{"$f":"pana_film[[#This Row],[Body length / dia\n(mm)]]&\" x \"&pana_film[[#This Row],[Body width\n(mm)]]","v":"7.9 x 4.3"},"-","-"]
[null,"Std","dip","PET","No","ECQE(F)[DC]","ECQE2225KF",250,"DC",2.2000000000000002,"±10",26,8.5,16.3,22.5,"Straight lead wire type","-40 to 105 (85)","Bulk (Bag packing)",100,"https://industrial.panasonic.com/ww/products/pt/film-cap-electroequip/models/ECQE2225KF","≤26","≤ 9","≤16.5",{"$f":"pana_film[[#This Row],[Body length / dia\n(mm)]]&\" x \"&pana_film[[#This Row],[Body width\n(mm)]]","v":"26 x 8.5"},"-","-"]
[null,"Std","dip","PET","No","ECQE(F)[DC]","ECQE2225JFB",250,"DC",2.2000000000000002,"± 5",26,8.5,21.3,15,"Inner crimped lead wire type (Style B)","-40 to 105 (85)","Bulk (Bag packing)",100,"https://industrial.panasonic.com/ww/products/pt/film-cap-electroequip/models/ECQE2225JFB","≤26","≤ 9","≤21.5",{"$f":"pana_film[[#This Row],[Body length / dia\n(mm)]]&\" x \"&pana_film[[#This Row],[Body width\n(mm)]]","v":"26 x 8.5"},"-","-"]
[null,"Std","dip","PET","No","ECQE(F)[DC]","ECQE2224RKF",250,"DC",0.22,"±10",12,5.5,15.5,7.5,"Crimped lead wire type (Style D)","-40 to 105 (85)","15.0P crimped lead taping (ammo packing)",1000,"https://industrial.panasonic.com/ww/products/pt/film-cap-electroequip/models/ECQE2224RKF","≤12","≤ 6","≤15.5",{"$f":"pana_film[[#This Row],[Body length / dia\n(mm)]]&\" x \"&pana_film[[#This Row],[Body width\n(mm)]]","v":"12 x 5.5"},"-","-"]
[null,"Std","dip","PET","No","ECQE(F)[DC]","ECQE2224RJF",250,"DC",0.22,"± 5",12,5.5,15.5,7.5,"Crimped lead wire type (Style D)","-40 to 105 (85)","15.0P crimped lead taping (ammo packing)",1000,"https://industrial.panasonic.com/ww/products/pt/film-cap-electroequip/models/ECQE2224RJF","≤12","≤ 6","≤15.5",{"$f":"pana_film[[#This Row],[Body length / dia\n(mm)]]&\" x \"&pana_film[[#This Row],[Body width\n(mm)]]","v":"12 x 5.5"},"-","-"]
[null,"Std","dip","PET","No","ECQE(F)[DC]","ECQE2224KF9",250,"DC",0.22,"±10",12,5.5,15.5,5,"Crimped lead wire type (Style D)","-40 to 105 (85)","Reel packing (radial leaded)",1000,"https://industrial.panasonic.com/ww/products/pt/film-cap-electroequip/models/ECQE2224KF9","≤12","≤ 6","≤15.5",{"$f":"pana_film[[#This Row],[Body length / dia\n(mm)]]&\" x \"&pana_film[[#This Row],[Body width\n(mm)]]","v":"12 x 5.5"},"-","-"]
[null,"Std","dip","PET","No","ECQE(T)[DC]","ECQE2224JT",250,"DC",0.22,"± 5",12.5,5.5,10.5,10,"Straight lead wire type","-40 to 105 (85)","Bulk (Bag packing)",100,"https://industrial.panasonic.com/ww/products/pt/film-cap-electroequip/models/ECQE2224JT","≤13","≤ 6","≤10.5",{"$f":"pana_film[[#This Row],[Body length / dia\n(mm)]]&\" x \"&pana_film[[#This Row],[Body width\n(mm)]]","v":"12.5 x 5.5"},"-","-"]
[null,"Std","dip","PET","No","ECQE(B)[DC]","ECQE2224JB3",250,"DC",0.22,"± 5",10.3,5.4,15.1,5,"Crimped lead wire type (Style D)","-40 to 105 (85)","12.7P crimped lead taping (ammo packing)",1500,"https://industrial.panasonic.com/ww/products/pt/film-cap-electroequip/models/ECQE2224JB3","≤11","≤ 6","≤15.5",{"$f":"pana_film[[#This Row],[Body length / dia\n(mm)]]&\" x \"&pana_film[[#This Row],[Body width\n(mm)]]","v":"10.3 x 5.4"},"-","-"]
[null,"Std","dip","PET","No","ECQE(F)[DC]","ECQE2223RJF",250,"DC",2.1999999999999999E-2,"± 5",10.3,4.4000000000000004,12.5,7.5,"Crimped lead wire type (Style D)","-40 to 105 (85)","15.0P crimped lead taping (ammo packing)",1000,"https://industrial.panasonic.com/ww/products/pt/film-cap-electroequip/models/ECQE2223RJF","≤11","≤ 5","≤12.5",{"$f":"pana_film[[#This Row],[Body length / dia\n(mm)]]&\" x \"&pana_film[[#This Row],[Body width\n(mm)]]","v":"10.3 x 4.4"},"-","-"]
[null,"Std","dip","PET","No","ECQE(F)[DC]","ECQE2223KF3",250,"DC",2.1999999999999999E-2,"±10",10.3,4.4000000000000004,12.5,5,"Crimped lead wire type (Style D)","-40 to 105 (85)","12.7P crimped lead taping (ammo packing)",1000,"https://industrial.panasonic.com/ww/products/pt/film-cap-electroequip/models/ECQE2223KF3","≤11","≤ 5","≤12.5",{"$f":"pana_film[[#This Row],[Body length / dia\n(mm)]]&\" x \"&pana_film[[#This Row],[Body width\n(mm)]]","v":"10.3 x 4.4"},"-","-"]
[null,"Std","dip","PET","No","ECQE(F)[DC]","ECQE2223KF",250,"DC",2.1999999999999999E-2,"±10",10.3,4.4000000000000004,7.5,7.5,"Straight lead wire type","-40 to 105 (85)","Bulk (Bag packing)",100,"https://industrial.panasonic.com/ww/products/pt/film-cap-electroequip/models/ECQE2223KF","≤11","≤ 5","≤ 7.5",{"$f":"pana_film[[#This Row],[Body length / dia\n(mm)]]&\" x \"&pana_film[[#This Row],[Body width\n(mm)]]","v":"10.3 x 4.4"},"-","-"]
[null,"Std","dip","PET","No","ECQE(F)[DC]","ECQE2223JFB",250,"DC",2.1999999999999999E-2,"± 5",10.3,4.4000000000000004,12.5,7.5,"Crimped lead wire type (Style D)","-40 to 105 (85)","Bulk (Bag packing)",100,"https://industrial.panasonic.com/ww/products/pt/film-cap-electroequip/models/ECQE2223JFB","≤11","≤ 5","≤12.5",{"$f":"pana_film[[#This Row],[Body length / dia\n(mm)]]&\" x \"&pana_film[[#This Row],[Body width\n(mm)]]","v":"10.3 x 4.4"},"-","-"]
[null,"Std","dip","PET","No","ECQE(B)[DC]","ECQE2223JB",250,"DC",2.1999999999999999E-2,"± 5",7.9,4.3,7.2,5,"Straight lead wire type","-40 to 105 (85)","Bulk (Bag packing)",100,"https://industrial.panasonic.com/ww/products/pt/film-cap-electroequip/models/ECQE2223JB","≤ 8","≤ 5","≤ 7.5",{"$f":"pana_film[[#This Row],[Body length / dia\n(mm)]]&\" x \"&pana_film[[#This Row],[Body width\n(mm)]]","v":"7.9 x 4.3"},"-","-"]
[null,"Std","dip","PET","No","ECQE(T)[DC]","ECQE2185KTB",250,"DC",1.8,"±10",26.5,7.5,20.5,15,"Inner crimped lead wire type (Style B)","-40 to 105 (85)","Bulk (Bag packing)",100,"https://industrial.panasonic.com/ww/products/pt/film-cap-electroequip/models/ECQE2185KTB","≤27","≤ 8","≤20.5",{"$f":"pana_film[[#This Row],[Body length / dia\n(mm)]]&\" x \"&pana_film[[#This Row],[Body width\n(mm)]]","v":"26.5 x 7.5"},"-","-"]
[null,"Std","dip","PET","No","ECQE(F)[DC]","ECQE2185JFB",250,"DC",1.8,"± 5",26,7.5,20.5,15,"Inner crimped lead wire type (Style B)","-40 to 105 (85)","Bulk (Bag packing)",100,"https://industrial.panasonic.com/ww/products/pt/film-cap-electroequip/models/ECQE2185JFB","≤26","≤ 8","≤20.5",{"$f":"pana_film[[#This Row],[Body length / dia\n(mm)]]&\" x \"&pana_film[[#This Row],[Body width\n(mm)]]","v":"26 x 7.5"},"-","-"]
[null,"Std","dip","PET","No","ECQE(T)[DC]","ECQE2184RJT",250,"DC",0.18,"± 5",12.5,5,15.3,7.5,"Crimped lead wire type (Style Y)","-40 to 105 (85)","15.0P crimped lead taping (ammo packing)",800,"https://industrial.panasonic.com/ww/products/pt/film-cap-electroequip/models/ECQE2184RJT","≤13","≤ 5","≤15.5",{"$f":"pana_film[[#This Row],[Body length / dia\n(mm)]]&\" x \"&pana_film[[#This Row],[Body width\n(mm)]]","v":"12.5 x 5"},"-","-"]
[null,"Std","dip","PET","No","ECQE(T)[DC]","ECQE2184KTB",250,"DC",0.18,"±10",12.5,5,15.3,10,"Crimped lead wire type (Style Y)","-40 to 105 (85)","Bulk (Bag packing)",100,"https://industrial.panasonic.com/ww/products/pt/film-cap-electroequip/models/ECQE2184KTB","≤13","≤ 5","≤15.5",{"$f":"pana_film[[#This Row],[Body length / dia\n(mm)]]&\" x \"&pana_film[[#This Row],[Body width\n(mm)]]","v":"12.5 x 5"},"-","-"]
[null,"Std","dip","PET","No","ECQE(B)[DC]","ECQE2184KB3",250,"DC",0.18,"±10",10.3,5,14.7,5,"Crimped lead wire type (Style D)","-40 to 105 (85)","12.7P crimped lead taping (ammo packing)",1500,"https://industrial.panasonic.com/ww/products/pt/film-cap-electroequip/models/ECQE2184KB3","≤11","≤ 5","≤15",{"$f":"pana_film[[#This Row],[Body length / dia\n(mm)]]&\" x \"&pana_film[[#This Row],[Body width\n(mm)]]","v":"10.3 x 5"},"-","-"]
[null,"Std","dip","PET","No","ECQE(B)[DC]","ECQE2184KB",250,"DC",0.18,"±10",10.3,5,9.6999999999999993,7.5,"Straight lead wire type","-40 to 105 (85)","Bulk (Bag packing)",100,"https://industrial.panasonic.com/ww/products/pt/film-cap-electroequip/models/ECQE2184KB","≤11","≤ 5","≤10",{"$f":"pana_film[[#This Row],[Body length / dia\n(mm)]]&\" x \"&pana_film[[#This Row],[Body width\n(mm)]]","v":"10.3 x 5"},"-","-"]
[null,"Std","dip","PET","No","ECQE(B)[DC]","ECQE2184JBB",250,"DC",0.18,"± 5",10.3,5,14.7,5,"Crimped lead wire type (Style D)","-40 to 105 (85)","Bulk (Bag packing)",100,"https://industrial.panasonic.com/ww/products/pt/film-cap-electroequip/models/ECQE2184JBB","≤11","≤ 5","≤15",{"$f":"pana_film[[#This Row],[Body length / dia\n(mm)]]&\" x \"&pana_film[[#This Row],[Body width\n(mm)]]","v":"10.3 x 5"},"-","-"]
[null,"Std","dip","PET","No","ECQE(T)[DC]","ECQE2183KTB",250,"DC",1.7999999999999999E-2,"±10",10.8,4.4000000000000004,12.5,7.5,"Crimped lead wire type (Style Y)","-40 to 105 (85)","Bulk (Bag packing)",100,"https://industrial.panasonic.com/ww/products/pt/film-cap-electroequip/models/ECQE2183KTB","≤11","≤ 5","≤12.5",{"$f":"pana_film[[#This Row],[Body length / dia\n(mm)]]&\" x \"&pana_film[[#This Row],[Body width\n(mm)]]","v":"10.8 x 4.4"},"-","-"]
[null,"Std","dip","PET","No","ECQE(F)[DC]","ECQE2183KF9",250,"DC",1.7999999999999999E-2,"±10",10.3,4.4000000000000004,12.5,5,"Crimped lead wire type (Style D)","-40 to 105 (85)","Reel packing (radial leaded)",1000,"https://industrial.panasonic.com/ww/products/pt/film-cap-electroequip/models/ECQE2183KF9","≤11","≤ 5","≤12.5",{"$f":"pana_film[[#This Row],[Body length / dia\n(mm)]]&\" x \"&pana_film[[#This Row],[Body width\n(mm)]]","v":"10.3 x 4.4"},"-","-"]
[null,"Std","dip","PET","No","ECQE(T)[DC]","ECQE2183JT3",250,"DC",1.7999999999999999E-2,"± 5",10.8,4.4000000000000004,12.5,5,"Crimped lead wire type (Style Y)","-40 to 105 (85)","12.7P crimped lead taping (ammo packing)",1500,"https://industrial.panasonic.com/ww/products/pt/film-cap-electroequip/models/ECQE2183JT3","≤11","≤ 5","≤12.5",{"$f":"pana_film[[#This Row],[Body length / dia\n(mm)]]&\" x \"&pana_film[[#This Row],[Body width\n(mm)]]","v":"10.8 x 4.4"},"-","-"]
[null,"Std","dip","PET","No","ECQE(B)[DC]","ECQE2183JBB",250,"DC",1.7999999999999999E-2,"± 5",7.9,4.3,12.2,5,"Crimped lead wire type (Style D)","-40 to 105 (85)","Bulk (Bag packing)",100,"https://industrial.panasonic.com/ww/products/pt/film-cap-electroequip/models/ECQE2183JBB","≤ 8","≤ 5","≤12.5",{"$f":"pana_film[[#This Row],[Body length / dia\n(mm)]]&\" x \"&pana_film[[#This Row],[Body width\n(mm)]]","v":"7.9 x 4.3"},"-","-"]
[null,"Std","dip","PET","No","ECQE(B)[DC]","ECQE2183JB",250,"DC",1.7999999999999999E-2,"± 5",7.9,4.3,7.2,5,"Straight lead wire type","-40 to 105 (85)","Bulk (Bag packing)",100,"https://industrial.panasonic.com/ww/products/pt/film-cap-electroequip/models/ECQE2183JB","≤ 8","≤ 5","≤ 7.5",{"$f":"pana_film[[#This Row],[Body length / dia\n(mm)]]&\" x \"&pana_film[[#This Row],[Body width\n(mm)]]","v":"7.9 x 4.3"},"-","-"]
[null,"Std","dip","PET","No","ECQE(T)[DC]","ECQE2155KTB",250,"DC",1.5,"±10",19,9,21.8,10,"Inner crimped lead wire type (Style B)","-40 to 105 (85)","Bulk (Bag packing)",100,"https://industrial.panasonic.com/ww/products/pt/film-cap-electroequip/models/ECQE2155KTB","≤19","≤ 9","≤22",{"$f":"pana_film[[#This Row],[Body length / dia\n(mm)]]&\" x \"&pana_film[[#This Row],[Body width\n(mm)]]","v":"19 x 9"},"-","-"]
[null,"Std","dip","PET","No","ECQE(F)[DC]","ECQE2155KFW",250,"DC",1.5,"±10",18.5,9,21.8,10,"Double crimped lead wire type (Style T)","-40 to 105 (85)","Bulk (Bag packing)",100,"https://industrial.panasonic.com/ww/products/pt/film-cap-electroequip/models/ECQE2155KFW","≤19","≤ 9","≤22",{"$f":"pana_film[[#This Row],[Body length / dia\n(mm)]]&\" x \"&pana_film[[#This Row],[Body width\n(mm)]]","v":"18.5 x 9"},"-","-"]
[null,"Std","dip","PET","No","ECQE(T)[DC]","ECQE2155JT",250,"DC",1.5,"± 5",19,9,16.8,15,"Straight lead wire type","-40 to 105 (85)","Bulk (Bag packing)",100,"https://industrial.panasonic.com/ww/products/pt/film-cap-electroequip/models/ECQE2155JT","≤19","≤ 9","≤17",{"$f":"pana_film[[#This Row],[Body length / dia\n(mm)]]&\" x \"&pana_film[[#This Row],[Body width\n(mm)]]","v":"19 x 9"},"-","-"]
[null,"Std","dip","PET","No","ECQE(T)[DC]","ECQE2154RKT",250,"DC",0.15,"±10",10.8,6,15.8,7.5,"Crimped lead wire type (Style Y)","-40 to 105 (85)","15.0P crimped lead taping (ammo packing)",1000,"https://industrial.panasonic.com/ww/products/pt/film-cap-electroequip/models/ECQE2154RKT","≤11","≤ 6","≤16",{"$f":"pana_film[[#This Row],[Body length / dia\n(mm)]]&\" x \"&pana_film[[#This Row],[Body width\n(mm)]]","v":"10.8 x 6"},"-","-"]
[null,"Std","dip","PET","No","ECQE(F)[DC]","ECQE2154RJF",250,"DC",0.15,"± 5",10.3,6,15.8,7.5,"Crimped lead wire type (Style D)","-40 to 105 (85)","15.0P crimped lead taping (ammo packing)",1000,"https://industrial.panasonic.com/ww/products/pt/film-cap-electroequip/models/ECQE2154RJF","≤11","≤ 6","≤16",{"$f":"pana_film[[#This Row],[Body length / dia\n(mm)]]&\" x \"&pana_film[[#This Row],[Body width\n(mm)]]","v":"10.3 x 6"},"-","-"]
[null,"Std","dip","PET","No","ECQE(B)[DC]","ECQE2154KBB",250,"DC",0.15,"±10",7.9,6.3,16.2,5,"Crimped lead wire type (Style D)","-40 to 105 (85)","Bulk (Bag packing)",100,"https://industrial.panasonic.com/ww/products/pt/film-cap-electroequip/models/ECQE2154KBB","≤ 8","≤ 7","≤16.5",{"$f":"pana_film[[#This Row],[Body length / dia\n(mm)]]&\" x \"&pana_film[[#This Row],[Body width\n(mm)]]","v":"7.9 x 6.3"},"-","-"]
[null,"Std","dip","PET","No","ECQE(F)[DC]","ECQE2154JFW",250,"DC",0.15,"± 5",10.3,6,15.8,7.5,"Double crimped lead wire type (Style N)","-40 to 105 (85)","Bulk (Bag packing)",100,"https://industrial.panasonic.com/ww/products/pt/film-cap-electroequip/models/ECQE2154JFW","≤11","≤ 6","≤16",{"$f":"pana_film[[#This Row],[Body length / dia\n(mm)]]&\" x \"&pana_film[[#This Row],[Body width\n(mm)]]","v":"10.3 x 6"},"-","-"]
[null,"Std","dip","PET","No","ECQE(F)[DC]","ECQE2154JF3",250,"DC",0.15,"± 5",10.3,6,15.8,5,"Crimped lead wire type (Style D)","-40 to 105 (85)","12.7P crimped lead taping (ammo packing)",500,"https://industrial.panasonic.com/ww/products/pt/film-cap-electroequip/models/ECQE2154JF3","≤11","≤ 6","≤16",{"$f":"pana_film[[#This Row],[Body length / dia\n(mm)]]&\" x \"&pana_film[[#This Row],[Body width\n(mm)]]","v":"10.3 x 6"},"-","-"]
[null,"Std","dip","PET","No","ECQE(B)[DC]","ECQE2154JB2",250,"DC",0.15,"± 5",7.9,6.3,11.2,5,"Straight lead wire type","-40 to 105 (85)","12.7P straight lead taping (ammo packing)",1000,"https://industrial.panasonic.com/ww/products/pt/film-cap-electroequip/models/ECQE2154JB2","≤ 8","≤ 7","≤11.5",{"$f":"pana_film[[#This Row],[Body length / dia\n(mm)]]&\" x \"&pana_film[[#This Row],[Body width\n(mm)]]","v":"7.9 x 6.3"},"-","-"]
[null,"Std","dip","PET","No","ECQE(T)[DC]","ECQE2153KT3",250,"DC",1.4999999999999999E-2,"±10",10.8,4.4000000000000004,12.5,5,"Crimped lead wire type (Style Y)","-40 to 105 (85)","12.7P crimped lead taping (ammo packing)",1500,"https://industrial.panasonic.com/ww/products/pt/film-cap-electroequip/models/ECQE2153KT3","≤11","≤ 5","≤12.5",{"$f":"pana_film[[#This Row],[Body length / dia\n(mm)]]&\" x \"&pana_film[[#This Row],[Body width\n(mm)]]","v":"10.8 x 4.4"},"-","-"]
[null,"Std","dip","PET","No","ECQE(B)[DC]","ECQE2153KB2",250,"DC",1.4999999999999999E-2,"±10",7.9,4.2,7.1,5,"Straight lead wire type","-40 to 105 (85)","12.7P straight lead taping (ammo packing)",2000,"https://industrial.panasonic.com/ww/products/pt/film-cap-electroequip/models/ECQE2153KB2","≤ 8","≤ 5","≤ 7.5",{"$f":"pana_film[[#This Row],[Body length / dia\n(mm)]]&\" x \"&pana_film[[#This Row],[Body width\n(mm)]]","v":"7.9 x 4.2"},"-","-"]
[null,"Std","dip","PET","No","ECQE(F)[DC]","ECQE2153JF9",250,"DC",1.4999999999999999E-2,"± 5",10.3,4.4000000000000004,12.5,5,"Crimped lead wire type (Style D)","-40 to 105 (85)","Reel packing (radial leaded)",1000,"https://industrial.panasonic.com/ww/products/pt/film-cap-electroequip/models/ECQE2153JF9","≤11","≤ 5","≤12.5",{"$f":"pana_film[[#This Row],[Body length / dia\n(mm)]]&\" x \"&pana_film[[#This Row],[Body width\n(mm)]]","v":"10.3 x 4.4"},"-","-"]
[null,"Std","dip","PET","No","ECQE(B)[DC]","ECQE2153JBB",250,"DC",1.4999999999999999E-2,"± 5",7.9,4.2,12.1,5,"Crimped lead wire type (Style D)","-40 to 105 (85)","Bulk (Bag packing)",100,"https://industrial.panasonic.com/ww/products/pt/film-cap-electroequip/models/ECQE2153JBB","≤ 8","≤ 5","≤12.5",{"$f":"pana_film[[#This Row],[Body length / dia\n(mm)]]&\" x \"&pana_film[[#This Row],[Body width\n(mm)]]","v":"7.9 x 4.2"},"-","-"]
[null,"Std","dip","PET","No","ECQE(B)[DC]","ECQE2125RJB",250,"DC",1.2,"± 5",15.3,7.6,19.600000000000001,7.5,"Inner crimped lead wire type (Style B)","-40 to 105 (85)","30.0P crimped lead taping (ammo packing)",400,"https://industrial.panasonic.com/ww/products/pt/film-cap-electroequip/models/ECQE2125RJB","≤16","≤ 8","≤20",{"$f":"pana_film[[#This Row],[Body length / dia\n(mm)]]&\" x \"&pana_film[[#This Row],[Body width\n(mm)]]","v":"15.3 x 7.6"},"-","-"]
[null,"Std","dip","PET","No","ECQE(T)[DC]","ECQE2125KT3",250,"DC",1.2,"±10",19,8,20.9,5,"Inner crimped lead wire type (Style B)","-40 to 105 (85)","25.4P crimped lead taping (ammo packing)",500,"https://industrial.panasonic.com/ww/products/pt/film-cap-electroequip/models/ECQE2125KT3","≤19","≤ 8","≤21",{"$f":"pana_film[[#This Row],[Body length / dia\n(mm)]]&\" x \"&pana_film[[#This Row],[Body width\n(mm)]]","v":"19 x 8"},"-","-"]
[null,"Std","dip","PET","No","ECQE(T)[DC]","ECQE2125JTB",250,"DC",1.2,"± 5",19,8,20.9,10,"Inner crimped lead wire type (Style B)","-40 to 105 (85)","Bulk (Bag packing)",100,"https://industrial.panasonic.com/ww/products/pt/film-cap-electroequip/models/ECQE2125JTB","≤19","≤ 8","≤21",{"$f":"pana_film[[#This Row],[Body length / dia\n(mm)]]&\" x \"&pana_film[[#This Row],[Body width\n(mm)]]","v":"19 x 8"},"-","-"]
[null,"Std","dip","PET","No","ECQE(B)[DC]","ECQE2125JBB",250,"DC",1.2,"± 5",15.3,7.6,19.600000000000001,5,"Inner crimped lead wire type (Style B)","-40 to 105 (85)","Bulk (Bag packing)",100,"https://industrial.panasonic.com/ww/products/pt/film-cap-electroequip/models/ECQE2125JBB","≤16","≤ 8","≤20",{"$f":"pana_film[[#This Row],[Body length / dia\n(mm)]]&\" x \"&pana_film[[#This Row],[Body width\n(mm)]]","v":"15.3 x 7.6"},"-","-"]
[null,"Std","dip","PET","No","ECQE(T)[DC]","ECQE2124RKT",250,"DC",0.12,"±10",10.8,6,14,7.5,"Crimped lead wire type (Style Y)","-40 to 105 (85)","15.0P crimped lead taping (ammo packing)",1000,"https://industrial.panasonic.com/ww/products/pt/film-cap-electroequip/models/ECQE2124RKT","≤11","≤ 6","≤14",{"$f":"pana_film[[#This Row],[Body length / dia\n(mm)]]&\" x \"&pana_film[[#This Row],[Body width\n(mm)]]","v":"10.8 x 6"},"-","-"]
[null,"Std","dip","PET","No","ECQE(F)[DC]","ECQE2124KF9",250,"DC",0.12,"±10",10.3,6,14,5,"Crimped lead wire type (Style D)","-40 to 105 (85)","Reel packing (radial leaded)",1000,"https://industrial.panasonic.com/ww/products/pt/film-cap-electroequip/models/ECQE2124KF9","≤11","≤ 6","≤14",{"$f":"pana_film[[#This Row],[Body length / dia\n(mm)]]&\" x \"&pana_film[[#This Row],[Body width\n(mm)]]","v":"10.3 x 6"},"-","-"]
[null,"Std","dip","PET","No","ECQE(T)[DC]","ECQE2124JTB",250,"DC",0.12,"± 5",10.8,6,14,7.5,"Crimped lead wire type (Style Y)","-40 to 105 (85)","Bulk (Bag packing)",100,"https://industrial.panasonic.com/ww/products/pt/film-cap-electroequip/models/ECQE2124JTB","≤11","≤ 6","≤14",{"$f":"pana_film[[#This Row],[Body length / dia\n(mm)]]&\" x \"&pana_film[[#This Row],[Body width\n(mm)]]","v":"10.8 x 6"},"-","-"]
[null,"Std","dip","PET","No","ECQE(T)[DC]","ECQE2124JT",250,"DC",0.12,"± 5",10.8,6,9,7.5,"Straight lead wire type","-40 to 105 (85)","Bulk (Bag packing)",100,"https://industrial.panasonic.com/ww/products/pt/film-cap-electroequip/models/ECQE2124JT","≤11","≤ 6","≤ 9",{"$f":"pana_film[[#This Row],[Body length / dia\n(mm)]]&\" x \"&pana_film[[#This Row],[Body width\n(mm)]]","v":"10.8 x 6"},"-","-"]
[null,"Std","dip","PET","No","ECQE(B)[DC]","ECQE2124JB",250,"DC",0.12,"± 5",7.9,5.7,10.6,5,"Straight lead wire type","-40 to 105 (85)","Bulk (Bag packing)",100,"https://industrial.panasonic.com/ww/products/pt/film-cap-electroequip/models/ECQE2124JB","≤ 8","≤ 6","≤11",{"$f":"pana_film[[#This Row],[Body length / dia\n(mm)]]&\" x \"&pana_film[[#This Row],[Body width\n(mm)]]","v":"7.9 x 5.7"},"-","-"]
[null,"Std","dip","PET","No","ECQE(F)[DC]","ECQE2123KFB",250,"DC",1.2E-2,"±10",10.3,4.4000000000000004,12.5,7.5,"Crimped lead wire type (Style D)","-40 to 105 (85)","Bulk (Bag packing)",100,"https://industrial.panasonic.com/ww/products/pt/film-cap-electroequip/models/ECQE2123KFB","≤11","≤ 5","≤12.5",{"$f":"pana_film[[#This Row],[Body length / dia\n(mm)]]&\" x \"&pana_film[[#This Row],[Body width\n(mm)]]","v":"10.3 x 4.4"},"-","-"]
[null,"Std","dip","PET","No","ECQE(F)[DC]","ECQE2123KF",250,"DC",1.2E-2,"±10",10.3,4.4000000000000004,7.5,7.5,"Straight lead wire type","-40 to 105 (85)","Bulk (Bag packing)",100,"https://industrial.panasonic.com/ww/products/pt/film-cap-electroequip/models/ECQE2123KF","≤11","≤ 5","≤ 7.5",{"$f":"pana_film[[#This Row],[Body length / dia\n(mm)]]&\" x \"&pana_film[[#This Row],[Body width\n(mm)]]","v":"10.3 x 4.4"},"-","-"]
[null,"Std","dip","PET","No","ECQE(T)[DC]","ECQE2123JT",250,"DC",1.2E-2,"± 5",10.8,4.4000000000000004,7.5,7.5,"Straight lead wire type","-40 to 105 (85)","Bulk (Bag packing)",100,"https://industrial.panasonic.com/ww/products/pt/film-cap-electroequip/models/ECQE2123JT","≤11","≤ 5","≤ 7.5",{"$f":"pana_film[[#This Row],[Body length / dia\n(mm)]]&\" x \"&pana_film[[#This Row],[Body width\n(mm)]]","v":"10.8 x 4.4"},"-","-"]
[null,"Std","dip","PET","No","ECQE(F)[DC]","ECQE2123JF9",250,"DC",1.2E-2,"± 5",10.3,4.4000000000000004,12.5,5,"Crimped lead wire type (Style D)","-40 to 105 (85)","Reel packing (radial leaded)",1000,"https://industrial.panasonic.com/ww/products/pt/film-cap-electroequip/models/ECQE2123JF9","≤11","≤ 5","≤12.5",{"$f":"pana_film[[#This Row],[Body length / dia\n(mm)]]&\" x \"&pana_film[[#This Row],[Body width\n(mm)]]","v":"10.3 x 4.4"},"-","-"]
[null,"Std","dip","PET","No","ECQE(B)[DC]","ECQE2123JB",250,"DC",1.2E-2,"± 5",7.9,4.2,7.1,5,"Straight lead wire type","-40 to 105 (85)","Bulk (Bag packing)",100,"https://industrial.panasonic.com/ww/products/pt/film-cap-electroequip/models/ECQE2123JB","≤ 8","≤ 5","≤ 7.5",{"$f":"pana_film[[#This Row],[Body length / dia\n(mm)]]&\" x \"&pana_film[[#This Row],[Body width\n(mm)]]","v":"7.9 x 4.2"},"-","-"]
[null,"Std","dip","PET","No","ECQE(T)[DC]","ECQE2105RKT",250,"DC",1,"±10",19,7.4,20,7.5,"Inner crimped lead wire type (Style B)","-40 to 105 (85)","30.0P crimped lead taping (ammo packing)",500,"https://industrial.panasonic.com/ww/products/pt/film-cap-electroequip/models/ECQE2105RKT","≤19","≤ 8","≤20",{"$f":"pana_film[[#This Row],[Body length / dia\n(mm)]]&\" x \"&pana_film[[#This Row],[Body width\n(mm)]]","v":"19 x 7.4"},"-","-"]
[null,"Std","dip","PET","No","ECQE(T)[DC]","ECQE2105RJT",250,"DC",1,"± 5",19,7.4,20,7.5,"Inner crimped lead wire type (Style B)","-40 to 105 (85)","30.0P crimped lead taping (ammo packing)",500,"https://industrial.panasonic.com/ww/products/pt/film-cap-electroequip/models/ECQE2105RJT","≤19","≤ 8","≤20",{"$f":"pana_film[[#This Row],[Body length / dia\n(mm)]]&\" x \"&pana_film[[#This Row],[Body width\n(mm)]]","v":"19 x 7.4"},"-","-"]
[null,"Std","dip","PET","No","ECQE(F)[DC]","ECQE2105KFB",250,"DC",1,"±10",18.5,7.4,20,10,"Inner crimped lead wire type (Style B)","-40 to 105 (85)","Bulk (Bag packing)",100,"https://industrial.panasonic.com/ww/products/pt/film-cap-electroequip/models/ECQE2105KFB","≤19","≤ 8","≤20",{"$f":"pana_film[[#This Row],[Body length / dia\n(mm)]]&\" x \"&pana_film[[#This Row],[Body width\n(mm)]]","v":"18.5 x 7.4"},"-","-"]
[null,"Std","dip","PET","No","ECQE(F)[DC]","ECQE2105JFW",250,"DC",1,"± 5",18.5,7.4,20,10,"Double crimped lead wire type (Style T)","-40 to 105 (85)","Bulk (Bag packing)",100,"https://industrial.panasonic.com/ww/products/pt/film-cap-electroequip/models/ECQE2105JFW","≤19","≤ 8","≤20",{"$f":"pana_film[[#This Row],[Body length / dia\n(mm)]]&\" x \"&pana_film[[#This Row],[Body width\n(mm)]]","v":"18.5 x 7.4"},"-","-"]
[null,"Std","dip","PET","No","ECQE(F)[DC]","ECQE2105JF",250,"DC",1,"± 5",18.5,7.4,15,15,"Straight lead wire type","-40 to 105 (85)","Bulk (Bag packing)",100,"https://industrial.panasonic.com/ww/products/pt/film-cap-electroequip/models/ECQE2105JF","≤19","≤ 8","≤15",{"$f":"pana_film[[#This Row],[Body length / dia\n(mm)]]&\" x \"&pana_film[[#This Row],[Body width\n(mm)]]","v":"18.5 x 7.4"},"-","-"]
[null,"Std","dip","PET","No","ECQE(F)[DC]","ECQE2104RJF",250,"DC",0.1,"± 5",10.3,5.8,13.4,7.5,"Crimped lead wire type (Style D)","-40 to 105 (85)","15.0P crimped lead taping (ammo packing)",1000,"https://industrial.panasonic.com/ww/products/pt/film-cap-electroequip/models/ECQE2104RJF","≤11","≤ 6","≤13.5",{"$f":"pana_film[[#This Row],[Body length / dia\n(mm)]]&\" x \"&pana_film[[#This Row],[Body width\n(mm)]]","v":"10.3 x 5.8"},"-","-"]
[null,"Std","dip","PET","No","ECQE(F)[DC]","ECQE2104KF",250,"DC",0.1,"±10",10.3,5.8,8.4,7.5,"Straight lead wire type","-40 to 105 (85)","Bulk (Bag packing)",100,"https://industrial.panasonic.com/ww/products/pt/film-cap-electroequip/models/ECQE2104KF","≤11","≤ 6","≤ 8.5",{"$f":"pana_film[[#This Row],[Body length / dia\n(mm)]]&\" x \"&pana_film[[#This Row],[Body width\n(mm)]]","v":"10.3 x 5.8"},"-","-"]
[null,"Std","dip","PET","No","ECQE(B)[DC]","ECQE2104KB2",250,"DC",0.1,"±10",7.9,5.9,9,5,"Straight lead wire type","-40 to 105 (85)","12.7P straight lead taping (ammo packing)",1000,"https://industrial.panasonic.com/ww/products/pt/film-cap-electroequip/models/ECQE2104KB2","≤ 8","≤ 6","≤ 9",{"$f":"pana_film[[#This Row],[Body length / dia\n(mm)]]&\" x \"&pana_film[[#This Row],[Body width\n(mm)]]","v":"7.9 x 5.9"},"-","-"]
[null,"Std","dip","PET","No","ECQE(F)[DC]","ECQE2104JF",250,"DC",0.1,"± 5",10.3,5.8,8.4,7.5,"Straight lead wire type","-40 to 105 (85)","Bulk (Bag packing)",100,"https://industrial.panasonic.com/ww/products/pt/film-cap-electroequip/models/ECQE2104JF","≤11","≤ 6","≤ 8.5",{"$f":"pana_film[[#This Row],[Body length / dia\n(mm)]]&\" x \"&pana_film[[#This Row],[Body width\n(mm)]]","v":"10.3 x 5.8"},"-","-"]
[null,"Std","dip","PET","No","ECQE(B)[DC]","ECQE2104JB2",250,"DC",0.1,"± 5",7.9,5.9,9,5,"Straight lead wire type","-40 to 105 (85)","12.7P straight lead taping (ammo packing)",1000,"https://industrial.panasonic.com/ww/products/pt/film-cap-electroequip/models/ECQE2104JB2","≤ 8","≤ 6","≤ 9",{"$f":"pana_film[[#This Row],[Body length / dia\n(mm)]]&\" x \"&pana_film[[#This Row],[Body width\n(mm)]]","v":"7.9 x 5.9"},"-","-"]
[null,"Std","dip","PET","No","ECQE(T)[DC]","ECQE2103KT3",250,"DC",0.01,"±10",10.8,4.3,12.4,5,"Crimped lead wire type (Style Y)","-40 to 105 (85)","12.7P crimped lead taping (ammo packing)",1500,"https://industrial.panasonic.com/ww/products/pt/film-cap-electroequip/models/ECQE2103KT3","≤11","≤ 5","≤12.5",{"$f":"pana_film[[#This Row],[Body length / dia\n(mm)]]&\" x \"&pana_film[[#This Row],[Body width\n(mm)]]","v":"10.8 x 4.3"},"-","-"]
[null,"Std","dip","PET","No","ECQE(B)[DC]","ECQE2103KB2",250,"DC",0.01,"±10",7.9,4.2,7.1,5,"Straight lead wire type","-40 to 105 (85)","12.7P straight lead taping (ammo packing)",2000,"https://industrial.panasonic.com/ww/products/pt/film-cap-electroequip/models/ECQE2103KB2","≤ 8","≤ 5","≤ 7.5",{"$f":"pana_film[[#This Row],[Body length / dia\n(mm)]]&\" x \"&pana_film[[#This Row],[Body width\n(mm)]]","v":"7.9 x 4.2"},"-","-"]
[null,"Std","dip","PET","No","ECQE(F)[DC]","ECQE2103JFB",250,"DC",0.01,"± 5",10.3,4.3,12.4,7.5,"Crimped lead wire type (Style D)","-40 to 105 (85)","Bulk (Bag packing)",100,"https://industrial.panasonic.com/ww/products/pt/film-cap-electroequip/models/ECQE2103JFB","≤11","≤ 5","≤12.5",{"$f":"pana_film[[#This Row],[Body length / dia\n(mm)]]&\" x \"&pana_film[[#This Row],[Body width\n(mm)]]","v":"10.3 x 4.3"},"-","-"]
[null,"Std","dip","PET","No","ECQE(B)[DC]","ECQE2103JB3",250,"DC",0.01,"± 5",7.9,4.2,12.1,5,"Crimped lead wire type (Style D)","-40 to 105 (85)","12.7P crimped lead taping (ammo packing)",2000,"https://industrial.panasonic.com/ww/products/pt/film-cap-electroequip/models/ECQE2103JB3","≤ 8","≤ 5","≤12.5",{"$f":"pana_film[[#This Row],[Body length / dia\n(mm)]]&\" x \"&pana_film[[#This Row],[Body width\n(mm)]]","v":"7.9 x 4.2"},"-","-"]
[null,"Std","dip","PET","No","ECQE(B)[AC]","ECQE1A824RKB",125,"AC",0.82,"±10",15.3,6.3,18.3,7.5,"Inner crimped lead wire type (Style B)","-40 to 85","30.0P crimped lead taping (ammo packing)",500,"https://industrial.panasonic.com/ww/products/pt/film-cap-electroequip/models/ECQE1A824RKB","≤16","≤ 7","≤18.5",{"$f":"pana_film[[#This Row],[Body length / dia\n(mm)]]&\" x \"&pana_film[[#This Row],[Body width\n(mm)]]","v":"15.3 x 6.3"},"-","-"]
[null,"Std","dip","PET","No","ECQE(B)[AC]","ECQE1A824JBB",125,"AC",0.82,"± 5",15.3,6.3,18.3,7.5,"Inner crimped lead wire type (Style B)","-40 to 85","Bulk (Bag packing)",100,"https://industrial.panasonic.com/ww/products/pt/film-cap-electroequip/models/ECQE1A824JBB","≤16","≤ 7","≤18.5",{"$f":"pana_film[[#This Row],[Body length / dia\n(mm)]]&\" x \"&pana_film[[#This Row],[Body width\n(mm)]]","v":"15.3 x 6.3"},"-","-"]
[null,"Std","dip","PET","No","ECQE(T)[AC]","ECQE1A823KTB",125,"AC",8.2000000000000003E-2,"±10",11,6.5,14.8,7.5,"Crimped lead wire type (Style D)","-40 to 85","Bulk (Bag packing)",100,"https://industrial.panasonic.com/ww/products/pt/film-cap-electroequip/models/ECQE1A823KTB","≤11","≤ 7","≤15",{"$f":"pana_film[[#This Row],[Body length / dia\n(mm)]]&\" x \"&pana_film[[#This Row],[Body width\n(mm)]]","v":"11 x 6.5"},"-","-"]
[null,"Std","dip","PET","No","ECQE(F)[AC]","ECQE1A823KFZ",125,"AC",8.2000000000000003E-2,"±10",10.5,6.5,9.8000000000000007,7.5,"Short cut lead wire type","-40 to 105 (85)","Bulk (Bag packing)",100,"https://industrial.panasonic.com/ww/products/pt/film-cap-electroequip/models/ECQE1A823KFZ","≤11","≤ 7","≤10",{"$f":"pana_film[[#This Row],[Body length / dia\n(mm)]]&\" x \"&pana_film[[#This Row],[Body width\n(mm)]]","v":"10.5 x 6.5"},"-","-"]
[null,"Std","dip","PET","No","ECQE(B)[AC]","ECQE1A823KB6",125,"AC",8.2000000000000003E-2,"±10",10.3,4.5999999999999996,12.6,5,"Inner crimped lead wire type (Style B)","-40 to 85","12.7P crimped lead taping (ammo packing)",1500,"https://industrial.panasonic.com/ww/products/pt/film-cap-electroequip/models/ECQE1A823KB6","≤11","≤ 5","≤13",{"$f":"pana_film[[#This Row],[Body length / dia\n(mm)]]&\" x \"&pana_film[[#This Row],[Body width\n(mm)]]","v":"10.3 x 4.6"},"-","-"]
[null,"Std","dip","PET","No","ECQE(F)[AC]","ECQE1A823JF",125,"AC",8.2000000000000003E-2,"± 5",10.5,6.5,9.8000000000000007,7.5,"Straight lead wire type","-40 to 85","Bulk (Bag packing)",100,"https://industrial.panasonic.com/ww/products/pt/film-cap-electroequip/models/ECQE1A823JF","≤11","≤ 7","≤10",{"$f":"pana_film[[#This Row],[Body length / dia\n(mm)]]&\" x \"&pana_film[[#This Row],[Body width\n(mm)]]","v":"10.5 x 6.5"},"-","-"]
[null,"Std","dip","PET","No","ECQE(B)[AC]","ECQE1A823JB6",125,"AC",8.2000000000000003E-2,"± 5",10.3,4.5999999999999996,12.6,5,"Inner crimped lead wire type (Style B)","-40 to 85","12.7P crimped lead taping (ammo packing)",1500,"https://industrial.panasonic.com/ww/products/pt/film-cap-electroequip/models/ECQE1A823JB6","≤11","≤ 5","≤13",{"$f":"pana_film[[#This Row],[Body length / dia\n(mm)]]&\" x \"&pana_film[[#This Row],[Body width\n(mm)]]","v":"10.3 x 4.6"},"-","-"]
[null,"Std","dip","PET","No","ECQE(B)[AC]","ECQE1A684KB3",125,"AC",0.68,"±10",12.3,7.3,17.7,5,"Inner crimped lead wire type (Style B)","-40 to 85","25.4P crimped lead taping (ammo packing)",500,"https://industrial.panasonic.com/ww/products/pt/film-cap-electroequip/models/ECQE1A684KB3","≤13","≤ 8","≤18",{"$f":"pana_film[[#This Row],[Body length / dia\n(mm)]]&\" x \"&pana_film[[#This Row],[Body width\n(mm)]]","v":"12.3 x 7.3"},"-","-"]
[null,"Std","dip","PET","No","ECQE(B)[AC]","ECQE1A684JBB",125,"AC",0.68,"± 5",12.3,7.3,17.7,7.5,"Crimped lead wire type (Style D)","-40 to 85","Bulk (Bag packing)",100,"https://industrial.panasonic.com/ww/products/pt/film-cap-electroequip/models/ECQE1A684JBB","≤13","≤ 8","≤18",{"$f":"pana_film[[#This Row],[Body length / dia\n(mm)]]&\" x \"&pana_film[[#This Row],[Body width\n(mm)]]","v":"12.3 x 7.3"},"-","-"]
[null,"Std","dip","PET","No","ECQE(T)[AC]","ECQE1A683KTB",125,"AC",6.8000000000000005E-2,"±10",11,6.3,14.4,7.5,"Crimped lead wire type (Style D)","-40 to 85","Bulk (Bag packing)",100,"https://industrial.panasonic.com/ww/products/pt/film-cap-electroequip/models/ECQE1A683KTB","≤11","≤ 7","≤14.5",{"$f":"pana_film[[#This Row],[Body length / dia\n(mm)]]&\" x \"&pana_film[[#This Row],[Body width\n(mm)]]","v":"11 x 6.3"},"-","-"]
[null,"Std","dip","PET","No","ECQE(F)[AC]","ECQE1A683KF",125,"AC",6.8000000000000005E-2,"±10",10.5,6.3,9.4,7.5,"Straight lead wire type","-40 to 85","Bulk (Bag packing)",100,"https://industrial.panasonic.com/ww/products/pt/film-cap-electroequip/models/ECQE1A683KF","≤11","≤ 7","≤ 9.5",{"$f":"pana_film[[#This Row],[Body length / dia\n(mm)]]&\" x \"&pana_film[[#This Row],[Body width\n(mm)]]","v":"10.5 x 6.3"},"-","-"]
[null,"Std","dip","PET","No","ECQE(T)[AC]","ECQE1A683JT",125,"AC",6.8000000000000005E-2,"± 5",11,6.3,9.4,7.5,"Straight lead wire type","-40 to 85","Bulk (Bag packing)",100,"https://industrial.panasonic.com/ww/products/pt/film-cap-electroequip/models/ECQE1A683JT","≤11","≤ 7","≤ 9.5",{"$f":"pana_film[[#This Row],[Body length / dia\n(mm)]]&\" x \"&pana_film[[#This Row],[Body width\n(mm)]]","v":"11 x 6.3"},"-","-"]
[null,"Std","dip","PET","No","ECQE(B)[AC]","ECQE1A683JB2",125,"AC",6.8000000000000005E-2,"± 5",7.9,5.4,8.6,5,"Straight lead wire type","-40 to 85","12.7P straight lead taping (ammo packing)",1500,"https://industrial.panasonic.com/ww/products/pt/film-cap-electroequip/models/ECQE1A683JB2",{"$f":"IF(L5766<=9.5,\"≤ \"&ROUNDUP(L5766*1,0)/1,\"≤\"&ROUNDUP(L5766*1,0)/1)","v":"≤ 8"},{"$f":"IF(M5766<=9,\"≤ \"&ROUNDUP(M5766*1,0)/1,\"≤\"&ROUNDUP(M5766*1,0)/1)","v":"≤ 6"},{"$f":"IF(N5766<=9.5,\"≤ \"&ROUNDUP(N5766*2,0)/2,\"≤\"&ROUNDUP(N5766*2,0)/2)","v":"≤ 9"},{"$f":"pana_film[[#This Row],[Body length / dia\n(mm)]]&\" x \"&pana_film[[#This Row],[Body width\n(mm)]]","v":"7.9 x 5.4"},"-","-"]
[null,"Std","dip","PET","No","ECQE(B)[AC]","ECQE1A564JBB",125,"AC",0.56000000000000005,"± 5",12.3,6.7,16.899999999999999,7.5,"Crimped lead wire type (Style D)","-40 to 85","Bulk (Bag packing)",100,"https://industrial.panasonic.com/ww/products/pt/film-cap-electroequip/models/ECQE1A564JBB","≤13","≤ 7","≤17",{"$f":"pana_film[[#This Row],[Body length / dia\n(mm)]]&\" x \"&pana_film[[#This Row],[Body width\n(mm)]]","v":"12.3 x 6.7"},"-","-"]
[null,"Std","dip","PET","No","ECQE(B)[AC]","ECQE1A564JB3",125,"AC",0.56000000000000005,"± 5",12.3,6.7,16.899999999999999,5,"Inner crimped lead wire type (Style B)","-40 to 85","25.4P crimped lead taping (ammo packing)",600,"https://industrial.panasonic.com/ww/products/pt/film-cap-electroequip/models/ECQE1A564JB3","≤13","≤ 7","≤17",{"$f":"pana_film[[#This Row],[Body length / dia\n(mm)]]&\" x \"&pana_film[[#This Row],[Body width\n(mm)]]","v":"12.3 x 6.7"},"-","-"]
[null,"Std","dip","PET","No","ECQE(F)[AC]","ECQE1A563KFZ",125,"AC",5.6000000000000001E-2,"±10",10.5,5.9,8.5,7.5,"Short cut lead wire type","-40 to 105 (85)","Bulk (Bag packing)",100,"https://industrial.panasonic.com/ww/products/pt/film-cap-electroequip/models/ECQE1A563KFZ","≤11","≤ 6","≤ 8.5",{"$f":"pana_film[[#This Row],[Body length / dia\n(mm)]]&\" x \"&pana_film[[#This Row],[Body width\n(mm)]]","v":"10.5 x 5.9"},"-","-"]
[null,"Std","dip","PET","No","ECQE(B)[AC]","ECQE1A563KBZ",125,"AC",5.6000000000000001E-2,"±10",7.9,5.0999999999999996,8,5,"Short cut lead wire type","-40 to 105 (85)","Bulk (Bag packing)",100,"https://industrial.panasonic.com/ww/products/pt/film-cap-electroequip/models/ECQE1A563KBZ","≤ 8","≤ 6","≤ 8",{"$f":"pana_film[[#This Row],[Body length / dia\n(mm)]]&\" x \"&pana_film[[#This Row],[Body width\n(mm)]]","v":"7.9 x 5.1"},"-","-"]
[null,"Std","dip","PET","No","ECQE(F)[AC]","ECQE1A563JFZ",125,"AC",5.6000000000000001E-2,"± 5",10.5,5.9,8.5,7.5,"Short cut lead wire type","-40 to 105 (85)","Bulk (Bag packing)",100,"https://industrial.panasonic.com/ww/products/pt/film-cap-electroequip/models/ECQE1A563JFZ","≤11","≤ 6","≤ 8.5",{"$f":"pana_film[[#This Row],[Body length / dia\n(mm)]]&\" x \"&pana_film[[#This Row],[Body width\n(mm)]]","v":"10.5 x 5.9"},"-","-"]
[null,"Std","dip","PET","No","ECQE(B)[AC]","ECQE1A475KBB",125,"AC",4.7,"±10",25.8,11.8,25.8,15,"Inner crimped lead wire type (Style B)","-40 to 85","Bulk (Bag packing)",100,"https://industrial.panasonic.com/ww/products/pt/film-cap-electroequip/models/ECQE1A475KBB","≤26","≤12","≤26",{"$f":"pana_film[[#This Row],[Body length / dia\n(mm)]]&\" x \"&pana_film[[#This Row],[Body width\n(mm)]]","v":"25.8 x 11.8"},"-","-"]
[null,"Std","dip","PET","No","ECQE(B)[AC]","ECQE1A475JBB",125,"AC",4.7,"± 5",25.8,11.8,25.8,15,"Inner crimped lead wire type (Style B)","-40 to 85","Bulk (Bag packing)",100,"https://industrial.panasonic.com/ww/products/pt/film-cap-electroequip/models/ECQE1A475JBB","≤26","≤12","≤26",{"$f":"pana_film[[#This Row],[Body length / dia\n(mm)]]&\" x \"&pana_film[[#This Row],[Body width\n(mm)]]","v":"25.8 x 11.8"},"-","-"]
[null,"Std","dip","PET","No","ECQE(B)[AC]","ECQE1A474RJB",125,"AC",0.47,"± 5",12.3,7,17.2,7.5,"Crimped lead wire type (Style D)","-40 to 85","15.0P crimped lead taping (ammo packing)",900,"https://industrial.panasonic.com/ww/products/pt/film-cap-electroequip/models/ECQE1A474RJB","≤13","≤ 7","≤17.5",{"$f":"pana_film[[#This Row],[Body length / dia\n(mm)]]&\" x \"&pana_film[[#This Row],[Body width\n(mm)]]","v":"12.3 x 7"},"-","-"]
[null,"Std","dip","PET","No","ECQE(B)[AC]","ECQE1A474KBZ",125,"AC",0.47,"±10",12.3,7,12.2,10,"Short cut lead wire type","-40 to 105 (85)","Bulk (Bag packing)",100,"https://industrial.panasonic.com/ww/products/pt/film-cap-electroequip/models/ECQE1A474KBZ","≤13","≤ 7","≤12.5",{"$f":"pana_film[[#This Row],[Body length / dia\n(mm)]]&\" x \"&pana_film[[#This Row],[Body width\n(mm)]]","v":"12.3 x 7"},"-","-"]
[null,"Std","dip","PET","No","ECQE(F)[AC]","ECQE1A474JFZ",125,"AC",0.47,"± 5",18.5,7.5,15.3,15,"Short cut lead wire type","-40 to 105 (85)","Bulk (Bag packing)",100,"https://industrial.panasonic.com/ww/products/pt/film-cap-electroequip/models/ECQE1A474JFZ","≤19","≤ 8","≤15.5",{"$f":"pana_film[[#This Row],[Body length / dia\n(mm)]]&\" x \"&pana_film[[#This Row],[Body width\n(mm)]]","v":"18.5 x 7.5"},"-","-"]
[null,"Std","dip","PET","No","ECQE(F)[AC]","ECQE1A474JF",125,"AC",0.47,"± 5",18.5,7.5,15.3,15,"Straight lead wire type","-40 to 85","Bulk (Bag packing)",100,"https://industrial.panasonic.com/ww/products/pt/film-cap-electroequip/models/ECQE1A474JF","≤19","≤ 8","≤15.5",{"$f":"pana_film[[#This Row],[Body length / dia\n(mm)]]&\" x \"&pana_film[[#This Row],[Body width\n(mm)]]","v":"18.5 x 7.5"},"-","-"]
[null,"Std","dip","PET","No","ECQE(B)[AC]","ECQE1A474JB3",125,"AC",0.47,"± 5",12.3,7,17.2,5,"Inner crimped lead wire type (Style B)","-40 to 85","25.4P crimped lead taping (ammo packing)",500,"https://industrial.panasonic.com/ww/products/pt/film-cap-electroequip/models/ECQE1A474JB3","≤13","≤ 7","≤17.5",{"$f":"pana_film[[#This Row],[Body length / dia\n(mm)]]&\" x \"&pana_film[[#This Row],[Body width\n(mm)]]","v":"12.3 x 7"},"-","-"]
[null,"Std","dip","PET","No","ECQE(T)[AC]","ECQE1A473KT6",125,"AC",4.7E-2,"±10",11,5.5,13,5,"Crimped lead wire type (Style D)","-40 to 85","12.7P crimped lead taping (ammo packing)",1500,"https://industrial.panasonic.com/ww/products/pt/film-cap-electroequip/models/ECQE1A473KT6","≤11","≤ 6","≤13",{"$f":"pana_film[[#This Row],[Body length / dia\n(mm)]]&\" x \"&pana_film[[#This Row],[Body width\n(mm)]]","v":"11 x 5.5"},"-","-"]
[null,"Std","dip","PET","No","ECQE(B)[AC]","ECQE1A473KB",125,"AC",4.7E-2,"±10",7.9,4.8,7.7,5,"Straight lead wire type","-40 to 85","Bulk (Bag packing)",100,"https://industrial.panasonic.com/ww/products/pt/film-cap-electroequip/models/ECQE1A473KB","≤ 8","≤ 5","≤ 8",{"$f":"pana_film[[#This Row],[Body length / dia\n(mm)]]&\" x \"&pana_film[[#This Row],[Body width\n(mm)]]","v":"7.9 x 4.8"},"-","-"]
[null,"Std","dip","PET","No","ECQE(T)[AC]","ECQE1A473JT",125,"AC",4.7E-2,"± 5",11,5.5,8,7.5,"Straight lead wire type","-40 to 85","Bulk (Bag packing)",100,"https://industrial.panasonic.com/ww/products/pt/film-cap-electroequip/models/ECQE1A473JT","≤11","≤ 6","≤ 8",{"$f":"pana_film[[#This Row],[Body length / dia\n(mm)]]&\" x \"&pana_film[[#This Row],[Body width\n(mm)]]","v":"11 x 5.5"},"-","-"]
[null,"Std","dip","PET","No","ECQE(B)[AC]","ECQE1A473JB2",125,"AC",4.7E-2,"± 5",7.9,4.8,7.7,5,"Straight lead wire type","-40 to 85","12.7P straight lead taping (ammo packing)",1500,"https://industrial.panasonic.com/ww/products/pt/film-cap-electroequip/models/ECQE1A473JB2","≤ 8","≤ 5","≤ 8",{"$f":"pana_film[[#This Row],[Body length / dia\n(mm)]]&\" x \"&pana_film[[#This Row],[Body width\n(mm)]]","v":"7.9 x 4.8"},"-","-"]
[null,"Std","dip","PET","No","ECQE(B)[AC]","ECQE1A395KB",125,"AC",3.9,"±10",25.8,10.6,19.7,22.5,"Straight lead wire type","-40 to 85","Bulk (Bag packing)",100,"https://industrial.panasonic.com/ww/products/pt/film-cap-electroequip/models/ECQE1A395KB","≤26","≤11","≤20",{"$f":"pana_film[[#This Row],[Body length / dia\n(mm)]]&\" x \"&pana_film[[#This Row],[Body width\n(mm)]]","v":"25.8 x 10.6"},"-","-"]
[null,"Std","dip","PET","No","ECQE(T)[AC]","ECQE1A394RJT",125,"AC",0.39,"± 5",19,7.4,18,7.5,"Inner crimped lead wire type (Style B)","-40 to 85","30.0P crimped lead taping (ammo packing)",400,"https://industrial.panasonic.com/ww/products/pt/film-cap-electroequip/models/ECQE1A394RJT","≤19","≤ 8","≤18",{"$f":"pana_film[[#This Row],[Body length / dia\n(mm)]]&\" x \"&pana_film[[#This Row],[Body width\n(mm)]]","v":"19 x 7.4"},"-","-"]
[null,"Std","dip","PET","No","ECQE(F)[AC]","ECQE1A394KF3",125,"AC",0.39,"±10",18.5,7.4,18,5,"Inner crimped lead wire type (Style B)","-40 to 85","25.4P crimped lead taping (ammo packing)",500,"https://industrial.panasonic.com/ww/products/pt/film-cap-electroequip/models/ECQE1A394KF3","≤19","≤ 8","≤18",{"$f":"pana_film[[#This Row],[Body length / dia\n(mm)]]&\" x \"&pana_film[[#This Row],[Body width\n(mm)]]","v":"18.5 x 7.4"},"-","-"]
[null,"Std","dip","PET","No","ECQE(B)[AC]","ECQE1A394KBB",125,"AC",0.39,"±10",12.3,6.4,16.600000000000001,7.5,"Crimped lead wire type (Style D)","-40 to 85","Bulk (Bag packing)",100,"https://industrial.panasonic.com/ww/products/pt/film-cap-electroequip/models/ECQE1A394KBB","≤13","≤ 7","≤17",{"$f":"pana_film[[#This Row],[Body length / dia\n(mm)]]&\" x \"&pana_film[[#This Row],[Body width\n(mm)]]","v":"12.3 x 6.4"},"-","-"]
[null,"Std","dip","PET","No","ECQE(F)[AC]","ECQE1A394JFW",125,"AC",0.39,"± 5",18.5,7.4,18,10,"Double crimped lead wire type (Style T)","-40 to 85","Bulk (Bag packing)",100,"https://industrial.panasonic.com/ww/products/pt/film-cap-electroequip/models/ECQE1A394JFW",{"$f":"IF(L5894<=9.5,\"≤ \"&ROUNDUP(L5894*1,0)/1,\"≤\"&ROUNDUP(L5894*1,0)/1)","v":"≤19"},{"$f":"IF(M5894<=9,\"≤ \"&ROUNDUP(M5894*1,0)/1,\"≤\"&ROUNDUP(M5894*1,0)/1)","v":"≤ 8"},{"$f":"IF(N5894<=9.5,\"≤ \"&ROUNDUP(N5894*2,0)/2,\"≤\"&ROUNDUP(N5894*2,0)/2)","v":"≤18"},{"$f":"pana_film[[#This Row],[Body length / dia\n(mm)]]&\" x \"&pana_film[[#This Row],[Body width\n(mm)]]","v":"18.5 x 7.4"},"-","-"]
[null,"Std","dip","PET","No","ECQE(F)[AC]","ECQE1A393RKF",125,"AC",3.9E-2,"±10",10.5,4.5,12.8,7.5,"Crimped lead wire type (Style D)","-40 to 85","15.0P crimped lead taping (ammo packing)",1000,"https://industrial.panasonic.com/ww/products/pt/film-cap-electroequip/models/ECQE1A393RKF","≤11","≤ 5","≤13",{"$f":"pana_film[[#This Row],[Body length / dia\n(mm)]]&\" x \"&pana_film[[#This Row],[Body width\n(mm)]]","v":"10.5 x 4.5"},"-","-"]
[null,"Std","dip","PET","No","ECQE(F)[AC]","ECQE1A393KFZ",125,"AC",3.9E-2,"±10",10.5,4.5,7.8,7.5,"Short cut lead wire type","-40 to 105 (85)","Bulk (Bag packing)",100,"https://industrial.panasonic.com/ww/products/pt/film-cap-electroequip/models/ECQE1A393KFZ","≤11","≤ 5","≤ 8",{"$f":"pana_film[[#This Row],[Body length / dia\n(mm)]]&\" x \"&pana_film[[#This Row],[Body width\n(mm)]]","v":"10.5 x 4.5"},"-","-"]
[null,"Std","dip","PET","No","ECQE(B)[AC]","ECQE1A393KBZ",125,"AC",3.9E-2,"±10",7.9,4.5,7.4,5,"Short cut lead wire type","-40 to 105 (85)","Bulk (Bag packing)",100,"https://industrial.panasonic.com/ww/products/pt/film-cap-electroequip/models/ECQE1A393KBZ","≤ 8","≤ 5","≤ 7.5",{"$f":"pana_film[[#This Row],[Body length / dia\n(mm)]]&\" x \"&pana_film[[#This Row],[Body width\n(mm)]]","v":"7.9 x 4.5"},"-","-"]
[null,"Std","dip","PET","No","ECQE(F)[AC]","ECQE1A393JF6",125,"AC",3.9E-2,"± 5",10.5,4.5,12.8,5,"Inner crimped lead wire type (Style B)","-40 to 85","12.7P crimped lead taping (ammo packing)",1000,"https://industrial.panasonic.com/ww/products/pt/film-cap-electroequip/models/ECQE1A393JF6","≤11","≤ 5","≤13",{"$f":"pana_film[[#This Row],[Body length / dia\n(mm)]]&\" x \"&pana_film[[#This Row],[Body width\n(mm)]]","v":"10.5 x 4.5"},"-","-"]
[null,"Std","dip","PET","No","ECQE(F)[AC]","ECQE1A393JF",125,"AC",3.9E-2,"± 5",10.5,4.5,7.8,7.5,"Straight lead wire type","-40 to 85","Bulk (Bag packing)",100,"https://industrial.panasonic.com/ww/products/pt/film-cap-electroequip/models/ECQE1A393JF","≤11","≤ 5","≤ 8",{"$f":"pana_film[[#This Row],[Body length / dia\n(mm)]]&\" x \"&pana_film[[#This Row],[Body width\n(mm)]]","v":"10.5 x 4.5"},"-","-"]
[null,"Std","dip","PET","No","ECQE(B)[AC]","ECQE1A335JB",125,"AC",3.3,"± 5",25.8,9.6,18.7,22.5,"Straight lead wire type","-40 to 85","Bulk (Bag packing)",100,"https://industrial.panasonic.com/ww/products/pt/film-cap-electroequip/models/ECQE1A335JB","≤26","≤10","≤19",{"$f":"pana_film[[#This Row],[Body length / dia\n(mm)]]&\" x \"&pana_film[[#This Row],[Body width\n(mm)]]","v":"25.8 x 9.6"},"-","-"]
[null,"Std","dip","PET","No","ECQE(B)[AC]","ECQE1A334RKB",125,"AC",0.33,"±10",12.3,5.9,16.2,7.5,"Crimped lead wire type (Style D)","-40 to 85","15.0P crimped lead taping (ammo packing)",1000,"https://industrial.panasonic.com/ww/products/pt/film-cap-electroequip/models/ECQE1A334RKB","≤13","≤ 6","≤16.5",{"$f":"pana_film[[#This Row],[Body length / dia\n(mm)]]&\" x \"&pana_film[[#This Row],[Body width\n(mm)]]","v":"12.3 x 5.9"},"-","-"]
[null,"Std","dip","PET","No","ECQE(F)[AC]","ECQE1A334KFB",125,"AC",0.33,"±10",18.5,6.9,17.5,10,"Inner crimped lead wire type (Style B)","-40 to 85","Bulk (Bag packing)",100,"https://industrial.panasonic.com/ww/products/pt/film-cap-electroequip/models/ECQE1A334KFB","≤19","≤ 7","≤17.5",{"$f":"pana_film[[#This Row],[Body length / dia\n(mm)]]&\" x \"&pana_film[[#This Row],[Body width\n(mm)]]","v":"18.5 x 6.9"},"-","-"]
[null,"Std","dip","PET","No","ECQE(T)[AC]","ECQE1A334JTB",125,"AC",0.33,"± 5",19,6.9,17.5,10,"Inner crimped lead wire type (Style B)","-40 to 85","Bulk (Bag packing)",100,"https://industrial.panasonic.com/ww/products/pt/film-cap-electroequip/models/ECQE1A334JTB","≤19","≤ 7","≤17.5",{"$f":"pana_film[[#This Row],[Body length / dia\n(mm)]]&\" x \"&pana_film[[#This Row],[Body width\n(mm)]]","v":"19 x 6.9"},"-","-"]
[null,"Std","dip","PET","No","ECQE(F)[AC]","ECQE1A334JF",125,"AC",0.33,"± 5",18.5,6.9,12.5,15,"Straight lead wire type","-40 to 85","Bulk (Bag packing)",100,"https://industrial.panasonic.com/ww/products/pt/film-cap-electroequip/models/ECQE1A334JF","≤19","≤ 7","≤12.5",{"$f":"pana_film[[#This Row],[Body length / dia\n(mm)]]&\" x \"&pana_film[[#This Row],[Body width\n(mm)]]","v":"18.5 x 6.9"},"-","-"]
[null,"Std","dip","PET","No","ECQE(B)[AC]","ECQE1A334JB3",125,"AC",0.33,"± 5",12.3,5.9,16.2,5,"Inner crimped lead wire type (Style B)","-40 to 85","25.4P crimped lead taping (ammo packing)",700,"https://industrial.panasonic.com/ww/products/pt/film-cap-electroequip/models/ECQE1A334JB3","≤13","≤ 6","≤16.5",{"$f":"pana_film[[#This Row],[Body length / dia\n(mm)]]&\" x \"&pana_film[[#This Row],[Body width\n(mm)]]","v":"12.3 x 5.9"},"-","-"]
[null,"Std","dip","PET","No","ECQE(F)[AC]","ECQE1A333KFZ",125,"AC",3.3000000000000002E-2,"±10",10.5,4.5,7.8,7.5,"Short cut lead wire type","-40 to 105 (85)","Bulk (Bag packing)",100,"https://industrial.panasonic.com/ww/products/pt/film-cap-electroequip/models/ECQE1A333KFZ","≤11","≤ 5","≤ 8",{"$f":"pana_film[[#This Row],[Body length / dia\n(mm)]]&\" x \"&pana_film[[#This Row],[Body width\n(mm)]]","v":"10.5 x 4.5"},"-","-"]
[null,"Std","dip","PET","No","ECQE(F)[AC]","ECQE1A333KFW",125,"AC",3.3000000000000002E-2,"±10",10.5,4.5,12.8,7.5,"Double crimped lead wire type (Style N)","-40 to 85","Bulk (Bag packing)",100,"https://industrial.panasonic.com/ww/products/pt/film-cap-electroequip/models/ECQE1A333KFW","≤11","≤ 5","≤13",{"$f":"pana_film[[#This Row],[Body length / dia\n(mm)]]&\" x \"&pana_film[[#This Row],[Body width\n(mm)]]","v":"10.5 x 4.5"},"-","-"]
[null,"Std","dip","PET","No","ECQE(F)[AC]","ECQE1A333JFZ",125,"AC",3.3000000000000002E-2,"± 5",10.5,4.5,7.8,7.5,"Short cut lead wire type","-40 to 105 (85)","Bulk (Bag packing)",100,"https://industrial.panasonic.com/ww/products/pt/film-cap-electroequip/models/ECQE1A333JFZ","≤11","≤ 5","≤ 8",{"$f":"pana_film[[#This Row],[Body length / dia\n(mm)]]&\" x \"&pana_film[[#This Row],[Body width\n(mm)]]","v":"10.5 x 4.5"},"-","-"]
[null,"Std","dip","PET","No","ECQE(B)[AC]","ECQE1A333JB",125,"AC",3.3000000000000002E-2,"± 5",7.9,4.3,7.2,5,"Straight lead wire type","-40 to 85","Bulk (Bag packing)",100,"https://industrial.panasonic.com/ww/products/pt/film-cap-electroequip/models/ECQE1A333JB","≤ 8","≤ 5","≤ 7.5",{"$f":"pana_film[[#This Row],[Body length / dia\n(mm)]]&\" x \"&pana_film[[#This Row],[Body width\n(mm)]]","v":"7.9 x 4.3"},"-","-"]
[null,"Std","dip","PET","No","ECQE(B)[AC]","ECQE1A275KBZ",125,"AC",2.7,"±10",20.8,10.9,18.2,17.5,"Short cut lead wire type","-40 to 105 (85)","Bulk (Bag packing)",100,"https://industrial.panasonic.com/ww/products/pt/film-cap-electroequip/models/ECQE1A275KBZ","≤21","≤11","≤18.5",{"$f":"pana_film[[#This Row],[Body length / dia\n(mm)]]&\" x \"&pana_film[[#This Row],[Body width\n(mm)]]","v":"20.8 x 10.9"},"-","-"]
[null,"Std","dip","PET","No","ECQE(F)[AC]","ECQE1A274RKF",125,"AC",0.27,"±10",18.5,6.3,17,7.5,"Inner crimped lead wire type (Style B)","-40 to 85","30.0P crimped lead taping (ammo packing)",500,"https://industrial.panasonic.com/ww/products/pt/film-cap-electroequip/models/ECQE1A274RKF","≤19","≤ 7","≤17",{"$f":"pana_film[[#This Row],[Body length / dia\n(mm)]]&\" x \"&pana_film[[#This Row],[Body width\n(mm)]]","v":"18.5 x 6.3"},"-","-"]
[null,"Std","dip","PET","No","ECQE(T)[AC]","ECQE1A274KT",125,"AC",0.27,"±10",19,6.3,12,15,"Straight lead wire type","-40 to 85","Bulk (Bag packing)",100,"https://industrial.panasonic.com/ww/products/pt/film-cap-electroequip/models/ECQE1A274KT","≤19","≤ 7","≤12",{"$f":"pana_film[[#This Row],[Body length / dia\n(mm)]]&\" x \"&pana_film[[#This Row],[Body width\n(mm)]]","v":"19 x 6.3"},"-","-"]
[null,"Std","dip","PET","No","ECQE(F)[AC]","ECQE1A274KFB",125,"AC",0.27,"±10",18.5,6.3,17,10,"Inner crimped lead wire type (Style B)","-40 to 85","Bulk (Bag packing)",100,"https://industrial.panasonic.com/ww/products/pt/film-cap-electroequip/models/ECQE1A274KFB","≤19","≤ 7","≤17",{"$f":"pana_film[[#This Row],[Body length / dia\n(mm)]]&\" x \"&pana_film[[#This Row],[Body width\n(mm)]]","v":"18.5 x 6.3"},"-","-"]
[null,"Std","dip","PET","No","ECQE(T)[AC]","ECQE1A274JT3",125,"AC",0.27,"± 5",19,6.3,17,5,"Crimped lead wire type (Style D)","-40 to 85","25.4P crimped lead taping (ammo packing)",600,"https://industrial.panasonic.com/ww/products/pt/film-cap-electroequip/models/ECQE1A274JT3","≤19","≤ 7","≤17",{"$f":"pana_film[[#This Row],[Body length / dia\n(mm)]]&\" x \"&pana_film[[#This Row],[Body width\n(mm)]]","v":"19 x 6.3"},"-","-"]
[null,"Std","dip","PET","No","ECQE(F)[AC]","ECQE1A274JFW",125,"AC",0.27,"± 5",18.5,6.3,17,10,"Double crimped lead wire type (Style T)","-40 to 85","Bulk (Bag packing)",100,"https://industrial.panasonic.com/ww/products/pt/film-cap-electroequip/models/ECQE1A274JFW","≤19","≤ 7","≤17",{"$f":"pana_film[[#This Row],[Body length / dia\n(mm)]]&\" x \"&pana_film[[#This Row],[Body width\n(mm)]]","v":"18.5 x 6.3"},"-","-"]
[null,"Std","dip","PET","No","ECQE(F)[AC]","ECQE1A273RKF",125,"AC",2.7E-2,"±10",10.5,4.4000000000000004,12.5,7.5,"Crimped lead wire type (Style D)","-40 to 85","15.0P crimped lead taping (ammo packing)",1000,"https://industrial.panasonic.com/ww/products/pt/film-cap-electroequip/models/ECQE1A273RKF","≤11","≤ 5","≤12.5",{"$f":"pana_film[[#This Row],[Body length / dia\n(mm)]]&\" x \"&pana_film[[#This Row],[Body width\n(mm)]]","v":"10.5 x 4.4"},"-","-"]
[null,"Std","dip","PET","No","ECQE(F)[AC]","ECQE1A273KFW",125,"AC",2.7E-2,"±10",10.5,4.4000000000000004,12.5,7.5,"Double crimped lead wire type (Style N)","-40 to 85","Bulk (Bag packing)",100,"https://industrial.panasonic.com/ww/products/pt/film-cap-electroequip/models/ECQE1A273KFW","≤11","≤ 5","≤12.5",{"$f":"pana_film[[#This Row],[Body length / dia\n(mm)]]&\" x \"&pana_film[[#This Row],[Body width\n(mm)]]","v":"10.5 x 4.4"},"-","-"]
[null,"Std","dip","PET","No","ECQE(F)[AC]","ECQE1A273KF",125,"AC",2.7E-2,"±10",10.5,4.4000000000000004,7.5,7.5,"Straight lead wire type","-40 to 85","Bulk (Bag packing)",100,"https://industrial.panasonic.com/ww/products/pt/film-cap-electroequip/models/ECQE1A273KF","≤11","≤ 5","≤ 7.5",{"$f":"pana_film[[#This Row],[Body length / dia\n(mm)]]&\" x \"&pana_film[[#This Row],[Body width\n(mm)]]","v":"10.5 x 4.4"},"-","-"]
[null,"Std","dip","PET","No","ECQE(F)[AC]","ECQE1A273JFB",125,"AC",2.7E-2,"± 5",10.5,4.4000000000000004,12.5,7.5,"Crimped lead wire type (Style D)","-40 to 85","Bulk (Bag packing)",100,"https://industrial.panasonic.com/ww/products/pt/film-cap-electroequip/models/ECQE1A273JFB","≤11","≤ 5","≤12.5",{"$f":"pana_film[[#This Row],[Body length / dia\n(mm)]]&\" x \"&pana_film[[#This Row],[Body width\n(mm)]]","v":"10.5 x 4.4"},"-","-"]
[null,"Std","dip","PET","No","ECQE(B)[AC]","ECQE1A273JBZ",125,"AC",2.7E-2,"± 5",7.9,4.3,7.2,5,"Short cut lead wire type","-40 to 105 (85)","Bulk (Bag packing)",100,"https://industrial.panasonic.com/ww/products/pt/film-cap-electroequip/models/ECQE1A273JBZ","≤ 8","≤ 5","≤ 7.5",{"$f":"pana_film[[#This Row],[Body length / dia\n(mm)]]&\" x \"&pana_film[[#This Row],[Body width\n(mm)]]","v":"7.9 x 4.3"},"-","-"]
[null,"Std","dip","PET","No","ECQE(B)[AC]","ECQE1A225KB",125,"AC",2.2000000000000002,"±10",20.8,9.6999999999999993,17.100000000000001,17.5,"Straight lead wire type","-40 to 85","Bulk (Bag packing)",100,"https://industrial.panasonic.com/ww/products/pt/film-cap-electroequip/models/ECQE1A225KB","≤21","≤10","≤17.5",{"$f":"pana_film[[#This Row],[Body length / dia\n(mm)]]&\" x \"&pana_film[[#This Row],[Body width\n(mm)]]","v":"20.8 x 9.7"},"-","-"]
[null,"Std","dip","PET","No","ECQE(F)[AC]","ECQE1A224RJF",125,"AC",0.22,"± 5",12.5,7.5,18.399999999999999,7.5,"Crimped lead wire type (Style D)","-40 to 85","15.0P crimped lead taping (ammo packing)",500,"https://industrial.panasonic.com/ww/products/pt/film-cap-electroequip/models/ECQE1A224RJF","≤13","≤ 8","≤18.5",{"$f":"pana_film[[#This Row],[Body length / dia\n(mm)]]&\" x \"&pana_film[[#This Row],[Body width\n(mm)]]","v":"12.5 x 7.5"},"-","-"]
[null,"Std","dip","PET","No","ECQE(B)[AC]","ECQE1A224RJB",125,"AC",0.22,"± 5",10.3,6.1,16,7.5,"Crimped lead wire type (Style D)","-40 to 85","15.0P crimped lead taping (ammo packing)",1000,"https://industrial.panasonic.com/ww/products/pt/film-cap-electroequip/models/ECQE1A224RJB","≤11","≤ 7","≤16",{"$f":"pana_film[[#This Row],[Body length / dia\n(mm)]]&\" x \"&pana_film[[#This Row],[Body width\n(mm)]]","v":"10.3 x 6.1"},"-","-"]
[null,"Std","dip","PET","No","ECQE(B)[AC]","ECQE1A224KBZ",125,"AC",0.22,"±10",10.3,6.1,11,7.5,"Short cut lead wire type","-40 to 105 (85)","Bulk (Bag packing)",100,"https://industrial.panasonic.com/ww/products/pt/film-cap-electroequip/models/ECQE1A224KBZ","≤11","≤ 7","≤11",{"$f":"pana_film[[#This Row],[Body length / dia\n(mm)]]&\" x \"&pana_film[[#This Row],[Body width\n(mm)]]","v":"10.3 x 6.1"},"-","-"]
[null,"Std","dip","PET","No","ECQE(T)[AC]","ECQE1A224JT6",125,"AC",0.22,"± 5",13,7.5,18.399999999999999,5,"Crimped lead wire type (Style D)","-40 to 85","25.4P crimped lead taping (ammo packing)",500,"https://industrial.panasonic.com/ww/products/pt/film-cap-electroequip/models/ECQE1A224JT6","≤13","≤ 8","≤18.5",{"$f":"pana_film[[#This Row],[Body length / dia\n(mm)]]&\" x \"&pana_film[[#This Row],[Body width\n(mm)]]","v":"13 x 7.5"},"-","-"]
[null,"Std","dip","PET","No","ECQE(F)[AC]","ECQE1A224JFW",125,"AC",0.22,"± 5",12.5,7.5,18.399999999999999,10,"Double crimped lead wire type (Style N)","-40 to 85","Bulk (Bag packing)",100,"https://industrial.panasonic.com/ww/products/pt/film-cap-electroequip/models/ECQE1A224JFW","≤13","≤ 8","≤18.5",{"$f":"pana_film[[#This Row],[Body length / dia\n(mm)]]&\" x \"&pana_film[[#This Row],[Body width\n(mm)]]","v":"12.5 x 7.5"},"-","-"]
[null,"Std","dip","PET","No","ECQE(B)[AC]","ECQE1A224JB2",125,"AC",0.22,"± 5",10.3,6.1,11,5,"Straight lead wire type","-40 to 85","12.7P straight lead taping (ammo packing)",1000,"https://industrial.panasonic.com/ww/products/pt/film-cap-electroequip/models/ECQE1A224JB2","≤11","≤ 7","≤11",{"$f":"pana_film[[#This Row],[Body length / dia\n(mm)]]&\" x \"&pana_film[[#This Row],[Body width\n(mm)]]","v":"10.3 x 6.1"},"-","-"]
[null,"Std","dip","PET","No","ECQE(F)[AC]","ECQE1A223KFW",125,"AC",2.1999999999999999E-2,"±10",10.5,4.4000000000000004,12.5,7.5,"Double crimped lead wire type (Style N)","-40 to 85","Bulk (Bag packing)",100,"https://industrial.panasonic.com/ww/products/pt/film-cap-electroequip/models/ECQE1A223KFW","≤11","≤ 5","≤12.5",{"$f":"pana_film[[#This Row],[Body length / dia\n(mm)]]&\" x \"&pana_film[[#This Row],[Body width\n(mm)]]","v":"10.5 x 4.4"},"-","-"]
[null,"Std","dip","PET","No","ECQE(F)[AC]","ECQE1A223KF",125,"AC",2.1999999999999999E-2,"±10",10.5,4.4000000000000004,7.5,7.5,"Straight lead wire type","-40 to 85","Bulk (Bag packing)",100,"https://industrial.panasonic.com/ww/products/pt/film-cap-electroequip/models/ECQE1A223KF","≤11","≤ 5","≤ 7.5",{"$f":"pana_film[[#This Row],[Body length / dia\n(mm)]]&\" x \"&pana_film[[#This Row],[Body width\n(mm)]]","v":"10.5 x 4.4"},"-","-"]
[null,"Std","dip","PET","No","ECQE(F)[AC]","ECQE1A223JFZ",125,"AC",2.1999999999999999E-2,"± 5",10.5,4.4000000000000004,7.5,7.5,"Short cut lead wire type","-40 to 105 (85)","Bulk (Bag packing)",100,"https://industrial.panasonic.com/ww/products/pt/film-cap-electroequip/models/ECQE1A223JFZ","≤11","≤ 5","≤ 7.5",{"$f":"pana_film[[#This Row],[Body length / dia\n(mm)]]&\" x \"&pana_film[[#This Row],[Body width\n(mm)]]","v":"10.5 x 4.4"},"-","-"]
[null,"Std","dip","PET","No","ECQE(F)[AC]","ECQE1A223JF6",125,"AC",2.1999999999999999E-2,"± 5",10.5,4.4000000000000004,12.5,5,"Inner crimped lead wire type (Style B)","-40 to 85","12.7P crimped lead taping (ammo packing)",1000,"https://industrial.panasonic.com/ww/products/pt/film-cap-electroequip/models/ECQE1A223JF6","≤11","≤ 5","≤12.5",{"$f":"pana_film[[#This Row],[Body length / dia\n(mm)]]&\" x \"&pana_film[[#This Row],[Body width\n(mm)]]","v":"10.5 x 4.4"},"-","-"]
[null,"Std","dip","PET","No","ECQE(B)[AC]","ECQE1A185KB3",125,"AC",1.8,"±10",20.8,8.6999999999999993,20.9,10,"Inner crimped lead wire type (Style B)","-40 to 85","25.4P crimped lead taping (ammo packing)",400,"https://industrial.panasonic.com/ww/products/pt/film-cap-electroequip/models/ECQE1A185KB3","≤21","≤ 9","≤21",{"$f":"pana_film[[#This Row],[Body length / dia\n(mm)]]&\" x \"&pana_film[[#This Row],[Body width\n(mm)]]","v":"20.8 x 8.7"},"-","-"]
[null,"Std","dip","PET","No","ECQE(T)[AC]","ECQE1A184RJT",125,"AC",0.18,"± 5",13,7,17.5,7.5,"Crimped lead wire type (Style D)","-40 to 85","15.0P crimped lead taping (ammo packing)",900,"https://industrial.panasonic.com/ww/products/pt/film-cap-electroequip/models/ECQE1A184RJT","≤13","≤ 7","≤17.5",{"$f":"pana_film[[#This Row],[Body length / dia\n(mm)]]&\" x \"&pana_film[[#This Row],[Body width\n(mm)]]","v":"13 x 7"},"-","-"]
[null,"Std","dip","PET","No","ECQE(B)[AC]","ECQE1A184RJB",125,"AC",0.18,"± 5",10.3,5.6,15.3,7.5,"Crimped lead wire type (Style D)","-40 to 85","15.0P crimped lead taping (ammo packing)",1000,"https://industrial.panasonic.com/ww/products/pt/film-cap-electroequip/models/ECQE1A184RJB","≤11","≤ 6","≤15.5",{"$f":"pana_film[[#This Row],[Body length / dia\n(mm)]]&\" x \"&pana_film[[#This Row],[Body width\n(mm)]]","v":"10.3 x 5.6"},"-","-"]
[null,"Std","dip","PET","No","ECQE(B)[AC]","ECQE1A184KBZ",125,"AC",0.18,"±10",10.3,5.6,10.3,7.5,"Short cut lead wire type","-40 to 105 (85)","Bulk (Bag packing)",100,"https://industrial.panasonic.com/ww/products/pt/film-cap-electroequip/models/ECQE1A184KBZ",{"$f":"IF(L6150<=9.5,\"≤ \"&ROUNDUP(L6150*1,0)/1,\"≤\"&ROUNDUP(L6150*1,0)/1)","v":"≤11"},{"$f":"IF(M6150<=9,\"≤ \"&ROUNDUP(M6150*1,0)/1,\"≤\"&ROUNDUP(M6150*1,0)/1)","v":"≤ 6"},{"$f":"IF(N6150<=9.5,\"≤ \"&ROUNDUP(N6150*2,0)/2,\"≤\"&ROUNDUP(N6150*2,0)/2)","v":"≤10.5"},{"$f":"pana_film[[#This Row],[Body length / dia\n(mm)]]&\" x \"&pana_film[[#This Row],[Body width\n(mm)]]","v":"10.3 x 5.6"},"-","-"]
[null,"Std","dip","PET","No","ECQE(T)[AC]","ECQE1A184JT",125,"AC",0.18,"± 5",13,7,12.5,10,"Straight lead wire type","-40 to 85","Bulk (Bag packing)",100,"https://industrial.panasonic.com/ww/products/pt/film-cap-electroequip/models/ECQE1A184JT","≤13","≤ 7","≤12.5",{"$f":"pana_film[[#This Row],[Body length / dia\n(mm)]]&\" x \"&pana_film[[#This Row],[Body width\n(mm)]]","v":"13 x 7"},"-","-"]
[null,"Std","dip","PET","No","ECQE(F)[AC]","ECQE1A184JFB",125,"AC",0.18,"± 5",12.5,7,17.5,10,"Crimped lead wire type (Style D)","-40 to 85","Bulk (Bag packing)",100,"https://industrial.panasonic.com/ww/products/pt/film-cap-electroequip/models/ECQE1A184JFB","≤13","≤ 7","≤17.5",{"$f":"pana_film[[#This Row],[Body length / dia\n(mm)]]&\" x \"&pana_film[[#This Row],[Body width\n(mm)]]","v":"12.5 x 7"},"-","-"]
[null,"Std","dip","PET","No","ECQE(T)[AC]","ECQE1A183RKT",125,"AC",1.7999999999999999E-2,"±10",11,4.4000000000000004,12.5,7.5,"Crimped lead wire type (Style D)","-40 to 85","15.0P crimped lead taping (ammo packing)",1700,"https://industrial.panasonic.com/ww/products/pt/film-cap-electroequip/models/ECQE1A183RKT","≤11","≤ 5","≤12.5",{"$f":"pana_film[[#This Row],[Body length / dia\n(mm)]]&\" x \"&pana_film[[#This Row],[Body width\n(mm)]]","v":"11 x 4.4"},"-","-"]
[null,"Std","dip","PET","No","ECQE(F)[AC]","ECQE1A183KFB",125,"AC",1.7999999999999999E-2,"±10",10.5,4.4000000000000004,12.5,7.5,"Crimped lead wire type (Style D)","-40 to 85","Bulk (Bag packing)",100,"https://industrial.panasonic.com/ww/products/pt/film-cap-electroequip/models/ECQE1A183KFB","≤11","≤ 5","≤12.5",{"$f":"pana_film[[#This Row],[Body length / dia\n(mm)]]&\" x \"&pana_film[[#This Row],[Body width\n(mm)]]","v":"10.5 x 4.4"},"-","-"]
[null,"Std","dip","PET","No","ECQE(B)[AC]","ECQE1A183KB2",125,"AC",1.7999999999999999E-2,"±10",7.9,4.3,7.2,5,"Straight lead wire type","-40 to 85","12.7P straight lead taping (ammo packing)",2000,"https://industrial.panasonic.com/ww/products/pt/film-cap-electroequip/models/ECQE1A183KB2","≤ 8","≤ 5","≤ 7.5",{"$f":"pana_film[[#This Row],[Body length / dia\n(mm)]]&\" x \"&pana_film[[#This Row],[Body width\n(mm)]]","v":"7.9 x 4.3"},"-","-"]
[null,"Std","dip","PET","No","ECQE(F)[AC]","ECQE1A183JFB",125,"AC",1.7999999999999999E-2,"± 5",10.5,4.4000000000000004,12.5,7.5,"Crimped lead wire type (Style D)","-40 to 85","Bulk (Bag packing)",100,"https://industrial.panasonic.com/ww/products/pt/film-cap-electroequip/models/ECQE1A183JFB","≤11","≤ 5","≤12.5",{"$f":"pana_film[[#This Row],[Body length / dia\n(mm)]]&\" x \"&pana_film[[#This Row],[Body width\n(mm)]]","v":"10.5 x 4.4"},"-","-"]
[null,"Std","dip","PET","No","ECQE(B)[AC]","ECQE1A183JBZ",125,"AC",1.7999999999999999E-2,"± 5",7.9,4.3,7.2,5,"Short cut lead wire type","-40 to 105 (85)","Bulk (Bag packing)",100,"https://industrial.panasonic.com/ww/products/pt/film-cap-electroequip/models/ECQE1A183JBZ","≤ 8","≤ 5","≤ 7.5",{"$f":"pana_film[[#This Row],[Body length / dia\n(mm)]]&\" x \"&pana_film[[#This Row],[Body width\n(mm)]]","v":"7.9 x 4.3"},"-","-"]
[null,"Std","dip","PET","No","ECQE(B)[AC]","ECQE1A155JBZ",125,"AC",1.5,"± 5",20.8,8,15.1,17.5,"Short cut lead wire type","-40 to 105 (85)","Bulk (Bag packing)",100,"https://industrial.panasonic.com/ww/products/pt/film-cap-electroequip/models/ECQE1A155JBZ","≤21","≤ 8","≤15.5",{"$f":"pana_film[[#This Row],[Body length / dia\n(mm)]]&\" x \"&pana_film[[#This Row],[Body width\n(mm)]]","v":"20.8 x 8"},"-","-"]
[null,"Std","dip","PET","No","ECQE(T)[AC]","ECQE1A154RJT",125,"AC",0.15,"± 5",13,6.5,17,7.5,"Crimped lead wire type (Style D)","-40 to 85","15.0P crimped lead taping (ammo packing)",1000,"https://industrial.panasonic.com/ww/products/pt/film-cap-electroequip/models/ECQE1A154RJT","≤13","≤ 7","≤17",{"$f":"pana_film[[#This Row],[Body length / dia\n(mm)]]&\" x \"&pana_film[[#This Row],[Body width\n(mm)]]","v":"13 x 6.5"},"-","-"]
[null,"Std","dip","PET","No","ECQE(F)[AC]","ECQE1A154KFW",125,"AC",0.15,"±10",12.5,6.5,17,10,"Double crimped lead wire type (Style N)","-40 to 85","Bulk (Bag packing)",100,"https://industrial.panasonic.com/ww/products/pt/film-cap-electroequip/models/ECQE1A154KFW","≤13","≤ 7","≤17",{"$f":"pana_film[[#This Row],[Body length / dia\n(mm)]]&\" x \"&pana_film[[#This Row],[Body width\n(mm)]]","v":"12.5 x 6.5"},"-","-"]
[null,"Std","dip","PET","No","ECQE(B)[AC]","ECQE1A154KBZ",125,"AC",0.15,"±10",10.3,5.7,8.9,7.5,"Short cut lead wire type","-40 to 105 (85)","Bulk (Bag packing)",100,"https://industrial.panasonic.com/ww/products/pt/film-cap-electroequip/models/ECQE1A154KBZ","≤11","≤ 6","≤ 9",{"$f":"pana_film[[#This Row],[Body length / dia\n(mm)]]&\" x \"&pana_film[[#This Row],[Body width\n(mm)]]","v":"10.3 x 5.7"},"-","-"]
[null,"Std","dip","PET","No","ECQE(B)[AC]","ECQE1A154KB2",125,"AC",0.15,"±10",10.3,5.7,8.9,5,"Straight lead wire type","-40 to 85","12.7P straight lead taping (ammo packing)",1500,"https://industrial.panasonic.com/ww/products/pt/film-cap-electroequip/models/ECQE1A154KB2","≤11","≤ 6","≤ 9",{"$f":"pana_film[[#This Row],[Body length / dia\n(mm)]]&\" x \"&pana_film[[#This Row],[Body width\n(mm)]]","v":"10.3 x 5.7"},"-","-"]
[null,"Std","dip","PET","No","ECQE(F)[AC]","ECQE1A154JF",125,"AC",0.15,"± 5",12.5,6.5,12,10,"Straight lead wire type","-40 to 85","Bulk (Bag packing)",100,"https://industrial.panasonic.com/ww/products/pt/film-cap-electroequip/models/ECQE1A154JF","≤13","≤ 7","≤12",{"$f":"pana_film[[#This Row],[Body length / dia\n(mm)]]&\" x \"&pana_film[[#This Row],[Body width\n(mm)]]","v":"12.5 x 6.5"},"-","-"]
[null,"Std","dip","PET","No","ECQE(F)[AC]","ECQE1A153RKF",125,"AC",1.4999999999999999E-2,"±10",10.5,4.4000000000000004,12.5,7.5,"Crimped lead wire type (Style D)","-40 to 85","15.0P crimped lead taping (ammo packing)",1000,"https://industrial.panasonic.com/ww/products/pt/film-cap-electroequip/models/ECQE1A153RKF","≤11","≤ 5","≤12.5",{"$f":"pana_film[[#This Row],[Body length / dia\n(mm)]]&\" x \"&pana_film[[#This Row],[Body width\n(mm)]]","v":"10.5 x 4.4"},"-","-"]
[null,"Std","dip","PET","No","ECQE(T)[AC]","ECQE1A153KTB",125,"AC",1.4999999999999999E-2,"±10",11,4.4000000000000004,12.5,7.5,"Crimped lead wire type (Style D)","-40 to 85","Bulk (Bag packing)",100,"https://industrial.panasonic.com/ww/products/pt/film-cap-electroequip/models/ECQE1A153KTB","≤11","≤ 5","≤12.5",{"$f":"pana_film[[#This Row],[Body length / dia\n(mm)]]&\" x \"&pana_film[[#This Row],[Body width\n(mm)]]","v":"11 x 4.4"},"-","-"]
[null,"Std","dip","PET","No","ECQE(B)[AC]","ECQE1A153KBZ",125,"AC",1.4999999999999999E-2,"±10",7.9,4.2,7.1,5,"Short cut lead wire type","-40 to 105 (85)","Bulk (Bag packing)",100,"https://industrial.panasonic.com/ww/products/pt/film-cap-electroequip/models/ECQE1A153KBZ","≤ 8","≤ 5","≤ 7.5",{"$f":"pana_film[[#This Row],[Body length / dia\n(mm)]]&\" x \"&pana_film[[#This Row],[Body width\n(mm)]]","v":"7.9 x 4.2"},"-","-"]
[null,"Std","dip","PET","No","ECQE(F)[AC]","ECQE1A153JF6",125,"AC",1.4999999999999999E-2,"± 5",10.5,4.4000000000000004,12.5,5,"Inner crimped lead wire type (Style B)","-40 to 85","12.7P crimped lead taping (ammo packing)",1000,"https://industrial.panasonic.com/ww/products/pt/film-cap-electroequip/models/ECQE1A153JF6","≤11","≤ 5","≤12.5",{"$f":"pana_film[[#This Row],[Body length / dia\n(mm)]]&\" x \"&pana_film[[#This Row],[Body width\n(mm)]]","v":"10.5 x 4.4"},"-","-"]
[null,"Std","dip","PET","No","ECQE(B)[AC]","ECQE1A153JB2",125,"AC",1.4999999999999999E-2,"± 5",7.9,4.2,7.1,5,"Straight lead wire type","-40 to 85","12.7P straight lead taping (ammo packing)",2000,"https://industrial.panasonic.com/ww/products/pt/film-cap-electroequip/models/ECQE1A153JB2","≤ 8","≤ 5","≤ 7.5",{"$f":"pana_film[[#This Row],[Body length / dia\n(mm)]]&\" x \"&pana_film[[#This Row],[Body width\n(mm)]]","v":"7.9 x 4.2"},"-","-"]
[null,"Std","dip","PET","No","ECQE(B)[AC]","ECQE1A125KB",125,"AC",1.2,"±10",20.8,7.1,14.1,17.5,"Straight lead wire type","-40 to 85","Bulk (Bag packing)",100,"https://industrial.panasonic.com/ww/products/pt/film-cap-electroequip/models/ECQE1A125KB","≤21","≤ 8","≤14.5",{"$f":"pana_film[[#This Row],[Body length / dia\n(mm)]]&\" x \"&pana_film[[#This Row],[Body width\n(mm)]]","v":"20.8 x 7.1"},"-","-"]
[null,"Std","dip","PET","No","ECQE(B)[AC]","ECQE1A125JB3",125,"AC",1.2,"± 5",20.8,7.1,19.100000000000001,10,"Inner crimped lead wire type (Style B)","-40 to 85","25.4P crimped lead taping (ammo packing)",500,"https://industrial.panasonic.com/ww/products/pt/film-cap-electroequip/models/ECQE1A125JB3","≤21","≤ 8","≤19.5",{"$f":"pana_film[[#This Row],[Body length / dia\n(mm)]]&\" x \"&pana_film[[#This Row],[Body width\n(mm)]]","v":"20.8 x 7.1"},"-","-"]
[null,"Std","dip","PET","No","ECQE(T)[AC]","ECQE1A124KT6",125,"AC",0.12,"±10",13,5.9,16.5,5,"Crimped lead wire type (Style D)","-40 to 85","25.4P crimped lead taping (ammo packing)",600,"https://industrial.panasonic.com/ww/products/pt/film-cap-electroequip/models/ECQE1A124KT6",{"$f":"IF(L6278<=9.5,\"≤ \"&ROUNDUP(L6278*1,0)/1,\"≤\"&ROUNDUP(L6278*1,0)/1)","v":"≤13"},{"$f":"IF(M6278<=9,\"≤ \"&ROUNDUP(M6278*1,0)/1,\"≤\"&ROUNDUP(M6278*1,0)/1)","v":"≤ 6"},{"$f":"IF(N6278<=9.5,\"≤ \"&ROUNDUP(N6278*2,0)/2,\"≤\"&ROUNDUP(N6278*2,0)/2)","v":"≤16.5"},{"$f":"pana_film[[#This Row],[Body length / dia\n(mm)]]&\" x \"&pana_film[[#This Row],[Body width\n(mm)]]","v":"13 x 5.9"},"-","-"]
[null,"Std","dip","PET","No","ECQE(B)[AC]","ECQE1A124KBZ",125,"AC",0.12,"±10",10.3,5.3,8.4,7.5,"Short cut lead wire type","-40 to 105 (85)","Bulk (Bag packing)",100,"https://industrial.panasonic.com/ww/products/pt/film-cap-electroequip/models/ECQE1A124KBZ","≤11","≤ 6","≤ 8.5",{"$f":"pana_film[[#This Row],[Body length / dia\n(mm)]]&\" x \"&pana_film[[#This Row],[Body width\n(mm)]]","v":"10.3 x 5.3"},"-","-"]
[null,"Std","dip","PET","No","ECQE(T)[AC]","ECQE1A124JT6",125,"AC",0.12,"± 5",13,5.9,16.5,5,"Crimped lead wire type (Style D)","-40 to 85","25.4P crimped lead taping (ammo packing)",600,"https://industrial.panasonic.com/ww/products/pt/film-cap-electroequip/models/ECQE1A124JT6","≤13","≤ 6","≤16.5",{"$f":"pana_film[[#This Row],[Body length / dia\n(mm)]]&\" x \"&pana_film[[#This Row],[Body width\n(mm)]]","v":"13 x 5.9"},"-","-"]
[null,"Std","dip","PET","No","ECQE(F)[AC]","ECQE1A124JF6",125,"AC",0.12,"± 5",12.5,5.9,16.5,5,"Inner crimped lead wire type (Style B)","-40 to 85","12.7P crimped lead taping (ammo packing)",500,"https://industrial.panasonic.com/ww/products/pt/film-cap-electroequip/models/ECQE1A124JF6","≤13","≤ 6","≤16.5",{"$f":"pana_film[[#This Row],[Body length / dia\n(mm)]]&\" x \"&pana_film[[#This Row],[Body width\n(mm)]]","v":"12.5 x 5.9"},"-","-"]
[null,"Std","dip","PET","No","ECQE(F)[AC]","ECQE1A123RJF",125,"AC",1.2E-2,"± 5",10.5,4.4000000000000004,12.5,7.5,"Crimped lead wire type (Style D)","-40 to 85","15.0P crimped lead taping (ammo packing)",1000,"https://industrial.panasonic.com/ww/products/pt/film-cap-electroequip/models/ECQE1A123RJF","≤11","≤ 5","≤12.5",{"$f":"pana_film[[#This Row],[Body length / dia\n(mm)]]&\" x \"&pana_film[[#This Row],[Body width\n(mm)]]","v":"10.5 x 4.4"},"-","-"]
[null,"Std","dip","PET","No","ECQE(T)[AC]","ECQE1A123KT",125,"AC",1.2E-2,"±10",11,4.4000000000000004,7.5,7.5,"Straight lead wire type","-40 to 85","Bulk (Bag packing)",100,"https://industrial.panasonic.com/ww/products/pt/film-cap-electroequip/models/ECQE1A123KT","≤11","≤ 5","≤ 7.5",{"$f":"pana_film[[#This Row],[Body length / dia\n(mm)]]&\" x \"&pana_film[[#This Row],[Body width\n(mm)]]","v":"11 x 4.4"},"-","-"]
[null,"Std","dip","PET","No","ECQE(B)[AC]","ECQE1A123KB2",125,"AC",1.2E-2,"±10",7.9,4.2,7.1,5,"Straight lead wire type","-40 to 85","12.7P straight lead taping (ammo packing)",2000,"https://industrial.panasonic.com/ww/products/pt/film-cap-electroequip/models/ECQE1A123KB2","≤ 8","≤ 5","≤ 7.5",{"$f":"pana_film[[#This Row],[Body length / dia\n(mm)]]&\" x \"&pana_film[[#This Row],[Body width\n(mm)]]","v":"7.9 x 4.2"},"-","-"]
[null,"Std","dip","PET","No","ECQE(T)[AC]","ECQE1A123JT6",125,"AC",1.2E-2,"± 5",11,4.4000000000000004,12.5,5,"Crimped lead wire type (Style D)","-40 to 85","12.7P crimped lead taping (ammo packing)",1500,"https://industrial.panasonic.com/ww/products/pt/film-cap-electroequip/models/ECQE1A123JT6","≤11","≤ 5","≤12.5",{"$f":"pana_film[[#This Row],[Body length / dia\n(mm)]]&\" x \"&pana_film[[#This Row],[Body width\n(mm)]]","v":"11 x 4.4"},"-","-"]
[null,"Std","dip","PET","No","ECQE(B)[AC]","ECQE1A123JBZ",125,"AC",1.2E-2,"± 5",7.9,4.2,7.1,5,"Short cut lead wire type","-40 to 105 (85)","Bulk (Bag packing)",100,"https://industrial.panasonic.com/ww/products/pt/film-cap-electroequip/models/ECQE1A123JBZ","≤ 8","≤ 5","≤ 7.5",{"$f":"pana_film[[#This Row],[Body length / dia\n(mm)]]&\" x \"&pana_film[[#This Row],[Body width\n(mm)]]","v":"7.9 x 4.2"},"-","-"]
[null,"Std","dip","PET","No","ECQE(B)[AC]","ECQE1A105JBB",125,"AC",1,"± 5",15.3,7,19,7.5,"Inner crimped lead wire type (Style B)","-40 to 85","Bulk (Bag packing)",100,"https://industrial.panasonic.com/ww/products/pt/film-cap-electroequip/models/ECQE1A105JBB","≤16","≤ 7","≤19",{"$f":"pana_film[[#This Row],[Body length / dia\n(mm)]]&\" x \"&pana_film[[#This Row],[Body width\n(mm)]]","v":"15.3 x 7"},"-","-"]
[null,"Std","dip","PET","No","ECQE(T)[AC]","ECQE1A104RKT",125,"AC",0.1,"±10",11,6.5,16.8,7.5,"Crimped lead wire type (Style D)","-40 to 85","15.0P crimped lead taping (ammo packing)",1100,"https://industrial.panasonic.com/ww/products/pt/film-cap-electroequip/models/ECQE1A104RKT","≤11","≤ 7","≤17",{"$f":"pana_film[[#This Row],[Body length / dia\n(mm)]]&\" x \"&pana_film[[#This Row],[Body width\n(mm)]]","v":"11 x 6.5"},"-","-"]
[null,"Std","dip","PET","No","ECQE(T)[AC]","ECQE1A104KTB",125,"AC",0.1,"±10",11,6.5,16.8,7.5,"Crimped lead wire type (Style D)","-40 to 85","Bulk (Bag packing)",100,"https://industrial.panasonic.com/ww/products/pt/film-cap-electroequip/models/ECQE1A104KTB","≤11","≤ 7","≤17",{"$f":"pana_film[[#This Row],[Body length / dia\n(mm)]]&\" x \"&pana_film[[#This Row],[Body width\n(mm)]]","v":"11 x 6.5"},"-","-"]
[null,"Std","dip","PET","No","ECQE(B)[AC]","ECQE1A104KBB",125,"AC",0.1,"±10",10.3,5.0999999999999996,12.7,7.5,"Crimped lead wire type (Style D)","-40 to 85","Bulk (Bag packing)",100,"https://industrial.panasonic.com/ww/products/pt/film-cap-electroequip/models/ECQE1A104KBB","≤11","≤ 6","≤13",{"$f":"pana_film[[#This Row],[Body length / dia\n(mm)]]&\" x \"&pana_film[[#This Row],[Body width\n(mm)]]","v":"10.3 x 5.1"},"-","-"]
[null,"Std","dip","PET","No","ECQE(B)[AC]","ECQE1A104KB",125,"AC",0.1,"±10",10.3,5.0999999999999996,7.7,7.5,"Straight lead wire type","-40 to 85","Bulk (Bag packing)",100,"https://industrial.panasonic.com/ww/products/pt/film-cap-electroequip/models/ECQE1A104KB","≤11","≤ 6","≤ 8",{"$f":"pana_film[[#This Row],[Body length / dia\n(mm)]]&\" x \"&pana_film[[#This Row],[Body width\n(mm)]]","v":"10.3 x 5.1"},"-","-"]
[null,"Std","dip","PET","No","ECQE(F)[AC]","ECQE1A104JFW",125,"AC",0.1,"± 5",10.5,6.5,16.8,7.5,"Double crimped lead wire type (Style N)","-40 to 85","Bulk (Bag packing)",100,"https://industrial.panasonic.com/ww/products/pt/film-cap-electroequip/models/ECQE1A104JFW","≤11","≤ 7","≤17",{"$f":"pana_film[[#This Row],[Body length / dia\n(mm)]]&\" x \"&pana_film[[#This Row],[Body width\n(mm)]]","v":"10.5 x 6.5"},"-","-"]
[null,"Std","dip","PET","No","ECQE(B)[AC]","ECQE1A104JB6",125,"AC",0.1,"± 5",10.3,5.0999999999999996,12.7,5,"Inner crimped lead wire type (Style B)","-40 to 85","12.7P crimped lead taping (ammo packing)",1500,"https://industrial.panasonic.com/ww/products/pt/film-cap-electroequip/models/ECQE1A104JB6","≤11","≤ 6","≤13",{"$f":"pana_film[[#This Row],[Body length / dia\n(mm)]]&\" x \"&pana_film[[#This Row],[Body width\n(mm)]]","v":"10.3 x 5.1"},"-","-"]
[null,"Std","dip","PET","No","ECQE(T)[AC]","ECQE1A103KTB",125,"AC",0.01,"±10",11,4.5,12.5,7.5,"Crimped lead wire type (Style D)","-40 to 85","Bulk (Bag packing)",100,"https://industrial.panasonic.com/ww/products/pt/film-cap-electroequip/models/ECQE1A103KTB","≤11","≤ 5","≤12.5",{"$f":"pana_film[[#This Row],[Body length / dia\n(mm)]]&\" x \"&pana_film[[#This Row],[Body width\n(mm)]]","v":"11 x 4.5"},"-","-"]
[null,"Std","dip","PET","No","ECQE(B)[AC]","ECQE1A103KB2",125,"AC",0.01,"±10",7.9,4.2,7.1,5,"Straight lead wire type","-40 to 85","12.7P straight lead taping (ammo packing)",2000,"https://industrial.panasonic.com/ww/products/pt/film-cap-electroequip/models/ECQE1A103KB2","≤ 8","≤ 5","≤ 7.5",{"$f":"pana_film[[#This Row],[Body length / dia\n(mm)]]&\" x \"&pana_film[[#This Row],[Body width\n(mm)]]","v":"7.9 x 4.2"},"-","-"]
[null,"Std","dip","PET","No","ECQE(T)[AC]","ECQE1A103JT6",125,"AC",0.01,"± 5",11,4.5,12.5,5,"Crimped lead wire type (Style D)","-40 to 85","12.7P crimped lead taping (ammo packing)",1500,"https://industrial.panasonic.com/ww/products/pt/film-cap-electroequip/models/ECQE1A103JT6","≤11","≤ 5","≤12.5",{"$f":"pana_film[[#This Row],[Body length / dia\n(mm)]]&\" x \"&pana_film[[#This Row],[Body width\n(mm)]]","v":"11 x 4.5"},"-","-"]
[null,"Std","dip","PET","No","ECQE(B)[AC]","ECQE1A103JBZ",125,"AC",0.01,"± 5",7.9,4.2,7.1,5,"Short cut lead wire type","-40 to 105 (85)","Bulk (Bag packing)",100,"https://industrial.panasonic.com/ww/products/pt/film-cap-electroequip/models/ECQE1A103JBZ","≤ 8","≤ 5","≤ 7.5",{"$f":"pana_film[[#This Row],[Body length / dia\n(mm)]]&\" x \"&pana_film[[#This Row],[Body width\n(mm)]]","v":"7.9 x 4.2"},"-","-"]
[null,"Std","dip","PET","No","ECQE(F)[DC]","ECQE1825KF",100,"DC",8.1999999999999993,"±10",26,10,20,22.5,"Straight lead wire type","-40 to 105 (85)","Bulk (Bag packing)",100,"https://industrial.panasonic.com/ww/products/pt/film-cap-electroequip/models/ECQE1825KF","≤26","≤10","≤20",{"$f":"pana_film[[#This Row],[Body length / dia\n(mm)]]&\" x \"&pana_film[[#This Row],[Body width\n(mm)]]","v":"26 x 10"},"-","-"]
[null,"Std","dip","PET","No","ECQE(F)[DC]","ECQE1824JFW",100,"DC",0.82,"± 5",12,6,18.5,10,"Double crimped lead wire type (Style N)","-40 to 105 (85)","Bulk (Bag packing)",100,"https://industrial.panasonic.com/ww/products/pt/film-cap-electroequip/models/ECQE1824JFW","≤12","≤ 6","≤18.5",{"$f":"pana_film[[#This Row],[Body length / dia\n(mm)]]&\" x \"&pana_film[[#This Row],[Body width\n(mm)]]","v":"12 x 6"},"-","-"]
[null,"Std","dip","PET","No","ECQE(F)[DC]","ECQE1685JFW",100,"DC",6.8,"± 5",26,9,23.5,15,"Double crimped lead wire type (Style T)","-40 to 105 (85)","Bulk (Bag packing)",100,"https://industrial.panasonic.com/ww/products/pt/film-cap-electroequip/models/ECQE1685JFW","≤26","≤ 9","≤23.5",{"$f":"pana_film[[#This Row],[Body length / dia\n(mm)]]&\" x \"&pana_film[[#This Row],[Body width\n(mm)]]","v":"26 x 9"},"-","-"]
[null,"Std","dip","PET","No","ECQE(F)[DC]","ECQE1684KFW",100,"DC",0.68,"±10",12,6,16.899999999999999,10,"Double crimped lead wire type (Style N)","-40 to 105 (85)","Bulk (Bag packing)",100,"https://industrial.panasonic.com/ww/products/pt/film-cap-electroequip/models/ECQE1684KFW","≤12","≤ 6","≤17",{"$f":"pana_film[[#This Row],[Body length / dia\n(mm)]]&\" x \"&pana_film[[#This Row],[Body width\n(mm)]]","v":"12 x 6"},"-","-"]
[null,"Std","dip","PET","No","ECQE(F)[DC]","ECQE1684JF9",100,"DC",0.68,"± 5",12,6,16.899999999999999,5,"Crimped lead wire type (Style D)","-40 to 105 (85)","Reel packing (radial leaded)",1000,"https://industrial.panasonic.com/ww/products/pt/film-cap-electroequip/models/ECQE1684JF9","≤12","≤ 6","≤17",{"$f":"pana_film[[#This Row],[Body length / dia\n(mm)]]&\" x \"&pana_film[[#This Row],[Body width\n(mm)]]","v":"12 x 6"},"-","-"]
[null,"Std","dip","PET","No","ECQE(F)[DC]","ECQE1564KFW",100,"DC",0.56000000000000005,"±10",12,5.5,15.9,10,"Double crimped lead wire type (Style N)","-40 to 105 (85)","Bulk (Bag packing)",100,"https://industrial.panasonic.com/ww/products/pt/film-cap-electroequip/models/ECQE1564KFW","≤12","≤ 6","≤16",{"$f":"pana_film[[#This Row],[Body length / dia\n(mm)]]&\" x \"&pana_film[[#This Row],[Body width\n(mm)]]","v":"12 x 5.5"},"-","-"]
[null,"Std","dip","PET","No","ECQE(F)[DC]","ECQE1564KF3",100,"DC",0.56000000000000005,"±10",12,5.5,15.9,5,"Crimped lead wire type (Style D)","-40 to 105 (85)","12.7P crimped lead taping (ammo packing)",500,"https://industrial.panasonic.com/ww/products/pt/film-cap-electroequip/models/ECQE1564KF3","≤12","≤ 6","≤16",{"$f":"pana_film[[#This Row],[Body length / dia\n(mm)]]&\" x \"&pana_film[[#This Row],[Body width\n(mm)]]","v":"12 x 5.5"},"-","-"]
[null,"Std","dip","PET","No","ECQE(F)[DC]","ECQE1475KFB",100,"DC",4.7,"±10",26,7.5,22,15,"Inner crimped lead wire type (Style B)","-40 to 105 (85)","Bulk (Bag packing)",100,"https://industrial.panasonic.com/ww/products/pt/film-cap-electroequip/models/ECQE1475KFB","≤26","≤ 8","≤22",{"$f":"pana_film[[#This Row],[Body length / dia\n(mm)]]&\" x \"&pana_film[[#This Row],[Body width\n(mm)]]","v":"26 x 7.5"},"-","-"]
[null,"Std","dip","PET","No","ECQE(F)[DC]","ECQE1395JFB",100,"DC",3.9,"± 5",26,7,21.4,15,"Inner crimped lead wire type (Style B)","-40 to 105 (85)","Bulk (Bag packing)",100,"https://industrial.panasonic.com/ww/products/pt/film-cap-electroequip/models/ECQE1395JFB","≤26","≤ 7","≤21.5",{"$f":"pana_film[[#This Row],[Body length / dia\n(mm)]]&\" x \"&pana_film[[#This Row],[Body width\n(mm)]]","v":"26 x 7"},"-","-"]
[null,"Std","dip","PET","No","ECQE(F)[DC]","ECQE1395JF",100,"DC",3.9,"± 5",26,7,16.399999999999999,22.5,"Straight lead wire type","-40 to 105 (85)","Bulk (Bag packing)",100,"https://industrial.panasonic.com/ww/products/pt/film-cap-electroequip/models/ECQE1395JF","≤26","≤ 7","≤16.5",{"$f":"pana_film[[#This Row],[Body length / dia\n(mm)]]&\" x \"&pana_film[[#This Row],[Body width\n(mm)]]","v":"26 x 7"},"-","-"]
[null,"Std","dip","PET","No","ECQE(F)[DC]","ECQE1335JF3",100,"DC",3.3,"± 5",18.5,8.5,21.5,5,"Inner crimped lead wire type (Style B)","-40 to 105 (85)","25.4P crimped lead taping (ammo packing)",400,"https://industrial.panasonic.com/ww/products/pt/film-cap-electroequip/models/ECQE1335JF3","≤19","≤ 9","≤21.5",{"$f":"pana_film[[#This Row],[Body length / dia\n(mm)]]&\" x \"&pana_film[[#This Row],[Body width\n(mm)]]","v":"18.5 x 8.5"},"-","-"]
[null,"Std","dip","PET","No","ECQE(F)[DC]","ECQE12823KFB",1250,"DC",8.2000000000000003E-2,"±10",31,9,23.5,22.5,"Inner crimped lead wire type (Style B)","-40 to 105 (85)","Bulk (Bag packing)",100,"https://industrial.panasonic.com/ww/products/pt/film-cap-electroequip/models/ECQE12823KFB","≤31","≤ 9","≤23.5",{"$f":"pana_film[[#This Row],[Body length / dia\n(mm)]]&\" x \"&pana_film[[#This Row],[Body width\n(mm)]]","v":"31 x 9"},"-","-"]
[null,"Std","dip","PET","No","ECQE(F)[DC]","ECQE12822JFB",1250,"DC",8.2000000000000007E-3,"± 5",21,5,17,10,"Inner crimped lead wire type (Style B)","-40 to 105 (85)","Bulk (Bag packing)",100,"https://industrial.panasonic.com/ww/products/pt/film-cap-electroequip/models/ECQE12822JFB","≤21","≤ 5","≤17",{"$f":"pana_film[[#This Row],[Body length / dia\n(mm)]]&\" x \"&pana_film[[#This Row],[Body width\n(mm)]]","v":"21 x 5"},"-","-"]
[null,"Std","dip","PET","No","ECQE(F)[DC]","ECQE1275KF3",100,"DC",2.7,"±10",18.5,8,20.8,5,"Inner crimped lead wire type (Style B)","-40 to 105 (85)","25.4P crimped lead taping (ammo packing)",500,"https://industrial.panasonic.com/ww/products/pt/film-cap-electroequip/models/ECQE1275KF3","≤19","≤ 8","≤21",{"$f":"pana_film[[#This Row],[Body length / dia\n(mm)]]&\" x \"&pana_film[[#This Row],[Body width\n(mm)]]","v":"18.5 x 8"},"-","-"]
[null,"Std","dip","PET","No","ECQE(F)[DC]","ECQE1275JFB",100,"DC",2.7,"± 5",18.5,8,20.8,10,"Inner crimped lead wire type (Style B)","-40 to 105 (85)","Bulk (Bag packing)",100,"https://industrial.panasonic.com/ww/products/pt/film-cap-electroequip/models/ECQE1275JFB","≤19","≤ 8","≤21",{"$f":"pana_film[[#This Row],[Body length / dia\n(mm)]]&\" x \"&pana_film[[#This Row],[Body width\n(mm)]]","v":"18.5 x 8"},"-","-"]
[null,"Std","dip","PET","No","ECQE(F)[DC]","ECQE12683JFB",1250,"DC",6.8000000000000005E-2,"± 5",31,8,22.5,22.5,"Inner crimped lead wire type (Style B)","-40 to 105 (85)","Bulk (Bag packing)",100,"https://industrial.panasonic.com/ww/products/pt/film-cap-electroequip/models/ECQE12683JFB","≤31","≤ 8","≤22.5",{"$f":"pana_film[[#This Row],[Body length / dia\n(mm)]]&\" x \"&pana_film[[#This Row],[Body width\n(mm)]]","v":"31 x 8"},"-","-"]
[null,"Std","dip","PET","No","ECQE(F)[DC]","ECQE12682JF",1250,"DC",6.7999999999999996E-3,"± 5",15.5,7.5,15,12.5,"Straight lead wire type","-40 to 105 (85)","Bulk (Bag packing)",100,"https://industrial.panasonic.com/ww/products/pt/film-cap-electroequip/models/ECQE12682JF","≤16","≤ 8","≤15",{"$f":"pana_film[[#This Row],[Body length / dia\n(mm)]]&\" x \"&pana_film[[#This Row],[Body width\n(mm)]]","v":"15.5 x 7.5"},"-","-"]
[null,"Std","dip","PET","No","ECQE(F)[DC]","ECQE12563KFW",1250,"DC",5.6000000000000001E-2,"±10",31,7.5,22,22.5,"Double crimped lead wire type (Style T)","-40 to 105 (85)","Bulk (Bag packing)",100,"https://industrial.panasonic.com/ww/products/pt/film-cap-electroequip/models/ECQE12563KFW","≤31","≤ 8","≤22",{"$f":"pana_film[[#This Row],[Body length / dia\n(mm)]]&\" x \"&pana_film[[#This Row],[Body width\n(mm)]]","v":"31 x 7.5"},"-","-"]
[null,"Std","dip","PET","No","ECQE(F)[DC]","ECQE12562KFB",1250,"DC",5.5999999999999999E-3,"±10",15.5,7.5,18,10,"Crimped lead wire type (Style D)","-40 to 105 (85)","Bulk (Bag packing)",100,"https://industrial.panasonic.com/ww/products/pt/film-cap-electroequip/models/ECQE12562KFB","≤16","≤ 8","≤18",{"$f":"pana_film[[#This Row],[Body length / dia\n(mm)]]&\" x \"&pana_film[[#This Row],[Body width\n(mm)]]","v":"15.5 x 7.5"},"-","-"]
[null,"Std","dip","PET","No","ECQE(F)[DC]","ECQE12473JFB",1250,"DC",4.7E-2,"± 5",26,8,22,17.5,"Inner crimped lead wire type (Style B)","-40 to 105 (85)","Bulk (Bag packing)",100,"https://industrial.panasonic.com/ww/products/pt/film-cap-electroequip/models/ECQE12473JFB","≤26","≤ 8","≤22",{"$f":"pana_film[[#This Row],[Body length / dia\n(mm)]]&\" x \"&pana_film[[#This Row],[Body width\n(mm)]]","v":"26 x 8"},"-","-"]
[null,"Std","dip","PET","No","ECQE(F)[DC]","ECQE12472RKF",1250,"DC",4.7000000000000002E-3,"±10",15.5,7,17.5,7.5,"Inner crimped lead wire type (Style B)","-40 to 105 (85)","30.0P crimped lead taping (ammo packing)",500,"https://industrial.panasonic.com/ww/products/pt/film-cap-electroequip/models/ECQE12472RKF","≤16","≤ 7","≤17.5",{"$f":"pana_film[[#This Row],[Body length / dia\n(mm)]]&\" x \"&pana_film[[#This Row],[Body width\n(mm)]]","v":"15.5 x 7"},"-","-"]
[null,"Std","dip","PET","No","ECQE(F)[DC]","ECQE12393KFB",1250,"DC",3.9E-2,"±10",26,7,21.5,17.5,"Inner crimped lead wire type (Style B)","-40 to 105 (85)","Bulk (Bag packing)",100,"https://industrial.panasonic.com/ww/products/pt/film-cap-electroequip/models/ECQE12393KFB","≤26","≤ 7","≤21.5",{"$f":"pana_film[[#This Row],[Body length / dia\n(mm)]]&\" x \"&pana_film[[#This Row],[Body width\n(mm)]]","v":"26 x 7"},"-","-"]
[null,"Std","dip","PET","No","ECQE(F)[DC]","ECQE12392KFW",1250,"DC",3.8999999999999998E-3,"±10",15.5,6.5,17,10,"Double crimped lead wire type (Style N)","-40 to 105 (85)","Bulk (Bag packing)",100,"https://industrial.panasonic.com/ww/products/pt/film-cap-electroequip/models/ECQE12392KFW","≤16","≤ 7","≤17",{"$f":"pana_film[[#This Row],[Body length / dia\n(mm)]]&\" x \"&pana_film[[#This Row],[Body width\n(mm)]]","v":"15.5 x 6.5"},"-","-"]
[null,"Std","dip","PET","No","ECQE(F)[DC]","ECQE12392JFW",1250,"DC",3.8999999999999998E-3,"± 5",15.5,6.5,17,10,"Double crimped lead wire type (Style N)","-40 to 105 (85)","Bulk (Bag packing)",100,"https://industrial.panasonic.com/ww/products/pt/film-cap-electroequip/models/ECQE12392JFW","≤16","≤ 7","≤17",{"$f":"pana_film[[#This Row],[Body length / dia\n(mm)]]&\" x \"&pana_film[[#This Row],[Body width\n(mm)]]","v":"15.5 x 6.5"},"-","-"]
[null,"Std","dip","PET","No","ECQE(F)[DC]","ECQE12332RKF",1250,"DC",3.3E-3,"±10",15.5,6,16.5,7.5,"Inner crimped lead wire type (Style B)","-40 to 105 (85)","30.0P crimped lead taping (ammo packing)",500,"https://industrial.panasonic.com/ww/products/pt/film-cap-electroequip/models/ECQE12332RKF","≤16","≤ 6","≤16.5",{"$f":"pana_film[[#This Row],[Body length / dia\n(mm)]]&\" x \"&pana_film[[#This Row],[Body width\n(mm)]]","v":"15.5 x 6"},"-","-"]
[null,"Std","dip","PET","No","ECQE(F)[DC]","ECQE12332KF",1250,"DC",3.3E-3,"±10",15.5,6,11.5,12.5,"Straight lead wire type","-40 to 105 (85)","Bulk (Bag packing)",100,"https://industrial.panasonic.com/ww/products/pt/film-cap-electroequip/models/ECQE12332KF","≤16","≤ 6","≤11.5",{"$f":"pana_film[[#This Row],[Body length / dia\n(mm)]]&\" x \"&pana_film[[#This Row],[Body width\n(mm)]]","v":"15.5 x 6"},"-","-"]
[null,"Std","dip","PET","No","ECQE(F)[DC]","ECQE12273JFW",1250,"DC",2.7E-2,"± 5",26,6,20.5,17.5,"Double crimped lead wire type (Style T)","-40 to 105 (85)","Bulk (Bag packing)",100,"https://industrial.panasonic.com/ww/products/pt/film-cap-electroequip/models/ECQE12273JFW","≤26","≤ 6","≤20.5",{"$f":"pana_film[[#This Row],[Body length / dia\n(mm)]]&\" x \"&pana_film[[#This Row],[Body width\n(mm)]]","v":"26 x 6"},"-","-"]
[null,"Std","dip","PET","No","ECQE(F)[DC]","ECQE1225RKF",100,"DC",2.2000000000000002,"±10",18.5,7,20,7.5,"Inner crimped lead wire type (Style B)","-40 to 105 (85)","30.0P crimped lead taping (ammo packing)",500,"https://industrial.panasonic.com/ww/products/pt/film-cap-electroequip/models/ECQE1225RKF","≤19","≤ 7","≤20",{"$f":"pana_film[[#This Row],[Body length / dia\n(mm)]]&\" x \"&pana_film[[#This Row],[Body width\n(mm)]]","v":"18.5 x 7"},"-","-"]
[null,"Std","dip","PET","No","ECQE(F)[DC]","ECQE1225JFB",100,"DC",2.2000000000000002,"± 5",18.5,7,20,10,"Inner crimped lead wire type (Style B)","-40 to 105 (85)","Bulk (Bag packing)",100,"https://industrial.panasonic.com/ww/products/pt/film-cap-electroequip/models/ECQE1225JFB","≤19","≤ 7","≤20",{"$f":"pana_film[[#This Row],[Body length / dia\n(mm)]]&\" x \"&pana_film[[#This Row],[Body width\n(mm)]]","v":"18.5 x 7"},"-","-"]
[null,"Std","dip","PET","No","ECQE(F)[DC]","ECQE12223RKF",1250,"DC",2.1999999999999999E-2,"±10",21,7,20,7.5,"Inner crimped lead wire type (Style B)","-40 to 105 (85)","30.0P crimped lead taping (ammo packing)",500,"https://industrial.panasonic.com/ww/products/pt/film-cap-electroequip/models/ECQE12223RKF","≤21","≤ 7","≤20",{"$f":"pana_film[[#This Row],[Body length / dia\n(mm)]]&\" x \"&pana_film[[#This Row],[Body width\n(mm)]]","v":"21 x 7"},"-","-"]
[null,"Std","dip","PET","No","ECQE(F)[DC]","ECQE12223JF",1250,"DC",2.1999999999999999E-2,"± 5",21,7,15,17.5,"Straight lead wire type","-40 to 105 (85)","Bulk (Bag packing)",100,"https://industrial.panasonic.com/ww/products/pt/film-cap-electroequip/models/ECQE12223JF","≤21","≤ 7","≤15",{"$f":"pana_film[[#This Row],[Body length / dia\n(mm)]]&\" x \"&pana_film[[#This Row],[Body width\n(mm)]]","v":"21 x 7"},"-","-"]
[null,"Std","dip","PET","No","ECQE(F)[DC]","ECQE12184JFW",1250,"DC",0.18,"± 5",31,13,29.5,22.5,"Double crimped lead wire type (Style T)","-40 to 105 (85)","Bulk (Bag packing)",100,"https://industrial.panasonic.com/ww/products/pt/film-cap-electroequip/models/ECQE12184JFW","≤31","≤13","≤29.5",{"$f":"pana_film[[#This Row],[Body length / dia\n(mm)]]&\" x \"&pana_film[[#This Row],[Body width\n(mm)]]","v":"31 x 13"},"-","-"]
[null,"Std","dip","PET","No","ECQE(F)[DC]","ECQE12183JFB",1250,"DC",1.7999999999999999E-2,"± 5",21,6.5,19.5,12.5,"Inner crimped lead wire type (Style B)","-40 to 105 (85)","Bulk (Bag packing)",100,"https://industrial.panasonic.com/ww/products/pt/film-cap-electroequip/models/ECQE12183JFB","≤21","≤ 7","≤19.5",{"$f":"pana_film[[#This Row],[Body length / dia\n(mm)]]&\" x \"&pana_film[[#This Row],[Body width\n(mm)]]","v":"21 x 6.5"},"-","-"]
[null,"Std","dip","PET","No","ECQE(F)[DC]","ECQE12183JF",1250,"DC",1.7999999999999999E-2,"± 5",21,6.5,14.5,17.5,"Straight lead wire type","-40 to 105 (85)","Bulk (Bag packing)",100,"https://industrial.panasonic.com/ww/products/pt/film-cap-electroequip/models/ECQE12183JF","≤21","≤ 7","≤14.5",{"$f":"pana_film[[#This Row],[Body length / dia\n(mm)]]&\" x \"&pana_film[[#This Row],[Body width\n(mm)]]","v":"21 x 6.5"},"-","-"]
[null,"Std","dip","PET","No","ECQE(F)[DC]","ECQE12153KFW",1250,"DC",1.4999999999999999E-2,"±10",21,6,18.5,12.5,"Double crimped lead wire type (Style T)","-40 to 105 (85)","Bulk (Bag packing)",100,"https://industrial.panasonic.com/ww/products/pt/film-cap-electroequip/models/ECQE12153KFW","≤21","≤ 6","≤18.5",{"$f":"pana_film[[#This Row],[Body length / dia\n(mm)]]&\" x \"&pana_film[[#This Row],[Body width\n(mm)]]","v":"21 x 6"},"-","-"]
[null,"Std","dip","PET","No","ECQE(F)[DC]","ECQE12153JFW",1250,"DC",1.4999999999999999E-2,"± 5",21,6,18.5,12.5,"Double crimped lead wire type (Style T)","-40 to 105 (85)","Bulk (Bag packing)",100,"https://industrial.panasonic.com/ww/products/pt/film-cap-electroequip/models/ECQE12153JFW","≤21","≤ 6","≤18.5",{"$f":"pana_film[[#This Row],[Body length / dia\n(mm)]]&\" x \"&pana_film[[#This Row],[Body width\n(mm)]]","v":"21 x 6"},"-","-"]
[null,"Std","dip","PET","No","ECQE(F)[DC]","ECQE12124JFB",1250,"DC",0.12,"± 5",31,11.5,25.5,22.5,"Inner crimped lead wire type (Style B)","-40 to 105 (85)","Bulk (Bag packing)",100,"https://industrial.panasonic.com/ww/products/pt/film-cap-electroequip/models/ECQE12124JFB","≤31","≤12","≤25.5",{"$f":"pana_film[[#This Row],[Body length / dia\n(mm)]]&\" x \"&pana_film[[#This Row],[Body width\n(mm)]]","v":"31 x 11.5"},"-","-"]
[null,"Std","dip","PET","No","ECQE(F)[DC]","ECQE12123JFB",1250,"DC",1.2E-2,"± 5",21,5.5,18,12.5,"Inner crimped lead wire type (Style B)","-40 to 105 (85)","Bulk (Bag packing)",100,"https://industrial.panasonic.com/ww/products/pt/film-cap-electroequip/models/ECQE12123JFB","≤21","≤ 6","≤18",{"$f":"pana_film[[#This Row],[Body length / dia\n(mm)]]&\" x \"&pana_film[[#This Row],[Body width\n(mm)]]","v":"21 x 5.5"},"-","-"]
[null,"Std","dip","PET","No","ECQE(F)[DC]","ECQE12103RJF",1250,"DC",0.01,"± 5",21,5,17.5,7.5,"Inner crimped lead wire type (Style B)","-40 to 105 (85)","30.0P crimped lead taping (ammo packing)",500,"https://industrial.panasonic.com/ww/products/pt/film-cap-electroequip/models/ECQE12103RJF","≤21","≤ 5","≤17.5",{"$f":"pana_film[[#This Row],[Body length / dia\n(mm)]]&\" x \"&pana_film[[#This Row],[Body width\n(mm)]]","v":"21 x 5"},"-","-"]
[null,"Std","dip","PET","No","ECQE(F)[DC]","ECQE12103KF",1250,"DC",0.01,"±10",21,5,12.5,17.5,"Straight lead wire type","-40 to 105 (85)","Bulk (Bag packing)",100,"https://industrial.panasonic.com/ww/products/pt/film-cap-electroequip/models/ECQE12103KF","≤21","≤ 5","≤12.5",{"$f":"pana_film[[#This Row],[Body length / dia\n(mm)]]&\" x \"&pana_film[[#This Row],[Body width\n(mm)]]","v":"21 x 5"},"-","-"]
[null,"Std","dip","PET","No","ECQE(F)[DC]","ECQE1185KF",100,"DC",1.8,"±10",18.5,6.5,14.4,15,"Straight lead wire type","-40 to 105 (85)","Bulk (Bag packing)",100,"https://industrial.panasonic.com/ww/products/pt/film-cap-electroequip/models/ECQE1185KF","≤19","≤ 7","≤14.5",{"$f":"pana_film[[#This Row],[Body length / dia\n(mm)]]&\" x \"&pana_film[[#This Row],[Body width\n(mm)]]","v":"18.5 x 6.5"},"-","-"]
[null,"Std","dip","PET","No","ECQE(F)[DC]","ECQE1185JFW",100,"DC",1.8,"± 5",18.5,6.5,19.399999999999999,10,"Double crimped lead wire type (Style T)","-40 to 105 (85)","Bulk (Bag packing)",100,"https://industrial.panasonic.com/ww/products/pt/film-cap-electroequip/models/ECQE1185JFW","≤19","≤ 7","≤19.5",{"$f":"pana_film[[#This Row],[Body length / dia\n(mm)]]&\" x \"&pana_film[[#This Row],[Body width\n(mm)]]","v":"18.5 x 6.5"},"-","-"]
[null,"Std","dip","PET","No","ECQE(F)[DC]","ECQE1155KF",100,"DC",1.5,"±10",18.5,6,13.4,15,"Straight lead wire type","-40 to 105 (85)","Bulk (Bag packing)",100,"https://industrial.panasonic.com/ww/products/pt/film-cap-electroequip/models/ECQE1155KF","≤19","≤ 6","≤13.5",{"$f":"pana_film[[#This Row],[Body length / dia\n(mm)]]&\" x \"&pana_film[[#This Row],[Body width\n(mm)]]","v":"18.5 x 6"},"-","-"]
[null,"Std","dip","PET","No","ECQE(F)[DC]","ECQE1155JF3",100,"DC",1.5,"± 5",18.5,6,18.399999999999999,5,"Inner crimped lead wire type (Style B)","-40 to 105 (85)","25.4P crimped lead taping (ammo packing)",500,"https://industrial.panasonic.com/ww/products/pt/film-cap-electroequip/models/ECQE1155JF3","≤19","≤ 6","≤18.5",{"$f":"pana_film[[#This Row],[Body length / dia\n(mm)]]&\" x \"&pana_film[[#This Row],[Body width\n(mm)]]","v":"18.5 x 6"},"-","-"]
[null,"Std","dip","PET","No","ECQE(F)[DC]","ECQE1125JFW",100,"DC",1.2,"± 5",18.5,5.5,17.8,10,"Double crimped lead wire type (Style T)","-40 to 105 (85)","Bulk (Bag packing)",100,"https://industrial.panasonic.com/ww/products/pt/film-cap-electroequip/models/ECQE1125JFW","≤19","≤ 6","≤18",{"$f":"pana_film[[#This Row],[Body length / dia\n(mm)]]&\" x \"&pana_film[[#This Row],[Body width\n(mm)]]","v":"18.5 x 5.5"},"-","-"]
[null,"Std","dip","PET","No","ECQE(F)[DC]","ECQE1106JF",100,"DC",10,"± 5",26,11.5,21,22.5,"Straight lead wire type","-40 to 105 (85)","Bulk (Bag packing)",100,"https://industrial.panasonic.com/ww/products/pt/film-cap-electroequip/models/ECQE1106JF","≤26","≤12","≤21",{"$f":"pana_film[[#This Row],[Body length / dia\n(mm)]]&\" x \"&pana_film[[#This Row],[Body width\n(mm)]]","v":"26 x 11.5"},"-","-"]
[null,"Std","dip","PET","No","ECQE(F)[DC]","ECQE1105JF3",100,"DC",1,"± 5",12,6.7,19,5,"Crimped lead wire type (Style D)","-40 to 105 (85)","15.0P crimped lead taping (ammo packing)",1000,"https://industrial.panasonic.com/ww/products/pt/film-cap-electroequip/models/ECQE1105JF3",{"$f":"IF(L6687<=9.5,\"≤ \"&ROUNDUP(L6687*1,0)/1,\"≤\"&ROUNDUP(L6687*1,0)/1)","v":"≤12"},{"$f":"IF(M6687<=9,\"≤ \"&ROUNDUP(M6687*1,0)/1,\"≤\"&ROUNDUP(M6687*1,0)/1)","v":"≤ 7"},{"$f":"IF(N6687<=9.5,\"≤ \"&ROUNDUP(N6687*2,0)/2,\"≤\"&ROUNDUP(N6687*2,0)/2)","v":"≤19"},{"$f":"pana_film[[#This Row],[Body length / dia\n(mm)]]&\" x \"&pana_film[[#This Row],[Body width\n(mm)]]","v":"12 x 6.7"},"-","-"]
[null,"Std","dip","PET","No","ECQE(F)[DC]","ECQE10823RJF",1000,"DC",0.18,"± 5",26,10.5,27,7.5,"Inner crimped lead wire type (Style B)","-40 to 105 (85)","30.0P crimped lead taping (ammo packing)",300,"https://industrial.panasonic.com/ww/products/pt/film-cap-electroequip/models/ECQE10823RJF","≤26","≤11","≤27",{"$f":"pana_film[[#This Row],[Body length / dia\n(mm)]]&\" x \"&pana_film[[#This Row],[Body width\n(mm)]]","v":"26 x 10.5"},"-","-"]
[null,"Std","dip","PET","No","ECQE(F)[DC]","ECQE10683KFW",1000,"DC",6.8000000000000005E-2,"±10",21,8.5,23,12.5,"Double crimped lead wire type (Style T)","-40 to 105 (85)","Bulk (Bag packing)",100,"https://industrial.panasonic.com/ww/products/pt/film-cap-electroequip/models/ECQE10683KFW","≤21","≤ 9","≤23",{"$f":"pana_film[[#This Row],[Body length / dia\n(mm)]]&\" x \"&pana_film[[#This Row],[Body width\n(mm)]]","v":"21 x 8.5"},"-","-"]
[null,"Std","dip","PET","No","ECQE(F)[DC]","ECQE10683KFB",1000,"DC",6.8000000000000005E-2,"±10",21,8.5,23,12.5,"Inner crimped lead wire type (Style B)","-40 to 105 (85)","Bulk (Bag packing)",100,"https://industrial.panasonic.com/ww/products/pt/film-cap-electroequip/models/ECQE10683KFB","≤21","≤ 9","≤23",{"$f":"pana_film[[#This Row],[Body length / dia\n(mm)]]&\" x \"&pana_film[[#This Row],[Body width\n(mm)]]","v":"21 x 8.5"},"-","-"]
[null,"Std","dip","PET","No","ECQE(F)[DC]","ECQE10563JFW",1000,"DC",5.6000000000000001E-2,"± 5",21,7.5,22,12.5,"Double crimped lead wire type (Style T)","-40 to 105 (85)","Bulk (Bag packing)",100,"https://industrial.panasonic.com/ww/products/pt/film-cap-electroequip/models/ECQE10563JFW","≤21","≤ 8","≤22",{"$f":"pana_film[[#This Row],[Body length / dia\n(mm)]]&\" x \"&pana_film[[#This Row],[Body width\n(mm)]]","v":"21 x 7.5"},"-","-"]
[null,"Std","dip","PET","No","ECQE(F)[DC]","ECQE10473KF",1000,"DC",4.7E-2,"±10",21,7.5,15.5,17.5,"Straight lead wire type","-40 to 105 (85)","Bulk (Bag packing)",100,"https://industrial.panasonic.com/ww/products/pt/film-cap-electroequip/models/ECQE10473KF","≤21","≤ 8","≤15.5",{"$f":"pana_film[[#This Row],[Body length / dia\n(mm)]]&\" x \"&pana_film[[#This Row],[Body width\n(mm)]]","v":"21 x 7.5"},"-","-"]
[null,"Std","dip","PET","No","ECQE(F)[DC]","ECQE10473JF",1000,"DC",4.7E-2,"± 5",21,7.5,15.5,17.5,"Straight lead wire type","-40 to 105 (85)","Bulk (Bag packing)",100,"https://industrial.panasonic.com/ww/products/pt/film-cap-electroequip/models/ECQE10473JF","≤21","≤ 8","≤15.5",{"$f":"pana_film[[#This Row],[Body length / dia\n(mm)]]&\" x \"&pana_film[[#This Row],[Body width\n(mm)]]","v":"21 x 7.5"},"-","-"]
[null,"Std","dip","PET","No","ECQE(F)[DC]","ECQE10333RKF",1000,"DC",3.3000000000000002E-2,"±10",21,6.5,19,7.5,"Inner crimped lead wire type (Style B)","-40 to 105 (85)","30.0P crimped lead taping (ammo packing)",500,"https://industrial.panasonic.com/ww/products/pt/film-cap-electroequip/models/ECQE10333RKF","≤21","≤ 7","≤19",{"$f":"pana_film[[#This Row],[Body length / dia\n(mm)]]&\" x \"&pana_film[[#This Row],[Body width\n(mm)]]","v":"21 x 6.5"},"-","-"]
[null,"Std","dip","PET","No","ECQE(F)[DC]","ECQE10333JF",1000,"DC",3.3000000000000002E-2,"± 5",21,6.5,14,17.5,"Straight lead wire type","-40 to 105 (85)","Bulk (Bag packing)",100,"https://industrial.panasonic.com/ww/products/pt/film-cap-electroequip/models/ECQE10333JF","≤21","≤ 7","≤14",{"$f":"pana_film[[#This Row],[Body length / dia\n(mm)]]&\" x \"&pana_film[[#This Row],[Body width\n(mm)]]","v":"21 x 6.5"},"-","-"]
[null,"Std","dip","PET","No","ECQE(F)[DC]","ECQE10273KFW",1000,"DC",2.7E-2,"±10",21,6,18,12.5,"Double crimped lead wire type (Style T)","-40 to 105 (85)","Bulk (Bag packing)",100,"https://industrial.panasonic.com/ww/products/pt/film-cap-electroequip/models/ECQE10273KFW","≤21","≤ 6","≤18",{"$f":"pana_film[[#This Row],[Body length / dia\n(mm)]]&\" x \"&pana_film[[#This Row],[Body width\n(mm)]]","v":"21 x 6"},"-","-"]
[null,"Std","dip","PET","No","ECQE(F)[DC]","ECQE10273JF",1000,"DC",2.7E-2,"± 5",21,6,13,17.5,"Straight lead wire type","-40 to 105 (85)","Bulk (Bag packing)",100,"https://industrial.panasonic.com/ww/products/pt/film-cap-electroequip/models/ECQE10273JF","≤21","≤ 6","≤13",{"$f":"pana_film[[#This Row],[Body length / dia\n(mm)]]&\" x \"&pana_film[[#This Row],[Body width\n(mm)]]","v":"21 x 6"},"-","-"]
[null,"Std","dip","PET","No","ECQE(F)[DC]","ECQE10224JF",1000,"DC",0.22,"± 5",26,12,23,22.5,"Straight lead wire type","-40 to 105 (85)","Bulk (Bag packing)",100,"https://industrial.panasonic.com/ww/products/pt/film-cap-electroequip/models/ECQE10224JF","≤26","≤12","≤23",{"$f":"pana_film[[#This Row],[Body length / dia\n(mm)]]&\" x \"&pana_film[[#This Row],[Body width\n(mm)]]","v":"26 x 12"},"-","-"]
[null,"Std","dip","PET","No","ECQE(F)[DC]","ECQE10184KFW",1000,"DC",0.18,"±10",26,10.5,27,17.5,"Double crimped lead wire type (Style T)","-40 to 105 (85)","Bulk (Bag packing)",100,"https://industrial.panasonic.com/ww/products/pt/film-cap-electroequip/models/ECQE10184KFW","≤26","≤11","≤27",{"$f":"pana_film[[#This Row],[Body length / dia\n(mm)]]&\" x \"&pana_film[[#This Row],[Body width\n(mm)]]","v":"26 x 10.5"},"-","-"]
[null,"Std","dip","PET","No","ECQE(F)[DC]","ECQE10183RJF",1000,"DC",1.7999999999999999E-2,"± 5",15.5,7.5,20,7.5,"Inner crimped lead wire type (Style B)","-40 to 105 (85)","30.0P crimped lead taping (ammo packing)",400,"https://industrial.panasonic.com/ww/products/pt/film-cap-electroequip/models/ECQE10183RJF","≤16","≤ 8","≤20",{"$f":"pana_film[[#This Row],[Body length / dia\n(mm)]]&\" x \"&pana_film[[#This Row],[Body width\n(mm)]]","v":"15.5 x 7.5"},"-","-"]
[null,"Std","dip","PET","No","ECQE(F)[DC]","ECQE10183KF",1000,"DC",1.7999999999999999E-2,"±10",15.5,7.5,13,12.5,"Straight lead wire type","-40 to 105 (85)","Bulk (Bag packing)",100,"https://industrial.panasonic.com/ww/products/pt/film-cap-electroequip/models/ECQE10183KF","≤16","≤ 8","≤13",{"$f":"pana_film[[#This Row],[Body length / dia\n(mm)]]&\" x \"&pana_film[[#This Row],[Body width\n(mm)]]","v":"15.5 x 7.5"},"-","-"]
[null,"Std","dip","PET","No","ECQE(F)[DC]","ECQE10154JF",1000,"DC",0.15,"± 5",26,10,20,22.5,"Straight lead wire type","-40 to 105 (85)","Bulk (Bag packing)",100,"https://industrial.panasonic.com/ww/products/pt/film-cap-electroequip/models/ECQE10154JF","≤26","≤10","≤20",{"$f":"pana_film[[#This Row],[Body length / dia\n(mm)]]&\" x \"&pana_film[[#This Row],[Body width\n(mm)]]","v":"26 x 10"},"-","-"]
[null,"Std","dip","PET","No","ECQE(F)[DC]","ECQE10153JFB",1000,"DC",1.4999999999999999E-2,"± 5",15.5,7,17.5,12.5,"Crimped lead wire type (Style D)","-40 to 105 (85)","Bulk (Bag packing)",100,"https://industrial.panasonic.com/ww/products/pt/film-cap-electroequip/models/ECQE10153JFB","≤16","≤ 7","≤17.5",{"$f":"pana_film[[#This Row],[Body length / dia\n(mm)]]&\" x \"&pana_film[[#This Row],[Body width\n(mm)]]","v":"15.5 x 7"},"-","-"]
[null,"Std","dip","PET","No","ECQE(F)[DC]","ECQE10124KF",1000,"DC",0.12,"±10",26,9,18.5,22.5,"Straight lead wire type","-40 to 105 (85)","Bulk (Bag packing)",100,"https://industrial.panasonic.com/ww/products/pt/film-cap-electroequip/models/ECQE10124KF","≤26","≤ 9","≤18.5",{"$f":"pana_film[[#This Row],[Body length / dia\n(mm)]]&\" x \"&pana_film[[#This Row],[Body width\n(mm)]]","v":"26 x 9"},"-","-"]
[null,"Std","dip","PET","No","ECQE(F)[DC]","ECQE10123KFB",1000,"DC",1.2E-2,"±10",15.5,6,17,12.5,"Crimped lead wire type (Style D)","-40 to 105 (85)","Bulk (Bag packing)",100,"https://industrial.panasonic.com/ww/products/pt/film-cap-electroequip/models/ECQE10123KFB","≤16","≤ 6","≤17",{"$f":"pana_film[[#This Row],[Body length / dia\n(mm)]]&\" x \"&pana_film[[#This Row],[Body width\n(mm)]]","v":"15.5 x 6"},"-","-"]
[null,"Std","dip","PET","No","ECQE(F)[DC]","ECQE10123JFB",1000,"DC",1.2E-2,"± 5",15.5,6,17,12.5,"Crimped lead wire type (Style D)","-40 to 105 (85)","Bulk (Bag packing)",100,"https://industrial.panasonic.com/ww/products/pt/film-cap-electroequip/models/ECQE10123JFB","≤16","≤ 6","≤17",{"$f":"pana_film[[#This Row],[Body length / dia\n(mm)]]&\" x \"&pana_film[[#This Row],[Body width\n(mm)]]","v":"15.5 x 6"},"-","-"]
[null,"Std","dip","PET","No","ECQE(F)[DC]","ECQE10104JF",1000,"DC",0.1,"± 5",21,10,20,17.5,"Straight lead wire type","-40 to 105 (85)","Bulk (Bag packing)",100,"https://industrial.panasonic.com/ww/products/pt/film-cap-electroequip/models/ECQE10104JF","≤21","≤10","≤20",{"$f":"pana_film[[#This Row],[Body length / dia\n(mm)]]&\" x \"&pana_film[[#This Row],[Body width\n(mm)]]","v":"21 x 10"},"-","-"]
[null,"Std","dip","PET","No","ECQE(F)[DC]","ECQE10103JFB",1000,"DC",0.01,"± 5",15.5,6,16,12.5,"Crimped lead wire type (Style D)","-40 to 105 (85)","Bulk (Bag packing)",100,"https://industrial.panasonic.com/ww/products/pt/film-cap-electroequip/models/ECQE10103JFB",{"$f":"IF(L6815<=9.5,\"≤ \"&ROUNDUP(L6815*1,0)/1,\"≤\"&ROUNDUP(L6815*1,0)/1)","v":"≤16"},{"$f":"IF(M6815<=9,\"≤ \"&ROUNDUP(M6815*1,0)/1,\"≤\"&ROUNDUP(M6815*1,0)/1)","v":"≤ 6"},{"$f":"IF(N6815<=9.5,\"≤ \"&ROUNDUP(N6815*2,0)/2,\"≤\"&ROUNDUP(N6815*2,0)/2)","v":"≤16"},{"$f":"pana_film[[#This Row],[Body length / dia\n(mm)]]&\" x \"&pana_film[[#This Row],[Body width\n(mm)]]","v":"15.5 x 6"},"-","-"]
[null,"Std","chip","PPS","No","ECHU(X)","ECHU1H821GX5",50,"DC",8.1999999999999998E-4,"± 2",2,1.25,0.9,"'-","Non lead wire","-55 to 125","8.0W180A emboss taping (reel packing)",3000,"https://industrial.panasonic.com/ww/products/pt/film-cap-electroequip/models/ECHU1H821GX5","≤ 2","≤ 2","≤ 1",{"$f":"pana_film[[#This Row],[Body length / dia\n(mm)]]&\" x \"&pana_film[[#This Row],[Body width\n(mm)]]","v":"2 x 1.25"},"-","-"]
[null,"Std","chip","PPS","No","ECHU(X)","ECHU1H681GX5",50,"DC",6.8000000000000005E-4,"± 2",2,1.25,0.9,"'-","Non lead wire","-55 to 125","8.0W180A emboss taping (reel packing)",3000,"https://industrial.panasonic.com/ww/products/pt/film-cap-electroequip/models/ECHU1H681GX5","≤ 2","≤ 2","≤ 1",{"$f":"pana_film[[#This Row],[Body length / dia\n(mm)]]&\" x \"&pana_film[[#This Row],[Body width\n(mm)]]","v":"2 x 1.25"},"-","-"]
[null,"Std","chip","PPS","No","ECHU(X)","ECHU1H473JX9",50,"DC",4.7E-2,"± 5",4.8,3.3,1.5,"'-","Non lead wire","-55 to 125","12.0W embossed carrier taping (reel packing)",3000,"https://industrial.panasonic.com/ww/products/pt/film-cap-electroequip/models/ECHU1H473JX9","≤ 5","≤ 4","≤ 1.5",{"$f":"pana_film[[#This Row],[Body length / dia\n(mm)]]&\" x \"&pana_film[[#This Row],[Body width\n(mm)]]","v":"4.8 x 3.3"},"-","-"]
[null,"Std","chip","PPS","No","ECHU(X)","ECHU1H472GX5",50,"DC",4.7000000000000002E-3,"± 2",3.2,1.6,0.9,"'-","Non lead wire","-55 to 125","8.0W180A emboss taping (reel packing)",3000,"https://industrial.panasonic.com/ww/products/pt/film-cap-electroequip/models/ECHU1H472GX5","≤ 4","≤ 2","≤ 1",{"$f":"pana_film[[#This Row],[Body length / dia\n(mm)]]&\" x \"&pana_film[[#This Row],[Body width\n(mm)]]","v":"3.2 x 1.6"},"-","-"]
[null,"Std","chip","PPS","No","ECHU(X)","ECHU1H391JX5",50,"DC",3.8999999999999999E-4,"± 5",2,1.25,0.9,"'-","Non lead wire","-55 to 125","8.0W180A emboss taping (reel packing)",3000,"https://industrial.panasonic.com/ww/products/pt/film-cap-electroequip/models/ECHU1H391JX5","≤ 2","≤ 2","≤ 1",{"$f":"pana_film[[#This Row],[Body length / dia\n(mm)]]&\" x \"&pana_film[[#This Row],[Body width\n(mm)]]","v":"2 x 1.25"},"-","-"]
[null,"Std","chip","PPS","No","ECHU(X)","ECHU1H333GX5",50,"DC",3.3000000000000002E-2,"± 2",3.2,2.5,2.1,"'-","Non lead wire","-55 to 125","8.0W180A emboss taping (reel packing)",2000,"https://industrial.panasonic.com/ww/products/pt/film-cap-electroequip/models/ECHU1H333GX5","≤ 4","≤ 3","≤ 2.5",{"$f":"pana_film[[#This Row],[Body length / dia\n(mm)]]&\" x \"&pana_film[[#This Row],[Body width\n(mm)]]","v":"3.2 x 2.5"},"-","-"]
[null,"Std","chip","PPS","No","ECHU(X)","ECHU1H224JX9",50,"DC",0.22,"± 5",6,4.0999999999999996,2.8,"'-","Non lead wire","-55 to 125 (105)","12.0W embossed carrier taping (reel packing)",2000,"https://industrial.panasonic.com/ww/products/pt/film-cap-electroequip/models/ECHU1H224JX9","≤ 6","≤ 5","≤ 3",{"$f":"pana_film[[#This Row],[Body length / dia\n(mm)]]&\" x \"&pana_film[[#This Row],[Body width\n(mm)]]","v":"6 x 4.1"},"-","-"]
[null,"Std","chip","PPS","No","ECHU(X)","ECHU1H221JX5",50,"DC",2.2000000000000001E-4,"± 5",2,1.25,0.9,"'-","Non lead wire","-55 to 125","8.0W180A emboss taping (reel packing)",3000,"https://industrial.panasonic.com/ww/products/pt/film-cap-electroequip/models/ECHU1H221JX5","≤ 2","≤ 2","≤ 1",{"$f":"pana_film[[#This Row],[Body length / dia\n(mm)]]&\" x \"&pana_film[[#This Row],[Body width\n(mm)]]","v":"2 x 1.25"},"-","-"]
[null,"Std","chip","PPS","No","ECHU(X)","ECHU1H184GX9",50,"DC",0.18,"± 2",6,4.0999999999999996,2.5,"'-","Non lead wire","-55 to 125 (105)","12.0W embossed carrier taping (reel packing)",2000,"https://industrial.panasonic.com/ww/products/pt/film-cap-electroequip/models/ECHU1H184GX9","≤ 6","≤ 5","≤ 2.5",{"$f":"pana_film[[#This Row],[Body length / dia\n(mm)]]&\" x \"&pana_film[[#This Row],[Body width\n(mm)]]","v":"6 x 4.1"},"-","-"]
[null,"Std","chip","PPS","No","ECHU(X)","ECHU1H154JX9",50,"DC",0.15,"± 5",6,4.0999999999999996,1.9,"'-","Non lead wire","-55 to 125 (105)","12.0W embossed carrier taping (reel packing)",3000,"https://industrial.panasonic.com/ww/products/pt/film-cap-electroequip/models/ECHU1H154JX9","≤ 6","≤ 5","≤ 2",{"$f":"pana_film[[#This Row],[Body length / dia\n(mm)]]&\" x \"&pana_film[[#This Row],[Body width\n(mm)]]","v":"6 x 4.1"},"-","-"]
[null,"Std","chip","PPS","No","ECHU(X)","ECHU1H124GX9",50,"DC",0.12,"± 2",6,4.0999999999999996,1.9,"'-","Non lead wire","-55 to 125 (105)","12.0W embossed carrier taping (reel packing)",3000,"https://industrial.panasonic.com/ww/products/pt/film-cap-electroequip/models/ECHU1H124GX9","≤ 6","≤ 5","≤ 2",{"$f":"pana_film[[#This Row],[Body length / dia\n(mm)]]&\" x \"&pana_film[[#This Row],[Body width\n(mm)]]","v":"6 x 4.1"},"-","-"]
[null,"Std","chip","PPS","No","ECHU(X)","ECHU1H122JX5",50,"DC",1.1999999999999999E-3,"± 5",2,1.25,0.9,"'-","Non lead wire","-55 to 125","8.0W180A emboss taping (reel packing)",3000,"https://industrial.panasonic.com/ww/products/pt/film-cap-electroequip/models/ECHU1H122JX5","≤ 2","≤ 2","≤ 1",{"$f":"pana_film[[#This Row],[Body length / dia\n(mm)]]&\" x \"&pana_film[[#This Row],[Body width\n(mm)]]","v":"2 x 1.25"},"-","-"]
[null,"Std","chip","PPS","No","ECHU(X)","ECHU1H103JX5",50,"DC",0.01,"± 5",3.2,1.6,1.1000000000000001,"'-","Non lead wire","-55 to 125","8.0W180A emboss taping (reel packing)",3000,"https://industrial.panasonic.com/ww/products/pt/film-cap-electroequip/models/ECHU1H103JX5","≤ 4","≤ 2","≤ 1.5",{"$f":"pana_film[[#This Row],[Body length / dia\n(mm)]]&\" x \"&pana_film[[#This Row],[Body width\n(mm)]]","v":"3.2 x 1.6"},"-","-"]
[null,"Std","chip","PPS","No","ECHU(X)","ECHU1H101GX5",50,"DC",1E-4,"± 2",2,1.25,0.9,"'-","Non lead wire","-55 to 125","8.0W180A emboss taping (reel packing)",3000,"https://industrial.panasonic.com/ww/products/pt/film-cap-electroequip/models/ECHU1H101GX5","≤ 2","≤ 2","≤ 1",{"$f":"pana_film[[#This Row],[Body length / dia\n(mm)]]&\" x \"&pana_film[[#This Row],[Body width\n(mm)]]","v":"2 x 1.25"},"-","-"]
[null,"Std","chip","PPS","No","ECHU(X)","ECHU1C682JX5",16,"DC",6.7999999999999996E-3,"± 5",2,1.25,0.9,"'-","Non lead wire","-55 to 125","8.0W180A emboss taping (reel packing)",3000,"https://industrial.panasonic.com/ww/products/pt/film-cap-electroequip/models/ECHU1C682JX5","≤ 2","≤ 2","≤ 1",{"$f":"pana_film[[#This Row],[Body length / dia\n(mm)]]&\" x \"&pana_film[[#This Row],[Body width\n(mm)]]","v":"2 x 1.25"},"-","-"]
[null,"Std","chip","PPS","No","ECHU(X)","ECHU1C562GX5",16,"DC",5.5999999999999999E-3,"± 2",2,1.25,0.9,"'-","Non lead wire","-55 to 125","8.0W180A emboss taping (reel packing)",3000,"https://industrial.panasonic.com/ww/products/pt/film-cap-electroequip/models/ECHU1C562GX5","≤ 2","≤ 2","≤ 1",{"$f":"pana_film[[#This Row],[Body length / dia\n(mm)]]&\" x \"&pana_film[[#This Row],[Body width\n(mm)]]","v":"2 x 1.25"},"-","-"]
[null,"Std","chip","PPS","No","ECHU(X)","ECHU1C473JX5",16,"DC",4.7E-2,"± 5",3.2,1.6,1.5,"'-","Non lead wire","-55 to 125","8.0W180A emboss taping (reel packing)",2000,"https://industrial.panasonic.com/ww/products/pt/film-cap-electroequip/models/ECHU1C473JX5","≤ 4","≤ 2","≤ 1.5",{"$f":"pana_film[[#This Row],[Body length / dia\n(mm)]]&\" x \"&pana_film[[#This Row],[Body width\n(mm)]]","v":"3.2 x 1.6"},"-","-"]
[null,"Std","chip","PPS","No","ECHU(X)","ECHU1C393GX5",16,"DC",3.9E-2,"± 2",3.2,1.6,1.5,"'-","Non lead wire","-55 to 125","8.0W180A emboss taping (reel packing)",2000,"https://industrial.panasonic.com/ww/products/pt/film-cap-electroequip/models/ECHU1C393GX5","≤ 4","≤ 2","≤ 1.5",{"$f":"pana_film[[#This Row],[Body length / dia\n(mm)]]&\" x \"&pana_film[[#This Row],[Body width\n(mm)]]","v":"3.2 x 1.6"},"-","-"]
[null,"Std","chip","PPS","No","ECHU(X)","ECHU1C333GX5",16,"DC",3.3000000000000002E-2,"± 2",3.2,1.6,1.1000000000000001,"'-","Non lead wire","-55 to 125","8.0W180A emboss taping (reel packing)",3000,"https://industrial.panasonic.com/ww/products/pt/film-cap-electroequip/models/ECHU1C333GX5","≤ 4","≤ 2","≤ 1.5",{"$f":"pana_film[[#This Row],[Body length / dia\n(mm)]]&\" x \"&pana_film[[#This Row],[Body width\n(mm)]]","v":"3.2 x 1.6"},"-","-"]
[null,"Std","chip","PPS","No","ECHU(X)","ECHU1C272JX5",16,"DC",2.7000000000000001E-3,"± 5",1.6,0.8,0.7,"'-","Non lead wire","-55 to 125","8.0W180A emboss taping (reel packing)",4000,"https://industrial.panasonic.com/ww/products/pt/film-cap-electroequip/models/ECHU1C272JX5","≤ 2","≤ 1","≤ 1",{"$f":"pana_film[[#This Row],[Body length / dia\n(mm)]]&\" x \"&pana_film[[#This Row],[Body width\n(mm)]]","v":"1.6 x 0.8"},"-","-"]
[null,"Std","chip","PPS","No","ECHU(X)","ECHU1C222GX5",16,"DC",2.2000000000000001E-3,"± 2",1.6,0.8,0.7,"'-","Non lead wire","-55 to 125","8.0W180A emboss taping (reel packing)",4000,"https://industrial.panasonic.com/ww/products/pt/film-cap-electroequip/models/ECHU1C222GX5","≤ 2","≤ 1","≤ 1",{"$f":"pana_film[[#This Row],[Body length / dia\n(mm)]]&\" x \"&pana_film[[#This Row],[Body width\n(mm)]]","v":"1.6 x 0.8"},"-","-"]
[null,"Std","chip","PPS","No","ECHU(X)","ECHU1C183JX5",16,"DC",1.7999999999999999E-2,"± 5",3.2,1.6,0.9,"'-","Non lead wire","-55 to 125","8.0W180A emboss taping (reel packing)",3000,"https://industrial.panasonic.com/ww/products/pt/film-cap-electroequip/models/ECHU1C183JX5","≤ 4","≤ 2","≤ 1",{"$f":"pana_film[[#This Row],[Body length / dia\n(mm)]]&\" x \"&pana_film[[#This Row],[Body width\n(mm)]]","v":"3.2 x 1.6"},"-","-"]
[null,"Std","chip","PPS","No","ECHU(X)","ECHU1C152GX5",16,"DC",1.5E-3,"± 2",1.6,0.8,0.7,"'-","Non lead wire","-55 to 125","8.0W180A emboss taping (reel packing)",4000,"https://industrial.panasonic.com/ww/products/pt/film-cap-electroequip/models/ECHU1C152GX5","≤ 2","≤ 1","≤ 1",{"$f":"pana_film[[#This Row],[Body length / dia\n(mm)]]&\" x \"&pana_film[[#This Row],[Body width\n(mm)]]","v":"1.6 x 0.8"},"-","-"]
[null,"Std","chip","PPS","No","ECHU(X)","ECHU1C121JX5",16,"DC",1.2E-4,"± 5",1.6,0.8,0.7,"'-","Non lead wire","-55 to 125","8.0W180A emboss taping (reel packing)",4000,"https://industrial.panasonic.com/ww/products/pt/film-cap-electroequip/models/ECHU1C121JX5","≤ 2","≤ 1","≤ 1",{"$f":"pana_film[[#This Row],[Body length / dia\n(mm)]]&\" x \"&pana_film[[#This Row],[Body width\n(mm)]]","v":"1.6 x 0.8"},"-","-"]
[null,"Std","chip","PPS","No","ECHU(X)","ECHU1C104GX5",16,"DC",0.1,"± 2",3.2,2.5,2.1,"'-","Non lead wire","-55 to 125","8.0W180A emboss taping (reel packing)",2000,"https://industrial.panasonic.com/ww/products/pt/film-cap-electroequip/models/ECHU1C104GX5","≤ 4","≤ 3","≤ 2.5",{"$f":"pana_film[[#This Row],[Body length / dia\n(mm)]]&\" x \"&pana_film[[#This Row],[Body width\n(mm)]]","v":"3.2 x 2.5"},"-","-"]
[null,"Std","chip","PPS","No","ECHU(X)","ECHU1C101JX5",16,"DC",1E-4,"± 5",1.6,0.8,0.7,"'-","Non lead wire","-55 to 125","8.0W180A emboss taping (reel packing)",4000,"https://industrial.panasonic.com/ww/products/pt/film-cap-electroequip/models/ECHU1C101JX5","≤ 2","≤ 1","≤ 1",{"$f":"pana_film[[#This Row],[Body length / dia\n(mm)]]&\" x \"&pana_film[[#This Row],[Body width\n(mm)]]","v":"1.6 x 0.8"},"-","-"]
[null,"Std","chip","PPS","No","ECHU(C)","ECHU1333JC9",100,"DC",3.3000000000000002E-2,"± 5",6,4.0999999999999996,1.8,"'-","Non lead wire","-55 to 105","12.0W embossed carrier taping (reel packing)",3000,"https://industrial.panasonic.com/ww/products/pt/film-cap-electroequip/models/ECHU1333JC9","≤ 6","≤ 5","≤ 2",{"$f":"pana_film[[#This Row],[Body length / dia\n(mm)]]&\" x \"&pana_film[[#This Row],[Body width\n(mm)]]","v":"6 x 4.1"},"-","-"]
[null,"Std","chip","PPS","No","ECHU(C)","ECHU1273GC9",100,"DC",2.7E-2,"± 2",4.8,3.3,2.8,"'-","Non lead wire","-55 to 105","12.0W embossed carrier taping (reel packing)",2000,"https://industrial.panasonic.com/ww/products/pt/film-cap-electroequip/models/ECHU1273GC9","≤ 5","≤ 4","≤ 3",{"$f":"pana_film[[#This Row],[Body length / dia\n(mm)]]&\" x \"&pana_film[[#This Row],[Body width\n(mm)]]","v":"4.8 x 3.3"},"-","-"]
[null,"Std","chip","PPS","No","ECHU(C)","ECHU1183JC9",100,"DC",1.7999999999999999E-2,"± 5",4.8,3.3,2,"'-","Non lead wire","-55 to 105","12.0W embossed carrier taping (reel packing)",3000,"https://industrial.panasonic.com/ww/products/pt/film-cap-electroequip/models/ECHU1183JC9","≤ 5","≤ 4","≤ 2",{"$f":"pana_film[[#This Row],[Body length / dia\n(mm)]]&\" x \"&pana_film[[#This Row],[Body width\n(mm)]]","v":"4.8 x 3.3"},"-","-"]
[null,"Std","chip","PPS","No","ECHU(C)","ECHU1154GCV",100,"DC",0.15,"± 2",7.1,6.3,3.4,"'-","Non lead wire","-55 to 105","16.0W embossed carrier taping (reel packing)",1000,"https://industrial.panasonic.com/ww/products/pt/film-cap-electroequip/models/ECHU1154GCV","≤ 8","≤ 7","≤ 3.5",{"$f":"pana_film[[#This Row],[Body length / dia\n(mm)]]&\" x \"&pana_film[[#This Row],[Body width\n(mm)]]","v":"7.1 x 6.3"},"-","-"]
[null,"Std","chip","PPS","No","ECHU(C)","ECHU1104JC9",100,"DC",0.1,"± 5",7.1,5,3,"'-","Non lead wire","-55 to 105","12.0W embossed carrier taping (reel packing)",1500,"https://industrial.panasonic.com/ww/products/pt/film-cap-electroequip/models/ECHU1104JC9","≤ 8","≤ 5","≤ 3",{"$f":"pana_film[[#This Row],[Body length / dia\n(mm)]]&\" x \"&pana_film[[#This Row],[Body width\n(mm)]]","v":"7.1 x 5"},"-","-"]
["2025/4/23 new","Std","box","PP","Yes","ECWFJ","ECWFJ1B105JA",1100,"DC",1,"± 5",31.5,10.5,21,27.5,"Short cut lead wire type","-40 to 110","Tray packing",300,"https://industrial.panasonic.com/ww/products/pt/automotive-film-cap/models/ECWFJ1B105JA","≤32","≤11","≤21",{"$f":"pana_film[[#This Row],[Body length / dia\n(mm)]]&\" x \"&pana_film[[#This Row],[Body width\n(mm)]]","v":"31.5 x 10.5"},3.3,36.5,"17nH"]
["2025/4/23 new","Std","box","PP","Yes","ECWFJ","ECWFJ1B305JA",1100,"DC",3,"± 5",31.5,16,29.5,27.5,"Short cut lead wire type","-40 to 110","Tray packing",100,"https://industrial.panasonic.com/ww/products/pt/automotive-film-cap/models/ECWFJ1B305JA","≤32","≤16","≤29.5",{"$f":"pana_film[[#This Row],[Body length / dia\n(mm)]]&\" x \"&pana_film[[#This Row],[Body width\n(mm)]]","v":"31.5 x 16"},6.3,12.7,"19nH"]
["2025/4/23 new","Std","box","PP","Yes","ECWFJ","ECWFJ1B505J",1100,"DC",5,"± 5",31.5,18.5,35,27.5,"Straight lead wire type","-40 to 110","Bulk (Bag packing)",100,"https://industrial.panasonic.com/ww/products/pt/automotive-film-cap/models/ECWFJ1B505J","≤32","≤19","≤35",{"$f":"pana_film[[#This Row],[Body length / dia\n(mm)]]&\" x \"&pana_film[[#This Row],[Body width\n(mm)]]","v":"31.5 x 18.5"},8.6,7.7,"15nH"]
["2025/4/23 new","Std","box","PP","Yes","ECWFJ","ECWFJ80305JA",800,"DC",3,"± 5",31.5,12,24.5,27.5,"Short cut lead wire type","-40 to 110","Tray packing",250,"https://industrial.panasonic.com/ww/products/pt/automotive-film-cap/models/ECWFJ80305JA","≤32","≤12","≤24.5",{"$f":"pana_film[[#This Row],[Body length / dia\n(mm)]]&\" x \"&pana_film[[#This Row],[Body width\n(mm)]]","v":"31.5 x 12"},5.3,12.4,"15nH"]
["2025/4/23 new","Std","box","PP","Yes","ECWFJ","ECWFJ80355J",800,"DC",3.5,"± 5",31.5,13.5,28.5,27.5,"Straight lead wire type","-40 to 110","Bulk (Bag packing)",150,"https://industrial.panasonic.com/ww/products/pt/automotive-film-cap/models/ECWFJ80355J","≤32","≤14","≤28.5",{"$f":"pana_film[[#This Row],[Body length / dia\n(mm)]]&\" x \"&pana_film[[#This Row],[Body width\n(mm)]]","v":"31.5 x 13.5"},5.8,10.7,"21nH"]
["2025/4/23 new","Std","box","PP","Yes","ECWFJ","ECWFJ80475JA",800,"DC",4.7,"± 5",31.5,13.5,28.5,27.5,"Short cut lead wire type","-40 to 110","Tray packing",150,"https://industrial.panasonic.com/ww/products/pt/automotive-film-cap/models/ECWFJ80475JA","≤32","≤14","≤28.5",{"$f":"pana_film[[#This Row],[Body length / dia\n(mm)]]&\" x \"&pana_film[[#This Row],[Body width\n(mm)]]","v":"31.5 x 13.5"},6.8,8.1999999999999993,"14nH"]
["2025/4/23 new","Std","box","PP","Yes","ECWFJ","ECWFJ80565J",800,"DC",5.6,"± 5",31.5,16,29.5,27.5,"Straight lead wire type","-40 to 110","Bulk (Bag packing)",150,"https://industrial.panasonic.com/ww/products/pt/automotive-film-cap/models/ECWFJ80565J","≤32","≤16","≤29.5",{"$f":"pana_film[[#This Row],[Body length / dia\n(mm)]]&\" x \"&pana_film[[#This Row],[Body width\n(mm)]]","v":"31.5 x 16"},7.5,7,"15nH"]
["2025/4/23 new","Std","box","PP","Yes","ECWFJ","ECWFJ80755J",800,"DC",7.5,"± 5",31.5,17.5,32.5,27.5,"Straight lead wire type","-40 to 110","Bulk (Bag packing)",150,"https://industrial.panasonic.com/ww/products/pt/automotive-film-cap/models/ECWFJ80755J","≤32","≤18","≤32.5",{"$f":"pana_film[[#This Row],[Body length / dia\n(mm)]]&\" x \"&pana_film[[#This Row],[Body width\n(mm)]]","v":"31.5 x 17.5"},8.8000000000000007,5.3,"13nH"]
["2025/12/1追加","Std","box","PP","No","EZPR","EZPR60256MD2",600,"DC",25,"±10",41.5,20,40,37.5,"Short cut lead wire type","-40 to 105 (85)","Other package",960,"https://industrial.panasonic.com/ww/products/pt/automotive-film-cap/models/EZPR60256MD2","≤42","≤20","≤40",{"$f":"pana_film[[#This Row],[Body length / dia\n(mm)]]&\" x \"&pana_film[[#This Row],[Body width\n(mm)]]","v":"41.5 x 20"},{"$f":"INDEX('IR Data'!K:K,MATCH(pana_film[[#This Row],[PartNumber]],'IR Data'!I:I,0))","v":16.600000000000001},{"$f":"INDEX('IR Data'!L:L,MATCH(pana_film[[#This Row],[PartNumber]],'IR Data'!I:I,0))","v":"-"}]
["2025/12/1追加","Std","box","PP","No","EZPR","EZPR60406MD2",600,"DC",40,"±10",41.5,30,45,37.5,"Short cut lead wire type","-40 to 105 (85)","Other package",640,"https://industrial.panasonic.com/ww/products/pt/automotive-film-cap/models/EZPR60406MD2","≤42","≤30","≤45",{"$f":"pana_film[[#This Row],[Body length / dia\n(mm)]]&\" x \"&pana_film[[#This Row],[Body width\n(mm)]]","v":"41.5 x 30"},{"$f":"INDEX('IR Data'!K:K,MATCH(pana_film[[#This Row],[PartNumber]],'IR Data'!I:I,0))","v":24.5},{"$f":"INDEX('IR Data'!L:L,MATCH(pana_film[[#This Row],[PartNumber]],'IR Data'!I:I,0))","v":"-"}]
["2025/12/1追加","Std","box","PP","No","EZPR","EZPR60756MD2",600,"DC",75,"±10",41.5,45,60,37.5,"Short cut lead wire type","-40 to 105 (85)","Other package",320,"https://industrial.panasonic.com/ww/products/pt/automotive-film-cap/models/EZPR60756MD2","≤42","≤45","≤60",{"$f":"pana_film[[#This Row],[Body length / dia\n(mm)]]&\" x \"&pana_film[[#This Row],[Body width\n(mm)]]","v":"41.5 x 45"},{"$f":"INDEX('IR Data'!K:K,MATCH(pana_film[[#This Row],[PartNumber]],'IR Data'!I:I,0))","v":33.700000000000003},{"$f":"INDEX('IR Data'!L:L,MATCH(pana_film[[#This Row],[PartNumber]],'IR Data'!I:I,0))","v":"-"}]
["2026/2/6 追加","Std","box","PP","Yes","ECWFJ","ECWFJ2J105Q1",630,"DC",1,"±10","27","10.5","19","22.5","Long lead wire type","-40 to 110","Bulk (Bag packing)","400","https://industrial.panasonic.com/ww/products/pt/automotive-film-cap/models/ECWFJ2J105Q1","≤27","≤11","≤19",{"$f":"pana_film[[#This Row],[Body length / dia\n(mm)]]&\" x \"&pana_film[[#This Row],[Body width\n(mm)]]","v":"27 x 10.5"},4.7,12.9,"12nH"]
["2026/2/6 追加","Std","box","PP","Yes","ECWFJ","ECWFJ2J155KA",630,"DC",1.5,"±10","31.5","10.5","21","27.5","Short cut lead wire type","-40 to 110","Tray packing","300","https://industrial.panasonic.com/ww/products/pt/automotive-film-cap/models/ECWFJ2J155KA","≤32","≤11","≤21",{"$f":"pana_film[[#This Row],[Body length / dia\n(mm)]]&\" x \"&pana_film[[#This Row],[Body width\n(mm)]]","v":"31.5 x 10.5"},6.3,8.9,"11nH"]
["2026/2/6 追加","Std","box","PP","Yes","ECWFJ","ECWFJ2J225JA",630,"DC",2.2000000000000002,"± 5","31.5","12","24.5","27.5","Short cut lead wire type","-40 to 110","Tray packing","250","https://industrial.panasonic.com/ww/products/pt/automotive-film-cap/models/ECWFJ2J225JA","≤32","≤12","≤24.5",{"$f":"pana_film[[#This Row],[Body length / dia\n(mm)]]&\" x \"&pana_film[[#This Row],[Body width\n(mm)]]","v":"31.5 x 12"},8.1,6.2,"12nH"]
["2026/2/6 追加","Std","box","PP","Yes","ECWFJ","ECWFJ2J225P1",630,"DC",2.2000000000000002,"± 5","27","15.5","24","22.5","Long lead wire type","-40 to 110","Bulk (Bag packing)","200","https://industrial.panasonic.com/ww/products/pt/automotive-film-cap/models/ECWFJ2J225P1","≤27","≤16","≤24",{"$f":"pana_film[[#This Row],[Body length / dia\n(mm)]]&\" x \"&pana_film[[#This Row],[Body width\n(mm)]]","v":"27 x 15.5"},8.1,6.2,"12nH"]
["2026/2/6 追加","Std","box","PP","Yes","ECWFJ","ECWFJ2J305KA",630,"DC",3,"±10","31.5","13.5","28.5","27.5","Short cut lead wire type","-40 to 110","Tray packing","150","https://industrial.panasonic.com/ww/products/pt/automotive-film-cap/models/ECWFJ2J305KA","≤32","≤14","≤28.5",{"$f":"pana_film[[#This Row],[Body length / dia\n(mm)]]&\" x \"&pana_film[[#This Row],[Body width\n(mm)]]","v":"31.5 x 13.5"},9.8000000000000007,4.7,"12nH"]
["2026/2/6 追加","Std","box","PP","Yes","ECWFJ","ECWFJ2J405J",630,"DC",4,"± 5","31.5","16","29.5","27.5","Long lead wire type","-40 to 110","Bulk (Bag packing)","100","https://industrial.panasonic.com/ww/products/pt/automotive-film-cap/models/ECWFJ2J405J","≤32","≤16","≤29.5",{"$f":"pana_film[[#This Row],[Body length / dia\n(mm)]]&\" x \"&pana_film[[#This Row],[Body width\n(mm)]]","v":"31.5 x 16"},9.1999999999999993,6,"16nH"]
["2026/2/6 追加","Std","box","PP","Yes","ECWFJ","ECWFJ2J405KA",630,"DC",4,"±10","31.5","16","29.5","27.5","Short cut lead wire type","-40 to 110","Tray packing","100","https://industrial.panasonic.com/ww/products/pt/automotive-film-cap/models/ECWFJ2J405KA","≤32","≤16","≤29.5",{"$f":"pana_film[[#This Row],[Body length / dia\n(mm)]]&\" x \"&pana_film[[#This Row],[Body width\n(mm)]]","v":"31.5 x 16"},9.1999999999999993,6,"16nH"]
["2026/2/6 追加","Std","box","PP","Yes","ECWFJ","ECWFJ3A205J",1000,"DC",2,"± 5","31","13","23","27.5","Long lead wire type","-40 to 105 (85)","Bulk (Bag packing)","200","https://industrial.panasonic.com/ww/products/pt/automotive-film-cap/models/ECWFJ3A205J","≤31","≤13","≤23",{"$f":"pana_film[[#This Row],[Body length / dia\n(mm)]]&\" x \"&pana_film[[#This Row],[Body width\n(mm)]]","v":"31 x 13"},3.6,"TBD","TBDnH"]
["2026/2/6 追加","Std","box","PP","Yes","ECWFJ","ECWFJ3A405J",1000,"DC",4,"± 5","31.5","16","29.5","27.5","Long lead wire type","-40 to 105 (85)","Bulk (Bag packing)","150","https://industrial.panasonic.com/ww/products/pt/automotive-film-cap/models/ECWFJ3A405J","≤32","≤16","≤29.5",{"$f":"pana_film[[#This Row],[Body length / dia\n(mm)]]&\" x \"&pana_film[[#This Row],[Body width\n(mm)]]","v":"31.5 x 16"},5.4,8.6,"23.3nH"]
["2026/2/6 追加","Std","box","PP","Yes","ECWFJ","ECWFJ3A405JA",1000,"DC",4,"± 5","31.5","16","29.5","27.5","Short cut lead wire type","-40 to 105 (85)","Tray packing","100","https://industrial.panasonic.com/ww/products/pt/automotive-film-cap/models/ECWFJ3A405JA","≤32","≤16","≤29.5",{"$f":"pana_film[[#This Row],[Body length / dia\n(mm)]]&\" x \"&pana_film[[#This Row],[Body width\n(mm)]]","v":"31.5 x 16"},5.4,8.6,"23.3nH"]
["2026/2/6 追加","Std","box","PP","Yes","ECWFJ","ECWFJ60205J",600,"DC",2,"± 5","31.5",8,"17","27.5","Long lead wire type","-40 to 110","Bulk (Bag packing)","400","https://industrial.panasonic.com/ww/products/pt/automotive-film-cap/models/ECWFJ60205J","≤32","≤ 8","≤17",{"$f":"pana_film[[#This Row],[Body length / dia\n(mm)]]&\" x \"&pana_film[[#This Row],[Body width\n(mm)]]","v":"31.5 x 8"},3.4,25.3,"13nH"]
["2026/2/6 追加","Std","box","PP","Yes","ECWFJ","ECWFJ60225JA",600,"DC",2.2000000000000002,"± 5","31.5",8,"17","27.5","Short cut lead wire type","-40 to 110","Tray packing","400","https://industrial.panasonic.com/ww/products/pt/automotive-film-cap/models/ECWFJ60225JA","≤32","≤ 8","≤17",{"$f":"pana_film[[#This Row],[Body length / dia\n(mm)]]&\" x \"&pana_film[[#This Row],[Body width\n(mm)]]","v":"31.5 x 8"},3.6,23.1,"14nH"]
["2026/2/6 追加","Std","box","PP","Yes","ECWFJ","ECWFJ60395J",600,"DC",3.9,"± 5","31.5","10.5","21","27.5","Long lead wire type","-40 to 110","Bulk (Bag packing)","300","https://industrial.panasonic.com/ww/products/pt/automotive-film-cap/models/ECWFJ60395J","≤32","≤11","≤21",{"$f":"pana_film[[#This Row],[Body length / dia\n(mm)]]&\" x \"&pana_film[[#This Row],[Body width\n(mm)]]","v":"31.5 x 10.5"},5,13.4,"13nH"]
["2026/2/6 追加","Std","box","PP","Yes","ECWFJ","ECWFJ60565JA",600,"DC",5.6,"± 5","31.5","12","24.5","27.5","Short cut lead wire type","-40 to 110","Tray packing","250","https://industrial.panasonic.com/ww/products/pt/automotive-film-cap/models/ECWFJ60565JA","≤32","≤12","≤24.5",{"$f":"pana_film[[#This Row],[Body length / dia\n(mm)]]&\" x \"&pana_film[[#This Row],[Body width\n(mm)]]","v":"31.5 x 12"},6.1,9.5,"14nH"]
["2026/2/6 追加","Std","box","PP","Yes","ECWFJ","ECWFJ60685J",600,"DC",6.8,"± 5","31.5","12","24.5","27.5","Long lead wire type","-40 to 110","Bulk (Bag packing)","200","https://industrial.panasonic.com/ww/products/pt/automotive-film-cap/models/ECWFJ60685J","≤32","≤12","≤24.5",{"$f":"pana_film[[#This Row],[Body length / dia\n(mm)]]&\" x \"&pana_film[[#This Row],[Body width\n(mm)]]","v":"31.5 x 12"},6.8,7.9,"12nH"]
["2026/2/6 追加","Std","box","PP","Yes","ECWFJ","ECWFJ60685JA",600,"DC",6.8,"± 5","31.5","12","24.5","27.5","Short cut lead wire type","-40 to 110","Tray packing","250","https://industrial.panasonic.com/ww/products/pt/automotive-film-cap/models/ECWFJ60685JA","≤32","≤12","≤24.5",{"$f":"pana_film[[#This Row],[Body length / dia\n(mm)]]&\" x \"&pana_film[[#This Row],[Body width\n(mm)]]","v":"31.5 x 12"},6.8,7.9,"12nH"]
["2026/2/6 追加","Std","box","PP","Yes","ECWFJ","ECWFJ60705J",600,"DC",7,"± 5","31.5","13.5","28.5","27.5","Long lead wire type","-40 to 110","Bulk (Bag packing)","150","https://industrial.panasonic.com/ww/products/pt/automotive-film-cap/models/ECWFJ60705J","≤32","≤14","≤28.5",{"$f":"pana_film[[#This Row],[Body length / dia\n(mm)]]&\" x \"&pana_film[[#This Row],[Body width\n(mm)]]","v":"31.5 x 13.5"},6.9,7.7,"15nH"]
["2026/2/6 追加","Std","box","PP","Yes","ECWFJ","ECWFJ60705JA",600,"DC",7,"± 5","31.5","13.5","28.5","27.5","Short cut lead wire type","-40 to 110","Tray packing","150","https://industrial.panasonic.com/ww/products/pt/automotive-film-cap/models/ECWFJ60705JA","≤32","≤14","≤28.5",{"$f":"pana_film[[#This Row],[Body length / dia\n(mm)]]&\" x \"&pana_film[[#This Row],[Body width\n(mm)]]","v":"31.5 x 13.5"},6.9,7.7,"15nH"]
["2026/2/6 追加","Std","box","PP","Yes","ECWFJ","ECWFJ60755J",600,"DC",7.5,"± 5","31.5","13.5","28.5","27.5","Long lead wire type","-40 to 110","Bulk (Bag packing)","150","https://industrial.panasonic.com/ww/products/pt/automotive-film-cap/models/ECWFJ60755J","≤32","≤14","≤28.5",{"$f":"pana_film[[#This Row],[Body length / dia\n(mm)]]&\" x \"&pana_film[[#This Row],[Body width\n(mm)]]","v":"31.5 x 13.5"},7.2,7.2,"14nH"]
["2026/2/6 追加","Std","box","PP","Yes","ECWFJ","ECWFJ60755JA",600,"DC",7.5,"± 5","31.5","13.5","28.5","27.5","Short cut lead wire type","-40 to 110","Tray packing","150","https://industrial.panasonic.com/ww/products/pt/automotive-film-cap/models/ECWFJ60755JA","≤32","≤14","≤28.5",{"$f":"pana_film[[#This Row],[Body length / dia\n(mm)]]&\" x \"&pana_film[[#This Row],[Body width\n(mm)]]","v":"31.5 x 13.5"},7.2,7.2,"14nH"]
["2026/2/6 追加","Std","box","PP","Yes","ECWFJ","ECWFJ60805J",600,"DC",8,"± 5","31.5","13.5","28.5","27.5","Long lead wire type","-40 to 110","Bulk (Bag packing)","150","https://industrial.panasonic.com/ww/products/pt/automotive-film-cap/models/ECWFJ60805J","≤32","≤14","≤28.5",{"$f":"pana_film[[#This Row],[Body length / dia\n(mm)]]&\" x \"&pana_film[[#This Row],[Body width\n(mm)]]","v":"31.5 x 13.5"},7.5,6.8,"13nH"]
["2026/2/6 追加","Std","box","PP","Yes","ECWFJ","ECWFJ60805JA",600,"DC",8,"± 5","31.5","13.5","28.5","27.5","Short cut lead wire type","-40 to 110","Tray packing","150","https://industrial.panasonic.com/ww/products/pt/automotive-film-cap/models/ECWFJ60805JA","≤32","≤14","≤28.5",{"$f":"pana_film[[#This Row],[Body length / dia\n(mm)]]&\" x \"&pana_film[[#This Row],[Body width\n(mm)]]","v":"31.5 x 13.5"},7.5,6.8,"13nH"]
["2026/2/6 追加","Std","box","PP","Yes","ECWFJ","ECWFJ60825J",600,"DC",8.1999999999999993,"± 5","31.5","13.5","28.5","27.5","Long lead wire type","-40 to 110","Bulk (Bag packing)","150","https://industrial.panasonic.com/ww/products/pt/automotive-film-cap/models/ECWFJ60825J","≤32","≤14","≤28.5",{"$f":"pana_film[[#This Row],[Body length / dia\n(mm)]]&\" x \"&pana_film[[#This Row],[Body width\n(mm)]]","v":"31.5 x 13.5"},7.6,6.6,"13nH"]
["2026/2/6 追加","Std","box","PP","Yes","ECWFJ","ECWFJ60825JA",600,"DC",8.1999999999999993,"± 5","31.5","13.5","28.5","27.5","Short cut lead wire type","-40 to 110","Tray packing","150","https://industrial.panasonic.com/ww/products/pt/automotive-film-cap/models/ECWFJ60825JA","≤32","≤14","≤28.5",{"$f":"pana_film[[#This Row],[Body length / dia\n(mm)]]&\" x \"&pana_film[[#This Row],[Body width\n(mm)]]","v":"31.5 x 13.5"},7.6,6.6,"13nH"]
["2026/2/6 追加","Std","box","PP","Yes","ECWFJ","ECWFJ60905J",600,"DC",9,"± 5","31.5","13.5","28.5","27.5","Long lead wire type","-40 to 110","Bulk (Bag packing)","150","https://industrial.panasonic.com/ww/products/pt/automotive-film-cap/models/ECWFJ60905J","≤32","≤14","≤28.5",{"$f":"pana_film[[#This Row],[Body length / dia\n(mm)]]&\" x \"&pana_film[[#This Row],[Body width\n(mm)]]","v":"31.5 x 13.5"},8,6.1,"12nH"]
["2026/2/6 追加","Std","box","PP","Yes","ECWFJ","ECWFJ60905JA",600,"DC",9,"± 5","31.5","13.5","28.5","27.5","Short cut lead wire type","-40 to 110","Tray packing","150","https://industrial.panasonic.com/ww/products/pt/automotive-film-cap/models/ECWFJ60905JA","≤32","≤14","≤28.5",{"$f":"pana_film[[#This Row],[Body length / dia\n(mm)]]&\" x \"&pana_film[[#This Row],[Body width\n(mm)]]","v":"31.5 x 13.5"},8,6.1,"12nH"]
["2026/2/6 追加","Std","box","PP","Yes","ECWFJ","ECWFJ70105J",700,"DC",1,"± 5","31.5","9.5","18","27.5","Long lead wire type","-40 to 110","Bulk (Bag packing)","400","https://industrial.panasonic.com/ww/products/pt/automotive-film-cap/models/ECWFJ70105J","≤32","≤10","≤18",{"$f":"pana_film[[#This Row],[Body length / dia\n(mm)]]&\" x \"&pana_film[[#This Row],[Body width\n(mm)]]","v":"31.5 x 9.5"},4,20.8,"13nH"]
["2026/2/6 追加","Std","box","PP","Yes","ECWFJ","ECWFJ70105JA",700,"DC",1,"± 5","31.5","9.5","18","27.5","Short cut lead wire type","-40 to 110","Tray packing","350","https://industrial.panasonic.com/ww/products/pt/automotive-film-cap/models/ECWFJ70105JA","≤32","≤10","≤18",{"$f":"pana_film[[#This Row],[Body length / dia\n(mm)]]&\" x \"&pana_film[[#This Row],[Body width\n(mm)]]","v":"31.5 x 9.5"},4,20.8,"13nH"]
["2026/2/6 追加","Std","box","PP","Yes","ECWFJ","ECWFJ70105K",700,"DC",1,"±10","31.5","9.5","18","27.5","Long lead wire type","-40 to 110","Bulk (Bag packing)","400","https://industrial.panasonic.com/ww/products/pt/automotive-film-cap/models/ECWFJ70105K","≤32","≤10","≤18",{"$f":"pana_film[[#This Row],[Body length / dia\n(mm)]]&\" x \"&pana_film[[#This Row],[Body width\n(mm)]]","v":"31.5 x 9.5"},4,20.8,"13nH"]
["2026/2/6 追加","Std","box","PP","Yes","ECWFJ","ECWFJ70105KA",700,"DC",1,"±10","31.5","9.5","18","27.5","Short cut lead wire type","-40 to 110","Tray packing","350","https://industrial.panasonic.com/ww/products/pt/automotive-film-cap/models/ECWFJ70105KA","≤32","≤10","≤18",{"$f":"pana_film[[#This Row],[Body length / dia\n(mm)]]&\" x \"&pana_film[[#This Row],[Body width\n(mm)]]","v":"31.5 x 9.5"},4,20.8,"13nH"]
["2026/2/6 追加","Std","box","PP","Yes","ECWFJ","ECWFJ70155J",700,"DC",1.5,"± 5","31.5","10.5","21","27.5","Long lead wire type","-40 to 110","Bulk (Bag packing)","300","https://industrial.panasonic.com/ww/products/pt/automotive-film-cap/models/ECWFJ70155J","≤32","≤11","≤21",{"$f":"pana_film[[#This Row],[Body length / dia\n(mm)]]&\" x \"&pana_film[[#This Row],[Body width\n(mm)]]","v":"31.5 x 10.5"},5.2,13.9,"12nH"]
["2026/2/6 追加","Std","box","PP","Yes","ECWFJ","ECWFJ70155JA",700,"DC",1.5,"± 5","31.5","10.5","21","27.5","Short cut lead wire type","-40 to 110","Tray packing","300","https://industrial.panasonic.com/ww/products/pt/automotive-film-cap/models/ECWFJ70155JA","≤32","≤11","≤21",{"$f":"pana_film[[#This Row],[Body length / dia\n(mm)]]&\" x \"&pana_film[[#This Row],[Body width\n(mm)]]","v":"31.5 x 10.5"},5.2,13.9,"12nH"]
["2026/2/6 追加","Std","box","PP","Yes","ECWFJ","ECWFJ70155K",700,"DC",1.5,"±10","31.5","10.5","21","27.5","Long lead wire type","-40 to 110","Bulk (Bag packing)","300","https://industrial.panasonic.com/ww/products/pt/automotive-film-cap/models/ECWFJ70155K","≤32","≤11","≤21",{"$f":"pana_film[[#This Row],[Body length / dia\n(mm)]]&\" x \"&pana_film[[#This Row],[Body width\n(mm)]]","v":"31.5 x 10.5"},5.2,13.9,"12nH"]
["2026/2/6 追加","Std","box","PP","Yes","ECWFJ","ECWFJ70155KA",700,"DC",1.5,"±10","31.5","10.5","21","27.5","Short cut lead wire type","-40 to 110","Tray packing","300","https://industrial.panasonic.com/ww/products/pt/automotive-film-cap/models/ECWFJ70155KA","≤32","≤11","≤21",{"$f":"pana_film[[#This Row],[Body length / dia\n(mm)]]&\" x \"&pana_film[[#This Row],[Body width\n(mm)]]","v":"31.5 x 10.5"},5.2,13.9,"12nH"]
["2026/2/6 追加","Std","box","PP","Yes","ECWFJ","ECWFJ70205J",700,"DC",2,"± 5","31.5","12","24.5","27.5","Long lead wire type","-40 to 110","Bulk (Bag packing)","200","https://industrial.panasonic.com/ww/products/pt/automotive-film-cap/models/ECWFJ70205J","≤32","≤12","≤24.5",{"$f":"pana_film[[#This Row],[Body length / dia\n(mm)]]&\" x \"&pana_film[[#This Row],[Body width\n(mm)]]","v":"31.5 x 12"},6.2,10.4,"14nH"]
["2026/2/6 追加","Std","box","PP","Yes","ECWFJ","ECWFJ70205JA",700,"DC",2,"± 5","31.5","12","24.5","27.5","Short cut lead wire type","-40 to 110","Tray packing","250","https://industrial.panasonic.com/ww/products/pt/automotive-film-cap/models/ECWFJ70205JA","≤32","≤12","≤24.5",{"$f":"pana_film[[#This Row],[Body length / dia\n(mm)]]&\" x \"&pana_film[[#This Row],[Body width\n(mm)]]","v":"31.5 x 12"},6.2,10.4,"14nH"]
["2026/2/6 追加","Std","box","PP","Yes","ECWFJ","ECWFJ70205K",700,"DC",2,"±10","31.5","12","24.5","27.5","Long lead wire type","-40 to 110","Bulk (Bag packing)","200","https://industrial.panasonic.com/ww/products/pt/automotive-film-cap/models/ECWFJ70205K","≤32","≤12","≤24.5",{"$f":"pana_film[[#This Row],[Body length / dia\n(mm)]]&\" x \"&pana_film[[#This Row],[Body width\n(mm)]]","v":"31.5 x 12"},6.2,10.4,"14nH"]
["2026/2/6 追加","Std","box","PP","Yes","ECWFJ","ECWFJ70205KA",700,"DC",2,"±10","31.5","12","24.5","27.5","Short cut lead wire type","-40 to 110","Tray packing","250","https://industrial.panasonic.com/ww/products/pt/automotive-film-cap/models/ECWFJ70205KA","≤32","≤12","≤24.5",{"$f":"pana_film[[#This Row],[Body length / dia\n(mm)]]&\" x \"&pana_film[[#This Row],[Body width\n(mm)]]","v":"31.5 x 12"},6.2,10.4,"14nH"]
["2026/2/6 追加","Std","box","PP","Yes","ECWFJ","ECWFJ70225J",700,"DC",2.2000000000000002,"± 5","31.5","12","24.5","27.5","Long lead wire type","-40 to 110","Bulk (Bag packing)","200","https://industrial.panasonic.com/ww/products/pt/automotive-film-cap/models/ECWFJ70225J","≤32","≤12","≤24.5",{"$f":"pana_film[[#This Row],[Body length / dia\n(mm)]]&\" x \"&pana_film[[#This Row],[Body width\n(mm)]]","v":"31.5 x 12"},6.5,9.5,"13nH"]
["2026/2/6 追加","Std","box","PP","Yes","ECWFJ","ECWFJ70225JA",700,"DC",2.2000000000000002,"± 5","31.5","12","24.5","27.5","Short cut lead wire type","-40 to 110","Tray packing","250","https://industrial.panasonic.com/ww/products/pt/automotive-film-cap/models/ECWFJ70225JA","≤32","≤12","≤24.5",{"$f":"pana_film[[#This Row],[Body length / dia\n(mm)]]&\" x \"&pana_film[[#This Row],[Body width\n(mm)]]","v":"31.5 x 12"},6.5,9.5,"13nH"]
["2026/2/6 追加","Std","box","PP","Yes","ECWFJ","ECWFJ70225K",700,"DC",2.2000000000000002,"±10","31.5","12","24.5","27.5","Long lead wire type","-40 to 110","Bulk (Bag packing)","200","https://industrial.panasonic.com/ww/products/pt/automotive-film-cap/models/ECWFJ70225K","≤32","≤12","≤24.5",{"$f":"pana_film[[#This Row],[Body length / dia\n(mm)]]&\" x \"&pana_film[[#This Row],[Body width\n(mm)]]","v":"31.5 x 12"},6.5,9.5,"13nH"]
["2026/2/6 追加","Std","box","PP","Yes","ECWFJ","ECWFJ70225KA",700,"DC",2.2000000000000002,"±10","31.5","12","24.5","27.5","Short cut lead wire type","-40 to 110","Tray packing","250","https://industrial.panasonic.com/ww/products/pt/automotive-film-cap/models/ECWFJ70225KA","≤32","≤12","≤24.5",{"$f":"pana_film[[#This Row],[Body length / dia\n(mm)]]&\" x \"&pana_film[[#This Row],[Body width\n(mm)]]","v":"31.5 x 12"},6.5,9.5,"13nH"]
["2026/2/6 追加","Std","box","PP","Yes","ECWFJ","ECWFJ70305J",700,"DC",3,"± 5","31.5","13.5","28.5","27.5","Long lead wire type","-40 to 110","Bulk (Bag packing)","150","https://industrial.panasonic.com/ww/products/pt/automotive-film-cap/models/ECWFJ70305J","≤32","≤14","≤28.5",{"$f":"pana_film[[#This Row],[Body length / dia\n(mm)]]&\" x \"&pana_film[[#This Row],[Body width\n(mm)]]","v":"31.5 x 13.5"},7.8,6.9,"13nH"]
["2026/2/6 追加","Std","box","PP","Yes","ECWFJ","ECWFJ70305JA",700,"DC",3,"± 5","31.5","13.5","28.5","27.5","Short cut lead wire type","-40 to 110","Tray packing","150","https://industrial.panasonic.com/ww/products/pt/automotive-film-cap/models/ECWFJ70305JA","≤32","≤14","≤28.5",{"$f":"pana_film[[#This Row],[Body length / dia\n(mm)]]&\" x \"&pana_film[[#This Row],[Body width\n(mm)]]","v":"31.5 x 13.5"},7.8,6.9,"13nH"]
["2026/2/6 追加","Std","box","PP","Yes","ECWFJ","ECWFJ70305K",700,"DC",3,"±10","31.5","13.5","28.5","27.5","Long lead wire type","-40 to 110","Bulk (Bag packing)","150","https://industrial.panasonic.com/ww/products/pt/automotive-film-cap/models/ECWFJ70305K",{"$f":"IF(L7193<=9.5,\"≤ \"&ROUNDUP(L7193*1,0)/1,\"≤\"&ROUNDUP(L7193*1,0)/1)","v":"≤32"},{"$f":"IF(M7193<=9,\"≤ \"&ROUNDUP(M7193*1,0)/1,\"≤\"&ROUNDUP(M7193*1,0)/1)","v":"≤14"},{"$f":"IF(N7193<=9.5,\"≤ \"&ROUNDUP(N7193*2,0)/2,\"≤\"&ROUNDUP(N7193*2,0)/2)","v":"≤28.5"},{"$f":"pana_film[[#This Row],[Body length / dia\n(mm)]]&\" x \"&pana_film[[#This Row],[Body width\n(mm)]]","v":"31.5 x 13.5"},7.8,6.9,"13nH"]
["2026/2/6 追加","Std","box","PP","Yes","ECWFJ","ECWFJ70305KA",700,"DC",3,"±10","31.5","13.5","28.5","27.5","Short cut lead wire type","-40 to 110","Tray packing","150","https://industrial.panasonic.com/ww/products/pt/automotive-film-cap/models/ECWFJ70305KA","≤32","≤14","≤28.5",{"$f":"pana_film[[#This Row],[Body length / dia\n(mm)]]&\" x \"&pana_film[[#This Row],[Body width\n(mm)]]","v":"31.5 x 13.5"},7.8,6.9,"13nH"]
["2026/2/6 追加","Std","box","PP","Yes","ECWFJ","ECWFJ70395J",700,"DC",3.9,"± 5","31.5","16","29.5","27.5","Long lead wire type","-40 to 110","Bulk (Bag packing)","100","https://industrial.panasonic.com/ww/products/pt/automotive-film-cap/models/ECWFJ70395J","≤32","≤16","≤29.5",{"$f":"pana_film[[#This Row],[Body length / dia\n(mm)]]&\" x \"&pana_film[[#This Row],[Body width\n(mm)]]","v":"31.5 x 16"},9.1,6.3,"16nH"]
["2026/2/6 追加","Std","box","PP","Yes","ECWFJ","ECWFJ70395JA",700,"DC",3.9,"± 5","31.5","16","29.5","27.5","Short cut lead wire type","-40 to 110","Tray packing","100","https://industrial.panasonic.com/ww/products/pt/automotive-film-cap/models/ECWFJ70395JA","≤32","≤16","≤29.5",{"$f":"pana_film[[#This Row],[Body length / dia\n(mm)]]&\" x \"&pana_film[[#This Row],[Body width\n(mm)]]","v":"31.5 x 16"},9.1,6.3,"16nH"]
["2026/2/6 追加","Std","box","PP","Yes","ECWFJ","ECWFJ70395K",700,"DC",3.9,"±10","31.5","16","29.5","27.5","Long lead wire type","-40 to 110","Bulk (Bag packing)","100","https://industrial.panasonic.com/ww/products/pt/automotive-film-cap/models/ECWFJ70395K","≤32","≤16","≤29.5",{"$f":"pana_film[[#This Row],[Body length / dia\n(mm)]]&\" x \"&pana_film[[#This Row],[Body width\n(mm)]]","v":"31.5 x 16"},9.1,6.3,"16nH"]
["2026/2/6 追加","Std","box","PP","Yes","ECWFJ","ECWFJ70395KA",700,"DC",3.9,"±10","31.5","16","29.5","27.5","Short cut lead wire type","-40 to 110","Tray packing","100","https://industrial.panasonic.com/ww/products/pt/automotive-film-cap/models/ECWFJ70395KA","≤32","≤16","≤29.5",{"$f":"pana_film[[#This Row],[Body length / dia\n(mm)]]&\" x \"&pana_film[[#This Row],[Body width\n(mm)]]","v":"31.5 x 16"},9.1,6.3,"16nH"]
["2026/2/6 追加","Std","box","PP","Yes","ECWFJ","ECWFJ70405J",700,"DC",4,"± 5","31.5","16","29.5","27.5","Long lead wire type","-40 to 110","Bulk (Bag packing)","100","https://industrial.panasonic.com/ww/products/pt/automotive-film-cap/models/ECWFJ70405J","≤32","≤16","≤29.5",{"$f":"pana_film[[#This Row],[Body length / dia\n(mm)]]&\" x \"&pana_film[[#This Row],[Body width\n(mm)]]","v":"31.5 x 16"},9.1999999999999993,6,"16nH"]
["2026/2/6 追加","Std","box","PP","Yes","ECWFJ","ECWFJ70405JA",700,"DC",4,"± 5","31.5","16","29.5","27.5","Short cut lead wire type","-40 to 110","Tray packing","100","https://industrial.panasonic.com/ww/products/pt/automotive-film-cap/models/ECWFJ70405JA","≤32","≤16","≤29.5",{"$f":"pana_film[[#This Row],[Body length / dia\n(mm)]]&\" x \"&pana_film[[#This Row],[Body width\n(mm)]]","v":"31.5 x 16"},9.1999999999999993,6,"16nH"]
["2026/2/6 追加","Std","box","PP","Yes","ECWFJ","ECWFJ70405K",700,"DC",4,"±10","31.5","16","29.5","27.5","Long lead wire type","-40 to 110","Bulk (Bag packing)","100","https://industrial.panasonic.com/ww/products/pt/automotive-film-cap/models/ECWFJ70405K","≤32","≤16","≤29.5",{"$f":"pana_film[[#This Row],[Body length / dia\n(mm)]]&\" x \"&pana_film[[#This Row],[Body width\n(mm)]]","v":"31.5 x 16"},9.1999999999999993,6,"16nH"]
["2026/2/6 追加","Std","box","PP","Yes","ECWFJ","ECWFJ70405KA",700,"DC",4,"±10","31.5","16","29.5","27.5","Short cut lead wire type","-40 to 110","Tray packing","100","https://industrial.panasonic.com/ww/products/pt/automotive-film-cap/models/ECWFJ70405KA","≤32","≤16","≤29.5",{"$f":"pana_film[[#This Row],[Body length / dia\n(mm)]]&\" x \"&pana_film[[#This Row],[Body width\n(mm)]]","v":"31.5 x 16"},9.1999999999999993,6,"16nH"]
["2026/2/6 追加","Std","box","PP","Yes","ECWFJ","ECWFJ70475J",700,"DC",4.7,"± 5","31.5","17.5","32.5","27.5","Long lead wire type","-40 to 110","Bulk (Bag packing)","100","https://industrial.panasonic.com/ww/products/pt/automotive-film-cap/models/ECWFJ70475J","≤32","≤18","≤32.5",{"$f":"pana_film[[#This Row],[Body length / dia\n(mm)]]&\" x \"&pana_film[[#This Row],[Body width\n(mm)]]","v":"31.5 x 17.5"},10.1,4.4000000000000004,"13nH"]
["2026/2/6 追加","Std","box","PP","Yes","ECWFJ","ECWFJ70475JA",700,"DC",4.7,"± 5","31.5","17.5","32.5","27.5","Short cut lead wire type","-40 to 110","Tray packing","100","https://industrial.panasonic.com/ww/products/pt/automotive-film-cap/models/ECWFJ70475JA","≤32","≤18","≤32.5",{"$f":"pana_film[[#This Row],[Body length / dia\n(mm)]]&\" x \"&pana_film[[#This Row],[Body width\n(mm)]]","v":"31.5 x 17.5"},10.1,4.4000000000000004,"13nH"]
["2026/2/6 追加","Std","box","PP","Yes","ECWFJ","ECWFJ70475K",700,"DC",4.7,"±10","31.5","17.5","32.5","27.5","Long lead wire type","-40 to 110","Bulk (Bag packing)","100","https://industrial.panasonic.com/ww/products/pt/automotive-film-cap/models/ECWFJ70475K","≤32","≤18","≤32.5",{"$f":"pana_film[[#This Row],[Body length / dia\n(mm)]]&\" x \"&pana_film[[#This Row],[Body width\n(mm)]]","v":"31.5 x 17.5"},10.1,4.4000000000000004,"13nH"]
["2026/2/6 追加","Std","box","PP","Yes","ECWFJ","ECWFJ70475KA",700,"DC",4.7,"±10","31.5","17.5","32.5","27.5","Short cut lead wire type","-40 to 110","Tray packing","100","https://industrial.panasonic.com/ww/products/pt/automotive-film-cap/models/ECWFJ70475KA","≤32","≤18","≤32.5",{"$f":"pana_film[[#This Row],[Body length / dia\n(mm)]]&\" x \"&pana_film[[#This Row],[Body width\n(mm)]]","v":"31.5 x 17.5"},10.1,4.4000000000000004,"13nH"]
[]
[]
[]
[]
[]
[]
[]
[]
[]
[]
[]
[]
[]
[]
[]
[]
[]
[]
[]
[]
[]
[]
[]
[]
[]
[]
[]
[]
[]
[]
[]
[]
[]
[]
[]
[]
[]
[]
[]
[]
[]
[]
[]
[]
[]
[]
[]
[]
[]
[]
[]
[]
[]
[]
[]
[]
[]
[]
[]
[]
[]
[]
[]
[]
[]
[]
[]
[]
[]
[]
[]
[]
[]
[null,"NRND","chip","PEN","No","ECWU(C)","ECWUC2J333JV",630,"DC",3.3000000000000002E-2,"± 5",7.1,6.3,5.0999999999999996,"'-","Non lead wire","-55 to 125 (85)","16.0W embossed carrier taping (reel packing)",1000,"https://industrial.panasonic.com/ww/products/pt/film-cap-electroequip/models/ECWUC2J333JV",{"$f":"IF(L7280<=9.5,\"≤ \"&ROUNDUP(L7280*1,0)/1,\"≤\"&ROUNDUP(L7280*1,0)/1)","v":"≤ 8"},{"$f":"IF(M7280<=9,\"≤ \"&ROUNDUP(M7280*1,0)/1,\"≤\"&ROUNDUP(M7280*1,0)/1)","v":"≤ 7"},{"$f":"IF(N7280<=9.5,\"≤ \"&ROUNDUP(N7280*2,0)/2,\"≤\"&ROUNDUP(N7280*2,0)/2)","v":"≤ 5.5"},{"$f":"pana_film[[#This Row],[Body length / dia\n(mm)]]&\" x \"&pana_film[[#This Row],[Body width\n(mm)]]","v":{"$error":"#VALUE!"}},"-","-",""]
[null,"NRND","chip","PEN","No","ECWU(C)","ECWUC2J273JV",630,"DC",2.7E-2,"± 5",7.1,6.3,4.0999999999999996,"'-","Non lead wire","-55 to 125 (85)","16.0W embossed carrier taping (reel packing)",1000,"https://industrial.panasonic.com/ww/products/pt/film-cap-electroequip/models/ECWUC2J273JV","≤ 8","≤ 7","≤ 4.5",{"$f":"pana_film[[#This Row],[Body length / dia\n(mm)]]&\" x \"&pana_film[[#This Row],[Body width\n(mm)]]","v":{"$error":"#VALUE!"}},"-","-",""]
[null,"NRND","chip","PEN","No","ECWU(C)","ECWUC2J223JV",630,"DC",2.1999999999999999E-2,"± 5",7.1,6.3,3.6,"'-","Non lead wire","-55 to 125 (85)","16.0W embossed carrier taping (reel packing)",1000,"https://industrial.panasonic.com/ww/products/pt/film-cap-electroequip/models/ECWUC2J223JV","≤ 8","≤ 7","≤ 4",{"$f":"pana_film[[#This Row],[Body length / dia\n(mm)]]&\" x \"&pana_film[[#This Row],[Body width\n(mm)]]","v":{"$error":"#VALUE!"}},"-","-",""]
[null,"NRND","chip","PEN","No","ECWU(V16)","ECWU2823V16",250,"DC",8.2000000000000003E-2,"± 5",6,5,3.2,"'-","Non lead wire","-55 to 85","12.0W embossed carrier taping (reel packing)",1500,"https://industrial.panasonic.com/ww/products/pt/film-cap-electroequip/models/ECWU2823V16","≤ 6","≤ 5","≤ 3.5",{"$f":"pana_film[[#This Row],[Body length / dia\n(mm)]]&\" x \"&pana_film[[#This Row],[Body width\n(mm)]]","v":{"$error":"#VALUE!"}},"-","-",""]
[null,"NRND","chip","PEN","No","ECWU(C)","ECWU2823KC9",250,"DC",8.2000000000000003E-2,"±10",6,5,3.2,"'-","Non lead wire","-55 to 125 (85)","12.0W embossed carrier taping (reel packing)",1500,"https://industrial.panasonic.com/ww/products/pt/film-cap-electroequip/models/ECWU2823KC9","≤ 6","≤ 5","≤ 3.5",{"$f":"pana_film[[#This Row],[Body length / dia\n(mm)]]&\" x \"&pana_film[[#This Row],[Body width\n(mm)]]","v":{"$error":"#VALUE!"}},"-","-",""]
[null,"NRND","chip","PEN","No","ECWU(C)","ECWU2823JC9",250,"DC",8.2000000000000003E-2,"± 5",6,5,3.2,"'-","Non lead wire","-55 to 125 (85)","12.0W embossed carrier taping (reel packing)",1500,"https://industrial.panasonic.com/ww/products/pt/film-cap-electroequip/models/ECWU2823JC9","≤ 6","≤ 5","≤ 3.5",{"$f":"pana_film[[#This Row],[Body length / dia\n(mm)]]&\" x \"&pana_film[[#This Row],[Body width\n(mm)]]","v":{"$error":"#VALUE!"}},"-","-",""]
[null,"NRND","chip","PEN","No","ECWU(V16)","ECWU2822V16",250,"DC",8.2000000000000007E-3,"± 5",4.8,3.3,1.4,"'-","Non lead wire","-55 to 85","12.0W embossed carrier taping (reel packing)",3000,"https://industrial.panasonic.com/ww/products/pt/film-cap-electroequip/models/ECWU2822V16","≤ 5","≤ 4","≤ 1.5",{"$f":"pana_film[[#This Row],[Body length / dia\n(mm)]]&\" x \"&pana_film[[#This Row],[Body width\n(mm)]]","v":{"$error":"#VALUE!"}},"-","-",""]
[null,"NRND","chip","PEN","No","ECWU(C)","ECWU2822KC9",250,"DC",8.2000000000000007E-3,"±10",4.8,3.3,1.4,"'-","Non lead wire","-55 to 125 (85)","12.0W embossed carrier taping (reel packing)",3000,"https://industrial.panasonic.com/ww/products/pt/film-cap-electroequip/models/ECWU2822KC9","≤ 5","≤ 4","≤ 1.5",{"$f":"pana_film[[#This Row],[Body length / dia\n(mm)]]&\" x \"&pana_film[[#This Row],[Body width\n(mm)]]","v":{"$error":"#VALUE!"}},"-","-",""]
[null,"NRND","chip","PEN","No","ECWU(C)","ECWU2822JC9",250,"DC",8.2000000000000007E-3,"± 5",4.8,3.3,1.4,"'-","Non lead wire","-55 to 125 (85)","12.0W embossed carrier taping (reel packing)",3000,"https://industrial.panasonic.com/ww/products/pt/film-cap-electroequip/models/ECWU2822JC9","≤ 5","≤ 4","≤ 1.5",{"$f":"pana_film[[#This Row],[Body length / dia\n(mm)]]&\" x \"&pana_film[[#This Row],[Body width\n(mm)]]","v":{"$error":"#VALUE!"}},"-","-",""]
[null,"NRND","chip","PEN","No","ECWU(V16)","ECWU2683V16",250,"DC",6.8000000000000005E-2,"± 5",6,4.0999999999999996,3.2,"'-","Non lead wire","-55 to 85","12.0W embossed carrier taping (reel packing)",2000,"https://industrial.panasonic.com/ww/products/pt/film-cap-electroequip/models/ECWU2683V16","≤ 6","≤ 5","≤ 3.5",{"$f":"pana_film[[#This Row],[Body length / dia\n(mm)]]&\" x \"&pana_film[[#This Row],[Body width\n(mm)]]","v":{"$error":"#VALUE!"}},"-","-",""]
[null,"NRND","chip","PEN","No","ECWU(C)","ECWU2683KC9",250,"DC",6.8000000000000005E-2,"±10",6,4.0999999999999996,3.2,"'-","Non lead wire","-55 to 125 (85)","12.0W embossed carrier taping (reel packing)",2000,"https://industrial.panasonic.com/ww/products/pt/film-cap-electroequip/models/ECWU2683KC9","≤ 6","≤ 5","≤ 3.5",{"$f":"pana_film[[#This Row],[Body length / dia\n(mm)]]&\" x \"&pana_film[[#This Row],[Body width\n(mm)]]","v":{"$error":"#VALUE!"}},"-","-",""]
[null,"NRND","chip","PEN","No","ECWU(C)","ECWU2683JC9",250,"DC",6.8000000000000005E-2,"± 5",6,4.0999999999999996,3.2,"'-","Non lead wire","-55 to 125 (85)","12.0W embossed carrier taping (reel packing)",2000,"https://industrial.panasonic.com/ww/products/pt/film-cap-electroequip/models/ECWU2683JC9","≤ 6","≤ 5","≤ 3.5",{"$f":"pana_film[[#This Row],[Body length / dia\n(mm)]]&\" x \"&pana_film[[#This Row],[Body width\n(mm)]]","v":{"$error":"#VALUE!"}},"-","-",""]
[null,"NRND","chip","PEN","No","ECWU(V16)","ECWU2682V16",250,"DC",6.7999999999999996E-3,"± 5",4.8,3.3,1.4,"'-","Non lead wire","-55 to 85","12.0W embossed carrier taping (reel packing)",3000,"https://industrial.panasonic.com/ww/products/pt/film-cap-electroequip/models/ECWU2682V16","≤ 5","≤ 4","≤ 1.5",{"$f":"pana_film[[#This Row],[Body length / dia\n(mm)]]&\" x \"&pana_film[[#This Row],[Body width\n(mm)]]","v":{"$error":"#VALUE!"}},"-","-",""]
[null,"NRND","chip","PEN","No","ECWU(C)","ECWU2682KC9",250,"DC",6.7999999999999996E-3,"±10",4.8,3.3,1.4,"'-","Non lead wire","-55 to 125 (85)","12.0W embossed carrier taping (reel packing)",3000,"https://industrial.panasonic.com/ww/products/pt/film-cap-electroequip/models/ECWU2682KC9","≤ 5","≤ 4","≤ 1.5",{"$f":"pana_film[[#This Row],[Body length / dia\n(mm)]]&\" x \"&pana_film[[#This Row],[Body width\n(mm)]]","v":{"$error":"#VALUE!"}},"-","-",""]
[null,"NRND","chip","PEN","No","ECWU(C)","ECWU2682JC9",250,"DC",6.7999999999999996E-3,"± 5",4.8,3.3,1.4,"'-","Non lead wire","-55 to 125 (85)","12.0W embossed carrier taping (reel packing)",3000,"https://industrial.panasonic.com/ww/products/pt/film-cap-electroequip/models/ECWU2682JC9","≤ 5","≤ 4","≤ 1.5",{"$f":"pana_film[[#This Row],[Body length / dia\n(mm)]]&\" x \"&pana_film[[#This Row],[Body width\n(mm)]]","v":{"$error":"#VALUE!"}},"-","-",""]
[null,"NRND","chip","PEN","No","ECWU(V16)","ECWU2563V16",250,"DC",5.6000000000000001E-2,"± 5",6,4.0999999999999996,2.8,"'-","Non lead wire","-55 to 85","12.0W embossed carrier taping (reel packing)",2000,"https://industrial.panasonic.com/ww/products/pt/film-cap-electroequip/models/ECWU2563V16","≤ 6","≤ 5","≤ 3",{"$f":"pana_film[[#This Row],[Body length / dia\n(mm)]]&\" x \"&pana_film[[#This Row],[Body width\n(mm)]]","v":{"$error":"#VALUE!"}},"-","-",""]
[null,"NRND","chip","PEN","No","ECWU(C)","ECWU2563KC9",250,"DC",5.6000000000000001E-2,"±10",6,4.0999999999999996,2.8,"'-","Non lead wire","-55 to 125 (85)","12.0W embossed carrier taping (reel packing)",2000,"https://industrial.panasonic.com/ww/products/pt/film-cap-electroequip/models/ECWU2563KC9","≤ 6","≤ 5","≤ 3",{"$f":"pana_film[[#This Row],[Body length / dia\n(mm)]]&\" x \"&pana_film[[#This Row],[Body width\n(mm)]]","v":{"$error":"#VALUE!"}},"-","-",""]
[null,"NRND","chip","PEN","No","ECWU(C)","ECWU2563JC9",250,"DC",5.6000000000000001E-2,"± 5",6,4.0999999999999996,2.8,"'-","Non lead wire","-55 to 125 (85)","12.0W embossed carrier taping (reel packing)",2000,"https://industrial.panasonic.com/ww/products/pt/film-cap-electroequip/models/ECWU2563JC9","≤ 6","≤ 5","≤ 3",{"$f":"pana_film[[#This Row],[Body length / dia\n(mm)]]&\" x \"&pana_film[[#This Row],[Body width\n(mm)]]","v":{"$error":"#VALUE!"}},"-","-",""]
[null,"NRND","chip","PEN","No","ECWU(V16)","ECWU2562V16",250,"DC",5.5999999999999999E-3,"± 5",4.8,3.3,1.4,"'-","Non lead wire","-55 to 85","12.0W embossed carrier taping (reel packing)",3000,"https://industrial.panasonic.com/ww/products/pt/film-cap-electroequip/models/ECWU2562V16","≤ 5","≤ 4","≤ 1.5",{"$f":"pana_film[[#This Row],[Body length / dia\n(mm)]]&\" x \"&pana_film[[#This Row],[Body width\n(mm)]]","v":{"$error":"#VALUE!"}},"-","-",""]
[null,"NRND","chip","PEN","No","ECWU(C)","ECWU2562KC9",250,"DC",5.5999999999999999E-3,"±10",4.8,3.3,1.4,"'-","Non lead wire","-55 to 125 (85)","12.0W embossed carrier taping (reel packing)",3000,"https://industrial.panasonic.com/ww/products/pt/film-cap-electroequip/models/ECWU2562KC9","≤ 5","≤ 4","≤ 1.5",{"$f":"pana_film[[#This Row],[Body length / dia\n(mm)]]&\" x \"&pana_film[[#This Row],[Body width\n(mm)]]","v":{"$error":"#VALUE!"}},"-","-",""]
[null,"NRND","chip","PEN","No","ECWU(C)","ECWU2562JC9",250,"DC",5.5999999999999999E-3,"± 5",4.8,3.3,1.4,"'-","Non lead wire","-55 to 125 (85)","12.0W embossed carrier taping (reel packing)",3000,"https://industrial.panasonic.com/ww/products/pt/film-cap-electroequip/models/ECWU2562JC9","≤ 5","≤ 4","≤ 1.5",{"$f":"pana_film[[#This Row],[Body length / dia\n(mm)]]&\" x \"&pana_film[[#This Row],[Body width\n(mm)]]","v":{"$error":"#VALUE!"}},"-","-",""]
[null,"NRND","chip","PEN","No","ECWU(V16)","ECWU2473V16",250,"DC",4.7E-2,"± 5",6,4.0999999999999996,2.4,"'-","Non lead wire","-55 to 85","12.0W embossed carrier taping (reel packing)",2000,"https://industrial.panasonic.com/ww/products/pt/film-cap-electroequip/models/ECWU2473V16","≤ 6","≤ 5","≤ 2.5",{"$f":"pana_film[[#This Row],[Body length / dia\n(mm)]]&\" x \"&pana_film[[#This Row],[Body width\n(mm)]]","v":{"$error":"#VALUE!"}},"-","-",""]
[null,"NRND","chip","PEN","No","ECWU(C)","ECWU2473KC9",250,"DC",4.7E-2,"±10",6,4.0999999999999996,2.4,"'-","Non lead wire","-55 to 125 (85)","12.0W embossed carrier taping (reel packing)",2000,"https://industrial.panasonic.com/ww/products/pt/film-cap-electroequip/models/ECWU2473KC9","≤ 6","≤ 5","≤ 2.5",{"$f":"pana_film[[#This Row],[Body length / dia\n(mm)]]&\" x \"&pana_film[[#This Row],[Body width\n(mm)]]","v":{"$error":"#VALUE!"}},"-","-",""]
[null,"NRND","chip","PEN","No","ECWU(C)","ECWU2473JC9",250,"DC",4.7E-2,"± 5",6,4.0999999999999996,2.4,"'-","Non lead wire","-55 to 125 (85)","12.0W embossed carrier taping (reel packing)",2000,"https://industrial.panasonic.com/ww/products/pt/film-cap-electroequip/models/ECWU2473JC9","≤ 6","≤ 5","≤ 2.5",{"$f":"pana_film[[#This Row],[Body length / dia\n(mm)]]&\" x \"&pana_film[[#This Row],[Body width\n(mm)]]","v":{"$error":"#VALUE!"}},"-","-",""]
[null,"NRND","chip","PEN","No","ECWU(V16)","ECWU2472V16",250,"DC",4.7000000000000002E-3,"± 5",4.8,3.3,1.4,"'-","Non lead wire","-55 to 85","12.0W embossed carrier taping (reel packing)",3000,"https://industrial.panasonic.com/ww/products/pt/film-cap-electroequip/models/ECWU2472V16","≤ 5","≤ 4","≤ 1.5",{"$f":"pana_film[[#This Row],[Body length / dia\n(mm)]]&\" x \"&pana_film[[#This Row],[Body width\n(mm)]]","v":{"$error":"#VALUE!"}},"-","-",""]
[null,"NRND","chip","PEN","No","ECWU(C)","ECWU2472KC9",250,"DC",4.7000000000000002E-3,"±10",4.8,3.3,1.4,"'-","Non lead wire","-55 to 125 (85)","12.0W embossed carrier taping (reel packing)",3000,"https://industrial.panasonic.com/ww/products/pt/film-cap-electroequip/models/ECWU2472KC9","≤ 5","≤ 4","≤ 1.5",{"$f":"pana_film[[#This Row],[Body length / dia\n(mm)]]&\" x \"&pana_film[[#This Row],[Body width\n(mm)]]","v":{"$error":"#VALUE!"}},"-","-",""]
[null,"NRND","chip","PEN","No","ECWU(C)","ECWU2472JC9",250,"DC",4.7000000000000002E-3,"± 5",4.8,3.3,1.4,"'-","Non lead wire","-55 to 125 (85)","12.0W embossed carrier taping (reel packing)",3000,"https://industrial.panasonic.com/ww/products/pt/film-cap-electroequip/models/ECWU2472JC9","≤ 5","≤ 4","≤ 1.5",{"$f":"pana_film[[#This Row],[Body length / dia\n(mm)]]&\" x \"&pana_film[[#This Row],[Body width\n(mm)]]","v":{"$error":"#VALUE!"}},"-","-",""]
[null,"NRND","chip","PEN","No","ECWU(V16)","ECWU2393V16",250,"DC",3.9E-2,"± 5",6,4.0999999999999996,2,"'-","Non lead wire","-55 to 85","12.0W embossed carrier taping (reel packing)",3000,"https://industrial.panasonic.com/ww/products/pt/film-cap-electroequip/models/ECWU2393V16",{"$f":"IF(L7307<=9.5,\"≤ \"&ROUNDUP(L7307*1,0)/1,\"≤\"&ROUNDUP(L7307*1,0)/1)","v":"≤ 6"},{"$f":"IF(M7307<=9,\"≤ \"&ROUNDUP(M7307*1,0)/1,\"≤\"&ROUNDUP(M7307*1,0)/1)","v":"≤ 5"},{"$f":"IF(N7307<=9.5,\"≤ \"&ROUNDUP(N7307*2,0)/2,\"≤\"&ROUNDUP(N7307*2,0)/2)","v":"≤ 2"},{"$f":"pana_film[[#This Row],[Body length / dia\n(mm)]]&\" x \"&pana_film[[#This Row],[Body width\n(mm)]]","v":{"$error":"#VALUE!"}},"-","-",""]
[null,"NRND","chip","PEN","No","ECWU(C)","ECWU2393KC9",250,"DC",3.9E-2,"±10",6,4.0999999999999996,2,"'-","Non lead wire","-55 to 125 (85)","12.0W embossed carrier taping (reel packing)",3000,"https://industrial.panasonic.com/ww/products/pt/film-cap-electroequip/models/ECWU2393KC9","≤ 6","≤ 5","≤ 2",{"$f":"pana_film[[#This Row],[Body length / dia\n(mm)]]&\" x \"&pana_film[[#This Row],[Body width\n(mm)]]","v":{"$error":"#VALUE!"}},"-","-",""]
[null,"NRND","chip","PEN","No","ECWU(C)","ECWU2393JC9",250,"DC",3.9E-2,"± 5",6,4.0999999999999996,2,"'-","Non lead wire","-55 to 125 (85)","12.0W embossed carrier taping (reel packing)",3000,"https://industrial.panasonic.com/ww/products/pt/film-cap-electroequip/models/ECWU2393JC9","≤ 6","≤ 5","≤ 2",{"$f":"pana_film[[#This Row],[Body length / dia\n(mm)]]&\" x \"&pana_film[[#This Row],[Body width\n(mm)]]","v":{"$error":"#VALUE!"}},"-","-",""]
[null,"NRND","chip","PEN","No","ECWU(V16)","ECWU2392V16",250,"DC",3.8999999999999998E-3,"± 5",4.8,3.3,1.4,"'-","Non lead wire","-55 to 85","12.0W embossed carrier taping (reel packing)",3000,"https://industrial.panasonic.com/ww/products/pt/film-cap-electroequip/models/ECWU2392V16","≤ 5","≤ 4","≤ 1.5",{"$f":"pana_film[[#This Row],[Body length / dia\n(mm)]]&\" x \"&pana_film[[#This Row],[Body width\n(mm)]]","v":{"$error":"#VALUE!"}},"-","-",""]
[null,"NRND","chip","PEN","No","ECWU(C)","ECWU2392KC9",250,"DC",3.8999999999999998E-3,"±10",4.8,3.3,1.4,"'-","Non lead wire","-55 to 125 (85)","12.0W embossed carrier taping (reel packing)",3000,"https://industrial.panasonic.com/ww/products/pt/film-cap-electroequip/models/ECWU2392KC9","≤ 5","≤ 4","≤ 1.5",{"$f":"pana_film[[#This Row],[Body length / dia\n(mm)]]&\" x \"&pana_film[[#This Row],[Body width\n(mm)]]","v":{"$error":"#VALUE!"}},"-","-",""]
[null,"NRND","chip","PEN","No","ECWU(C)","ECWU2392JC9",250,"DC",3.8999999999999998E-3,"± 5",4.8,3.3,1.4,"'-","Non lead wire","-55 to 125 (85)","12.0W embossed carrier taping (reel packing)",3000,"https://industrial.panasonic.com/ww/products/pt/film-cap-electroequip/models/ECWU2392JC9","≤ 5","≤ 4","≤ 1.5",{"$f":"pana_film[[#This Row],[Body length / dia\n(mm)]]&\" x \"&pana_film[[#This Row],[Body width\n(mm)]]","v":{"$error":"#VALUE!"}},"-","-",""]
[null,"NRND","chip","PEN","No","ECWU(V16)","ECWU2333V16",250,"DC",3.3000000000000002E-2,"± 5",4.8,3.3,2.8,"'-","Non lead wire","-55 to 85","12.0W embossed carrier taping (reel packing)",2000,"https://industrial.panasonic.com/ww/products/pt/film-cap-electroequip/models/ECWU2333V16","≤ 5","≤ 4","≤ 3",{"$f":"pana_film[[#This Row],[Body length / dia\n(mm)]]&\" x \"&pana_film[[#This Row],[Body width\n(mm)]]","v":{"$error":"#VALUE!"}},"-","-",""]
[null,"NRND","chip","PEN","No","ECWU(C)","ECWU2333KC9",250,"DC",3.3000000000000002E-2,"±10",4.8,3.3,2.8,"'-","Non lead wire","-55 to 125 (85)","12.0W embossed carrier taping (reel packing)",2000,"https://industrial.panasonic.com/ww/products/pt/film-cap-electroequip/models/ECWU2333KC9","≤ 5","≤ 4","≤ 3",{"$f":"pana_film[[#This Row],[Body length / dia\n(mm)]]&\" x \"&pana_film[[#This Row],[Body width\n(mm)]]","v":{"$error":"#VALUE!"}},"-","-",""]
[null,"NRND","chip","PEN","No","ECWU(C)","ECWU2333JC9",250,"DC",3.3000000000000002E-2,"± 5",4.8,3.3,2.8,"'-","Non lead wire","-55 to 125 (85)","12.0W embossed carrier taping (reel packing)",2000,"https://industrial.panasonic.com/ww/products/pt/film-cap-electroequip/models/ECWU2333JC9","≤ 5","≤ 4","≤ 3",{"$f":"pana_film[[#This Row],[Body length / dia\n(mm)]]&\" x \"&pana_film[[#This Row],[Body width\n(mm)]]","v":{"$error":"#VALUE!"}},"-","-",""]
[null,"NRND","chip","PEN","No","ECWU(V16)","ECWU2332V16",250,"DC",3.3E-3,"± 5",4.8,3.3,1.4,"'-","Non lead wire","-55 to 85","12.0W embossed carrier taping (reel packing)",3000,"https://industrial.panasonic.com/ww/products/pt/film-cap-electroequip/models/ECWU2332V16","≤ 5","≤ 4","≤ 1.5",{"$f":"pana_film[[#This Row],[Body length / dia\n(mm)]]&\" x \"&pana_film[[#This Row],[Body width\n(mm)]]","v":{"$error":"#VALUE!"}},"-","-",""]
[null,"NRND","chip","PEN","No","ECWU(C)","ECWU2332KC9",250,"DC",3.3E-3,"±10",4.8,3.3,1.4,"'-","Non lead wire","-55 to 125 (85)","12.0W embossed carrier taping (reel packing)",3000,"https://industrial.panasonic.com/ww/products/pt/film-cap-electroequip/models/ECWU2332KC9","≤ 5","≤ 4","≤ 1.5",{"$f":"pana_film[[#This Row],[Body length / dia\n(mm)]]&\" x \"&pana_film[[#This Row],[Body width\n(mm)]]","v":{"$error":"#VALUE!"}},"-","-",""]
[null,"NRND","chip","PEN","No","ECWU(C)","ECWU2332JC9",250,"DC",3.3E-3,"± 5",4.8,3.3,1.4,"'-","Non lead wire","-55 to 125 (85)","12.0W embossed carrier taping (reel packing)",3000,"https://industrial.panasonic.com/ww/products/pt/film-cap-electroequip/models/ECWU2332JC9","≤ 5","≤ 4","≤ 1.5",{"$f":"pana_film[[#This Row],[Body length / dia\n(mm)]]&\" x \"&pana_film[[#This Row],[Body width\n(mm)]]","v":{"$error":"#VALUE!"}},"-","-",""]
[null,"NRND","chip","PEN","No","ECWU(V16)","ECWU2273V16",250,"DC",2.7E-2,"± 5",4.8,3.3,2.4,"'-","Non lead wire","-55 to 85","12.0W embossed carrier taping (reel packing)",2000,"https://industrial.panasonic.com/ww/products/pt/film-cap-electroequip/models/ECWU2273V16","≤ 5","≤ 4","≤ 2.5",{"$f":"pana_film[[#This Row],[Body length / dia\n(mm)]]&\" x \"&pana_film[[#This Row],[Body width\n(mm)]]","v":{"$error":"#VALUE!"}},"-","-",""]
[null,"NRND","chip","PEN","No","ECWU(C)","ECWU2273KC9",250,"DC",2.7E-2,"±10",4.8,3.3,2.4,"'-","Non lead wire","-55 to 125 (85)","12.0W embossed carrier taping (reel packing)",2000,"https://industrial.panasonic.com/ww/products/pt/film-cap-electroequip/models/ECWU2273KC9","≤ 5","≤ 4","≤ 2.5",{"$f":"pana_film[[#This Row],[Body length / dia\n(mm)]]&\" x \"&pana_film[[#This Row],[Body width\n(mm)]]","v":{"$error":"#VALUE!"}},"-","-",""]
[null,"NRND","chip","PEN","No","ECWU(C)","ECWU2273JC9",250,"DC",2.7E-2,"± 5",4.8,3.3,2.4,"'-","Non lead wire","-55 to 125 (85)","12.0W embossed carrier taping (reel packing)",2000,"https://industrial.panasonic.com/ww/products/pt/film-cap-electroequip/models/ECWU2273JC9","≤ 5","≤ 4","≤ 2.5",{"$f":"pana_film[[#This Row],[Body length / dia\n(mm)]]&\" x \"&pana_film[[#This Row],[Body width\n(mm)]]","v":{"$error":"#VALUE!"}},"-","-",""]
[null,"NRND","chip","PEN","No","ECWU(V16)","ECWU2272V16",250,"DC",2.7000000000000001E-3,"± 5",4.8,3.3,1.4,"'-","Non lead wire","-55 to 85","12.0W embossed carrier taping (reel packing)",3000,"https://industrial.panasonic.com/ww/products/pt/film-cap-electroequip/models/ECWU2272V16","≤ 5","≤ 4","≤ 1.5",{"$f":"pana_film[[#This Row],[Body length / dia\n(mm)]]&\" x \"&pana_film[[#This Row],[Body width\n(mm)]]","v":{"$error":"#VALUE!"}},"-","-",""]
[null,"NRND","chip","PEN","No","ECWU(C)","ECWU2272KC9",250,"DC",2.7000000000000001E-3,"±10",4.8,3.3,1.4,"'-","Non lead wire","-55 to 125 (85)","12.0W embossed carrier taping (reel packing)",3000,"https://industrial.panasonic.com/ww/products/pt/film-cap-electroequip/models/ECWU2272KC9","≤ 5","≤ 4","≤ 1.5",{"$f":"pana_film[[#This Row],[Body length / dia\n(mm)]]&\" x \"&pana_film[[#This Row],[Body width\n(mm)]]","v":{"$error":"#VALUE!"}},"-","-",""]
[null,"NRND","chip","PEN","No","ECWU(C)","ECWU2272JC9",250,"DC",2.7000000000000001E-3,"± 5",4.8,3.3,1.4,"'-","Non lead wire","-55 to 125 (85)","12.0W embossed carrier taping (reel packing)",3000,"https://industrial.panasonic.com/ww/products/pt/film-cap-electroequip/models/ECWU2272JC9","≤ 5","≤ 4","≤ 1.5",{"$f":"pana_film[[#This Row],[Body length / dia\n(mm)]]&\" x \"&pana_film[[#This Row],[Body width\n(mm)]]","v":{"$error":"#VALUE!"}},"-","-",""]
[null,"NRND","chip","PEN","No","ECWU(V16)","ECWU2223V16",250,"DC",2.1999999999999999E-2,"± 5",4.8,3.3,2,"'-","Non lead wire","-55 to 85","12.0W embossed carrier taping (reel packing)",3000,"https://industrial.panasonic.com/ww/products/pt/film-cap-electroequip/models/ECWU2223V16","≤ 5","≤ 4","≤ 2",{"$f":"pana_film[[#This Row],[Body length / dia\n(mm)]]&\" x \"&pana_film[[#This Row],[Body width\n(mm)]]","v":{"$error":"#VALUE!"}},"-","-",""]
[null,"NRND","chip","PEN","No","ECWU(C)","ECWU2223KC9",250,"DC",2.1999999999999999E-2,"±10",4.8,3.3,2,"'-","Non lead wire","-55 to 125 (85)","12.0W embossed carrier taping (reel packing)",3000,"https://industrial.panasonic.com/ww/products/pt/film-cap-electroequip/models/ECWU2223KC9","≤ 5","≤ 4","≤ 2",{"$f":"pana_film[[#This Row],[Body length / dia\n(mm)]]&\" x \"&pana_film[[#This Row],[Body width\n(mm)]]","v":{"$error":"#VALUE!"}},"-","-",""]
[null,"NRND","chip","PEN","No","ECWU(C)","ECWU2223JC9",250,"DC",2.1999999999999999E-2,"± 5",4.8,3.3,2,"'-","Non lead wire","-55 to 125 (85)","12.0W embossed carrier taping (reel packing)",3000,"https://industrial.panasonic.com/ww/products/pt/film-cap-electroequip/models/ECWU2223JC9","≤ 5","≤ 4","≤ 2",{"$f":"pana_film[[#This Row],[Body length / dia\n(mm)]]&\" x \"&pana_film[[#This Row],[Body width\n(mm)]]","v":{"$error":"#VALUE!"}},"-","-",""]
[null,"NRND","chip","PEN","No","ECWU(V16)","ECWU2222V16",250,"DC",2.2000000000000001E-3,"± 5",4.8,3.3,1.4,"'-","Non lead wire","-55 to 85","12.0W embossed carrier taping (reel packing)",3000,"https://industrial.panasonic.com/ww/products/pt/film-cap-electroequip/models/ECWU2222V16","≤ 5","≤ 4","≤ 1.5",{"$f":"pana_film[[#This Row],[Body length / dia\n(mm)]]&\" x \"&pana_film[[#This Row],[Body width\n(mm)]]","v":{"$error":"#VALUE!"}},"-","-",""]
[null,"NRND","chip","PEN","No","ECWU(C)","ECWU2222KC9",250,"DC",2.2000000000000001E-3,"±10",4.8,3.3,1.4,"'-","Non lead wire","-55 to 125 (85)","12.0W embossed carrier taping (reel packing)",3000,"https://industrial.panasonic.com/ww/products/pt/film-cap-electroequip/models/ECWU2222KC9","≤ 5","≤ 4","≤ 1.5",{"$f":"pana_film[[#This Row],[Body length / dia\n(mm)]]&\" x \"&pana_film[[#This Row],[Body width\n(mm)]]","v":{"$error":"#VALUE!"}},"-","-",""]
[null,"NRND","chip","PEN","No","ECWU(C)","ECWU2222JC9",250,"DC",2.2000000000000001E-3,"± 5",4.8,3.3,1.4,"'-","Non lead wire","-55 to 125 (85)","12.0W embossed carrier taping (reel packing)",3000,"https://industrial.panasonic.com/ww/products/pt/film-cap-electroequip/models/ECWU2222JC9","≤ 5","≤ 4","≤ 1.5",{"$f":"pana_film[[#This Row],[Body length / dia\n(mm)]]&\" x \"&pana_film[[#This Row],[Body width\n(mm)]]","v":{"$error":"#VALUE!"}},"-","-",""]
[null,"NRND","chip","PEN","No","ECWU(V16)","ECWU2183V16",250,"DC",1.7999999999999999E-2,"± 5",4.8,3.3,2,"'-","Non lead wire","-55 to 85","12.0W embossed carrier taping (reel packing)",3000,"https://industrial.panasonic.com/ww/products/pt/film-cap-electroequip/models/ECWU2183V16","≤ 5","≤ 4","≤ 2",{"$f":"pana_film[[#This Row],[Body length / dia\n(mm)]]&\" x \"&pana_film[[#This Row],[Body width\n(mm)]]","v":{"$error":"#VALUE!"}},"-","-",""]
[null,"NRND","chip","PEN","No","ECWU(C)","ECWU2183KC9",250,"DC",1.7999999999999999E-2,"±10",4.8,3.3,2,"'-","Non lead wire","-55 to 125 (85)","12.0W embossed carrier taping (reel packing)",3000,"https://industrial.panasonic.com/ww/products/pt/film-cap-electroequip/models/ECWU2183KC9","≤ 5","≤ 4","≤ 2",{"$f":"pana_film[[#This Row],[Body length / dia\n(mm)]]&\" x \"&pana_film[[#This Row],[Body width\n(mm)]]","v":{"$error":"#VALUE!"}},"-","-",""]
[null,"NRND","chip","PEN","No","ECWU(C)","ECWU2183JC9",250,"DC",1.7999999999999999E-2,"± 5",4.8,3.3,2,"'-","Non lead wire","-55 to 125 (85)","12.0W embossed carrier taping (reel packing)",3000,"https://industrial.panasonic.com/ww/products/pt/film-cap-electroequip/models/ECWU2183JC9","≤ 5","≤ 4","≤ 2",{"$f":"pana_film[[#This Row],[Body length / dia\n(mm)]]&\" x \"&pana_film[[#This Row],[Body width\n(mm)]]","v":{"$error":"#VALUE!"}},"-","-",""]
[null,"NRND","chip","PEN","No","ECWU(V16)","ECWU2182V16",250,"DC",1.8E-3,"± 5",4.8,3.3,1.4,"'-","Non lead wire","-55 to 85","12.0W embossed carrier taping (reel packing)",3000,"https://industrial.panasonic.com/ww/products/pt/film-cap-electroequip/models/ECWU2182V16","≤ 5","≤ 4","≤ 1.5",{"$f":"pana_film[[#This Row],[Body length / dia\n(mm)]]&\" x \"&pana_film[[#This Row],[Body width\n(mm)]]","v":{"$error":"#VALUE!"}},"-","-",""]
[null,"NRND","chip","PEN","No","ECWU(C)","ECWU2182KC9",250,"DC",1.8E-3,"±10",4.8,3.3,1.4,"'-","Non lead wire","-55 to 125 (85)","12.0W embossed carrier taping (reel packing)",3000,"https://industrial.panasonic.com/ww/products/pt/film-cap-electroequip/models/ECWU2182KC9","≤ 5","≤ 4","≤ 1.5",{"$f":"pana_film[[#This Row],[Body length / dia\n(mm)]]&\" x \"&pana_film[[#This Row],[Body width\n(mm)]]","v":{"$error":"#VALUE!"}},"-","-",""]
[null,"NRND","chip","PEN","No","ECWU(C)","ECWU2182JC9",250,"DC",1.8E-3,"± 5",4.8,3.3,1.4,"'-","Non lead wire","-55 to 125 (85)","12.0W embossed carrier taping (reel packing)",3000,"https://industrial.panasonic.com/ww/products/pt/film-cap-electroequip/models/ECWU2182JC9","≤ 5","≤ 4","≤ 1.5",{"$f":"pana_film[[#This Row],[Body length / dia\n(mm)]]&\" x \"&pana_film[[#This Row],[Body width\n(mm)]]","v":{"$error":"#VALUE!"}},"-","-",""]
[null,"NRND","chip","PEN","No","ECWU(V16)","ECWU2153V16",250,"DC",1.4999999999999999E-2,"± 5",4.8,3.3,1.4,"'-","Non lead wire","-55 to 85","12.0W embossed carrier taping (reel packing)",3000,"https://industrial.panasonic.com/ww/products/pt/film-cap-electroequip/models/ECWU2153V16","≤ 5","≤ 4","≤ 1.5",{"$f":"pana_film[[#This Row],[Body length / dia\n(mm)]]&\" x \"&pana_film[[#This Row],[Body width\n(mm)]]","v":{"$error":"#VALUE!"}},"-","-",""]
[null,"NRND","chip","PEN","No","ECWU(C)","ECWU2153KC9",250,"DC",1.4999999999999999E-2,"±10",4.8,3.3,1.4,"'-","Non lead wire","-55 to 125 (85)","12.0W embossed carrier taping (reel packing)",3000,"https://industrial.panasonic.com/ww/products/pt/film-cap-electroequip/models/ECWU2153KC9","≤ 5","≤ 4","≤ 1.5",{"$f":"pana_film[[#This Row],[Body length / dia\n(mm)]]&\" x \"&pana_film[[#This Row],[Body width\n(mm)]]","v":{"$error":"#VALUE!"}},"-","-",""]
[null,"NRND","chip","PEN","No","ECWU(C)","ECWU2153JC9",250,"DC",1.4999999999999999E-2,"± 5",4.8,3.3,1.4,"'-","Non lead wire","-55 to 125 (85)","12.0W embossed carrier taping (reel packing)",3000,"https://industrial.panasonic.com/ww/products/pt/film-cap-electroequip/models/ECWU2153JC9","≤ 5","≤ 4","≤ 1.5",{"$f":"pana_film[[#This Row],[Body length / dia\n(mm)]]&\" x \"&pana_film[[#This Row],[Body width\n(mm)]]","v":{"$error":"#VALUE!"}},"-","-",""]
[null,"NRND","chip","PEN","No","ECWU(V16)","ECWU2152V16",250,"DC",1.5E-3,"± 5",4.8,3.3,1.4,"'-","Non lead wire","-55 to 85","12.0W embossed carrier taping (reel packing)",3000,"https://industrial.panasonic.com/ww/products/pt/film-cap-electroequip/models/ECWU2152V16","≤ 5","≤ 4","≤ 1.5",{"$f":"pana_film[[#This Row],[Body length / dia\n(mm)]]&\" x \"&pana_film[[#This Row],[Body width\n(mm)]]","v":{"$error":"#VALUE!"}},"-","-",""]
[null,"NRND","chip","PEN","No","ECWU(C)","ECWU2152KC9",250,"DC",1.5E-3,"±10",4.8,3.3,1.4,"'-","Non lead wire","-55 to 125 (85)","12.0W embossed carrier taping (reel packing)",3000,"https://industrial.panasonic.com/ww/products/pt/film-cap-electroequip/models/ECWU2152KC9","≤ 5","≤ 4","≤ 1.5",{"$f":"pana_film[[#This Row],[Body length / dia\n(mm)]]&\" x \"&pana_film[[#This Row],[Body width\n(mm)]]","v":{"$error":"#VALUE!"}},"-","-",""]
[null,"NRND","chip","PEN","No","ECWU(C)","ECWU2152JC9",250,"DC",1.5E-3,"± 5",4.8,3.3,1.4,"'-","Non lead wire","-55 to 125 (85)","12.0W embossed carrier taping (reel packing)",3000,"https://industrial.panasonic.com/ww/products/pt/film-cap-electroequip/models/ECWU2152JC9","≤ 5","≤ 4","≤ 1.5",{"$f":"pana_film[[#This Row],[Body length / dia\n(mm)]]&\" x \"&pana_film[[#This Row],[Body width\n(mm)]]","v":{"$error":"#VALUE!"}},"-","-",""]
[null,"NRND","chip","PEN","No","ECWU(V16)","ECWU2124V16",250,"DC",0.12,"± 5",6,5,4.5,"'-","Non lead wire","-55 to 85","12.0W embossed carrier taping (reel packing)",1500,"https://industrial.panasonic.com/ww/products/pt/film-cap-electroequip/models/ECWU2124V16","≤ 6","≤ 5","≤ 4.5",{"$f":"pana_film[[#This Row],[Body length / dia\n(mm)]]&\" x \"&pana_film[[#This Row],[Body width\n(mm)]]","v":{"$error":"#VALUE!"}},"-","-",""]
[null,"NRND","chip","PEN","No","ECWU(C)","ECWU2124KC9",250,"DC",0.12,"±10",6,5,4.5,"'-","Non lead wire","-55 to 125 (85)","12.0W embossed carrier taping (reel packing)",1500,"https://industrial.panasonic.com/ww/products/pt/film-cap-electroequip/models/ECWU2124KC9","≤ 6","≤ 5","≤ 4.5",{"$f":"pana_film[[#This Row],[Body length / dia\n(mm)]]&\" x \"&pana_film[[#This Row],[Body width\n(mm)]]","v":{"$error":"#VALUE!"}},"-","-",""]
[null,"NRND","chip","PEN","No","ECWU(C)","ECWU2124JC9",250,"DC",0.12,"± 5",6,5,4.5,"'-","Non lead wire","-55 to 125 (85)","12.0W embossed carrier taping (reel packing)",1500,"https://industrial.panasonic.com/ww/products/pt/film-cap-electroequip/models/ECWU2124JC9","≤ 6","≤ 5","≤ 4.5",{"$f":"pana_film[[#This Row],[Body length / dia\n(mm)]]&\" x \"&pana_film[[#This Row],[Body width\n(mm)]]","v":{"$error":"#VALUE!"}},"-","-",""]
[null,"NRND","chip","PEN","No","ECWU(V16)","ECWU2123V16",250,"DC",1.2E-2,"± 5",4.8,3.3,1.4,"'-","Non lead wire","-55 to 85","12.0W embossed carrier taping (reel packing)",3000,"https://industrial.panasonic.com/ww/products/pt/film-cap-electroequip/models/ECWU2123V16","≤ 5","≤ 4","≤ 1.5",{"$f":"pana_film[[#This Row],[Body length / dia\n(mm)]]&\" x \"&pana_film[[#This Row],[Body width\n(mm)]]","v":{"$error":"#VALUE!"}},"-","-",""]
[null,"NRND","chip","PEN","No","ECWU(C)","ECWU2123KC9",250,"DC",1.2E-2,"±10",4.8,3.3,1.4,"'-","Non lead wire","-55 to 125 (85)","12.0W embossed carrier taping (reel packing)",3000,"https://industrial.panasonic.com/ww/products/pt/film-cap-electroequip/models/ECWU2123KC9","≤ 5","≤ 4","≤ 1.5",{"$f":"pana_film[[#This Row],[Body length / dia\n(mm)]]&\" x \"&pana_film[[#This Row],[Body width\n(mm)]]","v":{"$error":"#VALUE!"}},"-","-",""]
[null,"NRND","chip","PEN","No","ECWU(C)","ECWU2123JC9",250,"DC",1.2E-2,"± 5",4.8,3.3,1.4,"'-","Non lead wire","-55 to 125 (85)","12.0W embossed carrier taping (reel packing)",3000,"https://industrial.panasonic.com/ww/products/pt/film-cap-electroequip/models/ECWU2123JC9","≤ 5","≤ 4","≤ 1.5",{"$f":"pana_film[[#This Row],[Body length / dia\n(mm)]]&\" x \"&pana_film[[#This Row],[Body width\n(mm)]]","v":{"$error":"#VALUE!"}},"-","-",""]
[null,"NRND","chip","PEN","No","ECWU(V16)","ECWU2122V16",250,"DC",1.1999999999999999E-3,"± 5",4.8,3.3,1.4,"'-","Non lead wire","-55 to 85","12.0W embossed carrier taping (reel packing)",3000,"https://industrial.panasonic.com/ww/products/pt/film-cap-electroequip/models/ECWU2122V16","≤ 5","≤ 4","≤ 1.5",{"$f":"pana_film[[#This Row],[Body length / dia\n(mm)]]&\" x \"&pana_film[[#This Row],[Body width\n(mm)]]","v":{"$error":"#VALUE!"}},"-","-",""]
[null,"NRND","chip","PEN","No","ECWU(C)","ECWU2122KC9",250,"DC",1.1999999999999999E-3,"±10",4.8,3.3,1.4,"'-","Non lead wire","-55 to 125 (85)","12.0W embossed carrier taping (reel packing)",3000,"https://industrial.panasonic.com/ww/products/pt/film-cap-electroequip/models/ECWU2122KC9","≤ 5","≤ 4","≤ 1.5",{"$f":"pana_film[[#This Row],[Body length / dia\n(mm)]]&\" x \"&pana_film[[#This Row],[Body width\n(mm)]]","v":{"$error":"#VALUE!"}},"-","-",""]
[null,"NRND","chip","PEN","No","ECWU(C)","ECWU2122JC9",250,"DC",1.1999999999999999E-3,"± 5",4.8,3.3,1.4,"'-","Non lead wire","-55 to 125 (85)","12.0W embossed carrier taping (reel packing)",3000,"https://industrial.panasonic.com/ww/products/pt/film-cap-electroequip/models/ECWU2122JC9","≤ 5","≤ 4","≤ 1.5",{"$f":"pana_film[[#This Row],[Body length / dia\n(mm)]]&\" x \"&pana_film[[#This Row],[Body width\n(mm)]]","v":{"$error":"#VALUE!"}},"-","-",""]
[null,"NRND","chip","PEN","No","ECWU(V16)","ECWU2104V16",250,"DC",0.1,"± 5",6,5,3.8,"'-","Non lead wire","-55 to 85","12.0W embossed carrier taping (reel packing)",1500,"https://industrial.panasonic.com/ww/products/pt/film-cap-electroequip/models/ECWU2104V16","≤ 6","≤ 5","≤ 4",{"$f":"pana_film[[#This Row],[Body length / dia\n(mm)]]&\" x \"&pana_film[[#This Row],[Body width\n(mm)]]","v":{"$error":"#VALUE!"}},"-","-",""]
[null,"NRND","chip","PEN","No","ECWU(C)","ECWU2104KC9",250,"DC",0.1,"±10",6,5,3.8,"'-","Non lead wire","-55 to 125 (85)","12.0W embossed carrier taping (reel packing)",1500,"https://industrial.panasonic.com/ww/products/pt/film-cap-electroequip/models/ECWU2104KC9","≤ 6","≤ 5","≤ 4",{"$f":"pana_film[[#This Row],[Body length / dia\n(mm)]]&\" x \"&pana_film[[#This Row],[Body width\n(mm)]]","v":{"$error":"#VALUE!"}},"-","-",""]
[null,"NRND","chip","PEN","No","ECWU(C)","ECWU2104JC9",250,"DC",0.1,"± 5",6,5,3.8,"'-","Non lead wire","-55 to 125 (85)","12.0W embossed carrier taping (reel packing)",1500,"https://industrial.panasonic.com/ww/products/pt/film-cap-electroequip/models/ECWU2104JC9","≤ 6","≤ 5","≤ 4",{"$f":"pana_film[[#This Row],[Body length / dia\n(mm)]]&\" x \"&pana_film[[#This Row],[Body width\n(mm)]]","v":{"$error":"#VALUE!"}},"-","-",""]
[null,"NRND","chip","PEN","No","ECWU(V16)","ECWU2103V16",250,"DC",0.01,"± 5",4.8,3.3,1.4,"'-","Non lead wire","-55 to 85","12.0W embossed carrier taping (reel packing)",3000,"https://industrial.panasonic.com/ww/products/pt/film-cap-electroequip/models/ECWU2103V16","≤ 5","≤ 4","≤ 1.5",{"$f":"pana_film[[#This Row],[Body length / dia\n(mm)]]&\" x \"&pana_film[[#This Row],[Body width\n(mm)]]","v":{"$error":"#VALUE!"}},"-","-",""]
[null,"NRND","chip","PEN","No","ECWU(C)","ECWU2103KC9",250,"DC",0.01,"±10",4.8,3.3,1.4,"'-","Non lead wire","-55 to 125 (85)","12.0W embossed carrier taping (reel packing)",3000,"https://industrial.panasonic.com/ww/products/pt/film-cap-electroequip/models/ECWU2103KC9","≤ 5","≤ 4","≤ 1.5",{"$f":"pana_film[[#This Row],[Body length / dia\n(mm)]]&\" x \"&pana_film[[#This Row],[Body width\n(mm)]]","v":{"$error":"#VALUE!"}},"-","-",""]
[null,"NRND","chip","PEN","No","ECWU(C)","ECWU2103JC9",250,"DC",0.01,"± 5",4.8,3.3,1.4,"'-","Non lead wire","-55 to 125 (85)","12.0W embossed carrier taping (reel packing)",3000,"https://industrial.panasonic.com/ww/products/pt/film-cap-electroequip/models/ECWU2103JC9","≤ 5","≤ 4","≤ 1.5",{"$f":"pana_film[[#This Row],[Body length / dia\n(mm)]]&\" x \"&pana_film[[#This Row],[Body width\n(mm)]]","v":{"$error":"#VALUE!"}},"-","-",""]
[null,"NRND","chip","PEN","No","ECWU(V16)","ECWU2102V16",250,"DC",1E-3,"± 5",4.8,3.3,1.4,"'-","Non lead wire","-55 to 85","12.0W embossed carrier taping (reel packing)",3000,"https://industrial.panasonic.com/ww/products/pt/film-cap-electroequip/models/ECWU2102V16","≤ 5","≤ 4","≤ 1.5",{"$f":"pana_film[[#This Row],[Body length / dia\n(mm)]]&\" x \"&pana_film[[#This Row],[Body width\n(mm)]]","v":{"$error":"#VALUE!"}},"-","-",""]
[null,"NRND","chip","PEN","No","ECWU(C)","ECWU2102KC9",250,"DC",1E-3,"±10",4.8,3.3,1.4,"'-","Non lead wire","-55 to 125 (85)","12.0W embossed carrier taping (reel packing)",3000,"https://industrial.panasonic.com/ww/products/pt/film-cap-electroequip/models/ECWU2102KC9","≤ 5","≤ 4","≤ 1.5",{"$f":"pana_film[[#This Row],[Body length / dia\n(mm)]]&\" x \"&pana_film[[#This Row],[Body width\n(mm)]]","v":{"$error":"#VALUE!"}},"-","-",""]
[null,"NRND","chip","PEN","No","ECWU(C)","ECWU2102JC9",250,"DC",1E-3,"± 5",4.8,3.3,1.4,"'-","Non lead wire","-55 to 125 (85)","12.0W embossed carrier taping (reel packing)",3000,"https://industrial.panasonic.com/ww/products/pt/film-cap-electroequip/models/ECWU2102JC9","≤ 5","≤ 4","≤ 1.5",{"$f":"pana_film[[#This Row],[Body length / dia\n(mm)]]&\" x \"&pana_film[[#This Row],[Body width\n(mm)]]","v":{"$error":"#VALUE!"}},"-","-",""]
[null,"NRND","chip","PEN","No","ECWU(C)","ECWU1824KCV",100,"DC",0.82,"±10",9.8000000000000007,6.3,4.3,"'-","Non lead wire","-55 to 125 (85)","16.0W embossed carrier taping (reel packing)",1000,"https://industrial.panasonic.com/ww/products/pt/film-cap-electroequip/models/ECWU1824KCV","≤10","≤ 7","≤ 4.5",{"$f":"pana_film[[#This Row],[Body length / dia\n(mm)]]&\" x \"&pana_film[[#This Row],[Body width\n(mm)]]","v":{"$error":"#VALUE!"}},"-","-",""]
[null,"NRND","chip","PEN","No","ECWU(C)","ECWU1823KC9",100,"DC",8.2000000000000003E-2,"±10",4.8,3.3,2.8,"'-","Non lead wire","-55 to 125 (85)","12.0W embossed carrier taping (reel packing)",2000,"https://industrial.panasonic.com/ww/products/pt/film-cap-electroequip/models/ECWU1823KC9","≤ 5","≤ 4","≤ 3",{"$f":"pana_film[[#This Row],[Body length / dia\n(mm)]]&\" x \"&pana_film[[#This Row],[Body width\n(mm)]]","v":{"$error":"#VALUE!"}},"-","-",""]
[null,"NRND","chip","PEN","No","ECWU(C)","ECWU1823JC9",100,"DC",8.2000000000000003E-2,"± 5",4.8,3.3,2.8,"'-","Non lead wire","-55 to 125 (85)","12.0W embossed carrier taping (reel packing)",2000,"https://industrial.panasonic.com/ww/products/pt/film-cap-electroequip/models/ECWU1823JC9","≤ 5","≤ 4","≤ 3",{"$f":"pana_film[[#This Row],[Body length / dia\n(mm)]]&\" x \"&pana_film[[#This Row],[Body width\n(mm)]]","v":{"$error":"#VALUE!"}},"-","-",""]
[null,"NRND","chip","PEN","No","ECWU(X)","ECWU1822JX5",100,"DC",8.2000000000000007E-3,"± 5",3.2,2.5,2.1,"'-","Non lead wire","-55 to 105","8.0W180A emboss taping (reel packing)",2000,"https://industrial.panasonic.com/ww/products/pt/film-cap-electroequip/models/ECWU1822JX5","≤ 4","≤ 3","≤ 2.5",{"$f":"pana_film[[#This Row],[Body length / dia\n(mm)]]&\" x \"&pana_film[[#This Row],[Body width\n(mm)]]","v":{"$error":"#VALUE!"}},"-","-",""]
[null,"NRND","chip","PEN","No","ECWU(C)","ECWU1684KCV",100,"DC",0.68,"±10",9.8000000000000007,6.3,3.6,"'-","Non lead wire","-55 to 125 (85)","16.0W embossed carrier taping (reel packing)",1000,"https://industrial.panasonic.com/ww/products/pt/film-cap-electroequip/models/ECWU1684KCV","≤10","≤ 7","≤ 4",{"$f":"pana_film[[#This Row],[Body length / dia\n(mm)]]&\" x \"&pana_film[[#This Row],[Body width\n(mm)]]","v":{"$error":"#VALUE!"}},"-","-",""]
[null,"NRND","chip","PEN","No","ECWU(C)","ECWU1683KC9",100,"DC",6.8000000000000005E-2,"±10",4.8,3.3,2.4,"'-","Non lead wire","-55 to 125 (85)","12.0W embossed carrier taping (reel packing)",2000,"https://industrial.panasonic.com/ww/products/pt/film-cap-electroequip/models/ECWU1683KC9","≤ 5","≤ 4","≤ 2.5",{"$f":"pana_film[[#This Row],[Body length / dia\n(mm)]]&\" x \"&pana_film[[#This Row],[Body width\n(mm)]]","v":{"$error":"#VALUE!"}},"-","-",""]
[null,"NRND","chip","PEN","No","ECWU(C)","ECWU1683JC9",100,"DC",6.8000000000000005E-2,"± 5",4.8,3.3,2.4,"'-","Non lead wire","-55 to 125 (85)","12.0W embossed carrier taping (reel packing)",2000,"https://industrial.panasonic.com/ww/products/pt/film-cap-electroequip/models/ECWU1683JC9","≤ 5","≤ 4","≤ 2.5",{"$f":"pana_film[[#This Row],[Body length / dia\n(mm)]]&\" x \"&pana_film[[#This Row],[Body width\n(mm)]]","v":{"$error":"#VALUE!"}},"-","-",""]
[null,"NRND","chip","PEN","No","ECWU(X)","ECWU1682JX5",100,"DC",6.7999999999999996E-3,"± 5",3.2,2.5,1.5,"'-","Non lead wire","-55 to 105","8.0W180A emboss taping (reel packing)",2000,"https://industrial.panasonic.com/ww/products/pt/film-cap-electroequip/models/ECWU1682JX5","≤ 4","≤ 3","≤ 1.5",{"$f":"pana_film[[#This Row],[Body length / dia\n(mm)]]&\" x \"&pana_film[[#This Row],[Body width\n(mm)]]","v":{"$error":"#VALUE!"}},"-","-",""]
[null,"NRND","chip","PEN","No","ECWU(C)","ECWU1564KCV",100,"DC",0.56000000000000005,"±10",9.8000000000000007,6.3,3,"'-","Non lead wire","-55 to 125 (85)","16.0W embossed carrier taping (reel packing)",1000,"https://industrial.panasonic.com/ww/products/pt/film-cap-electroequip/models/ECWU1564KCV","≤10","≤ 7","≤ 3",{"$f":"pana_film[[#This Row],[Body length / dia\n(mm)]]&\" x \"&pana_film[[#This Row],[Body width\n(mm)]]","v":{"$error":"#VALUE!"}},"-","-",""]
[null,"NRND","chip","PEN","No","ECWU(C)","ECWU1563KC9",100,"DC",5.6000000000000001E-2,"±10",4.8,3.3,2,"'-","Non lead wire","-55 to 125 (85)","12.0W embossed carrier taping (reel packing)",3000,"https://industrial.panasonic.com/ww/products/pt/film-cap-electroequip/models/ECWU1563KC9","≤ 5","≤ 4","≤ 2",{"$f":"pana_film[[#This Row],[Body length / dia\n(mm)]]&\" x \"&pana_film[[#This Row],[Body width\n(mm)]]","v":{"$error":"#VALUE!"}},"-","-",""]
[null,"NRND","chip","PEN","No","ECWU(C)","ECWU1563JC9",100,"DC",5.6000000000000001E-2,"± 5",4.8,3.3,2,"'-","Non lead wire","-55 to 125 (85)","12.0W embossed carrier taping (reel packing)",3000,"https://industrial.panasonic.com/ww/products/pt/film-cap-electroequip/models/ECWU1563JC9",{"$f":"IF(L7371<=9.5,\"≤ \"&ROUNDUP(L7371*1,0)/1,\"≤\"&ROUNDUP(L7371*1,0)/1)","v":"≤ 5"},{"$f":"IF(M7371<=9,\"≤ \"&ROUNDUP(M7371*1,0)/1,\"≤\"&ROUNDUP(M7371*1,0)/1)","v":"≤ 4"},{"$f":"IF(N7371<=9.5,\"≤ \"&ROUNDUP(N7371*2,0)/2,\"≤\"&ROUNDUP(N7371*2,0)/2)","v":"≤ 2"},{"$f":"pana_film[[#This Row],[Body length / dia\n(mm)]]&\" x \"&pana_film[[#This Row],[Body width\n(mm)]]","v":{"$error":"#VALUE!"}},"-","-",""]
[null,"NRND","chip","PEN","No","ECWU(X)","ECWU1562JX5",100,"DC",5.5999999999999999E-3,"± 5",3.2,2.5,1.5,"'-","Non lead wire","-55 to 105","8.0W180A emboss taping (reel packing)",2000,"https://industrial.panasonic.com/ww/products/pt/film-cap-electroequip/models/ECWU1562JX5","≤ 4","≤ 3","≤ 1.5",{"$f":"pana_film[[#This Row],[Body length / dia\n(mm)]]&\" x \"&pana_film[[#This Row],[Body width\n(mm)]]","v":{"$error":"#VALUE!"}},"-","-",""]
[null,"NRND","chip","PEN","No","ECWU(C)","ECWU1474KCV",100,"DC",0.47,"±10",7.7,5.5,4,"'-","Non lead wire","-55 to 125 (85)","16.0W embossed carrier taping (reel packing)",1000,"https://industrial.panasonic.com/ww/products/pt/film-cap-electroequip/models/ECWU1474KCV","≤ 8","≤ 6","≤ 4",{"$f":"pana_film[[#This Row],[Body length / dia\n(mm)]]&\" x \"&pana_film[[#This Row],[Body width\n(mm)]]","v":{"$error":"#VALUE!"}},"-","-",""]
[null,"NRND","chip","PEN","No","ECWU(C)","ECWU1473KC9",100,"DC",4.7E-2,"±10",4.8,3.3,2,"'-","Non lead wire","-55 to 125 (85)","12.0W embossed carrier taping (reel packing)",3000,"https://industrial.panasonic.com/ww/products/pt/film-cap-electroequip/models/ECWU1473KC9","≤ 5","≤ 4","≤ 2",{"$f":"pana_film[[#This Row],[Body length / dia\n(mm)]]&\" x \"&pana_film[[#This Row],[Body width\n(mm)]]","v":{"$error":"#VALUE!"}},"-","-",""]
[null,"NRND","chip","PEN","No","ECWU(C)","ECWU1473JC9",100,"DC",4.7E-2,"± 5",4.8,3.3,2,"'-","Non lead wire","-55 to 125 (85)","12.0W embossed carrier taping (reel packing)",3000,"https://industrial.panasonic.com/ww/products/pt/film-cap-electroequip/models/ECWU1473JC9","≤ 5","≤ 4","≤ 2",{"$f":"pana_film[[#This Row],[Body length / dia\n(mm)]]&\" x \"&pana_film[[#This Row],[Body width\n(mm)]]","v":{"$error":"#VALUE!"}},"-","-",""]
[null,"NRND","chip","PEN","No","ECWU(X)","ECWU1472JX5",100,"DC",4.7000000000000002E-3,"± 5",3.2,1.6,1.5,"'-","Non lead wire","-55 to 105","8.0W180A emboss taping (reel packing)",2000,"https://industrial.panasonic.com/ww/products/pt/film-cap-electroequip/models/ECWU1472JX5","≤ 4","≤ 2","≤ 1.5",{"$f":"pana_film[[#This Row],[Body length / dia\n(mm)]]&\" x \"&pana_film[[#This Row],[Body width\n(mm)]]","v":{"$error":"#VALUE!"}},"-","-",""]
[null,"NRND","chip","PEN","No","ECWU(C)","ECWU1394KCV",100,"DC",0.39,"±10",7.7,5.5,3.4,"'-","Non lead wire","-55 to 125 (85)","16.0W embossed carrier taping (reel packing)",1000,"https://industrial.panasonic.com/ww/products/pt/film-cap-electroequip/models/ECWU1394KCV","≤ 8","≤ 6","≤ 3.5",{"$f":"pana_film[[#This Row],[Body length / dia\n(mm)]]&\" x \"&pana_film[[#This Row],[Body width\n(mm)]]","v":{"$error":"#VALUE!"}},"-","-",""]
[null,"NRND","chip","PEN","No","ECWU(C)","ECWU1393KC9",100,"DC",3.9E-2,"±10",4.8,3.3,1.4,"'-","Non lead wire","-55 to 125 (85)","12.0W embossed carrier taping (reel packing)",3000,"https://industrial.panasonic.com/ww/products/pt/film-cap-electroequip/models/ECWU1393KC9","≤ 5","≤ 4","≤ 1.5",{"$f":"pana_film[[#This Row],[Body length / dia\n(mm)]]&\" x \"&pana_film[[#This Row],[Body width\n(mm)]]","v":{"$error":"#VALUE!"}},"-","-",""]
[null,"NRND","chip","PEN","No","ECWU(C)","ECWU1393JC9",100,"DC",3.9E-2,"± 5",4.8,3.3,1.4,"'-","Non lead wire","-55 to 125 (85)","12.0W embossed carrier taping (reel packing)",3000,"https://industrial.panasonic.com/ww/products/pt/film-cap-electroequip/models/ECWU1393JC9","≤ 5","≤ 4","≤ 1.5",{"$f":"pana_film[[#This Row],[Body length / dia\n(mm)]]&\" x \"&pana_film[[#This Row],[Body width\n(mm)]]","v":{"$error":"#VALUE!"}},"-","-",""]
[null,"NRND","chip","PEN","No","ECWU(X)","ECWU1392JX5",100,"DC",3.8999999999999998E-3,"± 5",3.2,1.6,1.5,"'-","Non lead wire","-55 to 105","8.0W180A emboss taping (reel packing)",2000,"https://industrial.panasonic.com/ww/products/pt/film-cap-electroequip/models/ECWU1392JX5","≤ 4","≤ 2","≤ 1.5",{"$f":"pana_film[[#This Row],[Body length / dia\n(mm)]]&\" x \"&pana_film[[#This Row],[Body width\n(mm)]]","v":{"$error":"#VALUE!"}},"-","-",""]
[null,"NRND","chip","PEN","No","ECWU(C)","ECWU1334KC9",100,"DC",0.33,"±10",7.1,5,3.5,"'-","Non lead wire","-55 to 125 (85)","12.0W embossed carrier taping (reel packing)",1500,"https://industrial.panasonic.com/ww/products/pt/film-cap-electroequip/models/ECWU1334KC9","≤ 8","≤ 5","≤ 3.5",{"$f":"pana_film[[#This Row],[Body length / dia\n(mm)]]&\" x \"&pana_film[[#This Row],[Body width\n(mm)]]","v":{"$error":"#VALUE!"}},"-","-",""]
[null,"NRND","chip","PEN","No","ECWU(C)","ECWU1333KC9",100,"DC",3.3000000000000002E-2,"±10",4.8,3.3,1.4,"'-","Non lead wire","-55 to 125 (85)","12.0W embossed carrier taping (reel packing)",3000,"https://industrial.panasonic.com/ww/products/pt/film-cap-electroequip/models/ECWU1333KC9","≤ 5","≤ 4","≤ 1.5",{"$f":"pana_film[[#This Row],[Body length / dia\n(mm)]]&\" x \"&pana_film[[#This Row],[Body width\n(mm)]]","v":{"$error":"#VALUE!"}},"-","-",""]
[null,"NRND","chip","PEN","No","ECWU(C)","ECWU1333JC9",100,"DC",3.3000000000000002E-2,"± 5",4.8,3.3,1.4,"'-","Non lead wire","-55 to 125 (85)","12.0W embossed carrier taping (reel packing)",3000,"https://industrial.panasonic.com/ww/products/pt/film-cap-electroequip/models/ECWU1333JC9","≤ 5","≤ 4","≤ 1.5",{"$f":"pana_film[[#This Row],[Body length / dia\n(mm)]]&\" x \"&pana_film[[#This Row],[Body width\n(mm)]]","v":{"$error":"#VALUE!"}},"-","-",""]
[null,"NRND","chip","PEN","No","ECWU(X)","ECWU1332JX5",100,"DC",3.3E-3,"± 5",3.2,1.6,1.5,"'-","Non lead wire","-55 to 105","8.0W180A emboss taping (reel packing)",2000,"https://industrial.panasonic.com/ww/products/pt/film-cap-electroequip/models/ECWU1332JX5","≤ 4","≤ 2","≤ 1.5",{"$f":"pana_film[[#This Row],[Body length / dia\n(mm)]]&\" x \"&pana_film[[#This Row],[Body width\n(mm)]]","v":{"$error":"#VALUE!"}},"-","-",""]
[null,"NRND","chip","PEN","No","ECWU(C)","ECWU1274KC9",100,"DC",0.27,"±10",7.1,5,2.9,"'-","Non lead wire","-55 to 125 (85)","12.0W embossed carrier taping (reel packing)",1500,"https://industrial.panasonic.com/ww/products/pt/film-cap-electroequip/models/ECWU1274KC9","≤ 8","≤ 5","≤ 3",{"$f":"pana_film[[#This Row],[Body length / dia\n(mm)]]&\" x \"&pana_film[[#This Row],[Body width\n(mm)]]","v":{"$error":"#VALUE!"}},"-","-",""]
[null,"NRND","chip","PEN","No","ECWU(C)","ECWU1273KC9",100,"DC",2.7E-2,"±10",4.8,3.3,1.4,"'-","Non lead wire","-55 to 125 (85)","12.0W embossed carrier taping (reel packing)",3000,"https://industrial.panasonic.com/ww/products/pt/film-cap-electroequip/models/ECWU1273KC9","≤ 5","≤ 4","≤ 1.5",{"$f":"pana_film[[#This Row],[Body length / dia\n(mm)]]&\" x \"&pana_film[[#This Row],[Body width\n(mm)]]","v":{"$error":"#VALUE!"}},"-","-",""]
[null,"NRND","chip","PEN","No","ECWU(C)","ECWU1273JC9",100,"DC",2.7E-2,"± 5",4.8,3.3,1.4,"'-","Non lead wire","-55 to 125 (85)","12.0W embossed carrier taping (reel packing)",3000,"https://industrial.panasonic.com/ww/products/pt/film-cap-electroequip/models/ECWU1273JC9","≤ 5","≤ 4","≤ 1.5",{"$f":"pana_film[[#This Row],[Body length / dia\n(mm)]]&\" x \"&pana_film[[#This Row],[Body width\n(mm)]]","v":{"$error":"#VALUE!"}},"-","-",""]
[null,"NRND","chip","PEN","No","ECWU(X)","ECWU1272JX5",100,"DC",2.7000000000000001E-3,"± 5",3.2,1.6,1.1000000000000001,"'-","Non lead wire","-55 to 105","8.0W180A emboss taping (reel packing)",3000,"https://industrial.panasonic.com/ww/products/pt/film-cap-electroequip/models/ECWU1272JX5","≤ 4","≤ 2","≤ 1.5",{"$f":"pana_film[[#This Row],[Body length / dia\n(mm)]]&\" x \"&pana_film[[#This Row],[Body width\n(mm)]]","v":{"$error":"#VALUE!"}},"-","-",""]
[null,"NRND","chip","PEN","No","ECWU(C)","ECWU1224KC9",100,"DC",0.22,"±10",7.1,5,2.4,"'-","Non lead wire","-55 to 125 (85)","12.0W embossed carrier taping (reel packing)",1500,"https://industrial.panasonic.com/ww/products/pt/film-cap-electroequip/models/ECWU1224KC9","≤ 8","≤ 5","≤ 2.5",{"$f":"pana_film[[#This Row],[Body length / dia\n(mm)]]&\" x \"&pana_film[[#This Row],[Body width\n(mm)]]","v":{"$error":"#VALUE!"}},"-","-",""]
[null,"NRND","chip","PEN","No","ECWU(C)","ECWU1223KC9",100,"DC",2.1999999999999999E-2,"±10",4.8,3.3,1.4,"'-","Non lead wire","-55 to 125 (85)","12.0W embossed carrier taping (reel packing)",3000,"https://industrial.panasonic.com/ww/products/pt/film-cap-electroequip/models/ECWU1223KC9","≤ 5","≤ 4","≤ 1.5",{"$f":"pana_film[[#This Row],[Body length / dia\n(mm)]]&\" x \"&pana_film[[#This Row],[Body width\n(mm)]]","v":{"$error":"#VALUE!"}},"-","-",""]
[null,"NRND","chip","PEN","No","ECWU(C)","ECWU1223JC9",100,"DC",2.1999999999999999E-2,"± 5",4.8,3.3,1.4,"'-","Non lead wire","-55 to 125 (85)","12.0W embossed carrier taping (reel packing)",3000,"https://industrial.panasonic.com/ww/products/pt/film-cap-electroequip/models/ECWU1223JC9","≤ 5","≤ 4","≤ 1.5",{"$f":"pana_film[[#This Row],[Body length / dia\n(mm)]]&\" x \"&pana_film[[#This Row],[Body width\n(mm)]]","v":{"$error":"#VALUE!"}},"-","-",""]
[null,"NRND","chip","PEN","No","ECWU(X)","ECWU1222JX5",100,"DC",2.2000000000000001E-3,"± 5",3.2,1.6,1.1000000000000001,"'-","Non lead wire","-55 to 105","8.0W180A emboss taping (reel packing)",3000,"https://industrial.panasonic.com/ww/products/pt/film-cap-electroequip/models/ECWU1222JX5","≤ 4","≤ 2","≤ 1.5",{"$f":"pana_film[[#This Row],[Body length / dia\n(mm)]]&\" x \"&pana_film[[#This Row],[Body width\n(mm)]]","v":{"$error":"#VALUE!"}},"-","-",""]
[null,"NRND","chip","PEN","No","ECWU(C)","ECWU1184KC9",100,"DC",0.18,"±10",7.1,5,2,"'-","Non lead wire","-55 to 125 (85)","12.0W embossed carrier taping (reel packing)",1500,"https://industrial.panasonic.com/ww/products/pt/film-cap-electroequip/models/ECWU1184KC9","≤ 8","≤ 5","≤ 2",{"$f":"pana_film[[#This Row],[Body length / dia\n(mm)]]&\" x \"&pana_film[[#This Row],[Body width\n(mm)]]","v":{"$error":"#VALUE!"}},"-","-",""]
[null,"NRND","chip","PEN","No","ECWU(C)","ECWU1183KC9",100,"DC",1.7999999999999999E-2,"±10",4.8,3.3,1.4,"'-","Non lead wire","-55 to 125 (85)","12.0W embossed carrier taping (reel packing)",3000,"https://industrial.panasonic.com/ww/products/pt/film-cap-electroequip/models/ECWU1183KC9","≤ 5","≤ 4","≤ 1.5",{"$f":"pana_film[[#This Row],[Body length / dia\n(mm)]]&\" x \"&pana_film[[#This Row],[Body width\n(mm)]]","v":{"$error":"#VALUE!"}},"-","-",""]
[null,"NRND","chip","PEN","No","ECWU(C)","ECWU1183JC9",100,"DC",1.7999999999999999E-2,"± 5",4.8,3.3,1.4,"'-","Non lead wire","-55 to 125 (85)","12.0W embossed carrier taping (reel packing)",3000,"https://industrial.panasonic.com/ww/products/pt/film-cap-electroequip/models/ECWU1183JC9","≤ 5","≤ 4","≤ 1.5",{"$f":"pana_film[[#This Row],[Body length / dia\n(mm)]]&\" x \"&pana_film[[#This Row],[Body width\n(mm)]]","v":{"$error":"#VALUE!"}},"-","-",""]
[null,"NRND","chip","PEN","No","ECWU(X)","ECWU1182JX5",100,"DC",1.8E-3,"± 5",3.2,1.6,1.1000000000000001,"'-","Non lead wire","-55 to 105","8.0W180A emboss taping (reel packing)",3000,"https://industrial.panasonic.com/ww/products/pt/film-cap-electroequip/models/ECWU1182JX5","≤ 4","≤ 2","≤ 1.5",{"$f":"pana_film[[#This Row],[Body length / dia\n(mm)]]&\" x \"&pana_film[[#This Row],[Body width\n(mm)]]","v":{"$error":"#VALUE!"}},"-","-",""]
[null,"NRND","chip","PEN","No","ECWU(C)","ECWU1154KC9",100,"DC",0.15,"±10",6,4.0999999999999996,2.8,"'-","Non lead wire","-55 to 125 (85)","12.0W embossed carrier taping (reel packing)",2000,"https://industrial.panasonic.com/ww/products/pt/film-cap-electroequip/models/ECWU1154KC9","≤ 6","≤ 5","≤ 3",{"$f":"pana_film[[#This Row],[Body length / dia\n(mm)]]&\" x \"&pana_film[[#This Row],[Body width\n(mm)]]","v":{"$error":"#VALUE!"}},"-","-",""]
[null,"NRND","chip","PEN","No","ECWU(C)","ECWU1154JC9",100,"DC",0.15,"± 5",6,4.0999999999999996,2.8,"'-","Non lead wire","-55 to 125 (85)","12.0W embossed carrier taping (reel packing)",2000,"https://industrial.panasonic.com/ww/products/pt/film-cap-electroequip/models/ECWU1154JC9","≤ 6","≤ 5","≤ 3",{"$f":"pana_film[[#This Row],[Body length / dia\n(mm)]]&\" x \"&pana_film[[#This Row],[Body width\n(mm)]]","v":{"$error":"#VALUE!"}},"-","-",""]
[null,"NRND","chip","PEN","No","ECWU(C)","ECWU1153KC9",100,"DC",1.4999999999999999E-2,"±10",4.8,3.3,1.4,"'-","Non lead wire","-55 to 125 (85)","12.0W embossed carrier taping (reel packing)",3000,"https://industrial.panasonic.com/ww/products/pt/film-cap-electroequip/models/ECWU1153KC9","≤ 5","≤ 4","≤ 1.5",{"$f":"pana_film[[#This Row],[Body length / dia\n(mm)]]&\" x \"&pana_film[[#This Row],[Body width\n(mm)]]","v":{"$error":"#VALUE!"}},"-","-",""]
[null,"NRND","chip","PEN","No","ECWU(C)","ECWU1153JC9",100,"DC",1.4999999999999999E-2,"± 5",4.8,3.3,1.4,"'-","Non lead wire","-55 to 125 (85)","12.0W embossed carrier taping (reel packing)",3000,"https://industrial.panasonic.com/ww/products/pt/film-cap-electroequip/models/ECWU1153JC9","≤ 5","≤ 4","≤ 1.5",{"$f":"pana_film[[#This Row],[Body length / dia\n(mm)]]&\" x \"&pana_film[[#This Row],[Body width\n(mm)]]","v":{"$error":"#VALUE!"}},"-","-",""]
[null,"NRND","chip","PEN","No","ECWU(X)","ECWU1152JX5",100,"DC",1.5E-3,"± 5",3.2,1.6,1.1000000000000001,"'-","Non lead wire","-55 to 105","8.0W180A emboss taping (reel packing)",3000,"https://industrial.panasonic.com/ww/products/pt/film-cap-electroequip/models/ECWU1152JX5","≤ 4","≤ 2","≤ 1.5",{"$f":"pana_film[[#This Row],[Body length / dia\n(mm)]]&\" x \"&pana_film[[#This Row],[Body width\n(mm)]]","v":{"$error":"#VALUE!"}},"-","-",""]
[null,"NRND","chip","PEN","No","ECWU(C)","ECWU1124KC9",100,"DC",0.12,"±10",6,4.0999999999999996,2.4,"'-","Non lead wire","-55 to 125 (85)","12.0W embossed carrier taping (reel packing)",2000,"https://industrial.panasonic.com/ww/products/pt/film-cap-electroequip/models/ECWU1124KC9","≤ 6","≤ 5","≤ 2.5",{"$f":"pana_film[[#This Row],[Body length / dia\n(mm)]]&\" x \"&pana_film[[#This Row],[Body width\n(mm)]]","v":{"$error":"#VALUE!"}},"-","-",""]
[null,"NRND","chip","PEN","No","ECWU(C)","ECWU1124JC9",100,"DC",0.12,"± 5",6,4.0999999999999996,2.4,"'-","Non lead wire","-55 to 125 (85)","12.0W embossed carrier taping (reel packing)",2000,"https://industrial.panasonic.com/ww/products/pt/film-cap-electroequip/models/ECWU1124JC9","≤ 6","≤ 5","≤ 2.5",{"$f":"pana_film[[#This Row],[Body length / dia\n(mm)]]&\" x \"&pana_film[[#This Row],[Body width\n(mm)]]","v":{"$error":"#VALUE!"}},"-","-",""]
[null,"NRND","chip","PEN","No","ECWU(C)","ECWU1123KC9",100,"DC",1.2E-2,"±10",4.8,3.3,1.4,"'-","Non lead wire","-55 to 125 (85)","12.0W embossed carrier taping (reel packing)",3000,"https://industrial.panasonic.com/ww/products/pt/film-cap-electroequip/models/ECWU1123KC9","≤ 5","≤ 4","≤ 1.5",{"$f":"pana_film[[#This Row],[Body length / dia\n(mm)]]&\" x \"&pana_film[[#This Row],[Body width\n(mm)]]","v":{"$error":"#VALUE!"}},"-","-",""]
[null,"NRND","chip","PEN","No","ECWU(C)","ECWU1123JC9",100,"DC",1.2E-2,"± 5",4.8,3.3,1.4,"'-","Non lead wire","-55 to 125 (85)","12.0W embossed carrier taping (reel packing)",3000,"https://industrial.panasonic.com/ww/products/pt/film-cap-electroequip/models/ECWU1123JC9","≤ 5","≤ 4","≤ 1.5",{"$f":"pana_film[[#This Row],[Body length / dia\n(mm)]]&\" x \"&pana_film[[#This Row],[Body width\n(mm)]]","v":{"$error":"#VALUE!"}},"-","-",""]
[null,"NRND","chip","PEN","No","ECWU(X)","ECWU1122JX5",100,"DC",1.1999999999999999E-3,"± 5",3.2,1.6,1.1000000000000001,"'-","Non lead wire","-55 to 105","8.0W180A emboss taping (reel packing)",3000,"https://industrial.panasonic.com/ww/products/pt/film-cap-electroequip/models/ECWU1122JX5","≤ 4","≤ 2","≤ 1.5",{"$f":"pana_film[[#This Row],[Body length / dia\n(mm)]]&\" x \"&pana_film[[#This Row],[Body width\n(mm)]]","v":{"$error":"#VALUE!"}},"-","-",""]
[null,"NRND","chip","PEN","No","ECWU(C)","ECWU1105KCV",100,"DC",1,"±10",9.8000000000000007,6.3,5.0999999999999996,"'-","Non lead wire","-55 to 125 (85)","16.0W embossed carrier taping (reel packing)",1000,"https://industrial.panasonic.com/ww/products/pt/film-cap-electroequip/models/ECWU1105KCV","≤10","≤ 7","≤ 5.5",{"$f":"pana_film[[#This Row],[Body length / dia\n(mm)]]&\" x \"&pana_film[[#This Row],[Body width\n(mm)]]","v":{"$error":"#VALUE!"}},"-","-",""]
[null,"NRND","chip","PEN","No","ECWU(C)","ECWU1104V33",100,"DC",0.1,"± 5",4.8,3.3,2.8,"'-","Non lead wire","-55 to 125 (85)","12.0W embossed carrier taping (reel packing)",2000,"https://industrial.panasonic.com/ww/products/pt/film-cap-electroequip/models/ECWU1104V33","≤ 5","≤ 4","≤ 3",{"$f":"pana_film[[#This Row],[Body length / dia\n(mm)]]&\" x \"&pana_film[[#This Row],[Body width\n(mm)]]","v":{"$error":"#VALUE!"}},"-","-",""]
[null,"NRND","chip","PEN","No","ECWU(C)","ECWU1104KC9",100,"DC",0.1,"±10",6,4.0999999999999996,1.8,"'-","Non lead wire","-55 to 125 (85)","12.0W embossed carrier taping (reel packing)",3000,"https://industrial.panasonic.com/ww/products/pt/film-cap-electroequip/models/ECWU1104KC9","≤ 6","≤ 5","≤ 2",{"$f":"pana_film[[#This Row],[Body length / dia\n(mm)]]&\" x \"&pana_film[[#This Row],[Body width\n(mm)]]","v":{"$error":"#VALUE!"}},"-","-",""]
[null,"NRND","chip","PEN","No","ECWU(C)","ECWU1104JC9",100,"DC",0.1,"± 5",6,4.0999999999999996,1.8,"'-","Non lead wire","-55 to 125 (85)","12.0W embossed carrier taping (reel packing)",3000,"https://industrial.panasonic.com/ww/products/pt/film-cap-electroequip/models/ECWU1104JC9","≤ 6","≤ 5","≤ 2",{"$f":"pana_film[[#This Row],[Body length / dia\n(mm)]]&\" x \"&pana_film[[#This Row],[Body width\n(mm)]]","v":{"$error":"#VALUE!"}},"-","-",""]
[null,"NRND","chip","PEN","No","ECWU(X)","ECWU1103JX5",100,"DC",0.01,"± 5",3.2,2.5,2.1,"'-","Non lead wire","-55 to 105","8.0W180A emboss taping (reel packing)",2000,"https://industrial.panasonic.com/ww/products/pt/film-cap-electroequip/models/ECWU1103JX5","≤ 4","≤ 3","≤ 2.5",{"$f":"pana_film[[#This Row],[Body length / dia\n(mm)]]&\" x \"&pana_film[[#This Row],[Body width\n(mm)]]","v":{"$error":"#VALUE!"}},"-","-",""]
[null,"NRND","chip","PEN","No","ECWU(X)","ECWU1102JX5",100,"DC",1E-3,"± 5",3.2,1.6,1.1000000000000001,"'-","Non lead wire","-55 to 105","8.0W180A emboss taping (reel packing)",3000,"https://industrial.panasonic.com/ww/products/pt/film-cap-electroequip/models/ECWU1102JX5","≤ 4","≤ 2","≤ 1.5",{"$f":"pana_film[[#This Row],[Body length / dia\n(mm)]]&\" x \"&pana_film[[#This Row],[Body width\n(mm)]]","v":{"$error":"#VALUE!"}},"-","-",""]

{"sheet":"IR Data","index":4,"n_rows":597,"n_cols":13,"rows_kept":597,"cut":false,"hidden":true,"merged":[]}
[]
[null,null,null,null,null,null,null,null,null,null,"(Arms)","(mΩ)","ESL (nH)"]
[null,null,null,null,null,null,null,null,"PN",null,"Permissible Current","ESR "]
[null,null,null,null,null,"EZPV","Ind","600V","EZPV60106LTB",null,8.6,16.899999999999999]
[null,null,null,null,null,null,null,null,"EZPV60126LTB",null,9.1999999999999993,14.3]
[null,null,null,null,null,null,null,null,"EZPV60156LTB",null,10,12.8]
[null,null,null,null,null,null,null,null,"EZPV60206MTB",null,11.9,10.4]
[null,null,null,null,null,null,null,null,"EZPV60226MTB",null,12.7,9.6]
[null,null,null,null,null,null,null,null,"EZPV60256MTB",null,13.8,8.6]
[null,null,null,null,null,null,null,null,"EZPV60306MTB",null,15.6,8.1999999999999993]
[null,null,null,null,null,null,null,null,"EZPV60356MTB",null,17.2,7.1]
[null,null,null,null,null,null,null,null,"EZPV60406MTB",null,18.7,6.5]
[null,null,null,null,null,null,null,null,"EZPV60456MTB",null,20.100000000000001,6.2]
[null,null,null,null,null,null,null,null,"EZPV60506MTB",null,21.5,5.3]
[null,null,null,null,null,null,null,null,"EZPV60556MTB",null,22,4.5]
[null,null,null,null,null,null,null,null,"EZPV60606MTB",null,22.5,4.0999999999999996]
[null,null,null,null,null,null,null,null,"EZPV60656MTB",null,23,3.6]
[null,null,null,null,null,null,null,null,"EZPV60706MTB",null,23.4,3.6]
[null,null,null,null,null,null,null,null,"EZPV60756MTB",null,23.8,4.0999999999999996]
[null,null,null,null,null,null,null,null,"EZPV60806MTB",null,24.3,3.9]
[null,null,null,null,null,null,null,null,"EZPV60856MTB",null,24.7,3.7]
[null,null,null,null,null,null,null,null,"EZPV60406MTC",null,16.899999999999999,8.4]
[null,null,null,null,null,null,null,null,"EZPV60456MTC",null,18,7.6]
[null,null,null,null,null,null,null,null,"EZPV60506MTC",null,19.100000000000001,6.8]
[null,null,null,null,null,null,null,null,"EZPV60556MTC",null,20.100000000000001,8]
[null,null,null,null,null,null,null,null,"EZPV60606MTC",null,21,7.5]
[null,null,null,null,null,null,null,null,"EZPV60656MTC",null,21.9,7]
[null,null,null,null,null,null,null,null,"EZPV60706MTC",null,22.8,6.6]
[null,null,null,null,null,null,null,null,"EZPV60756MTC",null,23.6,5.5]
[null,null,null,null,null,null,null,null,"EZPV60806MTC",null,24.5,4.9000000000000004]
[null,null,null,null,null,null,null,null,"EZPV60856MTC",null,25.3,4.5999999999999996]
[null,null,null,null,null,null,null,null,"EZPV60906MTC",null,26,4.7]
[null,null,null,null,null,null,null,null,"EZPV60956MTC",null,26.8,5.2]
[null,null,null,null,null,null,null,null,"EZPV60107MTC",null,27.5,5.0999999999999996]
[null,null,null,null,null,null,null,null,"EZPV60117MTC",null,28.9,4.8]
[]
[null,null,null,null,null,null,null,"700V","EZPV70905LTA",null,12.3,12.6]
[null,null,null,null,null,null,null,null,"EZPV70905MTA",null,12.3,12.6]
[null,null,null,null,null,null,null,null,"EZPV70106LTA",null,12.9,11.5]
[null,null,null,null,null,null,null,null,"EZPV70106MTA",null,12.9,11.5]
[null,null,null,null,null,null,null,null,"EZPV70116LTA",null,13.6,10.6]
[null,null,null,null,null,null,null,null,"EZPV70116MTA",null,13.6,10.6]
[null,null,null,null,null,null,null,null,"EZPV70126LTA",null,14.2,9.9]
[null,null,null,null,null,null,null,null,"EZPV70126MTA",null,14.2,9.9]
[null,null,null,null,null,null,null,null,"EZPV70136LTA",null,14.7,9.1999999999999993]
[null,null,null,null,null,null,null,null,"EZPV70136MTA",null,14.7,9.1999999999999993]
[null,null,null,null,null,null,null,null,"EZPV70146LTA",null,15.3,8.6999999999999993]
[null,null,null,null,null,null,null,null,"EZPV70146MTA",null,15.3,8.6999999999999993]
[null,null,null,null,null,null,null,null,"EZPV70186LTA",null,17.3,7.8]
[null,null,null,null,null,null,null,null,"EZPV70186MTA",null,17.3,7.8]
[null,null,null,null,null,null,null,null,"EZPV70805LTB",null,8.1999999999999993,17.100000000000001]
[null,null,null,null,null,null,null,null,"EZPV70905LTB",null,8.9,15.6]
[null,null,null,null,null,null,null,null,"EZPV70106LTB",null,9.5,13.9]
[null,null,null,null,null,null,null,null,"EZPV70126LTB",null,10.7,12.5]
[null,null,null,null,null,null,null,null,"EZPV70156MTB",null,13,10.199999999999999]
[null,null,null,null,null,null,null,null,"EZPV70206MTB",null,15.8,8.6999999999999993]
[null,null,null,null,null,null,null,null,"EZPV70256MTB",null,18.3,8.6999999999999993]
[null,null,null,null,null,null,null,null,"EZPV70306MTB",null,20.6,7.1]
[null,null,null,null,null,null,null,null,"EZPV70356MTB",null,22.7,5.5]
[null,null,null,null,null,null,null,null,"EZPV70406MTB",null,24.6,5.0999999999999996]
[null,null,null,null,null,null,null,null,"EZPV70456MTB",null,26.4,4.5]
[null,null,null,null,null,null,null,null,"EZPV70506MTB",null,28.2,4.8]
[null,null,null,null,null,null,null,null,"EZPV70256MTC",null,14.4,11.6]
[null,null,null,null,null,null,null,null,"EZPV70306MTC",null,16.8,11.6]
[null,null,null,null,null,null,null,null,"EZPV70356MTC",null,18.899999999999999,10.199999999999999]
[null,null,null,null,null,null,null,null,"EZPV70406MTC",null,20.9,9.1]
[null,null,null,null,null,null,null,null,"EZPV70456MTC",null,22.8,7.9]
[null,null,null,null,null,null,null,null,"EZPV70506MTC",null,24.5,6.8]
[null,null,null,null,null,null,null,null,"EZPV70556MTC",null,26.2,6.3]
[null,null,null,null,null,null,null,null,"EZPV70606MTC",null,27.8,6.2]
[null,null,null,null,null,null,null,null,"EZPV70656MTC",null,29.3,6.2]
[]
[null,null,null,null,null,null,null,"800V","EZPV80905LTA",null,12.3,12.6]
[null,null,null,null,null,null,null,null,"EZPV80905MTA",null,12.3,12.6]
[null,null,null,null,null,null,null,null,"EZPV80106LTA",null,12.9,11.5]
[null,null,null,null,null,null,null,null,"EZPV80106MTA",null,12.9,11.5]
[null,null,null,null,null,null,null,null,"EZPV80116LTA",null,13.6,10.6]
[null,null,null,null,null,null,null,null,"EZPV80116MTA",null,13.6,10.6]
[null,null,null,null,null,null,null,null,"EZPV80126LTA",null,14.2,9.9]
[null,null,null,null,null,null,null,null,"EZPV80126MTA",null,14.2,9.9]
[null,null,null,null,null,null,null,null,"EZPV80136LTA",null,14.7,9.1999999999999993]
[null,null,null,null,null,null,null,null,"EZPV80136MTA",null,14.7,9.1999999999999993]
[null,null,null,null,null,null,null,null,"EZPV80146LTA",null,15.3,8.6999999999999993]
[null,null,null,null,null,null,null,null,"EZPV80146MTA",null,15.3,8.6999999999999993]
[null,null,null,null,null,null,null,null,"EZPV80186LTA",null,17.3,7.8]
[null,null,null,null,null,null,null,null,"EZPV80186MTA",null,17.3,7.8]
[null,null,null,null,null,null,null,null,"EZPV80805LTB",null,8.1999999999999993,17.100000000000001]
[null,null,null,null,null,null,null,null,"EZPV80905LTB",null,8.9,15.6]
[null,null,null,null,null,null,null,null,"EZPV80106LTB",null,9.5,13.9]
[null,null,null,null,null,null,null,null,"EZPV80126LTB",null,10.7,12.5]
[null,null,null,null,null,null,null,null,"EZPV80156MTB",null,13,10.199999999999999]
[null,null,null,null,null,null,null,null,"EZPV80206MTB",null,15.8,8.6999999999999993]
[null,null,null,null,null,null,null,null,"EZPV80256MTB",null,18.3,8.6999999999999993]
[null,null,null,null,null,null,null,null,"EZPV80306MTB",null,20.6,7.1]
[null,null,null,null,null,null,null,null,"EZPV80356MTB",null,22.7,5.5]
[null,null,null,null,null,null,null,null,"EZPV80406MTB",null,24.6,5.0999999999999996]
[null,null,null,null,null,null,null,null,"EZPV80456MTB",null,26.4,4.5]
[null,null,null,null,null,null,null,null,"EZPV80506MTB",null,28.2,4.8]
[null,null,null,null,null,null,null,null,"EZPV80256MTC",null,14.4,11.6]
[null,null,null,null,null,null,null,null,"EZPV80306MTC",null,16.8,11.6]
[null,null,null,null,null,null,null,null,"EZPV80356MTC",null,18.899999999999999,10.199999999999999]
[null,null,null,null,null,null,null,null,"EZPV80406MTC",null,20.9,9.1]
[null,null,null,null,null,null,null,null,"EZPV80456MTC",null,22.8,7.9]
[null,null,null,null,null,null,null,null,"EZPV80506MTC",null,24.5,6.8]
[null,null,null,null,null,null,null,null,"EZPV80556MTC",null,26.2,6.3]
[null,null,null,null,null,null,null,null,"EZPV80606MTC",null,27.8,6.2]
[null,null,null,null,null,null,null,null,"EZPV80656MTC",null,29.3,6.2]
[]
[null,null,null,null,null,null,null,"1000V","EZPV1A305LTB",null,4.4000000000000004,30.8]
[null,null,null,null,null,null,null,null,"EZPV1A405LTB",null,5.5,23.5]
[null,null,null,null,null,null,null,null,"EZPV1A475LTB",null,6.2,21.7]
[null,null,null,null,null,null,null,null,"EZPV1A505LTB",null,6.5,20.399999999999999]
[null,null,null,null,null,null,null,null,"EZPV1A605LTB",null,7.3,17.5]
[null,null,null,null,null,null,null,null,"EZPV1A705MTB",null,8.5,15.5]
[null,null,null,null,null,null,null,null,"EZPV1A805MTB",null,9.5,13.7]
[null,null,null,null,null,null,null,null,"EZPV1A905MTB",null,10.4,12.4]
[null,null,null,null,null,null,null,null,"EZPV1A106MTB",null,11.2,12.7]
[null,null,null,null,null,null,null,null,"EZPV1A126MTB",null,12.8,10.4]
[null,null,null,null,null,null,null,null,"EZPV1A156MTB",null,15,10.4]
[null,null,null,null,null,null,null,null,"EZPV1A186MTB",null,16.899999999999999,8.5]
[null,null,null,null,null,null,null,null,"EZPV1A206MTB",null,18.100000000000001,7.2]
[null,null,null,null,null,null,null,null,"EZPV1A256MTB",null,20.9,5.9]
[null,null,null,null,null,null,null,null,"EZPV1A306MTB",null,23.4,5.7]
[null,null,null,null,null,null,null,null,"EZPV1A156MTC",null,10.6,13.7]
[null,null,null,null,null,null,null,null,"EZPV1A206MTC",null,12.2,11.2]
[null,null,null,null,null,null,null,null,"EZPV1A256MTC",null,13.6,9.1]
[null,null,null,null,null,null,null,null,"EZPV1A306MTC",null,14.9,9.9]
[null,null,null,null,null,null,null,null,"EZPV1A356MTC",null,16.100000000000001,9.1999999999999993]
[null,null,null,null,null,null,null,null,"EZPV1A406MTC",null,17.2,7.8]
[]
[null,null,null,null,null,null,null,"1100V","EZPV1B305LTB",null,4.4000000000000004,30.8]
[null,null,null,null,null,null,null,null,"EZPV1B405LTB",null,5.5,23.5]
[null,null,null,null,null,null,null,null,"EZPV1B475LTB",null,6.2,21.7]
[null,null,null,null,null,null,null,null,"EZPV1B505LTB",null,6.5,20.399999999999999]
[null,null,null,null,null,null,null,null,"EZPV1B605LTB",null,7.3,17.5]
[null,null,null,null,null,null,null,null,"EZPV1B705MTB",null,8.5,15.5]
[null,null,null,null,null,null,null,null,"EZPV1B805MTB",null,9.5,13.7]
[null,null,null,null,null,null,null,null,"EZPV1B905MTB",null,10.4,12.4]
[null,null,null,null,null,null,null,null,"EZPV1B106MTB",null,11.2,12.7]
[null,null,null,null,null,null,null,null,"EZPV1B126MTB",null,12.8,10.4]
[null,null,null,null,null,null,null,null,"EZPV1B156MTB",null,15,10.4]
[null,null,null,null,null,null,null,null,"EZPV1B186MTB",null,16.899999999999999,8.5]
[null,null,null,null,null,null,null,null,"EZPV1B206MTB",null,18.100000000000001,7.2]
[null,null,null,null,null,null,null,null,"EZPV1B256MTB",null,20.9,5.9]
[null,null,null,null,null,null,null,null,"EZPV1B306MTB",null,23.4,5.7]
[null,null,null,null,null,null,null,null,"EZPV1B156MTC",null,10.6,13.7]
[null,null,null,null,null,null,null,null,"EZPV1B206MTC",null,12.2,11.2]
[null,null,null,null,null,null,null,null,"EZPV1B256MTC",null,13.6,9.1]
[null,null,null,null,null,null,null,null,"EZPV1B306MTC",null,14.9,9.9]
[null,null,null,null,null,null,null,null,"EZPV1B356MTC",null,16.100000000000001,9.1999999999999993]
[null,null,null,null,null,null,null,null,"EZPV1B406MTC",null,17.2,7.8]
[]
[null,null,null,null,null,null,"Auto","600V","EZPV60106LTT",null,8.6,16.899999999999999]
[null,null,null,null,null,null,null,null,"EZPV60126LTT",null,9.1999999999999993,14.3]
[null,null,null,null,null,null,null,null,"EZPV60156LTT",null,10,12.8]
[null,null,null,null,null,null,null,null,"EZPV60206MTT",null,11.9,10.4]
[null,null,null,null,null,null,null,null,"EZPV60226MTT",null,12.7,9.6]
[null,null,null,null,null,null,null,null,"EZPV60256MTT",null,13.8,8.6]
[null,null,null,null,null,null,null,null,"EZPV60306MTT",null,15.6,8.1999999999999993]
[null,null,null,null,null,null,null,null,"EZPV60356MTT",null,17.2,7.1]
[null,null,null,null,null,null,null,null,"EZPV60406MTT",null,18.7,6.5]
[null,null,null,null,null,null,null,null,"EZPV60456MTT",null,20.100000000000001,6.2]
[null,null,null,null,null,null,null,null,"EZPV60506MTT",null,21.5,5.3]
[null,null,null,null,null,null,null,null,"EZPV60556MTT",null,22,4.5]
[null,null,null,null,null,null,null,null,"EZPV60606MTT",null,22.5,4.0999999999999996]
[null,null,null,null,null,null,null,null,"EZPV60656MTT",null,23,3.6]
[null,null,null,null,null,null,null,null,"EZPV60706MTT",null,23.4,3.6]
[null,null,null,null,null,null,null,null,"EZPV60756MTT",null,23.8,4.0999999999999996]
[null,null,null,null,null,null,null,null,"EZPV60806MTT",null,24.3,3.9]
[null,null,null,null,null,null,null,null,"EZPV60856MTT",null,24.7,3.7]
[null,null,null,null,null,null,null,null,"EZPV60406MTS",null,16.899999999999999,8.4]
[null,null,null,null,null,null,null,null,"EZPV60456MTS",null,18,7.6]
[null,null,null,null,null,null,null,null,"EZPV60506MTS",null,19.100000000000001,6.8]
[null,null,null,null,null,null,null,null,"EZPV60556MTS",null,20.100000000000001,8]
[null,null,null,null,null,null,null,null,"EZPV60606MTS",null,21,7.5]
[null,null,null,null,null,null,null,null,"EZPV60656MTS",null,21.9,7]
[null,null,null,null,null,null,null,null,"EZPV60706MTS",null,22.8,6.6]
[null,null,null,null,null,null,null,null,"EZPV60756MTS",null,23.6,5.5]
[null,null,null,null,null,null,null,null,"EZPV60806MTS",null,24.5,4.9000000000000004]
[null,null,null,null,null,null,null,null,"EZPV60856MTS",null,25.3,4.5999999999999996]
[null,null,null,null,null,null,null,null,"EZPV60906MTS",null,26,4.7]
[null,null,null,null,null,null,null,null,"EZPV60956MTS",null,26.8,5.2]
[null,null,null,null,null,null,null,null,"EZPV60107MTS",null,27.5,5.0999999999999996]
[null,null,null,null,null,null,null,null,"EZPV60117MTS",null,28.9,4.8]
[]
[null,null,null,null,null,null,null,"700V","EZPV70905LTU",null,12.3,12.6]
[null,null,null,null,null,null,null,null,"EZPV70905MTU",null,12.3,12.6]
[null,null,null,null,null,null,null,null,"EZPV70106LTU",null,12.9,11.5]
[null,null,null,null,null,null,null,null,"EZPV70106MTU",null,12.9,11.5]
[null,null,null,null,null,null,null,null,"EZPV70116LTU",null,13.6,10.6]
[null,null,null,null,null,null,null,null,"EZPV70116MTU",null,13.6,10.6]
[null,null,null,null,null,null,null,null,"EZPV70126LTU",null,14.2,9.9]
[null,null,null,null,null,null,null,null,"EZPV70126MTU",null,14.2,9.9]
[null,null,null,null,null,null,null,null,"EZPV70136LTU",null,14.7,9.1999999999999993]
[null,null,null,null,null,null,null,null,"EZPV70136MTU",null,14.7,9.1999999999999993]
[null,null,null,null,null,null,null,null,"EZPV70146LTU",null,15.3,8.6999999999999993]
[null,null,null,null,null,null,null,null,"EZPV70146MTU",null,15.3,8.6999999999999993]
[null,null,null,null,null,null,null,null,"EZPV70186LTU",null,17.3,7.8]
[null,null,null,null,null,null,null,null,"EZPV70186MTU",null,17.3,7.8]
[null,null,null,null,null,null,null,null,"EZPV70805LTT",null,8.1999999999999993,17.100000000000001]
[null,null,null,null,null,null,null,null,"EZPV70905LTT",null,8.9,15.6]
[null,null,null,null,null,null,null,null,"EZPV70106LTT",null,9.5,13.9]
[null,null,null,null,null,null,null,null,"EZPV70126LTT",null,10.7,12.5]
[null,null,null,null,null,null,null,null,"EZPV70156MTT",null,13,10.199999999999999]
[null,null,null,null,null,null,null,null,"EZPV70206MTT",null,15.8,8.6999999999999993]
[null,null,null,null,null,null,null,null,"EZPV70256MTT",null,18.3,8.6999999999999993]
[null,null,null,null,null,null,null,null,"EZPV70306MTT",null,20.6,7.1]
[null,null,null,null,null,null,null,null,"EZPV70356MTT",null,22.7,5.5]
[null,null,null,null,null,null,null,null,"EZPV70406MTT",null,24.6,5.0999999999999996]
[null,null,null,null,null,null,null,null,"EZPV70456MTT",null,26.4,4.5]
[null,null,null,null,null,null,null,null,"EZPV70506MTT",null,28.2,4.8]
[null,null,null,null,null,null,null,null,"EZPV70256MTS",null,14.4,11.6]
[null,null,null,null,null,null,null,null,"EZPV70306MTS",null,16.8,11.6]
[null,null,null,null,null,null,null,null,"EZPV70356MTS",null,18.899999999999999,10.199999999999999]
[null,null,null,null,null,null,null,null,"EZPV70406MTS",null,20.9,9.1]
[null,null,null,null,null,null,null,null,"EZPV70456MTS",null,22.8,7.9]
[null,null,null,null,null,null,null,null,"EZPV70506MTS",null,24.5,6.8]
[null,null,null,null,null,null,null,null,"EZPV70556MTS",null,26.2,6.3]
[null,null,null,null,null,null,null,null,"EZPV70606MTS",null,27.8,6.2]
[null,null,null,null,null,null,null,null,"EZPV70656MTS",null,29.3,6.2]
[]
[null,null,null,null,null,null,null,"800V","EZPV80905LTU",null,12.3,12.6]
[null,null,null,null,null,null,null,null,"EZPV80905MTU",null,12.3,12.6]
[null,null,null,null,null,null,null,null,"EZPV80106LTU",null,12.9,11.5]
[null,null,null,null,null,null,null,null,"EZPV80106MTU",null,12.9,11.5]
[null,null,null,null,null,null,null,null,"EZPV80116LTU",null,13.6,10.6]
[null,null,null,null,null,null,null,null,"EZPV80116MTU",null,13.6,10.6]
[null,null,null,null,null,null,null,null,"EZPV80126LTU",null,14.2,9.9]
[null,null,null,null,null,null,null,null,"EZPV80126MTU",null,14.2,9.9]
[null,null,null,null,null,null,null,null,"EZPV80136LTU",null,14.7,9.1999999999999993]
[null,null,null,null,null,null,null,null,"EZPV80136MTU",null,14.7,9.1999999999999993]
[null,null,null,null,null,null,null,null,"EZPV80146LTU",null,15.3,8.6999999999999993]
[null,null,null,null,null,null,null,null,"EZPV80146MTU",null,15.3,8.6999999999999993]
[null,null,null,null,null,null,null,null,"EZPV80186LTU",null,17.3,7.8]
[null,null,null,null,null,null,null,null,"EZPV80186MTU",null,17.3,7.8]
[null,null,null,null,null,null,null,null,"EZPV80805LTT",null,8.1999999999999993,17.100000000000001]
[null,null,null,null,null,null,null,null,"EZPV80905LTT",null,8.9,15.6]
[null,null,null,null,null,null,null,null,"EZPV80106LTT",null,9.5,13.9]
[null,null,null,null,null,null,null,null,"EZPV80126LTT",null,10.7,12.5]
[null,null,null,null,null,null,null,null,"EZPV80156MTT",null,13,10.199999999999999]
[null,null,null,null,null,null,null,null,"EZPV80206MTT",null,15.8,8.6999999999999993]
[null,null,null,null,null,null,null,null,"EZPV80256MTT",null,18.3,8.6999999999999993]
[null,null,null,null,null,null,null,null,"EZPV80306MTT",null,20.6,7.1]
[null,null,null,null,null,null,null,null,"EZPV80356MTT",null,22.7,5.5]
[null,null,null,null,null,null,null,null,"EZPV80406MTT",null,24.6,5.0999999999999996]
[null,null,null,null,null,null,null,null,"EZPV80456MTT",null,26.4,4.5]
[null,null,null,null,null,null,null,null,"EZPV80506MTT",null,28.2,4.8]
[null,null,null,null,null,null,null,null,"EZPV80256MTS",null,14.4,11.6]
[null,null,null,null,null,null,null,null,"EZPV80306MTS",null,16.8,11.6]
[null,null,null,null,null,null,null,null,"EZPV80356MTS",null,18.899999999999999,10.199999999999999]
[null,null,null,null,null,null,null,null,"EZPV80406MTS",null,20.9,9.1]
[null,null,null,null,null,null,null,null,"EZPV80456MTS",null,22.8,7.9]
[null,null,null,null,null,null,null,null,"EZPV80506MTS",null,24.5,6.8]
[null,null,null,null,null,null,null,null,"EZPV80556MTS",null,26.2,6.3]
[null,null,null,null,null,null,null,null,"EZPV80606MTS",null,27.8,6.2]
[null,null,null,null,null,null,null,null,"EZPV80656MTS",null,29.3,6.2]
[]
[null,null,null,null,null,null,null,"1000V","EZPV1A305LTT",null,4.4000000000000004,30.8]
[null,null,null,null,null,null,null,null,"EZPV1A405LTT",null,5.5,23.5]
[null,null,null,null,null,null,null,null,"EZPV1A475LTT",null,6.2,21.7]
[null,null,null,null,null,null,null,null,"EZPV1A505LTT",null,6.5,20.399999999999999]
[null,null,null,null,null,null,null,null,"EZPV1A605LTT",null,7.3,17.5]
[null,null,null,null,null,null,null,null,"EZPV1A705MTT",null,8.5,15.5]
[null,null,null,null,null,null,null,null,"EZPV1A805MTT",null,9.5,13.7]
[null,null,null,null,null,null,null,null,"EZPV1A905MTT",null,10.4,12.4]
[null,null,null,null,null,null,null,null,"EZPV1A106MTT",null,11.2,12.7]
[null,null,null,null,null,null,null,null,"EZPV1A126MTT",null,12.8,10.4]
[null,null,null,null,null,null,null,null,"EZPV1A156MTT",null,15,10.4]
[null,null,null,null,null,null,null,null,"EZPV1A186MTT",null,16.899999999999999,8.5]
[null,null,null,null,null,null,null,null,"EZPV1A206MTT",null,18.100000000000001,7.2]
[null,null,null,null,null,null,null,null,"EZPV1A256MTT",null,20.9,5.9]
[null,null,null,null,null,null,null,null,"EZPV1A306MTT",null,23.4,5.7]
[null,null,null,null,null,null,null,null,"EZPV1A156MTS",null,10.6,13.7]
[null,null,null,null,null,null,null,null,"EZPV1A206MTS",null,12.2,11.2]
[null,null,null,null,null,null,null,null,"EZPV1A256MTS",null,13.6,9.1]
[null,null,null,null,null,null,null,null,"EZPV1A306MTS",null,14.9,9.9]
[null,null,null,null,null,null,null,null,"EZPV1A356MTS",null,16.100000000000001,9.1999999999999993]
[null,null,null,null,null,null,null,null,"EZPV1A406MTS",null,17.2,7.8]
[]
[null,null,null,null,null,null,null,"1100V","EZPV1B305LTT",null,4.4000000000000004,30.8]
[null,null,null,null,null,null,null,null,"EZPV1B405LTT",null,5.5,23.5]
[null,null,null,null,null,null,null,null,"EZPV1B475LTT",null,6.2,21.7]
[null,null,null,null,null,null,null,null,"EZPV1B505LTT",null,6.5,20.399999999999999]
[null,null,null,null,null,null,null,null,"EZPV1B605LTT",null,7.3,17.5]
[null,null,null,null,null,null,null,null,"EZPV1B705MTT",null,8.5,15.5]
[null,null,null,null,null,null,null,null,"EZPV1B805MTT",null,9.5,13.7]
[null,null,null,null,null,null,null,null,"EZPV1B905MTT",null,10.4,12.4]
[null,null,null,null,null,null,null,null,"EZPV1B106MTT",null,11.2,12.7]
[null,null,null,null,null,null,null,null,"EZPV1B126MTT",null,12.8,10.4]
[null,null,null,null,null,null,null,null,"EZPV1B156MTT",null,15,10.4]
[null,null,null,null,null,null,null,null,"EZPV1B186MTT",null,16.899999999999999,8.5]
[null,null,null,null,null,null,null,null,"EZPV1B206MTT",null,18.100000000000001,7.2]
[null,null,null,null,null,null,null,null,"EZPV1B256MTT",null,20.9,5.9]
[null,null,null,null,null,null,null,null,"EZPV1B306MTT",null,23.4,5.7]
[null,null,null,null,null,null,null,null,"EZPV1B156MTS",null,10.6,13.7]
[null,null,null,null,null,null,null,null,"EZPV1B206MTS",null,12.2,11.2]
[null,null,null,null,null,null,null,null,"EZPV1B256MTS",null,13.6,9.1]
[null,null,null,null,null,null,null,null,"EZPV1B306MTS",null,14.9,9.9]
[null,null,null,null,null,null,null,null,"EZPV1B356MTS",null,16.100000000000001,9.1999999999999993]
[null,null,null,null,null,null,null,null,"EZPV1B406MTS",null,17.2,7.8]
[]
[null,null,null,null,null,"EZPR","Ind",null,"EZPR60106LD2",null,10.199999999999999,"-"]
[null,null,null,null,null,null,null,null,"EZPR60126LD2",null,10.7,"-"]
[null,null,null,null,null,null,null,null,"EZPR60156LD2",null,11.5,"-"]
[null,null,null,null,null,null,null,null,"EZPR60206MD2",null,14.5,"-"]
[null,null,null,null,null,null,null,null,"EZPR60226MD2",null,15.4,"-"]
[null,null,null,null,null,null,null,null,"EZPR60256MD2",null,16.600000000000001,"-"]
[null,null,null,null,null,null,null,null,"EZPR60306MD2",null,18.5,"-"]
[null,null,null,null,null,null,null,null,"EZPR60356MD2",null,21.7,"-"]
[null,null,null,null,null,null,null,null,"EZPR60406MD2",null,24.5,"-"]
[null,null,null,null,null,null,null,null,"EZPR60456MD2",null,27.2,"-"]
[null,null,null,null,null,null,null,null,"EZPR60506MD2",null,29.8,"-"]
[null,null,null,null,null,null,null,null,"EZPR60556MD2",null,30.6,"-"]
[null,null,null,null,null,null,null,null,"EZPR60606MD2",null,31.4,"-"]
[null,null,null,null,null,null,null,null,"EZPR60656MD2",null,32.200000000000003,"-"]
[null,null,null,null,null,null,null,null,"EZPR60706MD2",null,33,"-"]
[null,null,null,null,null,null,null,null,"EZPR60756MD2",null,33.700000000000003,"-"]
[null,null,null,null,null,null,null,null,"EZPR60806MD2",null,34.4,"-"]
[null,null,null,null,null,null,null,null,"EZPR60856MD2",null,35.1,"-"]
[]
[]
[]
[]
[]
[null,null,null,null,null,null,null,null,"↓カタログ枝番回避のために、10桁で区切って一致かけるとOK"]
[null,null,null,null,null,null,"Orignal PN",null,"Shorten PN (10 digit)"]
[null,null,null,null,null,"ECWFG","ECWFG60205J(","600V",{"$f":"LEFT(G327,10)","v":"ECWFG60205"},null,3.4,25.3]
[null,null,null,null,null,null,"ECWFG60225J",null,"ECWFG60225",null,3.6,23.1]
[null,null,null,null,null,null,"ECWFG60275J( )",null,"ECWFG60275",null,4.0999999999999996,19]
[null,null,null,null,null,null,"ECWFG60305J( )",null,"ECWFG60305",null,4.3,17.2]
[null,null,null,null,null,null,"ECWFG60335J( ",null,"ECWFG60335",null,4.5999999999999996,15.7]
[null,null,null,null,null,null,"ECWFG60355J( )",null,"ECWFG60355",null,4.7,14.9]
[null,null,null,null,null,null,"ECWFG60395J(",null,"ECWFG60395",null,5,13.4]
[null,null,null,null,null,null,"ECWFG60405J(",null,"ECWFG60405",null,5.0999999999999996,13.1]
[null,null,null,null,null,null,"ECWFG60475J(",null,"ECWFG60475",null,5.6,11.2]
[null,null,null,null,null,null,"ECWFG60505J(",null,"ECWFG60505",null,5.8,10.6]
[null,null,null,null,null,null,"ECWFG60565J( )",null,"ECWFG60565",null,6.1,9.5]
[null,null,null,null,null,null,"ECWFG60605J(",null,"ECWFG60605",null,6.4,8.9]
[null,null,null,null,null,null,"ECWFG60685J(",null,"ECWFG60685",null,6.8,7.9]
[null,null,null,null,null,null,"ECWFG60705J(",null,"ECWFG60705",null,6.9,7.7]
[null,null,null,null,null,null,"ECWFG60755J(",null,"ECWFG60755",null,7.2,7.2]
[null,null,null,null,null,null,"ECWFG60805J(",null,"ECWFG60805",null,7.5,6.8]
[null,null,null,null,null,null,"ECWFG60825J(",null,"ECWFG60825",null,7.6,6.6]
[null,null,null,null,null,null,"ECWFG60905J(",null,"ECWFG60905",null,8,6.1]
[null,null,null,null,null,null,"ECWFG60106J(",null,"ECWFG60106",null,8.4,5.5]
[null,null,null,null,null,null,"ECWFG60126J(",null,"ECWFG60126",null,10,4.5999999999999996]
[null,null,null,null,null,null,null,null,""]
[null,null,null,null,null,null,"ECWFG2J105P()","630V LP 22.5","ECWFG2J105",null,4.7,12.9]
[null,null,null,null,null,null,"ECWFG2J105Q()",null,"ECWFG2J105",null,4.7,12.9]
[null,null,null,null,null,null,"ECWFG2J155P()",null,"ECWFG2J155",null,6.3,8.9]
[null,null,null,null,null,null,"ECWFG2J155Q()",null,"ECWFG2J155",null,6.3,8.9]
[null,null,null,null,null,null,"ECWFG2J225P()",null,"ECWFG2J225",null,8.1,6.2]
[null,null,null,null,null,null,"ECWFG2J225Q( )",null,"ECWFG2J225",null,8.1,6.2]
[null,null,null,null,null,null,"ECWFG2J305P()",null,"ECWFG2J305",null,9.8000000000000007,4.7]
[null,null,null,null,null,null,"ECWFG2J305Q",null,"ECWFG2J305",null,9.8000000000000007,4.7]
[null,null,null,null,null,null,null,null,""]
[null,null,null,null,null,null,null,null,""]
[null,null,null,null,null,null,"ECWFG2J105□()","630V LP 27.5","ECWFG2J105",null,4,20.8]
[null,null,null,null,null,null,"ECWFG2J155□()",null,{"$f":"LEFT(G359,10)","v":"ECWFG2J155"},null,5.2,13.9]
[null,null,null,null,null,null,"ECWFG2J225□( )",null,"ECWFG2J225",null,6.5,9.5]
[null,null,null,null,null,null,"ECWFG2J305□()",null,"ECWFG2J305",null,7.8,6.9]
[null,null,null,null,null,null,"ECWFG2J475□()",null,"ECWFG2J475",null,10.1,4.4000000000000004]
[null,null,null,null,null,null,null,null,""]
[null,null,null,null,null,null,"ECWFG70105□()","700V","ECWFG70105",null,4,20.8]
[null,null,null,null,null,null,"ECWFG70155□()",null,"ECWFG70155",null,5.2,13.9]
[null,null,null,null,null,null,"ECWFG70205□()",null,"ECWFG70205",null,6.2,10.4]
[null,null,null,null,null,null,"ECWFG70225□( )",null,"ECWFG70225",null,6.5,9.5]
[null,null,null,null,null,null,"ECWFG70305□( )",null,"ECWFG70305",null,7.8,6.9]
[null,null,null,null,null,null,"ECWFG70395□()",null,"ECWFG70395",null,9.1,6.3]
[null,null,null,null,null,null,"ECWFG70475□()",null,"ECWFG70475",null,10.1,4.4000000000000004]
[null,null,null,null,null,null,null,null,""]
[null,null,null,null,null,null,"ECWFG80205J()","800V","ECWFG80205",null,4.2,18]
[null,null,null,null,null,null,"ECWFG80225J()",null,"ECWFG80225",null,4.5,16.5]
[null,null,null,null,null,null,"ECWFG80275J()",null,"ECWFG80275",null,5,13.6]
[null,null,null,null,null,null,"ECWFG80305J()",null,"ECWFG80305",null,5.3,12.4]
[null,null,null,null,null,null,"ECWFG80335J()",null,"ECWFG80335",null,5.6,11.3]
[null,null,null,null,null,null,"ECWFG80355J()",null,"ECWFG80355",null,5.8,10.7]
[null,null,null,null,null,null,"ECWFG80395J()",null,"ECWFG80395",null,6.2,9.6999999999999993]
[null,null,null,null,null,null,"ECWFG80405J()",null,"ECWFG80405",null,6.2,9.5]
[null,null,null,null,null,null,"ECWFG80475J()",null,"ECWFG80475",null,6.8,8.1999999999999993]
[null,null,null,null,null,null,"ECWFG80505J()",null,"ECWFG80505",null,7.1,7.7]
[null,null,null,null,null,null,"ECWFG80565J()",null,"ECWFG80565",null,7.5,7]
[null,null,null,null,null,null,"ECWFG80605J()",null,"ECWFG80605",null,7.8,6.5]
[null,null,null,null,null,null,"ECWFG80685J()",null,"ECWFG80685",null,8.3000000000000007,5.8]
[null,null,null,null,null,null,"ECWFG80705J()",null,"ECWFG80705",null,8.5,5.7]
[null,null,null,null,null,null,"ECWFG80755J( )",null,"ECWFG80755",null,8.8000000000000007,5.3]
[null,null,null,null,null,null,"ECWFG80805J()",null,"ECWFG80805",null,9.1,5]
[null,null,null,null,null,null,null,null,""]
[null,null,null,null,null,null,null,null,""]
[null,null,null,null,null,null,"ECWFG1B105J()","1100V","ECWFG1B105",null,3.3,36.5]
[null,null,null,null,null,null,"ECWFG1B155J()",null,{"$f":"LEFT(G391,10)","v":"ECWFG1B155"},null,4.0999999999999996,24.1]
[null,null,null,null,null,null,"ECWFG1B205J()",null,"ECWFG1B205",null,4.8,18.7]
[null,null,null,null,null,null,"ECWFG1B225J()",null,"ECWFG1B225",null,5.0999999999999996,17.100000000000001]
[null,null,null,null,null,null,"ECWFG1B305J()",null,"ECWFG1B305",null,6.3,12.7]
[null,null,null,null,null,null,"ECWFG1B335J()",null,"ECWFG1B335",null,6.7,11.5]
[null,null,null,null,null,null,"ECWFG1B405J()",null,"ECWFG1B405",null,7.5,9.6]
[null,null,null,null,null,null,"ECWFG1B475J()",null,"ECWFG1B475",null,8.3000000000000007,8.1999999999999993]
[null,null,null,null,null,null,"ECWFG1B505J()",null,"ECWFG1B505",null,8.6,7.7]
[]
[null,null,null,null,null,"EZPE",null,"500V","EZPE50106LTA",null,5,22]
[null,null,null,null,null,null,null,null,"EZPE50156LTA",null,7.5,14.8]
[null,null,null,null,null,null,null,null,"EZPE50206LTA",null,9.5,11]
[null,null,null,null,null,null,null,null,"EZPE50256LTA",null,11,8.8000000000000007]
[null,null,null,null,null,null,null,null,"EZPE50306MTA",null,12.5,7]
[null,null,null,null,null,null,null,null,"EZPE50356MTA",null,13.5,6.2]
[null,null,null,null,null,null,null,null,"EZPE50406MTA",null,14.5,5.4]
[null,null,null,null,null,null,null,null,"EZPE50456MTA",null,15.2,4.9000000000000004]
[null,null,null,null,null,null,null,null,"EZPE50506MTA",null,16,4.4000000000000004]
[null,null,null,null,null,null,null,null,"EZPE50556MTA",null,16.3,4]
[null,null,null,null,null,null,null,null,"EZPE50606MTA",null,16.5,3.9]
[null,null,null,null,null,null,null,null,"EZPE50656MTA",null,15,6.8]
[null,null,null,null,null,null,null,null,"EZPE50706MTA",null,15.5,6.5]
[null,null,null,null,null,null,null,null,"EZPE50756MTA",null,16,6]
[null,null,null,null,null,null,null,null,"EZPE50806MTA",null,16.5,5.7]
[null,null,null,null,null,null,null,null,"EZPE50856MTA",null,16.7,5.4]
[null,null,null,null,null,null,null,null,"EZPE50906MTA",null,17,5.0999999999999996]
[null,null,null,null,null,null,null,null,"EZPE50956MTA",null,17.5,4.9000000000000004]
[null,null,null,null,null,null,null,null,"EZPE50107MTA",null,18,4.7]
[null,null,null,null,null,null,null,null,"EZPE50117MTA",null,18.5,4.4000000000000004]
[]
[null,null,null,null,null,null,null,"800V","EZPE80106LTA",null,7,15.8]
[null,null,null,null,null,null,null,null,"EZPE80156MTA",null,9,10.5]
[null,null,null,null,null,null,null,null,"EZPE80206MTA",null,11,7.7]
[null,null,null,null,null,null,null,null,"EZPE80256MTA",null,13,6.8]
[null,null,null,null,null,null,null,null,"EZPE80306MTA",null,15,5.3]
[null,null,null,null,null,null,null,null,"EZPE80356MTA",null,12,9.6999999999999993]
[null,null,null,null,null,null,null,null,"EZPE80406MTA",null,13,8.3000000000000007]
[null,null,null,null,null,null,null,null,"EZPE80456MTA",null,14,7]
[null,null,null,null,null,null,null,null,"EZPE80506MTA",null,15,6.3]
[null,null,null,null,null,null,null,null,"EZPE80556MTA",null,16,5.9]
[null,null,null,null,null,null,null,null,"EZPE80606MTA",null,17,5.6]
[]
[null,null,null,null,null,null,null,"1100V","EZPE1B106MTA",null,7,12.3]
[null,null,null,null,null,null,null,null,"EZPE1B156MTA",null,8.5,8.1999999999999993]
[null,null,null,null,null,null,null,null,"EZPE1B206MTA",null,10,6.3]
[null,null,null,null,null,null,null,null,"EZPE1B256MTA",null,8,10.7]
[null,null,null,null,null,null,null,null,"EZPE1B306MTA",null,9,8.5]
[null,null,null,null,null,null,null,null,"EZPE1B356MTA",null,10,7.2]
[null,null,null,null,null,null,null,null,"EZPE1B406MTA",null,11,6.5]
[]
[null,null,null,null,null,null,null,"1300V","EZPE1D106MTA",null,12,10]
[null,null,null,null,null,null,null,null,"EZPE1D156MTA",null,10,14.5]
[null,null,null,null,null,null,null,null,"EZPE1D206MTA",null,14,11.1]
[null,null,null,null,null,null,null,null,"EZPE1D256MTA",null,17,8.5]
[]
[]
[null,null,null,null,null,"EZPE low profile",null,"450V","EZPE45666MTB",null,15,5]
[null,null,null,null,null,null,null,"525V","EZPE52296MTB",null,3,7]
[null,null,null,null,null,null,null,"575V","EZPE57126LTB",null,5,22]
[null,null,null,null,null,null,null,"630V","EZPE63106LTB",null,3,22]
[]
[]
[]
[null,null,null,null,null,"EZPQ",null,null,"EZPQ25126LTA",null,"-","-"]
[null,null,null,null,null,null,null,null,"EZPQ25226LTA",null,"-","-"]
[null,null,null,null,null,null,null,null,"EZPQ25366LTA",null,"-","-"]
[]
[null,null,null,null,null,null,null,null,"EZPQ33305LTA",null,5,23]
[null,null,null,null,null,null,null,null,"EZPQ33335LTA",null,5.3,21.2]
[null,null,null,null,null,null,null,null,"EZPQ33355LTA",null,5.6,20]
[null,null,null,null,null,null,null,null,"EZPQ33405LTA",null,6.2,17.5]
[null,null,null,null,null,null,null,null,"EZPQ33455LTA",null,6.8,15.9]
[null,null,null,null,null,null,null,null,"EZPQ33475LTA",null,6.8,16.2]
[null,null,null,null,null,null,null,null,"EZPQ33505LTA",null,7.1,15.2]
[null,null,null,null,null,null,null,null,"EZPQ33605LTA",null,8,13.5]
[null,null,null,null,null,null,null,null,"EZPQ33685LTA",null,8.6,12.6]
[null,null,null,null,null,null,null,null,"EZPQ33705LTA",null,8.8000000000000007,12.2]
[null,null,null,null,null,null,null,null,"EZPQ33805LTA",null,9.5,11.3]
[null,null,null,null,null,null,null,null,"EZPQ33905LTA",null,10.3,10.6]
[null,null,null,null,null,null,null,null,"EZPQ33106LTB",null,10.4,10.9]
[null,null,null,null,null,null,null,null,"EZPQ33106LTC",null,12.1,8.1]
[null,null,null,null,null,null,null,null,"EZPQ33126LTA",null,11.5,10]
[null,null,null,null,null,null,null,null,"EZPQ33146LTA",null,14.4,7.1]
[null,null,null,null,null,null,null,null,"EZPQ33156LTA",null,14.9,7]
[null,null,null,null,null,null,null,null,"EZPQ33206LTB",null,17.899999999999999,5.9]
[null,null,null,null,null,null,null,null,"EZPQ33106MTA",null,10.4,10.9]
[null,null,null,null,null,null,null,null,"EZPQ33126MTA",null,11.5,10]
[null,null,null,null,null,null,null,null,"EZPQ33146MTA",null,14.4,7.1]
[null,null,null,null,null,null,null,null,"EZPQ33156MTA",null,14.9,7]
[null,null,null,null,null,null,null,null,"EZPQ33206MTA",null,17.899999999999999,5.9]
[null,null,null,null,null,null,null,null,"EZPQ33156LTB",null,9,9.3000000000000007]
[null,null,null,null,null,null,null,null,"EZPQ33186MTA",null,10,8.4]
[null,null,null,null,null,null,null,null,"EZPQ33206MTB",null,10.8,7.6]
[null,null,null,null,null,null,null,null,"EZPQ33226MTA",null,11.6,7]
[null,null,null,null,null,null,null,null,"EZPQ33256MTB",null,12.2,7]
[null,null,null,null,null,null,null,null,"EZPQ33286MTA",null,12.6,6.9]
[null,null,null,null,null,null,null,null,"EZPQ33306MTB",null,13.3,6.6]
[null,null,null,null,null,null,null,null,"EZPQ33356MTA",null,14.4,6.2]
[]
[null,null,null,null,null,null,null,null,"EZPQ38105LTA",null,2.1,71.599999999999994]
[null,null,null,null,null,null,null,null,"EZPQ38155LTA",null,2.8,48.8]
[null,null,null,null,null,null,null,null,"EZPQ38205LTA",null,3.5,36.6]
[null,null,null,null,null,null,null,null,"EZPQ38225LTB",null,3.8,33.200000000000003]
[null,null,null,null,null,null,null,null,"EZPQ38255LTB",null,4.0999999999999996,29.2]
[null,null,null,null,null,null,null,null,"EZPQ38305LTA",null,4.8,24.4]
[null,null,null,null,null,null,null,null,"EZPQ38335LTA",null,5.2,22.1]
[null,null,null,null,null,null,null,null,"EZPQ38355LTA",null,5.4,20.9]
[null,null,null,null,null,null,null,null,"EZPQ38405LTA",null,6,18.3]
[null,null,null,null,null,null,null,null,"EZPQ38455LTA",null,6.5,16.7]
[null,null,null,null,null,null,null,null,"EZPQ38475LTA",null,6.7,16]
[null,null,null,null,null,null,null,null,"EZPQ38505LTA",null,7.1,15.1]
[null,null,null,null,null,null,null,null,"EZPQ38555LTA",null,7.4,14.4]
[null,null,null,null,null,null,null,null,"EZPQ38605LTA",null,7.8,13.7]
[null,null,null,null,null,null,null,null,"EZPQ38705LTA",null,8.6999999999999993,12.2]
[null,null,null,null,null,null,null,null,"EZPQ38755LTA",null,9.1,11.8]
[null,null,null,null,null,null,null,null,"EZPQ38805LTC",null,10,11.9]
[null,null,null,null,null,null,null,null,"EZPQ38805LTD",null,9.1999999999999993,11.9]
[null,null,null,null,null,null,null,null,"EZPQ38855LTA",null,9.5,11.7]
[null,null,null,null,null,null,null,null,"EZPQ38905LTA",null,9.8000000000000007,11.4]
[null,null,null,null,null,null,null,null,"EZPQ38955LTA",null,10.1,11]
[null,null,null,null,null,null,null,null,"EZPQ38106LTA",null,10.4,10.8]
[null,null,null,null,null,null,null,null,"EZPQ38126LTA",null,12.7,8]
[null,null,null,null,null,null,null,null,"EZPQ38156LTA",null,14.6,7.1]
[null,null,null,null,null,null,null,null,"EZPQ38805MTA",null,9.1999999999999993,11.9]
[null,null,null,null,null,null,null,null,"EZPQ38855MTA",null,9.5,11.7]
[null,null,null,null,null,null,null,null,"EZPQ38905MTA",null,9.8000000000000007,11.4]
[null,null,null,null,null,null,null,null,"EZPQ38955MTA",null,10.1,11]
[null,null,null,null,null,null,null,null,"EZPQ38106MTA",null,10.4,10.8]
[null,null,null,null,null,null,null,null,"EZPQ38126MTA",null,12.7,8]
[null,null,null,null,null,null,null,null,"EZPQ38156MTB",null,14.6,7.1]
[null,null,null,null,null,null,null,null,"EZPQ38106LTB",null,7.1,13.3]
[null,null,null,null,null,null,null,null,"EZPQ38116LTA",null,7.6,12.2]
[null,null,null,null,null,null,null,null,"EZPQ38126LTB",null,8.1,11.4]
[null,null,null,null,null,null,null,null,"EZPQ38156LTB",null,9.5,9.3000000000000007]
[null,null,null,null,null,null,null,null,"EZPQ38156MTC",null,9.5,9.3000000000000007]
[null,null,null,null,null,null,null,null,"EZPQ38166MTA",null,9.9,8.9]
[null,null,null,null,null,null,null,null,"EZPQ38186MTA",null,10.8,8.1]
[null,null,null,null,null,null,null,null,"EZPQ38206MTA",null,11.7,7.5]
[null,null,null,null,null,null,null,null,"EZPQ38226MTA",null,11.9,7.5]
[null,null,null,null,null,null,null,null,"EZPQ38246MTC",null,12.2,7.6]
[null,null,null,null,null,null,null,null,"EZPQ38306MTA",null,14.2,6.6]
[null,null,null,null,null,null,null,null,"EZPQ38336MTA",null,15,6.2]
[]
[null,null,null,null,null,null,null,null,"EZPQ60105LTD",null,6.5,13.7]
[null,null,null,null,null,null,null,null,"EZPQ60155LTD",null,7.9,11.2]
[null,null,null,null,null,null,null,null,"EZPQ60225LTD",null,9.6,8.8000000000000007]
[null,null,null,null,null,null,null,null,"EZPQ60335MTD",null,11.8,5.7]
[null,null,null,null,null,null,null,null,"EZPQ60475MTD",null,14,3.8]
[null,null,null,null,null,null,null,null,"EZPQ60475MTE",null,10.6,7]
[null,null,null,null,null,null,null,null,"EZPQ60685MTD",null,12.8,5.9]
[null,null,null,null,null,null,null,null,"EZPQ60705MTD",null,13,5.6]
[null,null,null,null,null,null,null,null,"EZPQ60106MTD",null,15.5,4.5999999999999996]
[null,null,null,null,null,null,null,null,"EZPQ60126MTD",null,17,3.9]
[]
[]
[null,null,null,null,null,"ECWFJ","ECWFJ60205J( )",null,"ECWFJ60205",null,3.4,25.3,13]
[null,null,null,null,null,null,"ECWFJ60225J( )",null,"ECWFJ60225",null,3.6,23.1,14]
[null,null,null,null,null,null,"ECWFJ60275J( )",null,"ECWFJ60275",null,4.0999999999999996,19,13]
[null,null,null,null,null,null,"ECWFJ60305J( )",null,"ECWFJ60305",null,4.3,17.2,12]
[null,null,null,null,null,null,"ECWFJ60335J( )",null,"ECWFJ60335",null,4.5999999999999996,15.7,12]
[null,null,null,null,null,null,"ECWFJ60395J( )",null,"ECWFJ60395",null,5,13.4,13]
[null,null,null,null,null,null,"ECWFJ60405J( )",null,"ECWFJ60405",null,5.0999999999999996,13.1,12]
[null,null,null,null,null,null,"ECWFJ60475J( )",null,"ECWFJ60475",null,5.6,11.2,16]
[null,null,null,null,null,null,"ECWFJ60505J( )",null,"ECWFJ60505",null,5.8,10.6,15]
[null,null,null,null,null,null,"ECWFJ60565J( )",null,"ECWFJ60565",null,6.1,9.5,14]
[null,null,null,null,null,null,"ECWFJ60605J( )",null,"ECWFJ60605",null,6.4,8.9,13]
[null,null,null,null,null,null,"ECWFJ60685J( )",null,"ECWFJ60685",null,6.8,7.9,12]
[null,null,null,null,null,null,"ECWFJ60705J( )",null,"ECWFJ60705",null,6.9,7.7,15]
[null,null,null,null,null,null,"ECWFJ60755J( )",null,"ECWFJ60755",null,7.2,7.2,14]
[null,null,null,null,null,null,"ECWFJ60805J( )",null,"ECWFJ60805",null,7.5,6.8,13]
[null,null,null,null,null,null,"ECWFJ60825J( )",null,"ECWFJ60825",null,7.6,6.6,13]
[null,null,null,null,null,null,"ECWFJ60905J( )",null,"ECWFJ60905",null,8,6.1,12]
[null,null,null,null,null,null,"ECWFJ60126J( )",null,"ECWFJ60126",null,10,4.5999999999999996,16]
[null,null,null,null,null,null,"ECWFJ2J105P( )",null,"ECWFJ2J105",null,4.7,12.9,12]
[null,null,null,null,null,null,"ECWFJ2J105Q( )",null,"ECWFJ2J105",null,4.7,12.9,12]
[null,null,null,null,null,null,"ECWFJ2J155P( )",null,"ECWFJ2J155",null,6.3,8.9,11]
[null,null,null,null,null,null,"ECWFJ2J155Q( )",null,"ECWFJ2J155",null,6.3,8.9,11]
[null,null,null,null,null,null,"ECWFJ2J225P( )",null,"ECWFJ2J225",null,8.1,6.2,12]
[null,null,null,null,null,null,"ECWFJ2J225Q( )",null,"ECWFJ2J225",null,8.1,6.2,12]
[null,null,null,null,null,null,"ECWFJ2J305P( )",null,"ECWFJ2J305",null,9.8000000000000007,4.7,12]
[null,null,null,null,null,null,"ECWFJ2J305Q( )",null,"ECWFJ2J305",null,9.8000000000000007,4.7,12]
[null,null,null,null,null,null,"ECWFJ2J335P( )",null,"ECWFJ2J335",null,10.4,2,15]
[null,null,null,null,null,null,"ECWFJ2J335Q( )",null,"ECWFJ2J335",null,10.4,2,15]
[null,null,null,null,null,null,"ECWFJ2J105□( )",null,"ECWFJ2J105",null,4,20.8,13]
[null,null,null,null,null,null,"ECWFJ2J155□( )",null,"ECWFJ2J155",null,5.2,13.9,13]
[null,null,null,null,null,null,"ECWFJ2J225□( )",null,"ECWFJ2J225",null,6.5,9.5,13]
[null,null,null,null,null,null,"ECWFJ2J305□( )",null,"ECWFJ2J305",null,7.8,6.9,13]
[null,null,null,null,null,null,"ECWFJ2J405□( )",null,"ECWFJ2J405",null,9.1999999999999993,6,16]
[null,null,null,null,null,null,"ECWFJ2J475□( )",null,"ECWFJ2J475",null,10.1,4.4000000000000004,14]
[null,null,null,null,null,null,"ECWFJ70105□()",null,"ECWFJ70105",null,4,20.8,13]
[null,null,null,null,null,null,"ECWFJ70155□( )",null,"ECWFJ70155",null,5.2,13.9,12]
[null,null,null,null,null,null,"ECWFJ70205□( )",null,"ECWFJ70205",null,6.2,10.4,14]
[null,null,null,null,null,null,"ECWFJ70225□( )",null,"ECWFJ70225",null,6.5,9.5,13]
[null,null,null,null,null,null,"ECWFJ70305□( )",null,"ECWFJ70305",null,7.8,6.9,13]
[null,null,null,null,null,null,"ECWFJ70395□( )",null,"ECWFJ70395",null,9.1,6.3,16]
[null,null,null,null,null,null,"ECWFJ70405□( )",null,"ECWFJ70405",null,9.1999999999999993,6,16]
[null,null,null,null,null,null,"ECWFJ70475□( )",null,"ECWFJ70475",null,10.1,4.4000000000000004,13]
[null,null,null,null,null,null,"ECWFJ3A105J( )",null,"ECWFJ3A105",null,2.2999999999999998,33.200000000000003,19.5]
[null,null,null,null,null,null,"ECWFJ3A155J( )",null,"ECWFJ3A155",null,3,"TBD","TBD"]
[null,null,null,null,null,null,"ECWFJ3A205J( )",null,"ECWFJ3A205",null,3.6,"TBD","TBD"]
[null,null,null,null,null,null,"ECWFJ3A225J( )",null,"ECWFJ3A225",null,3.8,"TBD","TBD"]
[null,null,null,null,null,null,"ECWFJ3A305J( )",null,"ECWFJ3A305",null,4.5999999999999996,10.3,28.1]
[null,null,null,null,null,null,"ECWFJ3A335J( )",null,"ECWFJ3A335",null,4.8,11.9,21.3]
[null,null,null,null,null,null,"ECWFJ3A405J( )",null,"ECWFJ3A405",null,5.4,8.6,23.3]
[null,null,null,null,null,null,"ECWFJ3A475J( )",null,"ECWFJ3A475",null,5.9,10.1,27.5]
[null,null,null,null,null,null,"ECWFJ3A505J( )",null,"ECWFJ3A505",null,6.1,"TBD","TBD"]
[null,null,null,null,null,null,"ECWFJ3A605J( )",null,"ECWFJ3A605",null,6.8,6.1,18]

{"sheet":"Size Data","index":5,"n_rows":71,"n_cols":10,"rows_kept":71,"cut":false,"hidden":true,"merged":[]}
[]
[]
[null,null,null,"Box only"]
[]
[]
[]
[]
[null,null,null,"Box",null,"↗","→","↘"]
[null,null,"N","L x W","作業性用列1","サイズ合わせ","作業性用列2","参照用画像"]
[null,null,1,"57.5 x 45",null,null,null,{"$error":"#VALUE!"}]
[null,null,2,"57.5 x 40",null,null,null,{"$error":"#VALUE!"}]
[null,null,3,"57.5 x 35.5",null,null,null,{"$error":"#VALUE!"}]
[null,null,4,"57.5 x 35",null,null,null,{"$error":"#VALUE!"}]
[null,null,5,"57.5 x 30",null,null,null,{"$error":"#VALUE!"}]
[null,null,6,"57.5 x 25",null,null,null,{"$error":"#VALUE!"}]
[null,null,7,"57 x 40",null,null,null,{"$error":"#VALUE!"}]
[null,null,8,"57 x 25",null,null,null,{"$error":"#VALUE!"}]
[null,null,9,"48.5 x 22",null,null,null,{"$error":"#VALUE!"}]
[null,null,10,"42.5 x 35.5",null,null,null,{"$error":"#VALUE!"}]
[null,null,11,"42 x 38",null,null,null,{"$error":"#VALUE!"}]
[null,null,12,"41.5 x 30",null,null,null,{"$error":"#VALUE!"}]
[null,null,13,"41.5 x 27.5",null,null,null,{"$error":"#VALUE!"}]
[null,null,14,"41.5 x 26.5",null,null,null,{"$error":"#VALUE!"}]
[null,null,15,"41.5 x 26",null,null,null,{"$error":"#VALUE!"}]
[null,null,16,"41.5 x 24.5",null,null,null,{"$error":"#VALUE!"}]
[null,null,17,"41.5 x 23.5",null,null,null,{"$error":"#VALUE!"}]
[null,null,18,"41.5 x 20",null,null,null,{"$error":"#VALUE!"}]
[null,null,19,"41.5 x 17",null,null,null,{"$error":"#VALUE!"}]
[null,null,20,"41.5 x 15",null,null,null,{"$error":"#VALUE!"}]
[null,null,21,"41 x 43",null,null,null,{"$error":"#VALUE!"}]
[null,null,22,"41 x 30",null,null,null,{"$error":"#VALUE!"}]
[null,null,23,"41 x 26",null,null,null,{"$error":"#VALUE!"}]
[null,null,24,"41 x 22",null,null,null,{"$error":"#VALUE!"}]
[null,null,25,"41 x 17",null,null,null,{"$error":"#VALUE!"}]
[null,null,26,"41 x 15",null,null,null,{"$error":"#VALUE!"}]
[null,"v",27,"37 x 48.5",null,null,null,{"$error":"#VALUE!"}]
[null,null,28,"32.5 x 90",null,null,null,"32.5 x 90",null,"大きすぎるので画像で表示できない（はみ出る）"]
[null,null,29,"31.5 x 18.5",null,null,null,{"$error":"#VALUE!"}]
[null,null,30,"31.5 x 17.5",null,null,null,{"$error":"#VALUE!"}]
[null,null,31,"31.5 x 16",null,null,null,{"$error":"#VALUE!"}]
[null,null,32,"31.5 x 13.5",null,null,null,{"$error":"#VALUE!"}]
[null,null,33,"31.5 x 12",null,null,null,{"$error":"#VALUE!"}]
[null,null,34,"31.5 x 10.5",null,null,null,{"$error":"#VALUE!"}]
[null,null,35,"31.5 x 9.5",null,null,null,{"$error":"#VALUE!"}]
[null,null,36,"31.5 x 8",null,null,null,{"$error":"#VALUE!"}]
[null,null,37,"31 x 26",null,null,null,{"$error":"#VALUE!"}]
[null,null,38,"31 x 22",null,null,null,{"$error":"#VALUE!"}]
[null,null,39,"31 x 20.5",null,null,null,{"$error":"#VALUE!"}]
[null,null,40,"31 x 15.5",null,null,null,{"$error":"#VALUE!"}]
[null,null,41,"31 x 13",null,null,null,{"$error":"#VALUE!"}]
[null,null,42,"31 x 11",null,null,null,{"$error":"#VALUE!"}]
[null,null,43,"31 x 9",null,null,null,{"$error":"#VALUE!"}]
[null,null,44,"27 x 17.5",null,null,null,{"$error":"#VALUE!"}]
[null,null,45,"27 x 15.5",null,null,null,{"$error":"#VALUE!"}]
[null,null,46,"27 x 12",null,null,null,{"$error":"#VALUE!"}]
[null,null,47,"27 x 10.5",null,null,null,{"$error":"#VALUE!"}]
[null,null,48,"26 x 16",null,null,null,{"$error":"#VALUE!"}]
[null,null,49,"26 x 12",null,null,null,{"$error":"#VALUE!"}]
[null,null,50,"26 x 10",null,null,null,{"$error":"#VALUE!"}]
[null,null,51,"26 x 8",null,null,null,{"$error":"#VALUE!"}]
[null,null,52,"26 x 7",null,null,null,{"$error":"#VALUE!"}]
[null,null,53,"26 x 6",null,null,null,{"$error":"#VALUE!"}]
[null,null,54,"17.5 x 11",null,null,null,{"$error":"#VALUE!"}]
[null,null,55,"17.5 x 10",null,null,null,{"$error":"#VALUE!"}]
[null,null,56,"17.5 x 8.5",null,null,null,{"$error":"#VALUE!"}]
[null,null,57,"17.5 x 7",null,null,null,{"$error":"#VALUE!"}]
[null,null,58,"17.5 x 6",null,null,null,{"$error":"#VALUE!"}]
[null,null,59,"17.5 x 5",null,null,null,{"$error":"#VALUE!"}]
[null,null,60,"13 x 7",null,null,null,{"$error":"#VALUE!"}]
[null,null,61,"13 x 6",null,null,null,{"$error":"#VALUE!"}]
[null,null,62,"13 x 5",null,null,null,{"$error":"#VALUE!"}]

{"sheet":"Utility","index":6,"n_rows":0,"n_cols":0,"rows_kept":0,"cut":false,"hidden":true,"merged":[]}